Workbook
Name a: #REF!
Name a: #REF!
Name AgencyCode: #REF!
Name AgencyCode: #REF!
Name AgencyCode: #REF!
Name AgencyCode: #REF!
Name AgencyCode: #REF!
Name AgencyCode: #REF!
Name AgencyCode: #REF!
Name AgencyCode: #REF!
Name AgencyName: #REF!
Name AgencyName: #REF!
Name AgencyName: #REF!
Name AgencyName: #REF!
Name davit: #REF!
Name davit: #REF!
Name davit: #REF!
Name Functional1: #REF!
Name Functional1: #REF!
Name Functional1: #REF!
Name Functional1: #REF!
Name ggg: #REF!
Name ggg: #REF!
Name ggg: #REF!
Name PANature: #REF!
Name PANature: #REF!
Name PANature: #REF!
Name PANature: #REF!
Name PAType: #REF!
Name PAType: #REF!
Name PAType: #REF!
Name PAType: #REF!
Name Performance2: #REF!
Name Performance2: #REF!
Name Performance2: #REF!
Name Performance2: #REF!
Name PerformanceType: #REF!
Name PerformanceType: #REF!
Name PerformanceType: #REF!
Name PerformanceType: #REF!
Name Հավելված: #REF!
Name Հավելված: #REF!
Name Հավելված: #REF!
Name Հավելված: #REF!
Name Մաս: #REF!
Name Մաս: #REF!
Name Մաս: #REF!
Name շախմատիստ: #REF!
Name շախմատիստ: #REF!
Name շախմատիստ: #REF!

Sheet Հավելված N 1
F1: Հավելված N 1
F2: ՀՀ կառավարության 2023 թվականի
F3: ______________ ի ___Ն որոշման
A6: «ՀԱՅԱUՏԱՆԻ ՀԱՆՐԱՊԵՏՈՒԹՅԱՆ 2023 ԹՎԱԿԱՆԻ ՊԵՏԱԿԱՆ ԲՅՈՒՋԵԻ ՄԱUԻՆ» ՀԱՅԱUՏԱՆԻ ՀԱՆՐԱՊԵՏՈՒԹՅԱՆ OՐԵՆՔԻ N 1 ՀԱՎԵԼՎԱԾԻ N 2 ԱՂՅՈՒՍԱԿՈՒՄ ԿԱՏԱՐՎՈՂ ՎԵՐԱԲԱՇԽՈՒՄԸ ԵՎ ՀԱՅԱՍՏԱՆԻ ՀԱՆՐԱՊԵՏՈՒԹՅԱՆ ԿԱՌԱՎԱՐՈՒԹՅԱՆ 2022 ԹՎԱԿԱՆԻ ԴԵԿՏԵՄԲԵՐԻ 29-Ի N 2111-Ն ՈՐՈՇՄԱՆ N 5 ՀԱՎԵԼՎԱԾԻ N 1 ԱՂՅՈՒՍԱԿՈՒՄ ԿԱՏԱՐՎՈՂ ՓՈՓՈԽՈՒԹՅՈՒՆՆԵՐԸ ԵՎ ԼՐԱՑՈՒՄՆԵՐԸ
G9: հազ. դրամներով
A10: Ծրագրային դասիչը | C10: Բյուջետային հատկացումների գլխավոր կարգադրիչների, ծրագրերի և միջոցառումների անվանումները | D10: Ցուցանիշների փոփոխությունը (ավելացումները նշված են դրական նշանով, իսկ նվազեցումները փակագծերում)
A11: Ծրագիր | B11: Միջոցառում | D11: Առաջին եռամսյակ | E11: Առաջին կիսամյակ | F11: Ինն ամիս | G11: Տարի
A12: 1192 | C12: ԸՆԴԱՄԵՆԸ | D12: =+D14+D41 -> 0 | E12: =+E14+E41 -> 0 | F12: =+F14+F41 -> 0 | G12: =+G14+G41 -> 0
C13: այդ թվում
C14: ՀՀ ԿՐԹՈՒԹՅԱՆ, ԳԻՏՈՒԹՅԱՆ, ՄՇԱԿՈՒՅԹԻ ԵՎ ՍՊՈՐՏԻ ՆԱԽԱՐԱՐՈՒԹՅՈՒՆ | D14: =+D16 -> 0 | E14: =+E16 -> 0 | F14: =+F16 -> 0 | G14: =+G16 -> 0
A15: 1075 | C15: Ծրագրի անվանումը`
C16: Մշակութային ժառանգության ծրագիր | D16: =+D23+D29+D35 -> 0 | E16: =+E23+E29+E35 -> 0 | F16: =+F23+F29+F35 -> 0 | G16: =+G23+G29+G35 -> 0
C17: Ծրագրի նպատակը`
C18: Մշակութային ժառանգության պահպանում, օգտագործում, համալրում և հանրահռչակում
C19: Վերջնական արդյունքի նկարագրությունը`
C20: Մշակութային ժառանգության շարունակական պահպանում, մշակութային զբոսաշրջության զարգացում և խթանում
C21: Ծրագրի միջոցառումներ
B22: 11004 | C22: Միջոցառման անվանումը`
C23: Թանգարանային ծառայություններ և ցուցահանդեսներ | D23: =+'Հավելված N 2'!G26 -> -9650 | E23: =+'Հավելված N 2'!H26 -> -15019 | F23: =+'Հավելված N 2'!I26 -> -15019 | G23: =+'Հավելված N 2'!J26 -> -15019
C24: Միջոցառման նկարագրությունը`
C25: Թանգարանային նմուշների պահպանություն, ցուցահանդեսների կազմակերպում, մասնագետների վերապատրաստում
C26: Միջոցառման տեսակը
C27: Ծառայությունների մատուցում
B28: 21001 | C28: Միջոցառման անվանումը`
C29: Հուշարձանների ամրակայում, նորոգում և վերականգնում | D29: =+'Հավելված N 2'!G41 -> 9650 | E29: =+'Հավելված N 2'!H41 -> 7694 | F29: =+'Հավելված N 2'!I41 -> 7694 | G29: =+'Հավելված N 2'!J41 -> 7694
C30: Միջոցառման նկարագրությունը`
C31: Հուշարձանների գիտանախագծային փաստաթղթերի կազմում, հրատապ ուսումնասիրում, վավերագրման և ուսումնասիրման աշխատանքներ, հետախուզում և հնագիտական պեղում, ամրակայում, նորոգում և վերականգնում
C32: Միջոցառման տեսակը
C33: Հանրության կողմից անմիջականորեն օգտագործվող ակտիվների հետ կապված միջոցառումներ
B34: 21004 | C34: Միջոցառման անվանումը`
C35: Արձանների պատրաստման, նորոգման, վերականգնման և տեղադրման աշխատանքներ | D35: =+'Հավելված N 2'!G56 -> 0 | E35: =+'Հավելված N 2'!H56 -> 7325 | F35: =+'Հավելված N 2'!I56 -> 7325 | G35: =+'Հավելված N 2'!J56 -> 7325
C36: Միջոցառման նկարագրությունը`
C37: Արձանների պատրաստում, նորոգում և վերականգնում, տեղադրում
C38: Միջոցառման տեսակը
C39: Հանրության կողմից անմիջականորեն օգտագործվող ակտիվների հետ կապված միջոցառումներ
C41: ՀՀ ԿԱՌԱՎԱՐՈՒԹՅՈՒՆ | D41: =+D43 -> 0 | E41: =+E43 -> 0 | F41: =+F43 -> 0 | G41: =+G43 -> 0
A42: 1139 | C42: Ծրագրի անվանումը`
C43: ՀՀ կառավարության պահուստային ֆոնդ | D43: =+D49+D55 -> 0 | E43: =+E49+E55 -> 0 | F43: =+F49+F55 -> 0 | G43: =+G49+G55 -> 0
C44: Ծրագրի նպատակը`
C45: Պետական բյուջեում չկանխատեսված, ինչպես նաև բյուջետային երաշխիքների ապահովման ծախսերի ֆինանսավորման ապահովում
C46: Վերջնական արդյունքի նկարագրությունը`
C47: Պահուստային ֆոնդի կառավարման արդյունավետության և թափանցիկության ապահովում
B48: 11001 | C48: Միջոցառման անվանումը`
C49: ՀՀ կառավարության պահուստային ֆոնդ | D49: =+'Հավելված N 2'!G77 -> 0 | E49: =+'Հավելված N 2'!H77 -> 7325 | F49: =+'Հավելված N 2'!I77 -> 7325 | G49: =+'Հավելված N 2'!J77 -> 7325
C50: Միջոցառման նկարագրությունը`
C51: ՀՀ պետական բյուջեում նախատեսված ելքերի լրացուցիչ ֆինանսավորման՝ պետական բյուջեում չկանխատեսված ելքերի, ինչպես նաև բյուջետային երաշխիքների ապահովման ելքերի ֆինանսավորման ապահովում
C52: Միջոցառման տեսակը
C53: Ծառայությունների մատուցում
B54: 11001 | C54: Միջոցառման անվանումը`
C55: ՀՀ կառավարության պահուստային ֆոնդ | D55: =+'Հավելված N 2'!G86 -> 0 | E55: =+'Հավելված N 2'!H86 -> -7325 | F55: =+'Հավելված N 2'!I86 -> -7325 | G55: =+'Հավելված N 2'!J86 -> -7325
C56: Միջոցառման նկարագրությունը`
C57: ՀՀ պետական բյուջեում նախատեսված ելքերի լրացուցիչ ֆինանսավորման՝ պետական բյուջեում չկանխատեսված ելքերի, ինչպես նաև բյուջետային երաշխիքների ապահովման ելքերի ֆինանսավորման ապահովում
C58: Միջոցառման տեսակը
C59: Ծառայությունների մատուցում

Sheet Հավելված N 2
F1: Հավելված N 2
F2: ՀՀ կառավարության 2023 թվականի
F3: ______________ ի ___Ն որոշման
A7: ՀԱՅԱՍՏԱՆԻ ՀԱՆՐԱՊԵՏՈՒԹՅԱՆ ԿԱՌԱՎԱՐՈՒԹՅԱՆ 2022 ԹՎԱԿԱՆԻ ԴԵԿՏԵՄԲԵՐԻ 29-Ի N2111-Ն ՈՐՈՇՄԱՆ N 3 ԵՎ N 4 ՀԱՎԵԼՎԱԾՆԵՐՈՒՄ ԿԱՏԱՐՎՈՂ ՓՈՓՈԽՈՒԹՅՈՒՆՆԵՐԸ ԵՎ ԼՐԱՑՈՒՄՆԵՐԸ
J10: հազ. դրամներով
A11: Գործառական դասիչը | D11: Ծրագրային դասիչը | F11: Բյուջետային հատկացումների գլխավոր կարգադրիչների, ծրագրերի, միջոցառումների և միջոցառումները կատարող պետական մարմինների անվանումները | G11: Ցուցանիշների փոփոխությունը (ավելացումները նշված են դրական նշանով, իսկ նվազեցումները փակագծերում)
A12: Բաժին | B12: Խումբ | C12: Դաս | D12: Ծրագիր | E12: Միջոցառում | G12: Առաջին եռամսյակ | H12: Առաջին կիսամյակ | I12: Ինն ամիս | J12: Տարի
F13: ԸՆԴԱՄԵՆԸ | G13: =+G15+G66 -> 0 | H13: =+H15+H66 -> 0 | I13: =+I15+I66 -> 0 | J13: =+J15+J66 -> 0
F14: այդ թվում՝
F15: ՀՀ ԿՐԹՈՒԹՅԱՆ, ԳԻՏՈՒԹՅԱՆ, ՄՇԱԿՈՒՅԹԻ ԵՎ ՍՊՈՐՏԻ ՆԱԽԱՐԱՐՈՒԹՅՈՒՆ | G15: =+G16 -> 0 | H15: =+H16 -> 0 | I15: =+I16 -> 0 | J15: =+J16 -> 0
A16: 08 | F16: ՀԱՆԳԻՍՏ, ՄՇԱԿՈՒՅԹ ԵՎ ԿՐՈՆ | G16: =+G18 -> 0 | H16: =+H18 -> 0 | I16: =+I18 -> 0 | J16: =+J18 -> 0
F17: այդ թվում`
B18: 02 | F18: Մշակութային ծառայություններ | G18: =+G20+G35 -> 0 | H18: =+H20+H35 -> 0 | I18: =+I20+I35 -> 0 | J18: =+J20+J35 -> 0
F19: այդ թվում`
C20: 02 | F20: Թանգարաններ և ցուցասրահներ | G20: =+G22 -> -9650 | H20: =+H22 -> -15019 | I20: =+I22 -> -15019 | J20: =+J22 -> -15019
F21: այդ թվում`
F22: ՀՀ կրթության, գիտության, մշակույթի և սպորտի նախարարություն | G22: =+G24 -> -9650 | H22: =+H24 -> -15019 | I22: =+I24 -> -15019 | J22: =+J24 -> -15019
F23: այդ թվում`
D24: 1075 | E24: Մշակութային ժառանգության ծրագիր | G24: =+G26 -> -9650 | H24: =+H26 -> -15019 | I24: =+I26 -> -15019 | J24: =+J26 -> -15019
F25: այդ թվում`
E26: 11004 | F26: Թանգարանային ծառայություններ և ցուցահանդեսներ | G26: =+G28 -> -9650 | H26: =+H28 -> -15019 | I26: =+I28 -> -15019 | J26: =+J28 -> -15019
F27: այդ թվում` ըստ կատարողների
F28: ՀՀ կրթության, գիտության, մշակույթի և սպորտի նախարարություն | G28: =+G30 -> -9650 | H28: =+H30 -> -15019 | I28: =+I30 -> -15019 | J28: =+J30 -> -15019
F29: այդ թվում՝ բյուջետային ծախսերի տնտեսագիտական դասակարգման հոդվածներ
F30: ԸՆԴԱՄԵՆԸ ԾԱԽՍԵՐ | G30: =+G31 -> -9650 | H30: =+H31 -> -15019 | I30: =+I31 -> -15019 | J30: =+J31 -> -15019
F31: ԸՆԹԱՑԻԿ ԾԱԽՍԵՐ | G31: =+G32 -> -9650 | H31: =+H32 -> -15019 | I31: =+I32 -> -15019 | J31: =+J32 -> -15019
F32: ԴՐԱՄԱՇՆՈՐՀՆԵՐ | G32: =+G33 -> -9650 | H32: =+H33 -> -15019 | I32: =+I33 -> -15019 | J32: =+J33 -> -15019
F33: ԸՆԹԱՑԻԿ ԴՐԱՄԱՇՆՈՐՀՆԵՐ ՊԵՏԱԿԱՆ ՀԱՏՎԱԾԻ ԱՅԼ ՄԱԿԱՐԴԱԿՆԵՐԻՆ | G33: =+G34 -> -9650 | H33: =+H34 -> -15019 | I33: =+I34 -> -15019 | J33: =+J34 -> -15019
F34: - Ընթացիկ դրամաշնորհներ պետական և համայնքային ոչ առևտրային կազմակերպություններին | G34: -9650 | H34: =+'Հավելված N 5'!G13 -> -15019 | I34: =+H34 -> -15019 | J34: =+I34 -> -15019
C35: 07 | F35: Հուշարձանների և մշակութային արժեքների վերականգնում և պահպանում | G35: =+G37 -> 9650 | H35: =+H37 -> 15019 | I35: =+I37 -> 15019 | J35: =+J37 -> 15019
F36: այդ թվում`
F37: ՀՀ կրթության, գիտության, մշակույթի և սպորտի նախարարություն | G37: =+G39 -> 9650 | H37: =+H39 -> 15019 | I37: =+I39 -> 15019 | J37: =+J39 -> 15019
F38: այդ թվում`
D39: 1075 | E39: Մշակութային ժառանգության ծրագիր | G39: =+G41+G56 -> 9650 | H39: =+H41+H56 -> 15019 | I39: =+I41+I56 -> 15019 | J39: =+J41+J56 -> 15019
F40: այդ թվում`
E41: 21001 | F41: Հուշարձանների ամրակայում, նորոգում և վերականգնում | G41: =+G43 -> 9650 | H41: =+H43 -> 7694 | I41: =+I43 -> 7694 | J41: =+J43 -> 7694
F42: այդ թվում` ըստ կատարողների
F43: ՀՀ կրթության, գիտության, մշակույթի և սպորտի նախարարություն | G43: =+G45 -> 9650 | H43: =+H45 -> 7694 | I43: =+I45 -> 7694 | J43: =+J45 -> 7694
F44: այդ թվում՝ բյուջետային ծախսերի տնտեսագիտական դասակարգման հոդվածներ
F45: ԸՆԴԱՄԵՆԸ ԾԱԽՍԵՐ | G45: =+G46+G50 -> 9650 | H45: =+H46+H50 -> 7694 | I45: =+I46+I50 -> 7694 | J45: =+J46+J50 -> 7694
F46: ԸՆԹԱՑԻԿ ԾԱԽՍԵՐ | G46: =+G47 -> 9650 | H46: =+H47 -> 9650 | I46: =+I47 -> 9650 | J46: =+J47 -> 9650
F47: ԴՐԱՄԱՇՆՈՐՀՆԵՐ | G47: =+G48 -> 9650 | H47: =+H48 -> 9650 | I47: =+I48 -> 9650 | J47: =+J48 -> 9650
F48: ԿԱՊԻՏԱԼ ԴՐԱՄԱՇՆՈՐՀՆԵՐ ՊԵՏԱԿԱՆ ՀԱՏՎԱԾԻ ԱՅԼ ՄԱԿԱՐԴԱԿՆԵՐԻՆ | G48: =+G49 -> 9650 | H48: =+H49 -> 9650 | I48: =+I49 -> 9650 | J48: =+J49 -> 9650
F49: - Կապիտալ դրամաշնորհներ պետական և համայնքային ոչ առևտրային կազմակերպություններին | G49: =+'Հավելված N 5'!G15 -> 9650 | H49: =+G49 -> 9650 | I49: =+H49 -> 9650 | J49: =+I49 -> 9650
F50: ՈՉ ՖԻՆԱՆՍԱԿԱՆ ԱԿՏԻՎՆԵՐԻ ԳԾՈՎ ԾԱԽՍԵՐ | G50: =+G51 -> 0 | H50: =+H51 -> -1956 | I50: =+I51 -> -1956 | J50: =+J51 -> -1956
F51: ՀԻՄՆԱԿԱՆ ՄԻՋՈՑՆԵՐ | G51: =+G52+G54 -> 0 | H51: =+H52+H54 -> -1956 | I51: =+I52+I54 -> -1956 | J51: =+J52+J54 -> -1956
F52: ՇԵՆՔԵՐ ԵՎ ՇԻՆՈՒԹՅՈՒՆՆԵՐ | G52: =+G53 -> 0 | H52: =+H53 -> -684 | I52: =+I53 -> -684 | J52: =+J53 -> -684
F53: - Շենքերի և շինությունների կապիտալ վերանորոգում | G53: =+'Հավելված N 4'!E17 -> 0 | H53: =+'Հավելված N 4'!F17 -> -684 | I53: =+'Հավելված N 4'!G17 -> -684 | J53: =+'Հավելված N 4'!H17 -> -684
F54: ԱՅԼ ՀԻՄՆԱԿԱՆ ՄԻՋՈՑՆԵՐ | G54: =+G55 -> 0 | H54: =+H55 -> -1272 | I54: =+I55 -> -1272 | J54: =+J55 -> -1272
F55: - Նախագծահետազոտական ծախսեր | G55: =+'Հավելված N 4'!E32 -> 0 | H55: =+'Հավելված N 4'!F32 -> -1272 | I55: =+'Հավելված N 4'!G32 -> -1272 | J55: =+'Հավելված N 4'!H32 -> -1272
E56: 21004 | F56: Արձանների պատրաստման, նորոգման, վերականգնման և տեղադրման աշխատանքներ | G56: =+G58 -> 0 | H56: =+H58 -> 7325 | I56: =+I58 -> 7325 | J56: =+J58 -> 7325
F57: այդ թվում` ըստ կատարողների
F58: ՀՀ կրթության, գիտության, մշակույթի և սպորտի նախարարություն | G58: =+G60 -> 0 | H58: =+H60 -> 7325 | I58: =+I60 -> 7325 | J58: =+J60 -> 7325
F59: այդ թվում՝ բյուջետային ծախսերի տնտեսագիտական դասակարգման հոդվածներ
F60: ԸՆԴԱՄԵՆԸ ԾԱԽՍԵՐ | G60: =+G61 -> 0 | H60: =+H61 -> 7325 | I60: =+I61 -> 7325 | J60: =+J61 -> 7325
F61: ՈՉ ՖԻՆԱՆՍԱԿԱՆ ԱԿՏԻՎՆԵՐԻ ԳԾՈՎ ԾԱԽՍԵՐ | G61: =+G62 -> 0 | H61: =+H62 -> 7325 | I61: =+I62 -> 7325 | J61: =+J62 -> 7325
F62: ՀԻՄՆԱԿԱՆ ՄԻՋՈՑՆԵՐ | G62: =+G63 -> 0 | H62: =+H63 -> 7325 | I62: =+I63 -> 7325 | J62: =+J63 -> 7325
F63: ՇԵՆՔԵՐ ԵՎ ՇԻՆՈՒԹՅՈՒՆՆԵՐ | G63: =+G64 -> 0 | H63: =+H64 -> 7325 | I63: =+I64 -> 7325 | J63: =+J64 -> 7325
F64: - Շենքերի և շինությունների կապիտալ վերանորոգում | G64: =+'Հավելված N 4'!E44 -> 0 | H64: =+'Հավելված N 4'!F44 -> 7325 | I64: =+'Հավելված N 4'!G44 -> 7325 | J64: =+'Հավելված N 4'!H44 -> 7325
F66: ՀՀ ԿԱՌԱՎԱՐՈՒԹՅՈՒՆ | G66: =+G67 -> 0 | H66: =+H67 -> 0 | I66: =+I67 -> 0 | J66: =+J67 -> 0
A67: 11 | F67: ՀԻՄՆԱԿԱՆ ԲԱԺԻՆՆԵՐԻՆ ՉԴԱՍՎՈՂ ՊԱՀՈՒՍՏԱՅԻՆ ՖՈՆԴԵՐ | G67: =+G69 -> 0 | H67: =+H69 -> 0 | I67: =+I69 -> 0 | J67: =+J69 -> 0
F68: այդ թվում`
B69: 01 | F69: ՀՀ կառավարության և համայնքների պահուստային ֆոնդ | G69: =+G71 -> 0 | H69: =+H71 -> 0 | I69: =+I71 -> 0 | J69: =+J71 -> 0
F70: այդ թվում`
C71: 01 | F71: ՀՀ կառավարության պահուստային ֆոնդ | G71: =+G73 -> 0 | H71: =+H73 -> 0 | I71: =+I73 -> 0 | J71: =+J73 -> 0
F72: այդ թվում`
F73: ՀՀ կառավարություն | G73: =+G75 -> 0 | H73: =+H75 -> 0 | I73: =+I75 -> 0 | J73: =+J75 -> 0
F74: այդ թվում`
D75: 1139 | E75: ՀՀ կառավարության պահուստային ֆոնդ | F75: ՀՀ կառավարության պահուստային ֆոնդ | G75: =+G77+G86 -> 0 | H75: =+H77+H86 -> 0 | I75: =+I77+I86 -> 0 | J75: =+J77+J86 -> 0
F76: այդ թվում`
E77: 11001 | F77: ՀՀ կառավարության պահուստային ֆոնդ | G77: =+G79 -> 0 | H77: =+H79 -> 7325 | I77: =+I79 -> 7325 | J77: =+J79 -> 7325
F78: այդ թվում` ըստ կատարողների
F79: ՀՀ կառավարություն | G79: =+G81 -> 0 | H79: =+H81 -> 7325 | I79: =+I81 -> 7325 | J79: =+J81 -> 7325
F80: այդ թվում` բյուջետային ծախսերի տնտեսագիտական դասակարգման հոդվածներ
F81: ԸՆԴԱՄԵՆԸ ԾԱԽՍԵՐ | G81: =+G82 -> 0 | H81: =+H82 -> 7325 | I81: =+I82 -> 7325 | J81: =+J82 -> 7325
F82: ՈՉ ՖԻՆԱՆՍԱԿԱՆ ԱԿՏԻՎՆԵՐԻ ԳԾՈՎ ԾԱԽՍԵՐ | G82: =+G83 -> 0 | H82: =+H83 -> 7325 | I82: =+I83 -> 7325 | J82: =+J83 -> 7325
F83: ՀԻՄՆԱԿԱՆ ՄԻՋՈՑՆԵՐ | G83: =+G84 -> 0 | H83: =+H84 -> 7325 | I83: =+I84 -> 7325 | J83: =+J84 -> 7325
F84: ՇԵՆՔԵՐ ԵՎ ՇԻՆՈՒԹՅՈՒՆՆԵՐ | G84: =+G85 -> 0 | H84: =+H85 -> 7325 | I84: =+I85 -> 7325 | J84: =+J85 -> 7325
F85: - Շենքերի և շինությունների շինարարություն | G85: =+G56 -> 0 | H85: =+H56 -> 7325 | I85: =+I56 -> 7325 | J85: =+J56 -> 7325
E86: 11001 | F86: ՀՀ կառավարության պահուստային ֆոնդ | G86: =+G88 -> 0 | H86: =+H88 -> -7325 | I86: =+I88 -> -7325 | J86: =+J88 -> -7325
F87: այդ թվում` ըստ կատարողների
F88: ՀՀ կառավարություն | G88: =+G90 -> 0 | H88: =+H90 -> -7325 | I88: =+I90 -> -7325 | J88: =+J90 -> -7325
F89: այդ թվում` բյուջետային ծախսերի տնտեսագիտական դասակարգման հոդվածներ
F90: ԸՆԴԱՄԵՆԸ ԾԱԽՍԵՐ | G90: =+G91 -> 0 | H90: =+H91 -> -7325 | I90: =+I91 -> -7325 | J90: =+J91 -> -7325
F91: ՈՉ ՖԻՆԱՆՍԱԿԱՆ ԱԿՏԻՎՆԵՐԻ ԳԾՈՎ ԾԱԽՍԵՐ | G91: =+G92 -> 0 | H91: =+H92 -> -7325 | I91: =+I92 -> -7325 | J91: =+J92 -> -7325
F92: ՀԻՄՆԱԿԱՆ ՄԻՋՈՑՆԵՐ | G92: =+G93 -> 0 | H92: =+H93 -> -7325 | I92: =+I93 -> -7325 | J92: =+J93 -> -7325
F93: ՇԵՆՔԵՐ ԵՎ ՇԻՆՈՒԹՅՈՒՆՆԵՐ | G93: =+G94 -> 0 | H93: =+H94 -> -7325 | I93: =+I94 -> -7325 | J93: =+J94 -> -7325
F94: - Շենքերի և շինությունների շինարարություն | G94: =-G85 -> 0 | H94: =-H85 -> -7325 | I94: =-I85 -> -7325 | J94: =-J85 -> -7325

Sheet Հավելված N 3
F1: Հավելված N 3
F2: ՀՀ կառավարության 2023 թվականի
F3: ______________ ի ___Ն որոշման
A5: «ՀԱՅԱUՏԱՆԻ ՀԱՆՐԱՊԵՏՈՒԹՅԱՆ 2023 ԹՎԱԿԱՆԻ ՊԵՏԱԿԱՆ ԲՅՈՒՋԵԻ ՄԱUԻՆ» ՀԱՅԱUՏԱՆԻ ՀԱՆՐԱՊԵՏՈՒԹՅԱՆ OՐԵՆՔԻ N 1 ՀԱՎԵԼՎԱԾԻ N 3 ԱՂՅՈՒՍԱԿՈՒՄ ԿԱՏԱՐՎՈՂ ՓՈՓՈԽՈՒԹՅՈՒՆՆԵՐԸ ԵՎ ԼՐԱՑՈՒՄՆԵՐԸ
G8: հազ. դրամներով
A9: Ծրագրային դասիչ | C9: Բյուջետային գլխավոր կարգադրիչների, ծրագրերի, միջոցառումների, միջոցառումները կատարող պետական մարմինների և ուղղությունների անվանումները | D9: Ընդամենը | E9: Ցուցանիշների փոփոխությունը (ավելացումները նշված են դրական նշանով, իսկ նվազեցումները՝ փակագծերում)
A10: Ծրագիր | B10: Միջոցառում | E10: Կառուցման աշխատանքներ | F10: Վերակառուցման, վերանորոգման և վերականգնման աշխատանքներ | G10: Նախագծահե- տազոտական, գեոդեզիա- քարտեզագրա- կան աշխա- տանքներ | H10: Ոչ ֆինանսական այլ ակտիվների ձեռքբերում
C11: ԸՆԴԱՄԵՆԸ | D11: =SUM(E11:H11) -> 5369 | E11: =+E13 -> 0 | F11: =+F13 -> 6641 | G11: =+G13 -> -1272 | H11: =+H13 -> 0
C12: այդ թվում՝
C13: ՀՀ ԿՐԹՈՒԹՅԱՆ, ԳԻՏՈՒԹՅԱՆ, ՄՇԱԿՈՒՅԹԻ ԵՎ ՍՊՈՐՏԻ ՆԱԽԱՐԱՐՈՒԹՅՈՒՆ | D13: =SUM(E13:H13) -> 5369 | E13: =+E15+E42 -> 0 | F13: =+F15+F42 -> 6641 | G13: =+G15+G42 -> -1272 | H13: =+H15+H42 -> 0
C14: այդ թվում`
A15: 1075 | B15: 21001 | C15: Հուշարձանների ամրակայում, նորոգում և վերականգնում | D15: =SUM(E15:H15) -> -1956 | E15: =+E17+E32 -> 0 | F15: =+F17+F32 -> -684 | G15: =+G17+G32 -> -1272 | H15: =+H17+H32 -> 0
C16: այդ թվում`
C17: 1. Վերականգնողական աշխատանքներ | D17: =SUM(E17:H17) -> -684 | E17: =+E19+E21+E23+E26+E28+E30 -> 0 | F17: =+F19+F21+F23+F26+F28+F30 -> -684 | G17: =+G19+G21+G23+G26+G28+G30 -> 0 | H17: =+H19+H21+H23+H26+H28+H30 -> 0
C18: որից`
C19: ՀՀ Արագածոնի մարզ | D19: =SUM(E19:H19) -> -1695.2 | E19: =SUM(E20:E20) -> 0 | F19: =SUM(F20:F20) -> -1695.2 | G19: =SUM(G20:G20) -> 0 | H19: =SUM(H20:H20) -> 0
C20: Փարպի համայնքի 5-րդ դարի Ծիրանավոր եկեղեցու ամրակայում, վերականգնում և տարածքի բարեկարգում | D20: =+E20+F20+G20+H20 -> -1695.2 | F20: =+'Հավելված N 8'!I18+'Հավելված N 8'!I26+'Հավելված N 8'!I32 -> -1695.2
C21: ՀՀ Արմավիրի մարզ | D21: =SUM(E21:H21) -> -633.6 | E21: =SUM(E22:E22) -> 0 | F21: =SUM(F22:F22) -> -633.6 | G21: =SUM(G22:G22) -> 0 | H21: =SUM(H22:H22) -> 0
C22: ՀՀ Արմավիրի մարզի Այգեշատ համայնքի Թարգմանչաց եկեղեցու վերականգնում | D22: =+E22+F22+G22+H22 -> -633.6 | F22: =+'Հավելված N 8'!I19 -> -633.6
C23: ՀՀ Լոռու մարզ | D23: =SUM(E23:H23) -> -32467.6 | E23: =SUM(E24:E25) -> 0 | F23: =SUM(F24:F25) -> -32467.6 | G23: =SUM(G24:G25) -> 0 | H23: =SUM(H24:H25) -> 0
C24: Քոբայր ե/գ կայարանի Քոբայրավանքի սեղանատան վերականգնում և տարածքի բարեկարգում | D24: =+E24+F24+G24+H24 -> -29698.3 | F24: =+'Հավելված N 8'!I20+'Հավելված N 8'!I27 -> -29698.3
C25: Ալավերդի համայնքի Սանահին վանական համալիրի Սբ Ամենափրկիչ եկեղեցու նորոգումև ամրակայում | D25: =+E25+F25+G25+H25 -> -2769.3 | F25: =+'Հավելված N 8'!I21+'Հավելված N 8'!I28 -> -2769.3
C26: ՀՀ Կոտայքի մարզ | D26: =SUM(E26:H26) -> 8285.7 | E26: =SUM(E27:E27) -> 0 | F26: =SUM(F27:F27) -> 8285.7 | G26: =SUM(G27:G27) -> 0 | H26: =SUM(H27:H27) -> 0
C27: Բջնի գյուղի Սբ. Աստվածածին եկեղեցու հյուսիսային ավանդատան արտաքին պատի վերականգնում | D27: =+E27+F27+G27+H27 -> 8285.7 | F27: =+'Հավելված N 8'!I17+'Հավելված N 8'!I25+'Հավելված N 8'!I31 -> 8285.7
C28: ՀՀ Սյունիքի մարզ | D28: =SUM(E28:H28) -> -3010.8 | E28: =SUM(E29:E29) -> 0 | F28: =SUM(F29:F29) -> -3010.8 | G28: =SUM(G29:G29) -> 0 | H28: =SUM(H29:H29) -> 0
C29: Տեղ համայնքի Սբ Գևորգ եկեղեցու վերականգնում | D29: =+E29+F29+G29+H29 -> -3010.8 | F29: =+'Հավելված N 8'!I23+'Հավելված N 8'!I30 -> -3010.8
C30: ՀՀ Տավուշի մարզ | D30: =SUM(E30:H30) -> 28837.5 | E30: =SUM(E31:E31) -> 0 | F30: =SUM(F31:F31) -> 28837.5 | G30: =SUM(G31:G31) -> 0 | H30: =SUM(H31:H31) -> 0
C31: Դիլիջան համայնքի Հ.Շարամբեյանի անվան ժողովրդական արհեստների թանգարանի նորոգում, ամրակայում | D31: =+E31+F31+G31+H31 -> 28837.5 | F31: =+'Հավելված N 8'!I22+'Հավելված N 8'!I29+'Հավելված N 8'!I33 -> 28837.5
C32: 2. Վավերագրման և ուսումնասիրման աշխատանքներ, (այդ թվում՝ հետախուզումև պեղում), գիտանախագծային փաստաթղթերի կազմում և փորձաքննում | D32: =SUM(E32:H32) -> -1272 | E32: =+E34+E39 -> 0 | F32: =+F34+F39 -> 0 | G32: =+G34+G39 -> -1272 | H32: =+H34+H39 -> 0
C33: որից`
C34: ՀՀ Լոռու մարզ | D34: =SUM(E34:H34) -> -720 | E34: =SUM(E35:E38) -> 0 | F34: =SUM(F35:F38) -> 0 | G34: =SUM(G35:G38) -> -720 | H34: =SUM(H35:H38) -> 0
C35: Լոռու մարզի Քաղաքատեղի Լոռի Բերդի միջնաբերդի պարիսպների ամրակայման և վերականգնման գիտանախագծային փաստաթղթեր | D35: =+E35+F35+G35+H35 -> -200 | G35: =+'Հավելված N 8'!I34 -> -200
C36: Լոռու մարզի Քաղաքատեղի Լոռի Բերդի միջնաբերդի եկեղեցու ամրակայման, նորոգման և վերականգնման գիտանախագծային փաստաթղթեր | D36: =+E36+F36+G36+H36 -> -120 | G36: =+'Հավելված N 8'!I35 -> -120
C37: Լոռու մարզի Քաղաքատեղի Լոռի Բերդի միջնաբերդի բաղնիքների ամրակայման և մասնակի վերականգնման գիտանախագծային փաստաթղթեր | D37: =+E37+F37+G37+H37 -> -200 | G37: =+'Հավելված N 8'!I36 -> -200
C38: Լոռու մարզի Ամրակից գյուղի Ռուսական եկեղեցու ամրակայման, վերականգնման և տարածքի բարեկարգման գիտանախագծային փաստաթղթեր | D38: =+E38+F38+G38+H38 -> -200 | G38: =+'Հավելված N 8'!I37 -> -200
C39: ՀՀ Տավուշի մարզ | D39: =SUM(E39:H39) -> -552 | E39: =SUM(E40:E41) -> 0 | F39: =SUM(F40:F41) -> 0 | G39: =SUM(G40:G41) -> -552 | H39: =SUM(H40:H41) -> 0
C40: «Սրվեղ» վանական համալիրի ամրակայման, վերականգնման և տարածքի բարեկարգման գիտանախագծային փաստաթղթեր | D40: =+E40+F40+G40+H40 -> -232 | G40: =+'Հավելված N 8'!I38 -> -232
C41: «Տավուշ» ամրոցի պարիսպների, կից կառույցների, եկեղեցու ամրակայման, վերականգնման և տարածքի բարեկարգման գիտանախագծային փաստաթղթեր | D41: =+E41+F41+G41+H41 -> -320 | G41: =+'Հավելված N 8'!I39 -> -320
A42: 1075 | B42: 21004 | C42: Արձանների պատրաստման, նորոգման, վերականգնման և տեղադրման աշխատանքներ | D42: =SUM(E42:H42) -> 7325 | E42: =+E44 -> 0 | F42: =+F44 -> 7325 | G42: =+G44 -> 0 | H42: =+H44 -> 0
C43: այդ թվում`
C44: Երևան քաղաք | D44: =SUM(E44:H44) -> 7325 | E44: =+E45 -> 0 | F44: =+F45 -> 7325 | G44: =+G45 -> 0 | H44: =+H45 -> 0
C45: Շուշանիկ Կուրղինյանի կիսանդրիի պատրաստում և տեղադրում | D45: =+E45+F45+G45+H45 -> 7325 | F45: =+'Հավելված N 8'!I42 -> 7325

Sheet Հավելված N 4
G1: Հավելված N 4
G2: ՀՀ կառավարության 2023 թվականի
G3: ______________ ի ___Ն որոշման
B6: ՀԱՅԱՍՏԱՆԻ ՀԱՆՐԱՊԵՏՈՒԹՅԱՆ ԿԱՌԱՎԱՐՈՒԹՅԱՆ 2022 ԹՎԱԿԱՆԻ ԴԵԿՏԵՄԲԵՐԻ 29-Ի N 2111-Ն ՈՐՈՇՄԱՆ N 5 ՀԱՎԵԼՎԱԾԻ N 2 ԱՂՅՈՒՍԱԿՈՒՄ ԿԱՏԱՐՎՈՂ ՓՈՓՈԽՈՒԹՅՈՒՆՆԵՐԸ ԵՎ ԼՐԱՑՈՒՄՆԵՐԸ
H8: հազ. դրամներով
B9: Ծրագրային դասիչ | D9: Բյուջետային գլխավոր կարգադրիչների, ծրագրերի, միջոցառումների, միջոցառումները կատարող պետական մարմինների և ուղղությունների անվանումները | E9: Ցուցանիշների փոփոխությունը (ավելացումները նշված են դրական նշանով)
B10: Ծրագիր | C10: Միջոցառում | E10: Առաջին եռամսյակ | F10: Առաջին կիսամյակ | G10: Ինն ամիս | H10: Տարի
D11: ՀՀ ԿՐԹՈՒԹՅԱՆ, ԳԻՏՈՒԹՅԱՆ, ՄՇԱԿՈՒՅԹԻ ԵՎ ՍՊՈՐՏԻ ՆԱԽԱՐԱՐՈՒԹՅՈՒՆ | E11: =+E13+E42 -> 0 | F11: =+F13+F42 -> 5369 | G11: =+G13+G42 -> 5369 | H11: =+H13+H42 -> 5369
D12: այդ թվում՝
B13: 1075 | C13: 21001 | D13: Հուշարձանների ամրակայում, նորոգում և վերականգնում | E13: =+E15 -> 0 | F13: =+F15 -> -1956 | G13: =+G15 -> -1956 | H13: =+H15 -> -1956
D14: այդ թվում` ըստ կատարողների
D15: ՀՀ կրթության, գիտության, մշակույթի և սպորտի նախարարություն | E15: =+E17+E32 -> 0 | F15: =+F17+F32 -> -1956 | G15: =+G17+G32 -> -1956 | H15: =+H17+H32 -> -1956
D16: այդ թվում՝ ըստ ուղղությունների
D17: 1. Վերականգնողական աշխատանքներ | E17: =+E19+E21+E23+E26+E28+E30 -> 0 | F17: =+F19+F21+F23+F26+F28+F30 -> -684 | G17: =+G19+G21+G23+G26+G28+G30 -> -684 | H17: =+H19+H21+H23+H26+H28+H30 -> -684
D18: որից`
D19: ՀՀ Արագածոնի մարզ | E19: =+E20 -> 0 | F19: =+F20 -> -345.5 | G19: =+G20 -> -1209.3 | H19: =+H20 -> -1695.2
D20: Փարպի համայնքի 5-րդ դարի Ծիրանավոր եկեղեցու ամրակայում, վերականգնում և տարածքի բարեկարգում | E20: 0 | F20: =-146.7-118.8-80 -> -345.5 | G20: =-513.4-415.9-280 -> -1209.3 | H20: =+'Հավելված N 3'!D20 -> -1695.2
D21: ՀՀ Արմավիրի մարզ | E21: =+E22 -> 0 | F21: =+F22 -> -132.7 | G21: =+G22 -> -464.6 | H21: =+H22 -> -633.6
D22: ՀՀ Արմավիրի մարզի Այգեշատ համայնքի Թարգմանչաց եկեղեցու վերականգնում | E22: 0 | F22: -132.7 | G22: -464.6 | H22: =+'Հավելված N 3'!D22 -> -633.6
D23: ՀՀ Լոռու մարզ | E23: =SUM(E24:E25) -> 0 | F23: =SUM(F24:F25) -> -9061.5 | G23: =SUM(G24:G25) -> -31715.5 | H23: =SUM(H24:H25) -> -32467.6
D24: Քոբայր ե/գ կայարանի Քոբայրավանքի սեղանատան վերականգնում և տարածքի բարեկարգում | E24: 0 | F24: =-7431-80.5 -> -7511.5 | G24: =-26008.5-281.7 -> -26290.2 | H24: =+'Հավելված N 3'!D24 -> -29698.3
D25: Ալավերդի համայնքի Սանահին վանական համալիրի Սբ Ամենափրկիչ եկեղեցու նորոգումև ամրակայում | E25: 0 | F25: =-1490.6-59.4 -> -1550 | G25: =-5217.5-207.8 -> -5425.3 | H25: =+'Հավելված N 3'!D25 -> -2769.3
D26: ՀՀ Կոտայքի մարզ | E26: =+E27 -> 0 | F26: =+F27 -> 8285.7 | G26: =+G27 -> 8285.7 | H26: =+H27 -> 8285.7
D27: Բջնի գյուղի Սբ. Աստվածածին եկեղեցու հյուսիսային ավանդատան արտաքին պատի վերականգնում | E27: 0 | F27: =+'Հավելված N 3'!D27 -> 8285.7 | G27: =+F27 -> 8285.7 | H27: =+G27 -> 8285.7
D28: ՀՀ Սյունիքի մարզ | E28: =+E29 -> 0 | F28: =+F29 -> -2713.6 | G28: =+G29 -> -3010.8 | H28: =+H29 -> -3010.8
D29: Տեղ համայնքի Սբ Գևորգ եկեղեցու վերականգնում | E29: 0 | F29: =-2600.9-112.7 -> -2713.6 | G29: =+'Հավելված N 3'!D29 -> -3010.8 | H29: =+'Հավելված N 3'!D29 -> -3010.8
D30: ՀՀ Տավուշի մարզ | E30: =+E31 -> 0 | F30: =+F31 -> 3283.6 | G30: =+G31 -> 27430.5 | H30: =+H31 -> 28837.5
D31: Դիլիջան համայնքի Հ.Շարամբեյանի անվան ժողովրդական արհեստների թանգարանի նորոգում, ամրակայում | E31: 0 | F31: 3283.6 | G31: 27430.5 | H31: =+'Հավելված N 3'!D31 -> 28837.5
D32: 2. Վավերագրման և ուսումնասիրման աշխատանքներ, (այդ թվում՝ հետախուզումև պեղում), գիտանախագծային փաստաթղթերի կազմում և փորձաքննում | E32: =+E34+E39 -> 0 | F32: =+F34+F39 -> -1272 | G32: =+G34+G39 -> -1272 | H32: =+H34+H39 -> -1272
D33: որից`
D34: ՀՀ Լոռու մարզ | E34: =SUM(E35:E38) -> 0 | F34: =SUM(F35:F38) -> -720 | G34: =SUM(G35:G38) -> -720 | H34: =SUM(H35:H38) -> -720
D35: Լոռու մարզի Քաղաքատեղի Լոռի Բերդի միջնաբերդի պարիսպների ամրակայման և վերականգնման գիտանախագծային փաստաթղթեր | E35: 0 | F35: =+'Հավելված N 3'!D35 -> -200 | G35: =+F35 -> -200 | H35: =+G35 -> -200
D36: Լոռու մարզի Քաղաքատեղի Լոռի Բերդի միջնաբերդի եկեղեցու ամրակայման, նորոգման և վերականգնման գիտանախագծային փաստաթղթեր | E36: 0 | F36: =+'Հավելված N 3'!D36 -> -120 | G36: =+F36 -> -120 | H36: =+G36 -> -120
D37: Լոռու մարզի Քաղաքատեղի Լոռի Բերդի միջնաբերդի բաղնիքների ամրակայման և մասնակի վերականգնման գիտանախագծային փաստաթղթեր | E37: 0 | F37: =+'Հավելված N 3'!D37 -> -200 | G37: =+F37 -> -200 | H37: =+G37 -> -200
D38: Լոռու մարզի Ամրակից գյուղի Ռուսական եկեղեցու ամրակայման, վերականգնման և տարածքի բարեկարգման գիտանախագծային փաստաթղթեր | E38: 0 | F38: =+'Հավելված N 3'!D38 -> -200 | G38: =+F38 -> -200 | H38: =+G38 -> -200
D39: ՀՀ Տավուշի մարզ | E39: =SUM(E40:E41) -> 0 | F39: =SUM(F40:F41) -> -552 | G39: =SUM(G40:G41) -> -552 | H39: =SUM(H40:H41) -> -552
D40: «Սրվեղ» վանական համալիրի ամրակայման, վերականգնման և տարածքի բարեկարգման գիտանախագծային փաստաթղթեր | E40: 0 | F40: =+'Հավելված N 3'!D40 -> -232 | G40: =+F40 -> -232 | H40: =+G40 -> -232
D41: «Տավուշ» ամրոցի պարիսպների, կից կառույցների, եկեղեցու ամրակայման, վերականգնման և տարածքի բարեկարգման գիտանախագծային փաստաթղթեր | E41: 0 | F41: =+'Հավելված N 3'!D41 -> -320 | G41: =+F41 -> -320 | H41: =+G41 -> -320
B42: 1075 | C42: 21004 | D42: Արձանների պատրաստման, նորոգման, վերականգնման և տեղադրման աշխատանքներ | E42: =+E44 -> 0 | F42: =+F44 -> 7325 | G42: =+G44 -> 7325 | H42: =+H44 -> 7325
D43: այդ թվում` ըստ կատարողների
D44: ՀՀ կրթության, գիտության, մշակույթի և սպորտի նախարարություն | E44: =+E46 -> 0 | F44: =+F46 -> 7325 | G44: =+G46 -> 7325 | H44: =+H46 -> 7325
D45: այդ թվում՝ ըստ ուղղությունների
D46: Երևան քաղաք | E46: =+E47 -> 0 | F46: =+F47 -> 7325 | G46: =+G47 -> 7325 | H46: =+H47 -> 7325
D47: Շուշանիկ Կուրղինյանի կիսանդրիի պատրաստում և տեղադրում | E47: 0 | F47: =+'Հավելված N 3'!D45 -> 7325 | G47: =+F47 -> 7325 | H47: =+G47 -> 7325

Sheet Հավելված N 5
F1: Հավելված 5
F2: ՀՀ կառավարության 2023 թվականի
F3: ______________ ի ___Ն որոշման
A6: ՀԱՅԱՍՏԱՆԻ ՀԱՆՐԱՊԵՏՈՒԹՅԱՆ ԿԱՌԱՎԱՐՈՒԹՅԱՆ 2022 ԹՎԱԿԱՆԻ ԴԵԿՏԵՄԲԵՐԻ 29-Ի N 2111-Ն ՈՐՈՇՄԱՆ N 5 ՀԱՎԵԼՎԱԾԻ N 7 ԱՂՅՈՒՍԱԿՈՒՄ ԿԱՏԱՐՎՈՂ ՓՈՓՈԽՈՒԹՅՈՒՆԸ ԵՎ ԼՐԱՑՈՒՄԸ
A7: հազար դրամ
A8: Ծրագրային դասիչը | D8: Բյուջետային հատկացումների գլխավոր կարգադրիչների, ծրագրերի, միջոցառումների և միջոցառումները կատարող պետական մարմինների անվանումները | F8: Միջոցառումները կատարող պետական մարմինների և դրամաշնորհ ստացող տնտեսվարող սուբյեկտների անվանումները | G8: Ցուցանիշների փոփոխությունը (ավելացումները նշված են դրական նշանով, իսկ նվազեցումները՝ փակագծերում)
A9: Ծրագիր | B9: Միջոցառում | G9: Տարի
A10: ՀՀ կրթության, գիտության, մշակույթի և սպորտի նախարարություն | G10: =+G11 -> -5369
A11: 1075 | B11: Մշակութային ժառանգության ծրագիր | G11: =+G12+G15 -> -5369
B12: 11004 | C12: Թանգարանային ծառայություններ և ցուցահանդեսներ | G12: =+G13 -> -15019
F13: ՀՀ կրթության, գիտության, մշակույթի և սպորտի նախարարություն | G13: =+G14 -> -15019
F14: «Պատմամշակութային արգելոց-թանգարանների և պատմական միջավայրի պահպանության ծառայություն» ՊՈԱԿ | G14: -15019
B15: 21001 | C15: Հուշարձանների ամրակայում, նորոգում և վերականգնում | F15: ՀՀ կրթության, գիտության, մշակույթի և սպորտի նախարարություն | G15: =+G17 -> 9650
D16: այդ թվում՝ ըստ ուղղությունների և միջոցառումների անվանումների
E17: Վավերագրման և ուսումնասիրման աշխատանքներ, (այդ թվում՝ հետախուզումև պեղում), գիտանախագծային փաստաթղթերի կազմում և փորձաքննում | F17: ՀՀ ԳԱԱ «Հնագիտության և ազգագրության ինստիտուտ» ՊՈԱԿ | G17: 9650

Sheet Հավելված N 6
C1: Հավելված N 6
C2: ՀՀ կառավարության 2023 թվականի
C3: ______________ ի ___Ն որոշման
B6: ՀԱՅԱՍՏԱՆԻ ՀԱՆՐԱՊԵՏՈՒԹՅԱՆ ԿԱՌԱՎԱՐՈՒԹՅԱՆ 2022 ԹՎԱԿԱՆԻ ԴԵԿՏԵՄԲԵՐԻ 29-Ի N 2111-Ն ՈՐՈՇՄԱՆ N 9 ՀԱՎԵԼՎԱԾԻ N 9.13 ԵՎ 9.47 ԱՂՅՈՒՍԱԿՆԵՐՈՒՄ ԿԱՏԱՐՎՈՂ ՓՈՓՈԽՈՒԹՅՈՒՆՆԵՐԸ ԵՎ ԼՐԱՑՈՒՄՆԵՐԸ
A8: Աղյուսակ 9․13
C9: ՀՀ կրթության, գիտության, մշակույթի և սպորտի նախարարություն
B10: ՄԱՍ 2. ՊԵՏԱԿԱՆ ՄԱՐՄՆԻ ԳԾՈՎ ԱՐԴՅՈՒՆՔԱՅԻՆ (ԿԱՏԱՐՈՂԱԿԱՆ) ՑՈՒՑԱՆԻՇՆԵՐԸ
B13: Ծրագրի դասիչը | C13: Ծրագրի անվանումը
B14: 1075 | C14: Մշակութային ժառանգության ծրագիր
B16: Ծրագրի միջոցառումները
B17: Ծրագրի դասիչը՝ | C17: 1075 | D17: Ցուցանիշների փոփոխությունը (նվազեցումները նշված են փակագծերում)
B18: Միջոցառման դասիչը՝ | C18: 11004 | D18: Առաջին եռամսյակ | E18: Առաջին կիսամյակ | F18: Ինն ամիս | G18: Տարի
B19: Միջոցառման անվանումը` | C19: Թանգարանային ծառայություններ և ցուցահանդեսներ
B20: Նկարագրությունը` | C20: Թանգարանային նմուշների պահպանություն, ցուցահանդեսների կազմակերպում, մասնագետների վերապատրաստում
B21: Միջոցառման տեսակը` | C21: Ծառայությունների մատուցում
B22: Ծառայությունը մատուցող կազմակերպության անվանումը | C22: Մասնագիտացված կազմակերպություններ
B23: Արդյունքի չափորոշիչներ
B24: Միջոցառման վրա կատարվող ծախսը (հազար դրամ) | D24: =+'Հավելված N 1'!D23 -> -9650 | E24: =+'Հավելված N 1'!E23 -> -15019 | F24: =+'Հավելված N 1'!F23 -> -15019 | G24: =+'Հավելված N 1'!G23 -> -15019
B26: Ծրագրի միջոցառումները
B27: Ծրագրի դասիչը՝ | C27: 1075 | D27: Ցուցանիշների փոփոխությունը (ավելացումները նշված են դրական նշանով)
B28: Միջոցառման դասիչը՝ | C28: 21001 | D28: Առաջին եռամսյակ | E28: Առաջին կիսամյակ | F28: Ինն ամիս | G28: Տարի
B29: Միջոցառման անվանումը՝ | C29: Հուշարձանների ամրակայում, նորոգում և վերականգնում
B30: Նկարագրությունը՝ | C30: Հուշարձանների գիտանախագծային փաստաթղթերի կազմում, հրատապ ուսումնասիրում, վավերագրման և ուսումնասիրման աշխատանքներ, հետախուզում և հնագիտական պեղում, ամրակայում, նորոգում և վերականգնում
B31: Միջոցառման տեսակը՝ | C31: Հանրության կողմից անմիջականորեն օգտագործվող ակտիվների հետ կապված միջոցառումներ
B32: Միջոցառումն իրականացնողի անվանումը | C32: Մասնագիտացված կազմակերպություն
B33: Արդյունքի չափորոշիչներ
B34: Հուշարձանների ամրակայման, նորոգման և վերականգնման աշխատանքներ, քանակ | E34: 1 | F34: 1 | G34: 1
B35: Հուշարձանների ուսումնասիրման (այդ թվում՛ հետախուզում և պեղում) և նախագծման, փորձաքննության աշխատանքներ, քանակ | D35: 1 | E35: 1 | F35: 1 | G35: 1
B36: Միջոցառման վրա կատարվող ծախսը (հազար դրամ) | D36: =+'Հավելված N 1'!D29 -> 9650 | E36: =+'Հավելված N 1'!E29 -> 7694 | F36: =+'Հավելված N 1'!F29 -> 7694 | G36: =+'Հավելված N 1'!G29 -> 7694
B38: Ծրագրի միջոցառումները
B39: Ծրագրի դասիչը՝ | C39: 1075 | D39: Ցուցանիշների փոփոխությունը (ավելացումները նշված են դրական նշանով)
B40: Միջոցառման դասիչը՝ | C40: 21004 | D40: Առաջին եռամսյակ | E40: Առաջին կիսամյակ | F40: Ինն ամիս | G40: Տարի
B41: Միջոցառման անվանումը՝ | C41: Արձանների պատրաստման, նորոգման, վերականգնման և տեղադրման աշխատանքներ
B42: Նկարագրությունը՝ | C42: Արձանների պատրաստում, նորոգում և վերականգնում, տեղադրում, գիտանախագծային փաստաթղթերի կազմում,
B43: Միջոցառման տեսակը՝ | C43: Հանրության կողմից անմիջականորեն օգտագործվող ակտիվների հետ կապված միջոցառումներ
B44: Միջոցառումն իրականացնողի անվանումը | C44: Մասնագիտացված կազմակերպություններ
B45: Արդյունքի չափորոշիչներ
B46: Արձանների պատրաստման և տեղադրման աշխատանքներ, քանակ | E46: 1 | F46: 1 | G46: 1
B47: Միջոցառման վրա կատարվող ծախսը (հազար դրամ) | D47: =+'Հավելված N 1'!D35 -> 0 | E47: =+'Հավելված N 1'!E35 -> 7325 | F47: =+'Հավելված N 1'!F35 -> 7325 | G47: =+'Հավելված N 1'!G35 -> 7325
A53: Աղյուսակ 9․47
C54: ՀՀ կառավարություն
B55: ՄԱՍ 2. ՊԵՏԱԿԱՆ ՄԱՐՄՆԻ ԳԾՈՎ ԱՐԴՅՈՒՆՔԱՅԻՆ (ԿԱՏԱՐՈՂԱԿԱՆ) ՑՈՒՑԱՆԻՇՆԵՐԸ
B58: Ծրագրի դասիչը | C58: Ծրագրի անվանումը
B59: 1139 | C59: ՀՀ կառավարության պահուստային ֆոնդ
B61: Ծրագրի միջոցառումները
B62: Ծրագրի դասիչը՝ | C62: 1139 | D62: Ցուցանիշների փոփոխությունը (ավելացումները նշված են դրական նշանով)
B63: Միջոցառման դասիչը՝ | C63: 11001 | D63: Առաջին եռամսյակ | E63: Առաջին կիսամյակ | F63: Ինն ամիս | G63: Տարի
B64: Միջոցառման անվանումը՝ | C64: ՀՀ կառավարության պահուստային ֆոնդ
B65: Նկարագրությունը՝ | C65: ՀՀ պետական բյուջեում նախատեսված ելքերի լրացուցիչ ֆինանսավորման՝ պետական բյուջեում չկանխատեսված ելքերի, ինչպես նաև բյուջետային երաշխիքների ապահովման ելքերի ֆինանսավորման ապահովում
B66: Միջոցառման տեսակը՝ | C66: Ծառայությունների մատուցում
B67: Միջոցառումն իրականացնողի անվանումը | C67: ՀՀ կառավարություն
C68: Արդյունքի չափորոշիչներ
B69: Միջոցառման վրա կատարվող ծախսը (հազար դրամ) | D69: =+'Հավելված N 1'!D49 -> 0 | E69: =+'Հավելված N 1'!E49 -> 7325 | F69: =+'Հավելված N 1'!F49 -> 7325 | G69: =+'Հավելված N 1'!G49 -> 7325
B71: Ծրագրի միջոցառումները
B72: Ծրագրի դասիչը՝ | C72: 1139 | D72: Ցուցանիշների փոփոխությունը (նվազեցումները նշված են փակագծերում)
B73: Միջոցառման դասիչը՝ | C73: 11001 | D73: Առաջին եռամսյակ | E73: Առաջին կիսամյակ | F73: Ինն ամիս | G73: Տարի
B74: Միջոցառման անվանումը՝ | C74: ՀՀ կառավարության պահուստային ֆոնդ
B75: Նկարագրությունը՝ | C75: ՀՀ պետական բյուջեում նախատեսված ելքերի լրացուցիչ ֆինանսավորման՝ պետական բյուջեում չկանխատեսված ելքերի, ինչպես նաև բյուջետային երաշխիքների ապահովման ելքերի ֆինանսավորման ապահովում
B76: Միջոցառման տեսակը՝ | C76: Ծառայությունների մատուցում
B77: Միջոցառումն իրականացնողի անվանումը | C77: ՀՀ կառավարություն
C78: Արդյունքի չափորոշիչներ
B79: Միջոցառման վրա կատարվող ծախսը (հազար դրամ) | D79: =+'Հավելված N 1'!D55 -> 0 | E79: =+'Հավելված N 1'!E55 -> -7325 | F79: =+'Հավելված N 1'!F55 -> -7325 | G79: =+'Հավելված N 1'!G55 -> -7325

Sheet Հավելված N 7
C1: Հավելված N 7
C2: ՀՀ կառավարության 2023 թվականի
C3: ______________ ի ___Ն որոշման
B6: ՀԱՅԱՍՏԱՆԻ ՀԱՆՐԱՊԵՏՈՒԹՅԱՆ ԿԱՌԱՎԱՐՈՒԹՅԱՆ 2022 ԹՎԱԿԱՆԻ ԴԵԿՏԵՄԲԵՐԻ 29-Ի N 2111-Ն ՈՐՈՇՄԱՆ N 9.1 ՀԱՎԵԼՎԱԾԻ N 9.1.13 ԵՎ 9.1.58 ԱՂՅՈՒՍԱԿՆԵՐՈՒՄ ԿԱՏԱՐՎՈՂ ՓՈՓՈԽՈՒԹՅՈՒՆՆԵՐԸ ԵՎ ԼՐԱՑՈՒՄՆԵՐԸ
A8: Աղյուսակ 9․1.13
C9: ՀՀ կրթության, գիտության, մշակույթի և սպորտի նախարարություն
B10: ՄԱՍ 1. ՊԵՏԱԿԱՆ ՄԱՐՄՆԻ ԳԾՈՎ ԱՐԴՅՈՒՆՔԱՅԻՆ (ԿԱՏԱՐՈՂԱԿԱՆ) ՑՈՒՑԱՆԻՇՆԵՐԸ
B13: Ծրագրի դասիչը | C13: Ծրագրի անվանումը
B14: 1075 | C14: Մշակութային ժառանգության ծրագիր
B16: Ծրագրի միջոցառումները
B17: Ծրագրի դասիչը՝ | C17: 1075 | D17: Ցուցանիշների փոփոխությունը (նվազեցումները նշված են փակագծերում)
B18: Միջոցառման դասիչը՝ | C18: 11004 | D18: Առաջին եռամսյակ | E18: Առաջին կիսամյակ | F18: Ինն ամիս | G18: Տարի
B19: Միջոցառման անվանումը` | C19: Թանգարանային ծառայություններ և ցուցահանդեսներ
B20: Նկարագրությունը` | C20: Թանգարանային նմուշների պահպանություն, ցուցահանդեսների կազմակերպում, մասնագետների վերապատրաստում
B21: Միջոցառման տեսակը` | C21: Ծառայությունների մատուցում
B22: Ծառայությունը մատուցող կազմակերպության անվանումը | C22: Մասնագիտացված կազմակերպություններ
B23: Արդյունքի չափորոշիչներ
B24: Միջոցառման վրա կատարվող ծախսը (հազար դրամ) | D24: =+'Հավելված N 2'!G28 -> -9650 | E24: =+'Հավելված N 2'!H28 -> -15019 | F24: =+'Հավելված N 2'!I28 -> -15019 | G24: =+'Հավելված N 2'!J28 -> -15019
B26: Ծրագրի միջոցառումները
B27: Ծրագրի դասիչը՝ | C27: 1075 | D27: Ցուցանիշների փոփոխությունը (ավելացումները նշված են դրական նշանով)
B28: Միջոցառման դասիչը՝ | C28: 21001 | D28: Առաջին եռամսյակ | E28: Առաջին կիսամյակ | F28: Ինն ամիս | G28: Տարի
B29: Միջոցառման անվանումը՝ | C29: Հուշարձանների ամրակայում, նորոգում և վերականգնում
B30: Նկարագրությունը՝ | C30: Հուշարձանների գիտանախագծային փաստաթղթերի կազմում, հրատապ ուսումնասիրում, վավերագրման և ուսումնասիրման աշխատանքներ, հետախուզում և հնագիտական պեղում, ամրակայում, նորոգում և վերականգնում
B31: Միջոցառման տեսակը՝ | C31: Հանրության կողմից անմիջականորեն օգտագործվող ակտիվների հետ կապված միջոցառումներ
B32: Միջոցառումն իրականացնողի անվանումը | C32: Մասնագիտացված կազմակերպություն
B33: Արդյունքի չափորոշիչներ
B34: Հուշարձանների ամրակայման, նորոգման և վերականգնման աշխատանքներ, քանակ | E34: 1 | F34: 1 | G34: 1
B35: Հուշարձանների ուսումնասիրման (այդ թվում՛ հետախուզում և պեղում) և նախագծման, փորձաքննության աշխատանքներ, քանակ | D35: 1 | E35: 1 | F35: 1 | G35: 1
B36: Միջոցառման վրա կատարվող ծախսը (հազար դրամ) | D36: =+'Հավելված N 2'!G43 -> 9650 | E36: =+'Հավելված N 2'!H43 -> 7694 | F36: =+'Հավելված N 2'!I43 -> 7694 | G36: =+'Հավելված N 2'!J43 -> 7694
B38: Ծրագրի միջոցառումները
B39: Ծրագրի դասիչը՝ | C39: 1075 | D39: Ցուցանիշների փոփոխությունը (ավելացումները նշված են դրական նշանով)
B40: Միջոցառման դասիչը՝ | C40: 21004 | D40: Առաջին եռամսյակ | E40: Առաջին կիսամյակ | F40: Ինն ամիս | G40: Տարի
B41: Միջոցառման անվանումը՝ | C41: Արձանների պատրաստման, նորոգման, վերականգնման և տեղադրման աշխատանքներ
B42: Նկարագրությունը՝ | C42: Արձանների պատրաստում, նորոգում և վերականգնում, տեղադրում, գիտանախագծային փաստաթղթերի կազմում,
B43: Միջոցառման տեսակը՝ | C43: Հանրության կողմից անմիջականորեն օգտագործվող ակտիվների հետ կապված միջոցառումներ
B44: Միջոցառումն իրականացնողի անվանումը | C44: Մասնագիտացված կազմակերպություններ
B45: Արդյունքի չափորոշիչներ
B46: Արձանների պատրաստման և տեղադրման աշխատանքներ, քանակ | E46: 1 | F46: 1 | G46: 1
B47: Միջոցառման վրա կատարվող ծախսը (հազար դրամ) | D47: =+'Հավելված N 2'!G58 -> 0 | E47: =+'Հավելված N 2'!H58 -> 7325 | F47: =+'Հավելված N 2'!I58 -> 7325 | G47: =+'Հավելված N 2'!J58 -> 7325
A53: Աղյուսակ 9․1.58
C54: ՀՀ կառավարություն
B55: ՄԱՍ 1. ՊԵՏԱԿԱՆ ՄԱՐՄՆԻ ԳԾՈՎ ԱՐԴՅՈՒՆՔԱՅԻՆ (ԿԱՏԱՐՈՂԱԿԱՆ) ՑՈՒՑԱՆԻՇՆԵՐԸ
B58: Ծրագրի դասիչը | C58: Ծրագրի անվանումը
B59: 1139 | C59: ՀՀ կառավարության պահուստային ֆոնդ
B61: Ծրագրի միջոցառումները
B62: Ծրագրի դասիչը՝ | C62: 1139 | D62: Ցուցանիշների փոփոխությունը (ավելացումները նշված են դրական նշանով)
B63: Միջոցառման դասիչը՝ | C63: 11001 | D63: Առաջին եռամսյակ | E63: Առաջին կիսամյակ | F63: Ինն ամիս | G63: Տարի
B64: Միջոցառման անվանումը՝ | C64: ՀՀ կառավարության պահուստային ֆոնդ
B65: Նկարագրությունը՝ | C65: ՀՀ պետական բյուջեում նախատեսված ելքերի լրացուցիչ ֆինանսավորման՝ պետական բյուջեում չկանխատեսված ելքերի, ինչպես նաև բյուջետային երաշխիքների ապահովման ելքերի ֆինանսավորման ապահովում
B66: Միջոցառման տեսակը՝ | C66: Ծառայությունների մատուցում
B67: Միջոցառումն իրականացնողի անվանումը | C67: ՀՀ կառավարություն
C68: Արդյունքի չափորոշիչներ
B69: Միջոցառման վրա կատարվող ծախսը (հազար դրամ) | D69: =+'Հավելված N 2'!G79 -> 0 | E69: =+'Հավելված N 2'!H79 -> 7325 | F69: =+'Հավելված N 2'!I79 -> 7325 | G69: =+'Հավելված N 2'!J79 -> 7325
B71: Ծրագրի միջոցառումները
B72: Ծրագրի դասիչը՝ | C72: 1139 | D72: Ցուցանիշների փոփոխությունը (նվազեցումները նշված են փակագծերում)
B73: Միջոցառման դասիչը՝ | C73: 11001 | D73: Առաջին եռամսյակ | E73: Առաջին կիսամյակ | F73: Ինն ամիս | G73: Տարի
B74: Միջոցառման անվանումը՝ | C74: ՀՀ կառավարության պահուստային ֆոնդ
B75: Նկարագրությունը՝ | C75: ՀՀ պետական բյուջեում նախատեսված ելքերի լրացուցիչ ֆինանսավորման՝ պետական բյուջեում չկանխատեսված ելքերի, ինչպես նաև բյուջետային երաշխիքների ապահովման ելքերի ֆինանսավորման ապահովում
B76: Միջոցառման տեսակը՝ | C76: Ծառայությունների մատուցում
B77: Միջոցառումն իրականացնողի անվանումը | C77: ՀՀ կառավարություն
C78: Արդյունքի չափորոշիչներ
B79: Միջոցառման վրա կատարվող ծախսը (հազար դրամ) | D79: =+'Հավելված N 2'!G88 -> 0 | E79: =+'Հավելված N 2'!H88 -> -7325 | F79: =+'Հավելված N 2'!I88 -> -7325 | G79: =+'Հավելված N 2'!J88 -> -7325

Sheet Հավելված N 8
H1: Հավելված N 8
H2: ՀՀ կառավարության 2023 թվականի
H3: ______________ ի ___Ն որոշման
A6: ՀԱՅԱՍՏԱՆԻ ՀԱՆՐԱՊԵՏՈՒԹՅԱՆ ԿԱՌԱՎԱՐՈՒԹՅԱՆ 2022 ԹՎԱԿԱՆԻ ԴԵԿՏԵՄԲԵՐԻ 29-Ի N 2111-Ն N 10 ՀԱՎԵԼՎԱԾՈՒՄ ԿԱՏԱՐՎՈՂ ՓՈՓՈԽՈՒԹՅՈՒՆՆԵՐԸ ԵՎ ԼՐԱՑՈՒՄՆԵՐԸ
A10: Կոդը | B10: Անվանումը | E10: Գնման ձևը | F10: Չափման միավորը | G10: Միավորի գինը | H10: Ցուցանիշների փոփոխությունը (ավելացումները նշված են դրական նշանով, իսկ նվազեցումները՝ փակագծերում)
H11: Քանակը | I11: Գումարը (հազար դրամ)
A12: 1 | B12: 2 | E12: 3 | F12: 4 | G12: 5 | H12: 6 | I12: 7
A13: ՀՀ կրթության, գիտության, մշակույթի և սպորտի նախարարություն | I13: =+I14 -> 5369
A14: Բաժին N 08 | B14: Խումբ N 02 | C14: Դաս N 07 | D14: Հուշարձանների և մշակութային արժեքների վերականգնում և պահպանում | I14: =+I15+I40 -> 5369
A15: 1075-21001 | B15: Հուշարձանների ամրակայում, նորոգում և վերականգնում | I15: =+I16+I24 -> -1956
B16: ՄԱՍ II. ԱՇԽԱՏԱՆՔՆԵՐ | I16: =SUM(I17:I23) -> 494.5
A17: 45451600 | B17: վերականգնողական աշխատանքներ | E17: ԳՀ | F17: դրամ | G17: 7810000 | H17: 1 | I17: 7810
A18: 45451600-2 | B18: վերականգնողական աշխատանքներ | E18: ԲՄ | F18: դրամ | I18: -733.4
A19: 45451600-3 | B19: վերականգնողական աշխատանքներ | E19: ԲՄ | F19: դրամ | I19: -633.6
A20: 45451600-4 | B20: վերականգնողական աշխատանքներ | E20: ԲՄ | F20: դրամ | I20: -29370.6
A21: 45451600-5 | B21: վերականգնողական աշխատանքներ | E21: ԳՀ | F21: դրամ | I21: -2532.4
A22: 45451600-6 | B22: վերականգնողական աշխատանքներ | E22: ԲՄ | F22: դրամ | I22: =30222.2-1429.9 -> 28792.3
A23: 45451600-7 | B23: վերականգնողական աշխատանքներ | E23: ԳՀ | F23: դրամ | I23: -2837.8
B24: ՄԱՍ III. ԾԱՌԱՅՈՒԹՅՈՒՆՆԵՐ | I24: =SUM(I25:I39) -> -2450.5
A25: 71351540 | B25: տեխնիկական հսկողության ծառայություններ | E25: ԳՀ | F25: դրամ | G25: 317000 | H25: 1 | I25: 317
A26: 71351540-1 | B26: տեխնիկական հսկողության ծառայություններ | E26: ԳՀ | F26: դրամ | I26: -578.6
A27: 71351540-3 | B27: տեխնիկական հսկողության ծառայություններ | E27: ԳՀ | F27: դրամ | I27: -327.7
A28: 71351540-4 | B28: տեխնիկական հսկողության ծառայություններ | E28: ԳՀ | F28: դրամ | I28: -236.9
A29: 71351540-5 | B29: տեխնիկական հսկողության ծառայություններ | E29: ԳՀ | F29: դրամ | I29: =124.8-362.3 -> -237.5
A30: 71351540-6 | B30: տեխնիկական հսկողության ծառայություններ | E30: ԳՀ | F30: դրամ | I30: -173
A31: 98111140 | B31: հեղինակային հսկողության ծառայություններ | E31: ՄԱ | F31: դրամ | G31: 158700 | H31: 1 | I31: 158.7
A32: 98111140-2 | B32: հեղինակային հսկողության ծառայություններ | E32: ՄԱ | F32: դրամ | I32: -383.2
A33: 98111140-6 | B33: հեղինակային հսկողության ծառայություններ | E33: ՄԱ | F33: դրամ | I33: =289.5-6.8 -> 282.7
A34: 50531140-1 | B34: փորձաքննության ծառայություններ | E34: ԳՀ | F34: դրամ | G34: 200000 | H34: -1 | I34: -200
A35: 50531140-2 | B35: փորձաքննության ծառայություններ | E35: ԳՀ | F35: դրամ | G35: 120000 | H35: -1 | I35: -120
A36: 50531140-3 | B36: փորձաքննության ծառայություններ | E36: ԳՀ | F36: դրամ | G36: 200000 | H36: -1 | I36: -200
A37: 50531140-4 | B37: փորձաքննության ծառայություններ | E37: ԳՀ | F37: դրամ | G37: 200000 | H37: -1 | I37: -200
A38: 50531140-5 | B38: փորձաքննության ծառայություններ | E38: ԳՀ | F38: դրամ | G38: 232000 | H38: -1 | I38: -232
A39: 50531140-6 | B39: փորձաքննության ծառայություններ | E39: ԳՀ | F39: դրամ | G39: 320000 | H39: -1 | I39: -320
A40: 1075-21004 | B40: Արձանների պատրաստման, նորոգման, վերականգնման և տեղադրման աշխատանքներ | I40: =+I41 -> 7325
B41: ՄԱՍ II. ԱՇԽԱՏԱՆՔՆԵՐ | I41: =+I42 -> 7325
A42: 45451600 | B42: վերականգնողական աշխատանքներ | E42: ՄԱ | F42: դրամ | G42: 7325000 | H42: 1 | I42: 7325

Sheet Հավելված N 9
H1: Հավելված N 9
J2: ՀՀ կառավարության 2023 թվականի
J3: ______________ ի ___Ն որոշման
A6: ՀԱՅԱՍՏԱՆԻ ՀԱՆՐԱՊԵՏՈՒԹՅԱՆ 2023 ԹՎԱԿԱՆԻ ՊԵՏԱԿԱՆ ԲՅՈՒՋԵՈՎ ՆԱԽԱՏԵՍՎԱԾ՝ ՀԱՅԱՍՏԱՆԻ ՀԱՆՐԱՊԵՏՈՒԹՅԱՆ ԿԱՌԱՎԱՐՈՒԹՅԱՆ ՊԱՀՈՒՍՏԱՅԻՆ ՖՈՆԴԻՑ ՀԱՏԿԱՑՈՒՄՆԵՐ ԿԱՏԱՐԵԼՈՒ ՎԵՐԱԲԵՐՅԱԼ
I8: հազ. դրամներով
A9: Գործառական դասիչը | D9: Ծրագրային դասիչը | F9: Բյուջետային հատկացումների գլխավոր կարգադրիչների, ծրագրերի, միջոցառումների և միջոցառումները կատարող պետական մարմինների անվանումները | G9: Ցուցանիշների փոփոխությունը (ավելացումները նշված են դրական նշանով, իսկ նվազեցումները` փակագծերում)
A10: Բաժին | B10: Խումբ | C10: Դաս | D10: Ծրագիր | E10: Միջոցառում | G10: Առաջին եռամսյակ | H10: Առաջին կիսամյակ | I10: Ինն ամիս | J10: Տարի
F11: ԸՆԴԱՄԵՆԸ | G11: =+G13+G34 -> 0 | H11: =+H13+H34 -> 0 | I11: =+I13+I34 -> 0 | J11: =+J13+J34 -> 0
F12: այդ թվում
F13: ՀՀ ԿԱՌԱՎԱՐՈՒԹՅՈՒՆ | G13: =+G14 -> 0 | H13: =+H14 -> -7325 | I13: =+I14 -> -7325 | J13: =+J14 -> -7325
A14: 11 | F14: ՀԻՄՆԱԿԱՆ ԲԱԺԻՆՆԵՐԻՆ ՉԴԱՍՎՈՂ ՊԱՀՈՒՍՏԱՅԻՆ ՖՈՆԴԵՐ | G14: =+G16 -> 0 | H14: =+H16 -> -7325 | I14: =+I16 -> -7325 | J14: =+J16 -> -7325
F15: այդ թվում`
B16: 01 | F16: ՀՀ կառավարության և համայնքների պահուստային ֆոնդ | G16: =+G18 -> 0 | H16: =+H18 -> -7325 | I16: =+I18 -> -7325 | J16: =+J18 -> -7325
F17: այդ թվում`
C18: 01 | F18: ՀՀ կառավարության պահուստային ֆոնդ | G18: =+G20 -> 0 | H18: =+H20 -> -7325 | I18: =+I20 -> -7325 | J18: =+J20 -> -7325
F19: այդ թվում`
F20: ՀՀ կառավարություն | G20: =+G22 -> 0 | H20: =+H22 -> -7325 | I20: =+I22 -> -7325 | J20: =+J22 -> -7325
F21: այդ թվում`
D22: 1139 | E22: ՀՀ կառավարության պահուստային ֆոնդ | F22: ՀՀ կառավարության պահուստային ֆոնդ | G22: =+G24 -> 0 | H22: =+H24 -> -7325 | I22: =+I24 -> -7325 | J22: =+J24 -> -7325
F23: այդ թվում`
E24: 11001 | F24: ՀՀ կառավարության պահուստային ֆոնդ | G24: =+G26 -> 0 | H24: =+H26 -> -7325 | I24: =+I26 -> -7325 | J24: =+J26 -> -7325
F25: այդ թվում` ըստ կատարողների
F26: ՀՀ կառավարություն | G26: =+G28 -> 0 | H26: =+H28 -> -7325 | I26: =+I28 -> -7325 | J26: =+J28 -> -7325
F27: այդ թվում՝ բյուջետային ծախսերի տնտեսագիտական դասակարգման հոդվածներ
F28: ԸՆԴԱՄԵՆԸ ԾԱԽՍԵՐ | G28: =+G29 -> 0 | H28: =+H29 -> -7325 | I28: =+I29 -> -7325 | J28: =+J29 -> -7325
F29: ՈՉ ՖԻՆԱՆՍԱԿԱՆ ԱԿՏԻՎՆԵՐԻ ԳԾՈՎ ԾԱԽՍԵՐ | G29: =+G30 -> 0 | H29: =+H30 -> -7325 | I29: =+I30 -> -7325 | J29: =+J30 -> -7325
F30: ՀԻՄՆԱԿԱՆ ՄԻՋՈՑՆԵՐ | G30: =+G31 -> 0 | H30: =+H31 -> -7325 | I30: =+I31 -> -7325 | J30: =+J31 -> -7325
F31: ՇԵՆՔԵՐ ԵՎ ՇԻՆՈՒԹՅՈՒՆՆԵՐ | G31: =+G32 -> 0 | H31: =+H32 -> -7325 | I31: =+I32 -> -7325 | J31: =+J32 -> -7325
F32: - Շենքերի և շինությունների շինարարություն | G32: =+'Հավելված N 2'!G94 -> 0 | H32: =+'Հավելված N 2'!H94 -> -7325 | I32: =+'Հավելված N 2'!I94 -> -7325 | J32: =+'Հավելված N 2'!J94 -> -7325
F34: ՀՀ ԿՐԹՈՒԹՅԱՆ, ԳԻՏՈՒԹՅԱՆ, ՄՇԱԿՈՒՅԹԻ ԵՎ ՍՊՈՐՏԻ ՆԱԽԱՐԱՐՈՒԹՅՈՒՆ | G34: =+G35 -> 0 | H34: =+H35 -> 7325 | I34: =+I35 -> 7325 | J34: =+J35 -> 7325
A35: 08 | F35: ՀԱՆԳԻՍՏ, ՄՇԱԿՈՒՅԹ ԵՎ ԿՐՈՆ | G35: =+G37 -> 0 | H35: =+H37 -> 7325 | I35: =+I37 -> 7325 | J35: =+J37 -> 7325
F36: այդ թվում`
B37: 02 | F37: Մշակութային ծառայություններ | G37: =+G39 -> 0 | H37: =+H39 -> 7325 | I37: =+I39 -> 7325 | J37: =+J39 -> 7325
F38: այդ թվում`
C39: 07 | F39: Հուշարձանների և մշակութային արժեքների վերականգնում և պահպանում | G39: =+G41 -> 0 | H39: =+H41 -> 7325 | I39: =+I41 -> 7325 | J39: =+J41 -> 7325
F40: այդ թվում`
F41: ՀՀ կրթության, գիտության, մշակույթի և սպորտի նախարարություն | G41: =+G43 -> 0 | H41: =+H43 -> 7325 | I41: =+I43 -> 7325 | J41: =+J43 -> 7325
F42: այդ թվում`
D43: 1075 | E43: Մշակութային ժառանգության ծրագիր | G43: =+G45 -> 0 | H43: =+H45 -> 7325 | I43: =+I45 -> 7325 | J43: =+J45 -> 7325
F44: այդ թվում`
E45: 21004 | F45: Արձանների պատրաստման, նորոգման, վերականգնման և տեղադրման աշխատանքներ | G45: =+G47 -> 0 | H45: =+H47 -> 7325 | I45: =+I47 -> 7325 | J45: =+J47 -> 7325
F46: այդ թվում` ըստ կատարողների
F47: ՀՀ կրթության, գիտության, մշակույթի և սպորտի նախարարություն | G47: =+G49 -> 0 | H47: =+H49 -> 7325 | I47: =+I49 -> 7325 | J47: =+J49 -> 7325
F48: այդ թվում՝ բյուջետային ծախսերի տնտեսագիտական դասակարգման հոդվածներ
F49: ԸՆԴԱՄԵՆԸ ԾԱԽՍԵՐ | G49: =+G50 -> 0 | H49: =+H50 -> 7325 | I49: =+I50 -> 7325 | J49: =+J50 -> 7325
F50: ՈՉ ՖԻՆԱՆՍԱԿԱՆ ԱԿՏԻՎՆԵՐԻ ԳԾՈՎ ԾԱԽՍԵՐ | G50: =+G51 -> 0 | H50: =+H51 -> 7325 | I50: =+I51 -> 7325 | J50: =+J51 -> 7325
F51: ՀԻՄՆԱԿԱՆ ՄԻՋՈՑՆԵՐ | G51: =+G52 -> 0 | H51: =+H52 -> 7325 | I51: =+I52 -> 7325 | J51: =+J52 -> 7325
F52: ՇԵՆՔԵՐ ԵՎ ՇԻՆՈՒԹՅՈՒՆՆԵՐ | G52: =+G53 -> 0 | H52: =+H53 -> 7325 | I52: =+I53 -> 7325 | J52: =+J53 -> 7325
F53: - Շենքերի և շինությունների կապիտալ վերանորոգում | G53: =+'Հավելված N 2'!G64 -> 0 | H53: =+'Հավելված N 2'!H64 -> 7325 | I53: =+'Հավելված N 2'!I64 -> 7325 | J53: =+'Հավելված N 2'!J64 -> 7325
