Workbook
Name _tab10: #REF!
Name _tab10: #REF!
Name _tab11: #REF!
Name _tab11: #REF!
Name _tab12: #REF!
Name _tab12: #REF!
Name _tab13: #REF!
Name _tab13: #REF!
Name _tab14: #REF!
Name _tab14: #REF!
Name _tab15: #REF!
Name _tab15: #REF!
Name _tab16: #REF!
Name _tab16: #REF!
Name _tab17: #REF!
Name _tab17: #REF!
Name _tab18: #REF!
Name _tab18: #REF!
Name _tab19: #REF!
Name _tab19: #REF!
Name _tab20: #REF!
Name _tab20: #REF!
Name _tab21: #REF!
Name _tab21: #REF!
Name _tab22: #REF!
Name _tab22: #REF!
Name _tab23: #REF!
Name _tab23: #REF!
Name _tab24: #REF!
Name _tab24: #REF!
Name _tab5: #REF!
Name _tab5: #REF!
Name _tab6: #REF!
Name _tab6: #REF!
Name _tab7: #REF!
Name _tab7: #REF!
Name _tab8: #REF!
Name _tab8: #REF!
Name _tab9: #REF!
Name _tab9: #REF!
Name par_count: #REF!,#REF!,#REF!,#REF!,#REF!,#REF!,#REF!,#REF!,#REF!,#REF!,#REF!,#REF!,#REF!,#REF!,#REF!
Name par_count: #REF!,#REF!,#REF!,#REF!,#REF!,#REF!,#REF!,#REF!,#REF!,#REF!,#REF!,#REF!,#REF!,#REF!,#REF!
Name par_qual: #REF!,#REF!,#REF!,#REF!,#REF!
Name par_qual: #REF!,#REF!,#REF!,#REF!,#REF!
Name par_time: #REF!,#REF!,#REF!,#REF!
Name par_time: #REF!,#REF!,#REF!,#REF!
Name par2.12s: #REF!
Name par2.12s: #REF!
Name par2.4s: #REF!,#REF!,#REF!,#REF!,#REF!,#REF!,#REF!,#REF!,#REF!,#REF!,#REF!,#REF!,#REF!,#REF!,#REF!,#REF!
Name par2.4s: #REF!,#REF!,#REF!,#REF!,#REF!,#REF!,#REF!,#REF!,#REF!,#REF!,#REF!,#REF!,#REF!,#REF!,#REF!,#REF!
Name par2.5s: #REF!,#REF!
Name par2.5s: #REF!,#REF!
Name par2.6s: #REF!,#REF!,#REF!,#REF!
Name par2.6s: #REF!,#REF!,#REF!,#REF!
Name par2.7s: #REF!,#REF!
Name par2.7s: #REF!,#REF!
Name par2.9s: #REF!,#REF!,#REF!,#REF!,#REF!,#REF!,#REF!,#REF!,#REF!,#REF!,#REF!,#REF!,#REF!,#REF!,#REF!,#REF!
Name par2.9s: #REF!,#REF!,#REF!,#REF!,#REF!,#REF!,#REF!,#REF!,#REF!,#REF!,#REF!,#REF!,#REF!,#REF!,#REF!,#REF!
Name par4.10s: #REF!,#REF!
Name par4.10s: #REF!,#REF!

Sheet 1
G1: Հավելված N 1
G2: ՀՀ կառավարության 2023 թվականի
C3: -----------------ի N -----------Ն որոշման
A5: ՀԱՅԱՍՏԱՆԻ ՀԱՆՐԱՊԵՏՈՒԹՅԱՆ 2023 ԹՎԱԿԱՆԻ ՊԵՏԱԿԱՆ ԲՅՈՒՋԵԻ ՄԱՍԻՆ» ՕՐԵՆՔԻ N 1 ՀԱՎԵԼՎԱԾԻ N 2 ԱՂՅՈՒՍԱԿՈՒՄ ԿԱՏԱՐՎՈՂ ՎԵՐԱԲԱՇԽՈՒՄԸ ԵՎ ՀԱՅԱՍՏԱՆԻ ՀԱՆՐԱՊԵՏՈՒԹՅԱՆ ԿԱՌԱՎԱՐՈՒԹՅԱՆ 2022 ԹՎԱԿԱՆԻ ԴԵԿՏԵՄԲԵՐԻ 29-Ի N 2111-Ն ՈՐՈՇՄԱՆ N 5 ՀԱՎԵԼՎԱԾԻ N 1 ԱՂՅՈՒՍԱԿՈՒՄ ԿԱՏԱՐՎՈՂ ՓՈՓՈԽՈՒԹՅՈՒՆՆԵՐԸ
G6: (հազար դրամ)
A7: Ծրագրային դասիչը | C7: Բյուջետային հատկացումների գլխավոր կարգադրիչների, ծրագրերի և միջոցառումների անվանումները | D7: Ցուցանիշների փոփոխությունները ավելացումները նշված են դրական նշանով, իսկ նվազեցումը՝ փակագծերում
A8: Ծրագիր | B8: Միջոցառում | D8: առաջին եռամսյակ | E8: առաջին կիսամյակ | F8: 9 ամիս | G8: Տարի
C9: ԸՆԴԱՄԵՆԸ | D9: =D10 -> 0 | E9: =E10 -> 0 | F9: =F10 -> 0 | G9: =G10 -> 0
C10: ՀՀ աշխատանքի և սոցիալական հարցերի նախարարություն | D10: =D11+D30 -> 0 | E10: =E11+E30 -> 0 | F10: =F11+F30 -> 0 | G10: =G11+G30 -> 0
A11: 1068 | C11: Ծրագրի անվանումը` | D11: =SUM(D18,D24) -> 528239.4 | E11: =SUM(E18,E24) -> 528239.4 | F11: =SUM(F18,F24) -> 0 | G11: =SUM(G18,G24) -> 0 | H11: 537942 | I11: =+D11-H11 -> -9702.6
C12: Ժողովրդագրական վիճակի բարելավում
C13: Ծրագրի նպատակը`
C14: Խթանել ժողովրդագրական վիճակի բարելավումը
C15: Վերջնական արդյունքի նկարագրությունը`
C16: Ժողովրդագրական վիճակի բարելավում և բազմազավակության աճ
A17: Ծրագրի միջոցառումներ
B18: 12001 | C18: Միջոցառման անվանումը` | D18: 372390.6 | E18: =SUM(D18) -> 372390.6 | F18: 0 | G18: 0 | H18: 154950 | I18: =+D18-H18 -> 217440.6
C19: Մինչև 2 տարեկան երեխայի խնամքի նպաստի տրամադրում
C20: Միջոցառման նկարագրությունը`
C21: Մինչև 2 տարեկան երեխայի խնամքի նպաստի տրամադրում
C22: Միջոցառման տեսակը
C23: Տրանսֆերտների տրամադրում
B24: 12004 | C24: Միջոցառման անվանումը` | D24: 155848.8 | E24: =SUM(D24) -> 155848.8 | F24: 0 | G24: 0
C25: Դրամական աջակցություն ընտանիքում 3 և ավելի երեխա ունեցող ընտանիքներին
C26: Միջոցառման նկարագրությունը`
C27: Ընտանիքում 3-րդ և յուրաքանչյուր հաջորդ երեխայի ծնվելու կապակցությամբ նոր ծնված երեխային նշանակել և վճարել դրամական աջակցություն՛ ամսական 50000 դրամի չափով, մինչև երեխայի 6 տարեկանը լրանալը
C28: Միջոցառման տեսակը
C29: Տրանսֆերտների տրամադրում
A30: 1102 | C30: Ծրագրի անվանումը` | D30: =+D37+D43 -> -528239.4 | E30: =+E37+E43 -> -528239.4 | F30: =+F37+F43 -> 0 | G30: =+G37+G43 -> 0
C31: Կենսաթոշակային ապահովություն
C32: Ծրագրի նպատակը`
C33: Կենսաթոշակի իրավունքի իրացում
C34: Վերջնական արդյունքի նկարագրությունը`
C35: Կենսաթոշակների նշանակման և վճարման գործընթացի ապահովում
A36: Ծրագրի միջոցառումներ
B37: 12003 | C37: Միջոցառման անվանումը` | D37: =-+(D18+D24+D43) -> -549279.4 | E37: =SUM(D37) -> -549279.4 | F37: 0 | G37: 0
C38: Աշխատանքային կենսաթոշակներ
C39: Միջոցառման նկարագրությունը`
C40: Աշխատանքային կենսաթոշակների (տարիքային, հաշմանդամության, արտոնյալ պայմաններով, երկարամյա ծառայության, մասնակի, կերակրողին կորցնելու դեպքում կենսաթոշակների) տրամադրում
C41: Միջոցառման տեսակը
...

Sheet 2
J1: Հավելված N 2
J2: ՀՀ կառավարության 2023 թվականի
J3: -----------------ի N -----------Ն որոշման
A5: ՀԱՅԱՍՏԱՆԻ ՀԱՆՐԱՊԵՏՈՒԹՅԱՆ ԿԱՌԱՎԱՐՈՒԹՅԱՆ 2022 ԹՎԱԿԱՆԻ ԴԵԿՏԵՄԲԵՐԻ 29-Ի N 2111-Ն ՈՐՈՇՄԱՆ N 3 ԵՎ N 4 ՀԱՎԵԼՎԱԾՆԵՐՈՒՄ ԿԱՏԱՐՎՈՂ ՓՈՓՈԽՈՒԹՅՈՒՆՆԵՐԸ
J6: (հազար դրամ)
A7: Գործառական դասիչը | D7: Ծրագրային դասիչը | F7: Բյուջետային ծախսերի գործառական դասակարգման բաժինների, խմբերի և դասերի, բյուջետային ծրագրերի միջոցառումների, բյուջետային հատկացումների գլխավոր կարգադրիչների անվանումները | G7: Ցուցանիշների փոփոխությունները ավելացումները նշված են դրական նշանով, իսկ նվազեցումը՝ փակագծերում
A8: Բաժինը | B8: Խումբը | C8: Դասը | D8: Ծրագիր | E8: Միջոցառում | G8: առաջին եռամսյակ | H8: առաջին կիսամյակ | I8: 9 ամիս | J8: Տարի
F9: ԸՆԴԱՄԵՆԸ ԾԱԽՍԵՐ | G9: =G11 -> 0 | H9: =H11 -> 0 | I9: =I11 -> 0 | J9: =J11 -> 0
F10: այդ թվում`
A11: 10 | F11: ՍՈՑԻԱԼԱԿԱՆ ՊԱՇՏՊԱՆՈՒԹՅՈՒՆ | G11: =G13+G37 -> 0 | H11: =H13+H37 -> 0 | I11: =I13+I37 -> 0 | J11: =J13+J37 -> 0
F12: այդ թվում`
B13: 02 | F13: Ծերություն | G13: =G15 -> -528239.4 | H13: =H15 -> -528239.4 | I13: =I15 -> 0 | J13: =J15 -> 0
F14: այդ թվում`
C15: 01 | F15: Ծերություն | G15: =+G17 -> -528239.4 | H15: =+H17 -> -528239.4 | I15: =+I17 -> 0 | J15: =+J17 -> 0
F16: այդ թվում`
D17: 1102 | F17: Կենսաթոշակային ապահովություն | G17: =+G27+G36 -> -528239.4 | H17: =+H27+H36 -> -528239.4 | I17: =+I27+I36 -> 0 | J17: =+J27+J36 -> 0
F18: այդ թվում`
E19: 12003 | F19: Աշխատանքային կենսաթոշակներ | G19: =+G21 -> -549279.4 | H19: =+H21 -> -549279.4 | I19: =+I21 -> 0 | J19: =+J21 -> 0 | K19: =+G19-'[1]1'!$D$43 -> 285662
F20: այդ թվում` ըստ կատարողների
F21: ՀՀ աշխատանքի և սոցիալական հարցերի նախարարության միասնական սոցիալական ծառայություն | G21: =+G23 -> -549279.4 | H21: =+H23 -> -549279.4 | I21: =+I23 -> 0 | J21: =+J23 -> 0
F22: այդ թվում` բյուջետային ծախսերի տնտեսագիտական դասակարգման հոդվածներ
F23: ԸՆԴԱՄԵՆԸ ԾԱԽՍԵՐ | G23: =+G24 -> -549279.4 | H23: =+H24 -> -549279.4 | I23: =+I24 -> 0 | J23: =+J24 -> 0
F24: ԸՆԹԱՑԻԿ ԾԱԽՍԵՐ | G24: =+G25 -> -549279.4 | H24: =+H25 -> -549279.4 | I24: =+I25 -> 0 | J24: =+J25 -> 0
F25: ՍՈՑԻԱԼԱԿԱՆ ՆՊԱՍՏՆԵՐ ԵՎ ԿԵՆՍԱԹՈՇԱԿՆԵՐ | G25: =+G26 -> -549279.4 | H25: =+H26 -> -549279.4 | I25: =+I26 -> 0 | J25: =+J26 -> 0
F26: Կենսաթոշակներ | G26: =G27 -> -549279.4 | H26: =H27 -> -549279.4 | I26: =I27 -> 0 | J26: =J27 -> 0
F27: - Կենսաթոշակներ | G27: ='1'!D37 -> -549279.4 | H27: ='1'!E37 -> -549279.4 | I27: ='1'!F37 -> 0 | J27: ='1'!G37 -> 0
E28: 12004 | F28: ՀՀ օրենքով նշանակված կենսաթոշակներ | G28: =+G30 -> 21040 | H28: =+H30 -> 21040 | I28: =+I30 -> 0 | J28: =+J30 -> 0
F29: այդ թվում` ըստ կատարողների
F30: ՀՀ աշխատանքի և սոցիալական հարցերի նախարարության միասնական սոցիալական ծառայություն | G30: =+G32 -> 21040 | H30: =+H32 -> 21040 | I30: =+I32 -> 0 | J30: =+J32 -> 0
F31: այդ թվում` բյուջետային ծախսերի տնտեսագիտական դասակարգման հոդվածներ
F32: ԸՆԴԱՄԵՆԸ ԾԱԽՍԵՐ | G32: =+G33 -> 21040 | H32: =+H33 -> 21040 | I32: =+I33 -> 0 | J32: =+J33 -> 0
F33: ԸՆԹԱՑԻԿ ԾԱԽՍԵՐ | G33: =+G34 -> 21040 | H33: =+H34 -> 21040 | I33: =+I34 -> 0 | J33: =+J34 -> 0
F34: ՍՈՑԻԱԼԱԿԱՆ ՆՊԱՍՏՆԵՐ ԵՎ ԿԵՆՍԱԹՈՇԱԿՆԵՐ | G34: =+G35 -> 21040 | H34: =+H35 -> 21040 | I34: =+I35 -> 0 | J34: =+J35 -> 0
F35: Կենսաթոշակներ | G35: =G36 -> 21040 | H35: =H36 -> 21040 | I35: =I36 -> 0 | J35: =J36 -> 0
F36: - Կենսաթոշակներ | G36: ='1'!D43 -> 21040 | H36: ='1'!E43 -> 21040 | I36: ='1'!F43 -> 0 | J36: ='1'!G46 -> 0
B37: 04 | F37: Ընտանիքի անդամներ և զավակներ | G37: =+G39 -> 528239.4 | H37: =+H39 -> 528239.4 | I37: =+I39 -> 0 | J37: =+J39 -> 0
F38: այդ թվում`
C39: 01 | F39: Ընտանիքի անդամներ և զավակներ | G39: =G41 -> 528239.4 | H39: =H41 -> 528239.4 | I39: =I41 -> 0 | J39: =J41 -> 0
F40: այդ թվում`
D41: 1068 | F41: Ժողովրդագրական վիճակի բարելավում | G41: =G43+G60 -> 528239.4 | H41: =H43+H60 -> 528239.4 | I41: =I43+I60 -> 0 | J41: =J43+J60 -> 0
...

Sheet 3
F1: Հավելված N 3
F2: ՀՀ կառավարության 2023 թվականի
F3: -----------------ի N -----------Ն որոշման
A4: ՀԱՅԱՍՏԱՆԻ ՀԱՆՐԱՊԵՏՈՒԹՅԱՆ ԿԱՌԱՎԱՐՈՒԹՅԱՆ 2020 ԹՎԱԿԱՆԻ ԴԵԿՏԵՄԲԵՐԻ 30-Ի N 2215-Ն ՈՐՈՇՄԱՆ N 9 ՀԱՎԵԼՎԱԾԻ N 9.1.20 ԱՂՅՈՒՍԱԿՈՒՄ ԿԱՏԱՐՎՈՂ ՓՈՓՈԽՈՒԹՅՈՒՆՆԵՐԸ
A5: ՀԱՅԱՍՏԱՆԻ ՀԱՆՐԱՊԵՏՈՒԹՅԱՆ ԿԱՌԱՎԱՐՈՒԹՅԱՆ 2022 ԹՎԱԿԱՆԻ ԴԵԿՏԵՄԲԵՐԻ 29-Ի N 2111-Ն ՈՐՈՇՄԱՆ N 9 ՀԱՎԵԼՎԱԾԻ N 9.15 ԱՂՅՈՒՍԱԿՈՒՄ ԿԱՏԱՐՎՈՂ ՓՈՓՈԽՈՒԹՅՈՒՆՆԵՐԸ
A6: Հայաստանի Հանրապետության աշխատանքի և սոցիալական հարցերի նախարարություն
A7: ՄԱՍ 2. ՊԵՏԱԿԱՆ ՄԱՐՄՆԻ ԳԾՈՎ ԱՐԴՅՈՒՆՔԱՅԻՆ (ԿԱՏԱՐՈՂԱԿԱՆ) ՑՈՒՑԱՆԻՇՆԵՐԸ
A9: Ծրագրի դասիչը | B9: Ծրագրի անվանումը
A10: 1068 | B10: Ժողովրդագրական վիճակի բարելավում
A12: Ծրագրի դասիչը` | B12: 1068 | C12: Ցուցանիշների փոփոխությունները (ավելացումները նշված են դրական նշանով)
A13: Միջոցառման դասիչը` | B13: 12001 | C13: առաջին եռամսյակ | D13: առաջին կիսամյակ | E13: 9 ամիս | F13: Տարի
A14: Միջոցառման անվանումը` | B14: Մինչև 2 տարեկան երեխայի խնամքի նպաստի տրամադրում
A15: Նկարագրությունը` | B15: Մինչև 2 տարեկան երեխայի խնամքի նպաստի տրամադրում
A16: Միջոցառման տեսակը` | B16: Տրանսֆերտների տրամադրում
A17: Շահառուների ընտրության չափանիշները | B17: Մինչև երեք տարեկան երեխայի խնամքի արձակուրդում գտնվող անձը` մինչև երեխայի 2 տարեկանը լրանալը,
A18: Արդյունքի չափորոշիչներ
A19: Մինչև 2 տարեկան երեխայի խնամքի նպաստ ստացող քաղաքացիների թիվ, մարդ | C19: =SUM(C20/G19/3)*1000 -> 3419.5647 | D19: =SUM(D20/G19/3)*1000 -> 3419.5647 | E19: =SUM(E20/G19/3)*1000 -> 0 | F19: =SUM(F20/G19/3)*1000 -> 0 | G19: 36300
A20: Միջոցառման վրա կատարվող ծախսը (հազար դրամ) | C20: ='1'!D18 -> 372390.6 | D20: ='1'!E18 -> 372390.6 | E20: ='1'!F18 -> 0 | F20: ='1'!G18 -> 0 | G20: .
A23: Ծրագրի դասիչը` | B23: 1068 | C23: Ցուցանիշների փոփոխությունները (ավելացումները նշված են դրական նշանով)
A24: Միջոցառման դասիչը` | B24: 12004 | C24: առաջին եռամսյակ | D24: առաջին կիսամյակ | E24: 9 ամիս | F24: Տարի
A25: Միջոցառման անվանումը` | B25: Դրամական աջակցություն ընտանիքում 3 և ավելի երեխա ունեցող ընտանիքներին
A26: Նկարագրությունը` | B26: Ընտանիքում 3-րդ և յուրաքանչյուր հաջորդ երեխայի ծնվելու կապակցությամբ նոր ծնված երեխային նշանակել և վճարել դրամական աջակցություն՛ ամսական 50000 դրամի չափով, մինչև երեխայի 6 տարեկանը լրանալը
A27: Միջոցառման տեսակը` | B27: Տրանսֆերտների տրամադրում
A28: Շահառուների ընտրության չափանիշները | B28: 3 և ավելի երեխաներ ունեցող ընտանիքներ, որոնք կդիմեն 2022թ հունվարի 1-ից հետո ընտանիքում ծնված երեխայի համար դրամական աջակցություն ստանալու համար
A29: Արդյունքի չափորոշիչներ
A30: Շահառուների թվաքանակ, ընտանիք (յուրաքանչյուր երեխայի համար դիմած) | C30: =SUM(C31/G30/3)*1000 -> 1038.992 | D30: =SUM(D31/G30/3)*1000 -> 1038.992 | E30: =SUM(E31/G30/3)*1000 -> 0 | F30: =SUM(F31/G30/3)*1000 -> 0 | G30: 50000 | H30: =+C31/50000/3 -> 1.038992
A31: Միջոցառման վրա կատարվող ծախսը (հազար դրամ) | C31: ='1'!D24 -> 155848.8 | D31: ='1'!E24 -> 155848.8 | E31: ='1'!F24 -> 0 | F31: ='1'!G35 -> 0
A33: Ծրագրի դասիչը | B33: Ծրագրի անվանումը
A34: 1102 | B34: Կենսաթոշակային ապահովություն
A35: Ծրագրի միջոցառումները
A38: Ծրագրի դասիչը` | B38: 1102 | C38: Ցուցանիշների փոփոխությունները նվազեցումները նշված են փակագծերում
A39: Միջոցառման դասիչը` | B39: 12003 | C39: առաջին եռամսյակ | D39: առաջին կիսամյակ | E39: 9 ամիս | F39: Տարի
A40: Միջոցառման անվանումը` | B40: Աշխատանքային կենսաթոշակներ
A41: Նկարագրությունը` | B41: Աշխատանքային կենսաթոշակների (տարիքային, հաշմանդամության, արտոնյալ պայմաններով, երկարամյա ծառայության, մասնակի, կերակրողին կորցնելու դեպքում կենսաթոշակների) տրամադրում
A42: Միջոցառման տեսակը` | B42: Տրանսֆերտների տրամադրում
A43: Շահառուների ընտրության չափանիշները | B43: Տարիքային աշխատանքային` առնվազն 10 տարվա աշխատանքային ստաժ, հաշմանդամության աշխատանքային` ըստ սանդղակի աշխատանքային ստաժ, արտոնյալ, մասնակի երկարամյա ծառայության` պահանջվող մասնագիտությամբ աշխատանքային ստաժ
A44: Արդյունքի չափորոշիչներ
A45: Կենսաթոշակառուների թիվ, մարդ, | F45: =F46/G45/12*1000 -> 0 | G45: 48123
A46: Միջոցառման վրա կատարվող ծախսը (հազար դրամ) | C46: ='1'!D37 -> -549279.4 | D46: ='1'!E37 -> -549279.4 | E46: ='1'!F37 -> 0 | F46: 0
A48: Ծրագրի դասիչը` | B48: 1102 | C48: Ցուցանիշների փոփոխությունները (ավելացումները նշված են դրական նշանով)
...

Sheet 4
F1: Հավելված N 4
F2: ՀՀ կառավարության 2023 թվականի
F3: -----------------ի N -----------Ն որոշման
A4: ՀԱՅԱՍՏԱՆԻ ՀԱՆՐԱՊԵՏՈՒԹՅԱՆ ԿԱՌԱՎԱՐՈՒԹՅԱՆ 2022 ԹՎԱԿԱՆԻ ԴԵԿՏԵՄԲԵՐԻ 29-Ի N 2111-Ն N 9.1 ՀԱՎԵԼՎԱԾԻ N 9.1.19 ԱՂՅՈՒՍԱԿՈՒՄ ԿԱՏԱՐՎՈՂ ՓՈՓՈԽՈՒԹՅՈՒՆՆԵՐԸ
A5: ՀՀ աշխատանքի և սոցիալական հարցերի նախարարության միասնական սոցիալական ծառայություն
A7: ՄԱՍ 1. ՊԵՏԱԿԱՆ ՄԱՐՄՆԻ ԳԾՈՎ ԱՐԴՅՈՒՆՔԱՅԻՆ (ԿԱՏԱՐՈՂԱԿԱՆ) ՑՈՒՑԱՆԻՇՆԵՐԸ
A9: Ծրագրի դասիչը | B9: Ծրագրի անվանումը
A10: 1068 | B10: Ժողովրդագրական վիճակի բարելավում
A12: Ծրագրի դասիչը` | B12: 1068 | C12: Ցուցանիշների փոփոխությունները (ավելացումները նշված են դրական նշանով)
A13: Միջոցառման դասիչը` | B13: 12001 | C13: առաջին եռամսյակ | D13: առաջին կիսամյակ | E13: 9 ամիս | F13: Տարի
A14: Միջոցառման անվանումը` | B14: Մինչև 2 տարեկան երեխայի խնամքի նպաստի տրամադրում
A15: Նկարագրությունը` | B15: Մինչև 2 տարեկան երեխայի խնամքի նպաստի տրամադրում
A16: Միջոցառման տեսակը` | B16: Տրանսֆերտների տրամադրում
A17: Շահառուների ընտրության չափանիշները | B17: Մինչև երեք տարեկան երեխայի խնամքի արձակուրդում գտնվող անձը` մինչև երեխայի 2 տարեկանը լրանալը,
A18: Արդյունքի չափորոշիչներ
A19: Մինչև 2 տարեկան երեխայի խնամքի նպաստ ստացող քաղաքացիների թիվ, մարդ | C19: =SUM(C20/G19/3)*1000 -> 3419.5647 | D19: =SUM(D20/G19/3)*1000 -> 3419.5647 | E19: =SUM(E20/G19/3)*1000 -> 0 | F19: =SUM(F20/G19/3)*1000 -> 0 | G19: 36300
A20: Միջոցառման վրա կատարվող ծախսը (հազար դրամ) | C20: ='1'!D18 -> 372390.6 | D20: ='1'!E18 -> 372390.6 | E20: ='1'!F18 -> 0 | F20: ='1'!G18 -> 0
A23: Ծրագրի դասիչը` | B23: 1068 | C23: Ցուցանիշների փոփոխությունները (ավելացումները նշված են դրական նշանով)
A24: Միջոցառման դասիչը` | B24: 12004 | C24: առաջին եռամսյակ | D24: առաջին կիսամյակ | E24: 9 ամիս | F24: Տարի
A25: Միջոցառման անվանումը` | B25: Դրամական աջակցություն ընտանիքում 3 և ավելի երեխա ունեցող ընտանիքներին
A26: Նկարագրությունը` | B26: Ընտանիքում 3-րդ և յուրաքանչյուր հաջորդ երեխայի ծնվելու կապակցությամբ նոր ծնված երեխային նշանակել և վճարել դրամական աջակցություն՛ ամսական 50000 դրամի չափով, մինչև երեխայի 6 տարեկանը լրանալը
A27: Միջոցառման տեսակը` | B27: Տրանսֆերտների տրամադրում
A28: Շահառուների ընտրության չափանիշները | B28: 3 և ավելի երեխաներ ունեցող ընտանիքներ, որոնք կդիմեն 2022թ հունվարի 1-ից հետո ընտանիքում ծնված երեխայի համար դրամական աջակցություն ստանալու համար
A29: Արդյունքի չափորոշիչներ
A30: Շահառուների թվաքանակ, ընտանիք (յուրաքանչյուր երեխայի համար դիմած) | C30: =SUM(C31/G30/3)*1000 -> 1038.992 | D30: =SUM(D31/G30/3)*1000 -> 1038.992 | E30: =SUM(E31/G30/3)*1000 -> 0 | F30: =SUM(F31/G30/3)*1000 -> 0 | G30: 50000
A31: Միջոցառման վրա կատարվող ծախսը (հազար դրամ) | C31: ='1'!D24 -> 155848.8 | D31: ='1'!E24 -> 155848.8 | E31: ='1'!F24 -> 0 | F31: ='1'!G35 -> 0
A33: Ծրագրի դասիչը | B33: Ծրագրի անվանումը
A34: 1102 | B34: Կենսաթոշակային ապահովություն
A35: Ծրագրի միջոցառումները
A38: Ծրագրի դասիչը` | B38: 1102 | C38: Ցուցանիշների փոփոխությունները նվազեցումները նշված են փակագծերում
A39: Միջոցառման դասիչը` | B39: 12003 | C39: առաջին եռամսյակ | D39: առաջին կիսամյակ | E39: 9 ամիս | F39: Տարի
A40: Միջոցառման անվանումը` | B40: Աշխատանքային կենսաթոշակներ
A41: Նկարագրությունը` | B41: Աշխատանքային կենսաթոշակների (տարիքային, հաշմանդամության, արտոնյալ պայմաններով, երկարամյա ծառայության, մասնակի, կերակրողին կորցնելու դեպքում կենսաթոշակների) տրամադրում
A42: Միջոցառման տեսակը` | B42: Տրանսֆերտների տրամադրում
A43: Շահառուների ընտրության չափանիշները | B43: Տարիքային աշխատանքային` առնվազն 10 տարվա աշխատանքային ստաժ, հաշմանդամության աշխատանքային` ըստ սանդղակի աշխատանքային ստաժ, արտոնյալ, մասնակի երկարամյա ծառայության` պահանջվող մասնագիտությամբ աշխատանքային ստաժ
A44: Արդյունքի չափորոշիչներ
A45: Կենսաթոշակառուների թիվ, մարդ, | F45: =F46/G45/12*1000 -> 0 | G45: 48123
A46: Միջոցառման վրա կատարվող ծախսը (հազար դրամ) | C46: ='1'!D37 -> -549279.4 | D46: ='1'!E37 -> -549279.4 | E46: ='1'!F37 -> 0 | F46: 0
A48: Ծրագրի դասիչը` | B48: 1102 | C48: Ցուցանիշների փոփոխությունները (ավելացումները նշված են դրական նշանով)
A49: Միջոցառման դասիչը` | B49: 12004 | C49: առաջին եռամսյակ | D49: առաջին կիսամյակ | E49: 9 ամիս | F49: Տարի
...
