Workbook

Sheet Հավելված 1
G1: Հավելված N 1
A2: «ՀԱՅԱՍՏԱՆԻ ՀԱՆՐԱՊԵՏՈՒԹՅԱՆ 2023 ԹՎԱԿԱՆԻ ՊԵՏԱԿԱՆ ԲՅՈՒՋԵԻ ՄԱՍԻՆ» ՀԱՅԱՍՏԱՆԻ ՀԱՆՐԱՊԵՏՈՒԹՅԱՆ ՕՐԵՆՔԻ N 1 ՀԱՎԵԼՎԱԾԻ N 2 ԱՂՅՈՒՍԱԿՈՒՄ ԿԱՏԱՐՎՈՂ ՎԵՐԱԲԱՇԽՈՒՄԸ ԵՎ ՀԱՅԱՍՏԱՆԻ ՀԱՆՐԱՊԵՏՈՒԹՅԱՆ ԿԱՌԱՎԱՐՈՒԹՅԱՆ 2022 ԹՎԱԿԱՆԻ ԴԵԿՏԵՄԲԵՐԻ 29-Ի N 2111-Ն ՈՐՈՇՄԱՆ N 5 ՀԱՎԵԼՎԱԾԻ N 1 ԱՂՅՈՒՍԱԿՈՒՄ ԿԱՏԱՐՎՈՂ ՓՈՓՈԽՈՒԹՅՈՒՆՆԵՐԸ
G3: հազ. դրամներով
A4: Ծրագրային դասիչը | C4: Բյուջետային հատկացումների գլխավոր կարգադրիչների, ծրագրերի և միջոցառումների անվանումները | D4: Ցուցանիշների փոփոխությունը (ավելացումները նշված են դրական նշանով, իսկ նվազեցումները՝ փակագծերում)
A5: Ծրագիր | B5: Միջոցառում | D5: Առաջին եռամսյակ | E5: Առաջին կիսամյակ | F5: Ինն ամիս | G5: Տարի
C6: ԸՆԴԱՄԵՆԸ | D6: =D7+D33 -> 0 | E6: =E7+E33 -> 0 | F6: =F7+F33 -> 0 | G6: =G7+G33 -> 0
C7: ՀՀ պետական եկամուտների կոմիտե | D7: =D8 -> 0 | E7: =E8 -> 313811.5 | F7: =F8 -> 313811.5 | G7: =G8 -> 313811.5
A8: 1023 | C8: Ծրագրի անվանումը՝ | D8: =D15+D21+D27 -> 0 | E8: =E15+E21+E27 -> 313811.5 | F8: =F15+F21+F27 -> 313811.5 | G8: =G15+G21+G27 -> 313811.5
C9: Հարկային և մաքսային ծառայություններ
C10: Ծրագրի նպատակը՝
C11: Հարկային և մաքսային միասնական պետական քաղաքականության իրականացում, հարկային և մաքսային օրենսդրության ամբողջական և համահավասար կիրառում
C12: Վերջնական արդյունքի նկարագրությունը՝
C13: Արդյունավետ հարկային և մաքսային հսկողության իրականացում, պետական բյուջեի եկամուտների ապահովում
A14: Ծրագրի միջոցառումներ
B15: 11001 | C15: Միջոցառման անվանումը` | D15: ='Հավելված 3'!G17 -> 0 | E15: ='Հավելված 3'!H17 -> 0 | F15: ='Հավելված 3'!I17 -> 0 | G15: ='Հավելված 3'!J17 -> 0
C16: Հարկային և մաքսային ծառայություններ
C17: Միջոցառման նկարագրությունը`
C18: Հարկային և մաքսային քաղաքականության մշակման, պլանավորման, մոնիտորինգի, ծրագրերի համակարգման, գանձման, վերահսկողության և աջակցության ծառայություններ
C19: Միջոցառման տեսակը
C20: Ծառայությունների մատուցում
B21: 11002 | C21: Միջոցառման անվանումը` | D21: ='Հավելված 3'!G26 -> 0 | E21: ='Հավելված 3'!H26 -> 0 | F21: ='Հավելված 3'!I26 -> -100000 | G21: ='Հավելված 3'!J26 -> -311458.5
C22: Ակցիզային դրոշմանիշերի ձեռքբերում
C23: Միջոցառման նկարագրությունը`
C24: ՀՀ-ում արտադրվող և ներմուծվող ալկոհոլային խմիչքների, ծխախոտի արտադրանքի դրոշմավորման համար ակցիզային դրոշմանիշերի ձեռքբերում
C25: Միջոցառման տեսակը
C26: Ծառայությունների մատուցում
B27: 31001 | C27: Միջոցառման անվանումը՝ | D27: ='Հավելված 3'!G34 -> 0 | E27: ='Հավելված 3'!H34 -> 313811.5 | F27: ='Հավելված 3'!I34 -> 413811.5 | G27: ='Հավելված 3'!J34 -> 625270
C28: ՀՀ պետական եկամուտների կոմիտեի տեխնիկական հագեցվածության բարելավում
C29: Միջոցառման նկարագրությունը`
C30: ՀՀ պետական եկամուտների կոմիտեի տեխնիկական հագեցվածության բարելավում
C31: Միջոցառման տեսակը
C32: Պետական մարմինների կողմից օգտագործվող ոչ ֆինանսական ակտիվների հետ գործառնություններ
C33: ՀՀ կառավարություն | D33: =D34 -> 0 | E33: =E34 -> -313811.5 | F33: =F34 -> -313811.5 | G33: =G34 -> -313811.5
A34: 1139 | C34: Ծրագրի անվանումը` | D34: =D41 -> 0 | E34: =E41 -> -313811.5 | F34: =F41 -> -313811.5 | G34: =G41 -> -313811.5
C35: ՀՀ կառավարության պահուստային ֆոնդ
C36: Ծրագրի նպատակը`
C37: Պետական բյուջեում չկանխատեսված, ինչպես նաեւ բյուջետային երաշխիքների ապահովման ծախսերի ֆինանսավորման ապահովում
C38: Վերջնական արդյունքի նկարագրությունը`
C39: Պահուստային ֆոնդի կառավարման արդյունավետության և թափանցիկության ապահովում
A40: Ծրագրի միջոցառումներ
...

Sheet Հավելված 2
H1: Հավելված N 2
A2: «ՀԱՅԱՍՏԱՆԻ ՀԱՆՐԱՊԵՏՈՒԹՅԱՆ 2023 ԹՎԱԿԱՆԻ ՊԵՏԱԿԱՆ ԲՅՈՒՋԵԻ ՄԱՍԻՆ» ՀԱՅԱՍՏԱՆԻ ՀԱՆՐԱՊԵՏՈՒԹՅԱՆ ՕՐԵՆՔԻ N 1 ՀԱՎԵԼՎԱԾԻ N 3 ԱՂՅՈՒՍԱԿՈՒՄ ԿԱՏԱՐՎՈՂ ՓՈՓՈԽՈՒԹՅՈՒՆՆԵՐԸ
H3: հազ. դրամներով
A4: Ծրագրային դասիչ | C4: Բյուջետային գլխավոր կարգադրիչների, ծրագրերի, միջոցառումների և ուղղությունների անվանումները | D4: Ցուցանիշների փոփոխությունը (ավելացումները նշված են դրական նշանով, իսկ նվազեցումները՝ փակագծերում)
D5: Ընդամենը | E5: այդ թվում՝
E6: Կառուցման աշխատանքներ | F6: Վերակառուցման, վերանորոգման և վերականգնման աշխատանքներ | G6: Նախագծահետազոտական, գեոդեզա-քարտեզագրական աշխատանքներ | H6: Ոչ ֆինանսական այլ ակտիվների ձեռքբերում
A7: Ծրագիր | B7: Միջոցառում
C8: ԸՆԴԱՄԵՆԸ | D8: =D10+D13 -> 311458.5 | E8: =E10+E13 -> 0 | F8: =F10+F13 -> -313811.5 | G8: =G10+G13 -> 0 | H8: =H10+H13 -> 625270
C9: այդ թվում՝
C10: ՀՀ ՊԵՏԱԿԱՆ ԵԿԱՄՈՒՏՆԵՐԻ ԿՈՄԻՏԵ | D10: =D12 -> 625270 | E10: =E12 -> 0 | F10: =F12 -> 0 | G10: =G12 -> 0 | H10: =H12 -> 625270
C11: այդ թվում`
A12: 1023 | B12: 31001 | C12: ՀՀ պետական եկամուտների կոմիտեի տեխնիկական հագեցվածության բարելավում | D12: =E12+F12+G12+H12 -> 625270 | H12: ='Հավելված 3'!J44+'Հավելված 3'!J42 -> 625270
C13: ՀՀ ԿԱՌԱՎԱՐՈՒԹՅՈՒՆ | D13: =D15 -> -313811.5 | E13: =E15 -> 0 | F13: =F15 -> -313811.5 | G13: =G15 -> 0 | H13: =H15 -> 0
C14: այդ թվում`
A15: 1139 | B15: 11001 | C15: ՀՀ կառավարության պահուստային ֆոնդ | D15: =SUM(E15:H15) -> -313811.5 | F15: ='Հավելված 3'!J52 -> -313811.5

Sheet Հավելված 3
J1: Հավելված N 3
A2: ՀԱՅԱՍՏԱՆԻ ՀԱՆՐԱՊԵՏՈՒԹՅԱՆ ԿԱՌԱՎԱՐՈՒԹՅԱՆ 2022 ԹՎԱԿԱՆԻ ԴԵԿՏԵՄԲԵՐԻ 29-Ի N 2111-Ն ՈՐՈՇՄԱՆ NN 3 ԵՎ 4 ՀԱՎԵԼՎԱԾՆԵՐԻ ԱՂՅՈՒՍԱԿՆԵՐՈՒՄ ԿԱՏԱՐՎՈՂ ՓՈՓՈԽՈՒԹՅՈՒՆՆԵՐԸ ԵՎ ԼՐԱՑՈՒՄՆԵՐԸ
J3: հազ. դրամներով
A4: Գործառնական դասիչը | D4: Ծրագրային դասիչը | F4: Բյուջետային ծախսերի գործառնական դասակարգման բաժինների, խմբերի և դասերի, բյուջետային ծրագրերի միջոցառումների, բյուջետային հատկացումների գլխավոր կարգադրիչների անվանումները | G4: Ցուցանիշների փոփոխությունը (ավելացումները նշված են դրական նշանով, իսկ նվազեցումները՝ փակագծերում)
A5: բաժին | B5: խումբ | C5: դաս | D5: ծրագիր | E5: միջոցառում | G5: Առաջին եռամսյակ | H5: Առաջին կիսամյակ | I5: Ինն ամիս | J5: Տարի
F6: ԸՆԴԱՄԵՆԸ ԾԱԽՍԵՐ | G6: =G8+G45 -> 0 | H6: =H8+H45 -> 0 | I6: =I8+I45 -> 0 | J6: =J8+J45 -> 0
F7: այդ թվում՝
A8: 01 | F8: ԸՆԴՀԱՆՈՒՐ ԲՆՈՒՅԹԻ ՀԱՆՐԱՅԻՆ ԾԱՌԱՅՈՒԹՅՈՒՆՆԵՐ | G8: =G10 -> 0 | H8: =H10 -> 313811.5 | I8: =I10 -> 313811.5 | J8: =J10 -> 313811.5
F9: այդ թվում՝
B10: 01 | F10: Օրենսդիր և գործադիր մարմիններ, պետական կառավարում, ֆինանսական և հարկաբյուջետային հարաբերություններ, արտաքին հարաբերություններ | G10: =G12 -> 0 | H10: =H12 -> 313811.5 | I10: =I12 -> 313811.5 | J10: =J12 -> 313811.5
F11: այդ թվում՝
C12: 02 | F12: Ֆինանսական և հարկաբյուջետային հարաբերություններ | G12: =G14 -> 0 | H12: =H14 -> 313811.5 | I12: =I14 -> 313811.5 | J12: =J14 -> 313811.5
F13: այդ թվում՝
F14: ՀՀ պետական եկամուտների կոմիտե | G14: =G15 -> 0 | H14: =H15 -> 313811.5 | I14: =I15 -> 313811.5 | J14: =J15 -> 313811.5
D15: 1023 | F15: Հարկային և մաքսային ծառայություններ | G15: =G17+G26+G34 -> 0 | H15: =H17+H26+H34 -> 313811.5 | I15: =I17+I26+I34 -> 313811.5 | J15: =J17+J26+J34 -> 313811.5
F16: այդ թվում՝
E17: 11001 | F17: Հարկային և մաքսային ծառայություններ | G17: =G19 -> 0 | H17: =H19 -> 0 | I17: =I19 -> 0 | J17: =J19 -> 0
F18: այդ թվում` ըստ կատարողների
F19: ՀՀ պետական եկամուտների կոմիտե | G19: =G21 -> 0 | H19: =H21 -> 0 | I19: =I21 -> 0 | J19: =J21 -> 0
F20: այդ թվում` բյուջետային ծախսերի տնտեսագիտական դասակարգման հոդվածներ
F21: ԸՆԴԱՄԵՆԸ ԾԱԽՍԵՐ | G21: =G22 -> 0 | H21: =H22 -> 0 | I21: =I22 -> 0 | J21: =J22 -> 0
F22: ԸՆԹԱՑԻԿ ԾԱԽՍԵՐ | G22: =G23 -> 0 | H22: =H23 -> 0 | I22: =I23 -> 0 | J22: =J23 -> 0
F23: ԾԱՌԱՅՈՒԹՅՈՒՆՆԵՐԻ ԵՎ ԱՊՐԱՆՔՆԵՐԻ ՁԵՌՔԲԵՐՈՒՄ | G23: =G24 -> 0 | H23: =H24 -> 0 | I23: =I24 -> 0 | J23: =J24 -> 0
F24: Պայմանագրային այլ ծառայությունների ձեռքբերում | G24: =G25 -> 0 | H24: =H25 -> 0 | I24: =I25 -> 0 | J24: =J25 -> 0
F25: - Ներկայացուցչական ծախսեր | G25: 0 | H25: 0 | I25: 0 | J25: 0
E26: 11002 | F26: Ակցիզային դրոշմանիշերի ձեռքբերում | G26: =G28 -> 0 | H26: =H28 -> 0 | I26: =I28 -> -100000 | J26: =J28 -> -311458.5
F27: այդ թվում` ըստ կատարողների
F28: ՀՀ պետական եկամուտների կոմիտե | G28: =G30 -> 0 | H28: =H30 -> 0 | I28: =I30 -> -100000 | J28: =J30 -> -311458.5
F29: այդ թվում` բյուջետային ծախսերի տնտեսագիտական դասակարգման հոդվածներ
F30: ԸՆԴԱՄԵՆԸ ԾԱԽՍԵՐ | G30: =G31 -> 0 | H30: =H31 -> 0 | I30: =I31 -> -100000 | J30: =J31 -> -311458.5
F31: ԸՆԹԱՑԻԿ ԾԱԽՍԵՐ | G31: =G32 -> 0 | H31: =H32 -> 0 | I31: =I32 -> -100000 | J31: =J32 -> -311458.5
F32: ԱՅԼ ԾԱԽՍԵՐ | G32: =G33 -> 0 | H32: =H33 -> 0 | I32: =I33 -> -100000 | J32: =J33 -> -311458.5
F33: Այլ ծախսեր | I33: -100000 | J33: =-285270+40000-66188.5 -> -311458.5
E34: 31001 | F34: ՀՀ պետական եկամուտների կոմիտեի տեխնիկական հագեցվածության բարելավում | G34: =G36 -> 0 | H34: =H36 -> 313811.5 | I34: =I36 -> 413811.5 | J34: =J36 -> 625270
F35: այդ թվում` ըստ կատարողների
F36: ՀՀ պետական եկամուտների կոմիտե | G36: =G38 -> 0 | H36: =H38 -> 313811.5 | I36: =I38 -> 413811.5 | J36: =J38 -> 625270
F37: այդ թվում` բյուջետային ծախսերի տնտեսագիտական դասակարգման հոդվածներ
F38: ԸՆԴԱՄԵՆԸ ԾԱԽՍԵՐ | G38: =G39 -> 0 | H38: =H39 -> 313811.5 | I38: =I39 -> 413811.5 | J38: =J39 -> 625270
F39: ՈՉ ՖԻՆԱՆՍԱԿԱՆ ԱԿՏԻՎՆԵՐԻ ԳԾՈՎ ԾԱԽՍԵՐ | G39: =G40 -> 0 | H39: =H40 -> 313811.5 | I39: =I40 -> 413811.5 | J39: =J40 -> 625270
F40: ՀԻՄՆԱԿԱՆ ՄԻՋՈՑՆԵՐ | G40: =G41+G43 -> 0 | H40: =H41+H43 -> 313811.5 | I40: =I41+I43 -> 413811.5 | J40: =J41+J43 -> 625270
...

Sheet Հավելված 4
G1: Հավելված N 4
A2: ՀԱՅԱՍՏԱՆԻ ՀԱՆՐԱՊԵՏՈՒԹՅԱՆ ԿԱՌԱՎԱՐՈՒԹՅԱՆ 2022 ԹՎԱԿԱՆԻ ԴԵԿՏԵՄԲԵՐԻ 29-Ի N 2111-Ն ՈՐՈՇՄԱՆ N 5 ՀԱՎԵԼՎԱԾԻ N 2 ԱՂՅՈՒՍԱԿՈՒՄ ԿԱՏԱՐՎՈՂ ՓՈՓՈԽՈՒԹՅՈՒՆՆԵՐԸ
G3: հազ. դրամներով
A4: Ծրագրային դասիչը | C4: Բյուջետային գլխավոր կարգադրիչների, ծրագրերի, միջոցառումների, միջոցառումները կատարող պետական մարմինների և ուղղությունների անվանումները | D4: Ցուցանիշների փոփոխությունը (ավելացումները նշված են դրական նշանով, իսկ նվազեցումները՝ փակագծերում)
A5: Ծրագիրը | B5: Միջոցառումը | D5: Առաջին եռամսյակ | E5: Առաջին կիսամյակ | F5: Ինն ամիս | G5: Տարի
C6: ԸՆԴԱՄԵՆԸ | D6: =D8+D13 -> 0 | E6: =E8+E13 -> 0 | F6: =F8+F13 -> 100000 | G6: =G8+G13 -> 311458.5
C7: այդ թվում՝
C8: ՀՀ ՊԵՏԱԿԱՆ ԵԿԱՄՈՒՏՆԵՐԻ ԿՈՄԻՏԵ | D8: =D10 -> 0 | E8: =E10 -> 313811.5 | F8: =F10 -> 413811.5 | G8: =G10 -> 625270
C9: այդ թվում`
A10: 1023 | B10: 31001 | C10: ՀՀ պետական եկամուտների կոմիտեի տեխնիկական հագեցվածության բարելավում | D10: =D12 -> 0 | E10: =E12 -> 313811.5 | F10: =F12 -> 413811.5 | G10: =G12 -> 625270
C11: այդ թվում` ըստ կատարողների
C12: ՀՀ պետական եկամուտների կոմիտե | D12: ='Հավելված 3'!G34 -> 0 | E12: ='Հավելված 3'!H34 -> 313811.5 | F12: ='Հավելված 3'!I34 -> 413811.5 | G12: ='Հավելված 3'!J34 -> 625270
C13: ՀՀ ԿԱՌԱՎԱՐՈՒԹՅՈՒՆ | D13: =D15 -> 0 | E13: =E15 -> -313811.5 | F13: =F15 -> -313811.5 | G13: =G15 -> -313811.5
C14: այդ թվում`
A15: 1139 | B15: 11001 | C15: ՀՀ կառավարության պահուստային ֆոնդ | D15: ='Հավելված 3'!G54 -> 0 | E15: ='Հավելված 3'!H54 -> -313811.5 | F15: ='Հավելված 3'!I54 -> -313811.5 | G15: ='Հավելված 3'!J54 -> -313811.5

Sheet Հավելված 5 աղյուսակներ 1,2
F1: Հավելված N 5
F2: Աղյուսակ N 1
A3: ՀԱՅԱՍՏԱՆԻ ՀԱՆՐԱՊԵՏՈՒԹՅԱՆ ԿԱՌԱՎԱՐՈՒԹՅԱՆ 2022 ԹՎԱԿԱՆԻ ԴԵԿՏԵՄԲԵՐԻ 29-Ի N 2111-Ն ՈՐՈՇՄԱՆ N 9 ՀԱՎԵԼՎԱԾԻ N 9.25 ԵՎ N 9.47 ԱՂՅՈՒՍԱԿՆԵՐՈՒՄ ԿԱՏԱՐՎՈՂ ՓՈՓՈԽՈՒԹՅՈՒՆՆԵՐԸ ԵՎ ԼՐԱՑՈՒՄՆԵՐԸ
A5: ՀՀ պետական եկամուտների կոմիտե
A7: ՄԱՍ 2. ՊԵՏԱԿԱՆ ՄԱՐՄՆԻ ԳԾՈՎ ԱՐԴՅՈՒՆՔԱՅԻՆ (ԿԱՏԱՐՈՂԱԿԱՆ) ՑՈՒՑԱՆԻՇՆԵՐԸ
A9: Ծրագրի դասիչը | B9: Ծրագրի անվանումը
A10: 1023 | B10: Հարկային և մաքսային ծառայություններ
A12: Ծրագրի միջոցառումները
A13: Ծրագրի դասիչը՝ | B13: 1023 | C13: Ցուցանիշների փոփոխությունը (ավելացումները նշված են դրական նշանով)
A14: Միջոցառման դասիչը՝ | B14: 11001 | C14: Առաջին եռամսյակ | D14: Առաջին կիսամյակ | E14: Ինն ամիս | F14: Տարի
A15: Միջոցառման անվանումը՝ | B15: Հարկային և մաքսային ծառայություններ
A16: Նկարագրությունը՝ | B16: Հարկային և մաքսային քաղաքականության մշակման, պլանավորման, մոնիտորինգի, ծրագրերի համակարգման, գանձման, վերահսկողության և աջակցության ծառայություններ
A17: Միջոցառման տեսակը՝ | B17: Ծառայությունների մատուցում
A18: Ծառայությունը մատուցող կազմակերպության անվանումը | B18: ՀՀ պետական եկամուտների կոմիտե
A19: Արդյունքի չափորոշիչներ
A20: Միջոցառման վրա կատարվող ծախսը (հազար դրամ) | C20: ='Հավելված 3'!G17 -> 0 | D20: ='Հավելված 3'!H17 -> 0 | E20: ='Հավելված 3'!I17 -> 0 | F20: ='Հավելված 3'!J17 -> 0
A22: Ծրագրի դասիչը` | B22: 1023 | C22: Ցուցանիշների փոփոխությունը (նվազեցումները նշված են փակագծերում)
A23: Միջոցառման դասիչը` | B23: 11002 | C23: Առաջին եռամսյակ | D23: Առաջին կիսամյակ | E23: Ինն ամիս | F23: Տարի
A24: Միջոցառման անվանումը` | B24: Ակցիզային դրոշմանիշերի ձեռքբերում
A25: Նկարագրությունը` | B25: ՀՀ-ում արտադրվող և ներմուծվող ալկոհոլային խմիչքների, ծխախոտի արտադրանքի դրոշմավորման համար ակցիզային դրոշմանիշերի ձեռքբերում
A26: Միջոցառման տեսակը` | B26: Ծառայությունների մատուցում
A27: Ծառայությունը մատուցող կազմակերպության(ների) անվանում(ներ)ը` | B27: ՀՀ պետական եկամուտների կոմիտե
A28: Արդյունքի չափորոշիչներ
A29: Ալկոհոլային խմիչքների ակցիզային դրոշմանիշերի ձեռքբերումների քանակ (հազար հատ) | E29: -1600 | F29: -7500
A30: Ծխախոտի արտադրանքի դրոշմանիշերի ձեռքբերումների քանակ (հազար հատ) | E30: -23600 | F30: -67016.25
A31: Միջոցառման վրա կատարվող ծախսը (հազար դրամ) | C31: ='Հավելված 3'!G26 -> 0 | D31: ='Հավելված 3'!H26 -> 0 | E31: ='Հավելված 3'!I26 -> -100000 | F31: ='Հավելված 3'!J26 -> -311458.5
A33: Ծրագրի դասիչը` | B33: 1023 | C33: Ցուցանիշների փոփոխությունը (ավելացումները նշված են դրական նշանով)
A34: Միջոցառման դասիչը` | B34: 31001 | C34: Առաջին եռամսյակ | D34: Առաջին կիսամյակ | E34: Ինն ամիս | F34: Տարի
A35: Միջոցառման անվանումը` | B35: ՀՀ պետական եկամուտների կոմիտեի տեխնիկական հագեցվածության բարելավում
A36: Նկարագրությունը` | B36: ՀՀ պետական եկամուտների կոմիտեի տեխնիկական հագեցվածության բարելավում_x000D_
A37: Միջոցառման տեսակը` | B37: Պետական մարմինների կողմից օգտագործվող ոչ ֆինանսական ակտիվների հետ գործառնություններ
A38: Ակտիվն օգտագործող կազմակերպության անվանումը | B38: ՀՀ պետական եկամուտների կոմիտե
A39: Արդյունքի չափորոշիչներ
A40: Համակարգչային սարքավորումների քանակ, հատ | D40: 24 | E40: 24 | F40: 24
A41: Գրասենյակային գույքի միավոր քանակ, հատ | D41: 77 | E41: 77 | F41: 77
A42: Այլ սարքավորումների քանակ, հատ | D42: 29 | E42: 29 | F42: 29
A43: Էլեկտրոնային հաշվառման համակարգերի ներդրում, հատ | D43: 3 | E43: 6 | F43: 9
A44: Միջոցառման վրա կատարվող ծախսը (հազար դրամ) | C44: ='Հավելված 3'!G34 -> 0 | D44: ='Հավելված 3'!H34 -> 313811.5 | E44: ='Հավելված 3'!I34 -> 413811.5 | F44: ='Հավելված 3'!J34 -> 625270
A47: ՀՀ կառավարություն
A49: ՄԱՍ 2. ՊԵՏԱԿԱՆ ՄԱՐՄՆԻ ԳԾՈՎ ԱՐԴՅՈՒՆՔԱՅԻՆ (ԿԱՏԱՐՈՂԱԿԱՆ) ՑՈՒՑԱՆԻՇՆԵՐԸ
...

Sheet Հավելված 6
G1: Հավելված N 6
A2: ՀԱՅԱՍՏԱՆԻ ՀԱՆՐԱՊԵՏՈՒԹՅԱՆ ԿԱՌԱՎԱՐՈՒԹՅԱՆ 2022 ԹՎԱԿԱՆԻ ԴԵԿՏԵՄԲԵՐԻ 29-Ի N 2111-Ն ՈՐՈՇՄԱՆ N 10 ՀԱՎԵԼՎԱԾՈՒՄ ԿԱՏԱՐՎՈՂ ՓՈՓՈԽՈՒԹՅՈՒՆՆԵՐԸ ԵՎ ԼՐԱՑՈՒՄՆԵՐԸ
A4: Գնման առարկայի | E4: Ցուցանիշների փոփոխությունը (ավելացումները նշված են դրական նշանով)
A5: կոդը | B5: անվանումը | C5: գնման ձևը | D5: չափի միավորը | E5: միավորի գինը | F5: քանակը | G5: Գումարը (հազար դրամ)
A7: ՀՀ պետական եկամուտների կոմիտե | G7: =G8 -> 313811.49
A8: Բաժին N 01 | B8: Խումբ N 01 | C8: Դաս N 02 | D8: Ֆինանսական և հարկաբյուջետային հարաբերություններ | G8: =G9+G12+G16 -> 313811.49
A9: 1023 11001 | B9: Հարկային և մաքսային ծառայություններ | G9: =G10 -> 0
B10: ՄԱՍ III. ԾԱՌԱՅՈՒԹՅՈՒՆՆԵՐ | G10: =G11 -> 0
A11: 79111200-1 | B11: ներկայացուցչական ծառայություններ | C11: ՄԱ | D11: դրամ
A12: 1023 10002 | B12: Ակցիզային դրոշմանիշերի ձեռքբերում | G12: =G13 -> -311458.5
B13: ՄԱՍ III. ԾԱՌԱՅՈՒԹՅՈՒՆՆԵՐ | G13: =SUM(G14:G15) -> -311458.5
A14: 79821200-1 | B14: այլ պոլիգրաֆիական արտադրանքի տպագրման ծառայություն | C14: ԷԱՃ | D14: հատ | E14: 9.36 | F14: -7500000 | G14: =E14*F14/1000 -> -70200
A15: 79821200-2 | B15: այլ պոլիգրաֆիական արտադրանքի տպագրման ծառայություն | C15: ԷԱՃ | D15: հատ | E15: 3.6 | F15: -67016250 | G15: =E15*F15/1000 -> -241258.5
A16: 1023 31001 | B16: ՀՀ պետական եկամուտների կոմիտեի տեխնիկական հագեցվածության բարելավում | G16: =G17+G19 -> 625269.99
B17: ՄԱՍ I. ԱՊՐԱՆՔՆԵՐ | G17: =G18 -> 76800
A18: 30232480-502 | B18: տեղեկությունների պահպանման կրիչներ | C18: ԷԱՃ | D18: հատ | E18: 3200000 | F18: 24 | G18: =E18*F18/1000 -> 76800
B19: ՄԱՍ III. ԾԱՌԱՅՈՒԹՅՈՒՆՆԵՐ | G19: =SUM(G20:G28) -> 548469.99
A20: 72261110-512 | B20: ծրագրային ապահովման մշակման ծառայություններ | C20: ԳՀ | D20: դրամ | E20: 79000000 | F20: 1 | G20: =E20*F20/1000 -> 79000
A21: 72261110-504 | B21: ծրագրային ապահովման մշակման ծառայություններ | C21: ԲՄ | D21: դրամ | E21: 80000000 | F21: 1 | G21: =E21*F21/1000 -> 80000
A22: 72261110-516 | B22: ծրագրային ապահովման մշակման ծառայություններ | C22: ԲՄ | D22: դրամ | E22: 98400000 | F22: 1 | G22: =E22*F22/1000 -> 98400
A23: 72261110-515 | B23: ծրագրային ապահովման մշակման ծառայություններ | C23: ԳՀ | D23: դրամ | E23: 59970000 | F23: 1 | G23: =E23*F23/1000 -> 59970
A24: 72261110-513 | B24: ծրագրային ապահովման մշակման ծառայություններ | C24: ԳՀ | D24: դրամ | E24: 39900000 | F24: 1 | G24: =E24*F24/1000 -> 39900
A25: 72261110-514 | B25: ծրագրային ապահովման մշակման ծառայություններ | C25: ԳՀ | D25: դրամ | E25: 48999996 | F25: 1 | G25: =E25*F25/1000 -> 48999.996
A26: 72261110-517 | B26: ծրագրային ապահովման մշակման ծառայություններ | C26: ԲՄ | D26: դրամ | E26: 20000000 | F26: 1 | G26: =E26*F26/1000 -> 20000
A27: 72261110 | B27: ծրագրային ապահովման մշակման ծառայություններ | C27: ԳՀ | D27: դրամ | E27: 34200000 | F27: 1 | G27: =E27*F27/1000 -> 34200
A28: 72261110 | B28: ծրագրային ապահովման մշակման ծառայություններ | C28: ԲՄ | D28: դրամ | E28: 87999996 | F28: 1 | G28: =E28*F28/1000 -> 87999.996

Sheet Հավելված 7
I1: Հավելված N 7
A2: ՀԱՅԱՍՏԱՆԻ ՀԱՆՐԱՊԵՏՈՒԹՅԱՆ 2023 ԹՎԱԿԱՆԻ ՊԵՏԱԿԱՆ ԲՅՈՒՋԵՈՎ ՆԱԽԱՏԵՍՎԱԾ՝ ՀԱՅԱՍՏԱՆԻ ՀԱՆՐԱՊԵՏՈՒԹՅԱՆ ԿԱՌԱՎԱՐՈՒԹՅԱՆ ՊԱՀՈՒՍՏԱՅԻՆ ՖՈՆԴԻՑ ՀԱՏԿԱՑՈՒՄՆԵՐ ԿԱՏԱՐԵԼՈՒ ՎԵՐԱԲԵՐՅԱԼ
J4: հազ. դրամներով
A5: Գործառնական դասիչը | D5: Ծրագրային դասիչը | F5: Բյուջետային ծախսերի գործառնական դասակարգման բաժինների, խմբերի և դասերի, բյուջետային ծրագրերի միջոցառումների, բյուջետային հատկացումների գլխավոր կարգադրիչների անվանումները | G5: Ցուցանիշների փոփոխությունը (ավելացումները նշված են դրական նշանով, իսկ նվազեցումները՝ փակագծերում)
A6: բաժին | B6: խումբ | C6: դաս | D6: ծրագիր | E6: միջոցառում | G6: Առաջին եռամսյակ | H6: Առաջին կիսամյակ | I6: Ինն ամիս | J6: Տարի
F7: ԸՆԴԱՄԵՆԸ ԾԱԽՍԵՐ | G7: =G9+G38 -> 0 | H7: =H9+H38 -> 0 | I7: =I9+I38 -> 0 | J7: =J9+J38 -> 0
F8: այդ թվում՝
A9: 01 | F9: ԸՆԴՀԱՆՈՒՐ ԲՆՈՒՅԹԻ ՀԱՆՐԱՅԻՆ ԾԱՌԱՅՈՒԹՅՈՒՆՆԵՐ | G9: =G11 -> 0 | H9: =H11 -> 313811.5 | I9: =I11 -> 313811.5 | J9: =J11 -> 313811.5
F10: այդ թվում՝
B11: 01 | F11: Օրենսդիր և գործադիր մարմիններ, պետական կառավարում, ֆինանսական և հարկաբյուջետային հարաբերություններ, արտաքին հարաբերություններ | G11: =G13 -> 0 | H11: =H13 -> 313811.5 | I11: =I13 -> 313811.5 | J11: =J13 -> 313811.5
F12: այդ թվում՝
C13: 02 | F13: Ֆինանսական և հարկաբյուջետային հարաբերություններ | G13: =G15 -> 0 | H13: =H15 -> 313811.5 | I13: =I15 -> 313811.5 | J13: =J15 -> 313811.5
F14: այդ թվում՝
F15: ՀՀ պետական եկամուտների կոմիտե | G15: =G16 -> 0 | H15: =H16 -> 313811.5 | I15: =I16 -> 313811.5 | J15: =J16 -> 313811.5
D16: 1023 | F16: Հարկային և մաքսային ծառայություններ | G16: =G18+G27 -> 0 | H16: =H18+H27 -> 313811.5 | I16: =I18+I27 -> 313811.5 | J16: =J18+J27 -> 313811.5
F17: այդ թվում՝
E18: 11001 | F18: Հարկային և մաքսային ծառայություններ | G18: =G20 -> 0 | H18: =H20 -> 0 | I18: =I20 -> 0 | J18: =J20 -> 0
F19: այդ թվում` ըստ կատարողների
F20: ՀՀ պետական եկամուտների կոմիտե | G20: =G22 -> 0 | H20: =H22 -> 0 | I20: =I22 -> 0 | J20: =J22 -> 0
F21: այդ թվում` բյուջետային ծախսերի տնտեսագիտական դասակարգման հոդվածներ
F22: ԸՆԴԱՄԵՆԸ ԾԱԽՍԵՐ | G22: =G23 -> 0 | H22: =H23 -> 0 | I22: =I23 -> 0 | J22: =J23 -> 0
F23: ԸՆԹԱՑԻԿ ԾԱԽՍԵՐ | G23: =G24 -> 0 | H23: =H24 -> 0 | I23: =I24 -> 0 | J23: =J24 -> 0
F24: ԾԱՌԱՅՈՒԹՅՈՒՆՆԵՐԻ ԵՎ ԱՊՐԱՆՔՆԵՐԻ ՁԵՌՔԲԵՐՈՒՄ | G24: =G25 -> 0 | H24: =H25 -> 0 | I24: =I25 -> 0 | J24: =J25 -> 0
F25: Պայմանագրային այլ ծառայությունների ձեռքբերում | G25: =G26 -> 0 | H25: =H26 -> 0 | I25: =I26 -> 0 | J25: =J26 -> 0
F26: - Ներկայացուցչական ծախսեր | G26: 0 | H26: 0 | I26: 0 | J26: 0
E27: 31001 | F27: ՀՀ պետական եկամուտների կոմիտեի տեխնիկական հագեցվածության բարելավում | G27: =G29 -> 0 | H27: =H29 -> 313811.5 | I27: =I29 -> 313811.5 | J27: =J29 -> 313811.5
F28: այդ թվում` ըստ կատարողների
F29: ՀՀ պետական եկամուտների կոմիտե | G29: =G31 -> 0 | H29: =H31 -> 313811.5 | I29: =I31 -> 313811.5 | J29: =J31 -> 313811.5
F30: այդ թվում` բյուջետային ծախսերի տնտեսագիտական դասակարգման հոդվածներ
F31: ԸՆԴԱՄԵՆԸ ԾԱԽՍԵՐ | G31: =G32 -> 0 | H31: =H32 -> 313811.5 | I31: =I32 -> 313811.5 | J31: =J32 -> 313811.5
F32: ՈՉ ՖԻՆԱՆՍԱԿԱՆ ԱԿՏԻՎՆԵՐԻ ԳԾՈՎ ԾԱԽՍԵՐ | G32: =G33 -> 0 | H32: =H33 -> 313811.5 | I32: =I33 -> 313811.5 | J32: =J33 -> 313811.5
F33: ՀԻՄՆԱԿԱՆ ՄԻՋՈՑՆԵՐ | G33: =G34+G36 -> 0 | H33: =H34+H36 -> 313811.5 | I33: =I34+I36 -> 313811.5 | J33: =J34+J36 -> 313811.5
F34: ՄԵՔԵՆԱՆԵՐ ԵՎ ՍԱՐՔԱՎՈՐՈՒՄՆԵՐ | G34: =G35 -> 0 | H34: =H35 -> 76800 | I34: =I35 -> 76800 | J34: =J35 -> 76800
F35: - Վարչական սարքավորումներ | G35: 0 | H35: 76800 | I35: 76800 | J35: 76800
F36: ԱՅԼ ՀԻՄՆԱԿԱՆ ՄԻՋՈՑՆԵՐ | G36: =G37 -> 0 | H36: =H37 -> 237011.5 | I36: =I37 -> 237011.5 | J36: =J37 -> 237011.5
F37: - Ոչ նյութական հիմնական միջոցներ | G37: =-G54 -> 0 | H37: =261170-24158.5 -> 237011.5 | I37: =263200-26188.5 -> 237011.5 | J37: =263200+40000-66188.5 -> 237011.5
A38: 11 | F38: ՀԻՄՆԱԿԱՆ ԲԱԺԻՆՆԵՐԻՆ ՉԴԱՍՎՈՂ ՊԱՀՈՒՍՏԱՅԻՆ ՖՈՆԴԵՐ | G38: =G40 -> 0 | H38: =H40 -> -313811.5 | I38: =I40 -> -313811.5 | J38: =J40 -> -313811.5
F39: այդ թվում`
B40: 01 | F40: ՀՀ կառավարության և համայնքների պահուստային ֆոնդ | G40: =G42 -> 0 | H40: =H42 -> -313811.5 | I40: =I42 -> -313811.5 | J40: =J42 -> -313811.5
F41: այդ թվում`
...
