Workbook
Name AgencyCode: #REF!
Name AgencyName: #REF!
Name Functional1: #REF!
Name PANature: #REF!
Name PAType: #REF!
Name Performance2: #REF!
Name PerformanceType: #REF!

Sheet Հավելված1
G1: Հավելված N 1
G2: ՀՀ կառավարության 2023թվականի
G3: ___________ ___-ի N _______ որոշման
A5: «ՀԱՅԱUՏԱՆԻ ՀԱՆՐԱՊԵՏՈՒԹՅԱՆ 2023 ԹՎԱԿԱՆԻ ՊԵՏԱԿԱՆ ԲՅՈՒՋԵԻ ՄԱUԻՆ» ՀԱՅԱUՏԱՆԻ ՀԱՆՐԱՊԵՏՈՒԹՅԱՆ OՐԵՆՔԻ N 1 ՀԱՎԵԼՎԱԾԻ N 2 ԱՂՅՈՒՍԱԿՈՒՄ ԿԱՏԱՐՎՈՂ ՎԵՐԱԲԱՇԽՈՒՄԸ ԵՎ ՀԱՅԱՍՏԱՆԻ ՀԱՆՐԱՊԵՏՈՒԹՅԱՆ ԿԱՌԱՎԱՐՈՒԹՅԱՆ 2022 ԹՎԱԿԱՆԻ ԴԵԿՏԵՄԲԵՐԻ 29-Ի N 2111-Ն ՈՐՈՇՄԱՆ N5 ՀԱՎԵԼՎԱԾԻ N1 ԱՂՅՈՒՍԱԿՈՒՄ ԿԱՏԱՐՎՈՂ ՓՈՓՈԽՈՒԹՅՈՒՆՆԵՐԸ
G7: հազ. դրամներով
A8: Ծրագրային դասիչը | C8: Բյուջետային հատկացումների գլխավոր կարգադրիչների, ծրագրերի և միջոցառումների անվանումները | D8: Ցուցանիշների փոփոխությունը (ավելացումները նշված են դրական նշանով, նվազեցումները՝ փակագծերում)
A9: Ծրագիր | B9: Միջոցառում | D9: Առաջին եռամսյակ | E9: Առաջին կիսամյակ | F9: Ինն ամիս | G9: Տարի
B10: Ընդամենը
B11: ՀՀ արդարադատության նախարարություն | D11: =D12 -> 4450.3 | E11: =E12 -> 4450.3 | F11: =F12 -> 4450.3 | G11: =G12 -> 4450.3
A12: 1057 | C12: Ծրագրի անվանումը` | D12: =+D19 -> 4450.3 | E12: =+E19 -> 4450.3 | F12: =+F19 -> 4450.3 | G12: =+G19 -> 4450.3
C13: Արդարադատության ոլորտում քաղաքականության մշակում, ծրագրերի համակարգում, խորհրդատվության և մոնիտորինգի իրականացում
C14: Ծրագրի նպատակը`
C15: Արդարադատության ոլորտում քաղաքականության, խորհրդատվության, մոնիտորինգի, գնման և աջակցության իրականացում
C16: Վերջնական արդյունքի նկարագրությունը`
C17: Արդարադատության քաղաքականության իրագործմանն ուղղված ծրագրերի արդյունավետության բարելավում
C18: Ծրագրի միջոցառումներ
B19: 11001 | C19: Միջոցառման անվանումը` | D19: 4450.3 | E19: 4450.3 | F19: 4450.3 | G19: 4450.3
C20: Արդարադատության ոլորտում քաղաքականության, խորհրդատվության, մոնիտորինգի, գնման և աջակցության իրականացում
C21: Միջոցառման նկարագրությունը`
C22: Ոլորտի քաղաքականության, խորհրդատվության, մոնիտորինգի, արդարադատության ծրագրերի համակարգման ծառայություններ
C23: Միջոցառման տեսակը
C24: Ծառայությունների մատուցում
B25: ՀՀ կառավարություն | D25: =D26 -> -4450.3 | E25: =E26 -> -4450.3 | F25: =F26 -> -4450.3 | G25: =G26 -> -4450.3
A26: 1139 | C26: Ծրագրի անվանումը` | D26: =D33 -> -4450.3 | E26: =E33 -> -4450.3 | F26: =F33 -> -4450.3 | G26: =G33 -> -4450.3
C27: ՀՀ կառավարության պահուստային ֆոնդ
C28: Ծրագրի նպատակը`
C29: Պետական բյուջեում չկանխատեսված՝ ինչպես նաև բյուջետային երաշխիքների ապահովման ծախսերի ֆինանսավորման ապահովում
C30: Վերջնական արդյունքի նկարագրությունը`
C31: Պահուստային ֆոնդի կառավարման արդյունավետություն և թափանցիկության ապահովում
C32: Ծրագրի միջոցառումներ
B33: 11001 | C33: Միջոցառման անվանումը` | D33: -4450.3 | E33: -4450.3 | F33: -4450.3 | G33: -4450.3
C34: ՀՀ կառավարության պահուստային ֆոնդ
C35: Միջոցառման նկարագրությունը`
C36: ՀՀ պետական բյուջեում նախատեսված ելքերի լրացուցիչ ֆինանսավորման՝ պետական բյուջեում չկանխատեսված ելքերի՝ ինչպես նաև բյուջետային երաշխիքների ապահովման ելքերի ֆինանսավորման ապահովում
C37: Միջոցառման տեսակը
C38: Ծառայությունների մատուցում

Sheet Հավելված2
J1: Հավելված N 2
J2: ՀՀ կառավարության 2023թվականի
J3: ___________ ___-ի N _______ որոշման
A8: ՀԱՅԱՍՏԱՆԻ ՀԱՆՐԱՊԵՏՈՒԹՅԱՆ ԿԱՌԱՎԱՐՈՒԹՅԱՆ 2022 ԹՎԱԿԱՆԻ ԴԵԿՏԵՄԲԵՐԻ 29-Ի N 2111-Ն ՈՐՈՇՄԱՆ N3 ԵՎ N4 ՀԱՎԵԼՎԱԾՆԵՐՈՒՄ ԿԱՏԱՐՎՈՂ ՓՈՓՈԽՈՒԹՅՈՒՆՆԵՐԸ
J10: հազ. դրամներով
A11: Գործառական դասիչը | D11: Ծրագրային դասիչը | F11: Բյուջետային հատկացումների գլխավոր կարգադրիչների, ծրագրերի, միջոցառումների և միջոցառումները կատարող պետական մարմինների անվանումները | G11: Ցուցանիշների փոփոխությունը (ավելացումները նշված են դրական նշանով, նվազեցումները՝ փակագծերում)
A12: Բաժին | B12: Խումբ | C12: Դաս | D12: Ծրագիր | E12: Միջոցառում | G12: Առաջին եռամսյակ | H12: Առաջին կիսամյակ | I12: Ինն ամիս | J12: Տարի
F13: ԸՆԴԱՄԵՆԸ | G13: =G14+G33 -> 0 | H13: =H14+H33 -> 0 | I13: =I14+I33 -> 0 | J13: =J14+J33 -> 0
A14: 01 | F14: ԸՆԴՀԱՆՈՒՐ ԲՆՈՒՅԹԻ ՀԱՆՐԱՅԻՆ ԾԱՌԱՅՈՒԹՅՈՒՆՆԵՐ | G14: =G16 -> 4450.3 | H14: =H16 -> 4450.3 | I14: =I16 -> 4450.3 | J14: =J16 -> 4450.3
B15: 01 | F15: այդ թվում`
F16: Օրենսդիր և գործադիր մարմիններ, պետական կառավարում, ֆինանսական և հարկաբյուջետային հարաբերություններ, արտաքին հարաբերություններ | G16: =G22 -> 4450.3 | H16: =H22 -> 4450.3 | I16: =I22 -> 4450.3 | J16: =J22 -> 4450.3
F17: այդ թվում`
C18: 01 | F18: Օրենսդիր և գործադիր մարմիններ, պետական կառավարում | G18: =+G20 -> 4450.3 | H18: =+H20 -> 4450.3 | I18: =+I20 -> 4450.3 | J18: =+J20 -> 4450.3
F19: այդ թվում`
F20: ՀՀ արդարադատության նախարարություն | G20: =+G22 -> 4450.3 | H20: =+H22 -> 4450.3 | I20: =+I22 -> 4450.3 | J20: =+J22 -> 4450.3
F21: այդ թվում`
D22: 1057 | F22: Արդարադատության ոլորտում քաղաքականության, խորհրդատվության, մոնիտորինգի, գնման և աջակցության իրականացում | G22: =G24 -> 4450.3 | H22: =H24 -> 4450.3 | I22: =I24 -> 4450.3 | J22: =J24 -> 4450.3
F23: այդ թվում`
E24: 11001 | F24: Արդարադատության ոլորտում քաղաքականության, խորհրդատվության, մոնիտորինգի, գնման և աջակցության իրականացում | G24: =G26 -> 4450.3 | H24: =H26 -> 4450.3 | I24: =I26 -> 4450.3 | J24: =J26 -> 4450.3
F25: այդ թվում` ըստ կատարողների
F26: ՀՀ արդարադատության նախարարություն | G26: =G28 -> 4450.3 | H26: =H28 -> 4450.3 | I26: =I28 -> 4450.3 | J26: =J28 -> 4450.3
F27: այդ թվում` բյուջետային ծախսերի տնտեսագիտական դասակարգման հոդվածներ
F28: ԸՆԴԱՄԵՆԸ ԾԱԽՍԵՐ | G28: =G29 -> 4450.3 | H28: =H29 -> 4450.3 | I28: =I29 -> 4450.3 | J28: =J29 -> 4450.3
F29: ԸՆԹԱՑԻԿ ԾԱԽՍԵՐ | G29: =G30 -> 4450.3 | H29: =H30 -> 4450.3 | I29: =I30 -> 4450.3 | J29: =J30 -> 4450.3
F30: ԾԱՌԱՅՈՒԹՅՈՒՆՆԵՐԻ ԵՎ ԱՊՐԱՆՔՆԵՐԻ ՁԵՌՔԲԵՐՈՒՄ | G30: =SUM(G31) -> 4450.3 | H30: =SUM(H31) -> 4450.3 | I30: =SUM(I31) -> 4450.3 | J30: =SUM(J31) -> 4450.3
F31: Պայմանագրային այլ ծառայությունների ձեռքբերում | G31: =G32 -> 4450.3 | H31: =H32 -> 4450.3 | I31: =I32 -> 4450.3 | J31: =J32 -> 4450.3
F32: - Ներկայացուցչական ծախսեր | G32: 4450.3 | H32: 4450.3 | I32: 4450.3 | J32: 4450.3
A33: 11 | F33: ՀԻՄՆԱԿԱՆ ԲԱԺԻՆՆԵՐԻՆ ՉԴԱՍՎՈՂ ՊԱՀՈՒՍՏԱՅԻՆ ՖՈՆԴԵՐ | G33: =G35 -> -4450.3 | H33: =H35 -> -4450.3 | I33: =I35 -> -4450.3 | J33: =J35 -> -4450.3
F34: այդ թվում`
B35: 01 | F35: ՀՀ կառավարության և համայնքների պահուստային ֆոնդ | G35: =G37 -> -4450.3 | H35: =H37 -> -4450.3 | I35: =I37 -> -4450.3 | J35: =J37 -> -4450.3
F36: այդ թվում`
C37: 01 | F37: ՀՀ կառավարության պահուստային ֆոնդ | G37: =G39 -> -4450.3 | H37: =H39 -> -4450.3 | I37: =I39 -> -4450.3 | J37: =J39 -> -4450.3
F38: այդ թվում`
F39: ՀՀ կառավարություն | G39: =G41 -> -4450.3 | H39: =H41 -> -4450.3 | I39: =I41 -> -4450.3 | J39: =J41 -> -4450.3
F40: այդ թվում`
D41: 1139 | F41: ՀՀ կառավարության պահուստային ֆոնդ | G41: =G43 -> -4450.3 | H41: =H43 -> -4450.3 | I41: =I43 -> -4450.3 | J41: =J43 -> -4450.3
F42: այդ թվում`
E43: 11001 | F43: ՀՀ կառավարության պահուստային ֆոնդ | G43: =G45 -> -4450.3 | H43: =H45 -> -4450.3 | I43: =I45 -> -4450.3 | J43: =J45 -> -4450.3
F44: այդ թվում` ըստ կատարողների
F45: ՀՀ կառավարություն | G45: =G47 -> -4450.3 | H45: =H47 -> -4450.3 | I45: =I47 -> -4450.3 | J45: =J47 -> -4450.3
F46: այդ թվում` բյուջետային ծախսերի տնտեսագիտական դասակարգման հոդվածներ
F47: ԸՆԴԱՄԵՆԸ ԾԱԽՍԵՐ | G47: =G48 -> -4450.3 | H47: =H48 -> -4450.3 | I47: =I48 -> -4450.3 | J47: =J48 -> -4450.3
F48: ԸՆԹԱՑԻԿ ԾԱԽՍԵՐ | G48: =G49 -> -4450.3 | H48: =H49 -> -4450.3 | I48: =I49 -> -4450.3 | J48: =J49 -> -4450.3
F49: ԱՅԼ ԾԱԽՍԵՐ | G49: =G50 -> -4450.3 | H49: =H50 -> -4450.3 | I49: =I50 -> -4450.3 | J49: =J50 -> -4450.3
F50: Պահուստային միջոցներ | G50: -4450.3 | H50: -4450.3 | I50: -4450.3 | J50: -4450.3

Sheet Հավելված3
G1: Հավելված N 3
G2: ՀՀ կառավարության 2023թվականի
G3: ___________ ___-ի N _______ որոշման
B5: ՀԱՅԱՍՏԱՆԻ ՀԱՆՐԱՊԵՏՈՒԹՅԱՆ ԿԱՌԱՎԱՐՈՒԹՅԱՆ 2022 ԹՎԱԿԱՆԻ ԴԵԿՏԵՄԲԵՐԻ 29-Ի N 2111-Ն ՈՐՈՇՄԱՆ N9 ՀԱՎԵԼՎԱԾԻ 9.9 և 9․47 ԱՂՅՈՒՍԱԿՆԵՐՈՒՄ ԿԱՏԱՐՎՈՂ ՓՈՓՈԽՈՒԹՅՈՒՆՆԵՐԸ
B8: ՀՀ արդարադատության նախարարություն
G9: Աղյուսակ 9.9
B10: ՄԱՍ 2. ՊԵՏԱԿԱՆ ՄԱՐՄՆԻ ԳԾՈՎ ԱՐԴՅՈՒՆՔԱՅԻՆ (ԿԱՏԱՐՈՂԱԿԱՆ) ՑՈՒՑԱՆԻՇՆԵՐԸ
B12: Ծրագրի դասիչը | C12: Ծրագրի անվանումը
B13: 1057 | C13: Արդարադատության ոլորտում քաղաքականության մշակում, ծրագրերի համակարգում, խորհրդատվության և մոնիտորինգի իրականացում
B15: Ծրագրի միջոցառումները
B16: Ծրագրի դասիչը՝ | C16: 1057 | D16: Ցուցանիշների փոփոխությունները (ավելացումները նշված են դրական նշանով)
B17: Միջոցառման դասիչը` | C17: 11001 | D17: Առաջին եռամսյակ | E17: Առաջին կիսամյակ | F17: Ինն ամիս | G17: Տարի
B18: Միջոցառման անվանումը` | C18: Արդարադատության ոլորտում քաղաքականության, խորհրդատվության, մոնիտորինգի, գնման և աջակցության իրականացում
B19: Նկարագրությունը` | C19: Ոլորտի քաղաքականության, խորհրդատվության, մոնիտորինգի, արդարադատության ծրագրերի համակարգման ծառայություններ
B20: Միջոցառման տեսակը` | C20: Ծառայությունների մատուցում
B21: Միջոցառումն իրականացնողի անվանումը | C21: ՀՀ արդարադատության նախարարություն
C22: Արդյունքի չափորոշիչներ
B23: Միջոցառման վրա կատարվող ծախսը (հազար դրամ) | D23: =Հավելված2!G32 -> 4450.3 | E23: =Հավելված2!H32 -> 4450.3 | F23: =Հավելված2!I32 -> 4450.3 | G23: =Հավելված2!J32 -> 4450.3
C26: ՀՀ կառավարություն | G26: Աղյուսակ 9.47
B28: ՄԱՍ 2. ՊԵՏԱԿԱՆ ՄԱՐՄՆԻ ԳԾՈՎ ԱՐԴՅՈՒՆՔԱՅԻՆ (ԿԱՏԱՐՈՂԱԿԱՆ) ՑՈՒՑԱՆԻՇՆԵՐԸ
B30: Ծրագրի դասիչը | C30: Ծրագրի անվանումը
B31: 1139 | C31: ՀՀ կառավարության պահուստային ֆոնդ
B33: Ծրագրի միջոցառումները
B35: Ծրագրի դասիչը` | C35: 1139 | D35: Ցուցանիշների փոփոխությունը (նվազեցումները նշված են փակագծերում)
B36: Միջոցառման դասիչը` | C36: 11001 | D36: Առաջին եռամսյակ | E36: Առաջին կիսամյակ | F36: Ինն ամիս | G36: Տարի
B37: Միջոցառման անվանումը` | C37: ՀՀ կառավարության պահուստային ֆոնդ
B38: Նկարագրությունը` | C38: ՀՀ պետական բյուջեում նախատեսված ելքերի լրացուցիչ ֆինանսավորման, պետական բյուջեում չկանխատեսված ելքերի, ինչպես նաև բյուջետային երաշխիքների ապահովման ելքերի ֆինանսավորման ապահովում
B39: Միջոցառման տեսակը` | C39: Ծառայությունների մատուցում
B40: Արդյունքի չափորոշիչներ
B41: Միջոցառման վրա կատարվող ծախսը (հազար դրամ) | D41: =Հավելված2!G50 -> -4450.3 | E41: =Հավելված2!H50 -> -4450.3 | F41: =Հավելված2!I50 -> -4450.3 | G41: =Հավելված2!J50 -> -4450.3

Sheet Հավելված 4
G1: Հավելված N 4
G2: ՀՀ կառավարության 2023թվականի
G3: ___________ ___-ի N _______ որոշման
A6: ՀԱՅԱՍՏԱՆԻ ՀԱՆՐԱՊԵՏՈՒԹՅԱՆ ԿԱՌԱՎԱՐՈՒԹՅԱՆ 2022 ԹՎԱԿԱՆԻ ԴԵԿՏԵՄԲԵՐԻ 29-Ի N 2111 -Ն ՈՐՈՇՄԱՆ N 9.1 ՀԱՎԵԼՎԱԾԻ 9.1.9 և 9.1.58 ԱՂՅՈՒՍԱԿՆԵՐՈՒՄ ԿԱՏԱՐՎՈՂ ՓՈՓՈԽՈՒԹՅՈՒՆՆԵՐԸ
G8: Աղյուսակ 9.1.9
A9: ՀՀ արդարադատության նախարարություն
B11: ՄԱՍ 1. ՊԵՏԱԿԱՆ ՄԱՐՄՆԻ ԳԾՈՎ ԱՐԴՅՈՒՆՔԱՅԻՆ (ԿԱՏԱՐՈՂԱԿԱՆ) ՑՈՒՑԱՆԻՇՆԵՐԸ
B13: Ծրագրի դասիչը | C13: Ծրագրի անվանումը
B14: 1057 | C14: Արդարադատության ոլորտում քաղաքականության մշակում, ծրագրերի համակարգում, խորհրդատվության և մոնիտորինգի իրականացում
B16: Ծրագրի միջոցառումները
B18: Ծրագրի միջոցառումները
B19: Ծրագրի դասիչը՝ | C19: 1057 | D19: Ցուցանիշների փոփոխությունները (ավելացումները նշված են դրական նշանով)
B20: Միջոցառման դասիչը` | C20: 11001 | D20: Առաջին եռամսյակ | E20: Առաջին կիսամյակ | F20: Ինն ամիս | G20: Տարի
B21: Միջոցառման անվանումը` | C21: Արդարադատության ոլորտում քաղաքականության, խորհրդատվության, մոնիտորինգի, գնման և աջակցության իրականացում
B22: Նկարագրությունը` | C22: Ոլորտի քաղաքականության, խորհրդատվության, մոնիտորինգի, արդարադատության ծրագրերի համակարգման ծառայություններ
B23: Միջոցառման տեսակը` | C23: Ծառայությունների մատուցում
B24: Միջոցառումն իրականացնողի անվանումը | C24: ՀՀ արդարադատության նախարարություն
C25: Արդյունքի չափորոշիչներ
B26: Միջոցառման վրա կատարվող ծախսը (հազար դրամ) | D26: =Հավելված2!G24 -> 4450.3 | E26: =Հավելված2!H24 -> 4450.3 | F26: =Հավելված2!I24 -> 4450.3 | G26: =Հավելված2!J24 -> 4450.3
G29: Աղյուսակ 9.1.58
C30: ՀՀ կառավարություն
B31: ՄԱՍ 1. ՊԵՏԱԿԱՆ ՄԱՐՄՆԻ ԳԾՈՎ ԱՐԴՅՈՒՆՔԱՅԻՆ (ԿԱՏԱՐՈՂԱԿԱՆ) ՑՈՒՑԱՆԻՇՆԵՐԸ
B33: Ծրագրի դասիչը | C33: Ծրագրի անվանումը
B34: 1139 | C34: ՀՀ կառավարության պահուստային ֆոնդ
B36: Ծրագրի միջոցառումները
B38: Ծրագրի դասիչը` | C38: 1139 | D38: Ցուցանիշների փոփոխությունը (նվազեցումները նշված են փակագծերում)
B39: Միջոցառման դասիչը` | C39: 11001 | D39: Առաջին եռամսյակ | E39: Առաջին կիսամյակ | F39: Ինն ամիս | G39: Տարի
B40: Միջոցառման անվանումը` | C40: ՀՀ կառավարության պահուստային ֆոնդ
B41: Նկարագրությունը` | C41: ՀՀ պետական բյուջեում նախատեսված ելքերի լրացուցիչ ֆինանսավորման, պետական բյուջեում չկանխատեսված ելքերի, ինչպես նաև բյուջետային երաշխիքների ապահովման ելքերի ֆինանսավորման ապահովում
B42: Միջոցառման տեսակը` | C42: Ծառայությունների մատուցում
B43: Արդյունքի չափորոշիչներ
B44: Միջոցառման վրա կատարվող ծախսը (հազար դրամ) | D44: =Հավելված2!G43 -> -4450.3 | E44: =Հավելված2!H43 -> -4450.3 | F44: =Հավելված2!I43 -> -4450.3 | G44: =Հավելված2!J43 -> -4450.3

Sheet Հավելված 5
E1: Հավելված N 5
E2: ՀՀ կառավարության 2023 թվականի
E3: ———————— N -Ն որոշման
A5: ՀԱՅԱՍՏԱՆԻ ՀԱՆՐԱՊԵՏՈՒԹՅԱՆ ԿԱՌԱՎԱՐՈՒԹՅԱՆ 2022 ԹՎԱԿԱՆԻ ԴԵԿՏԵՄԲԵՐԻ 29-Ի N 2111-Ն ՈՐՈՇՄԱՆ N 10 ՀԱՎԵԼՎԱԾԻ ՑՈՒՑԱՆԻՇՆԵՐՈՒՄ ԿԱՏԱՐՎՈՂ ՓՈՓՈԽՈՒԹՅՈՒՆՆԵՐԸ
A7: Կոդը | B7: Անվանումը | C7: Գնման ձևը | D7: Չափի միավորը | E7: միավորի գինը | F7: Ցուցանիշների փոփոխությունը (ավելացումները նշված են դրական նշանով)
F8: քանակը | G8: գումարը (հազար դրամով)
A9: 1 | B9: 2 | C9: 3 | D9: 4 | E9: 5 | F9: 6 | G9: 7
A10: ՀՀ արդարադատության նախարարություն | G10: =+G11 -> 4450.3
A11: Բաժին N 01 | B11: Խումբ N 01 | C11: Դաս N 01 | D11: Օրենսդիր և գործադիր մարմիններ, պետական կառավարում | G11: =G12 -> 4450.3
A12: 1057 11001 | B12: Արդարադատության ոլորտում քաղաքականության, խորհրդատվության, մոնիտորինգի, գնման և աջակցության իրականացում | G12: =G13 -> 4450.3
B13: ՄԱՍ III. ԾԱՌԱՅՈՒԹՅՈՒՆՆԵՐ | G13: =G14 -> 4450.3
A14: 79111200-1 | B14: ներկայացուցչական ծառայություններ | C14: ՄԱ | D14: դրամ | G14: 4450.3

Sheet Հավելված 6
A1: Հավելված N 6
A2: ՀՀ կառավարության 2023 թվականի
A3: ______________ ի ___Ն որոշման
A5: ՀԱՅԱՍՏԱՆԻ ՀԱՆՐԱՊԵՏՈՒԹՅԱՆ 2023 ԹՎԱԿԱՆԻ ՊԵՏԱԿԱՆ ԲՅՈՒՋԵՈՎ ՆԱԽԱՏԵՍՎԱԾ՝ ՀԱՅԱՍՏԱՆԻ ՀԱՆՐԱՊԵՏՈՒԹՅԱՆ ԿԱՌԱՎԱՐՈՒԹՅԱՆ ՊԱՀՈՒՍՏԱՅԻՆ ՖՈՆԴԻՑ ՀԱՏԿԱՑՈՒՄՆԵՐ ԿԱՏԱՐԵԼՈՒ ՎԵՐԱԲԵՐՅԱԼ
I7: հազ. դրամ
A8: Գործառական դասիչը | D8: Ծրագրային դասիչը | F8: Բյուջետային ծախսերի գործառական դասակարգման բաժինների, խմբերի և դասերի, բյուջետային հատկացումների գլխավոր կարգադրիչների, ծրագրերի, միջոցառումների և միջոցառումները կատարող պետական մարմինների անվանումները | G8: Ցուցանիշների փոփոխությունը (ավելացումները նշված են դրական նշանով, իսկ նվազեցումները` փակագծերում)
A9: Բաժին | B9: Խումբ | C9: Դաս | D9: Ծրագիր | E9: Միջոցա ռում | G9: Առաջին եռամսյակ | H9: Առաջին կիսամյակ | I9: Ինն ամիս | J9: Տարի
F10: ԸՆԴԱՄԵՆԸ ԾԱԽՍԵՐ | G10: =+G12+G28 -> 0 | H10: =+H12+H28 -> 0 | I10: =+I12+I28 -> 0 | J10: =+J12+J28 -> 0
F11: այդ թվում`
A12: 11 | F12: ՀԻՄՆԱԿԱՆ ԲԱԺԻՆՆԵՐԻՆ ՉԴԱՍՎՈՂ ՊԱՀՈՒՍՏԱՅԻՆ ՖՈՆԴԵՐ | G12: =+G14 -> -4450.3 | H12: =+H14 -> -4450.3 | I12: =+I14 -> -4450.3 | J12: =+J14 -> -4450.3
F13: այդ թվում`
B14: 01 | F14: ՀՀ կառավարության և համայնքների պահուստային ֆոնդ | G14: =+G16 -> -4450.3 | H14: =+H16 -> -4450.3 | I14: =+I16 -> -4450.3 | J14: =+J16 -> -4450.3
F15: այդ թվում`
C16: 01 | F16: ՀՀ կառավարության պահուստային ֆոնդ | G16: =+G19 -> -4450.3 | H16: =+H19 -> -4450.3 | I16: =+I19 -> -4450.3 | J16: =+J19 -> -4450.3
F17: այդ թվում`
F18: ՀՀ կառավարություն | G18: =+G19 -> -4450.3 | H18: =+H19 -> -4450.3 | I18: =+I19 -> -4450.3 | J18: =+J19 -> -4450.3
D19: 1139 | F19: ՀՀ կառավարության պահուստային ֆոնդ | G19: =+G21 -> -4450.3 | H19: =+H21 -> -4450.3 | I19: =+I21 -> -4450.3 | J19: =+J21 -> -4450.3
F20: այդ թվում`
E21: 11001 | F21: ՀՀ կառավարության պահուստային ֆոնդ | G21: =+G22 -> -4450.3 | H21: =+H22 -> -4450.3 | I21: =+I22 -> -4450.3 | J21: =+J22 -> -4450.3
F22: ՀՀ կառավարություն | G22: =G24 -> -4450.3 | H22: =H24 -> -4450.3 | I22: =I24 -> -4450.3 | J22: =J24 -> -4450.3
F23: այդ թվում` բյուջետային ծախսերի տնտեսագիտական դասակարգման հոդվածներ
F24: ԸՆԴԱՄԵՆԸ ԾԱԽՍԵՐ | G24: =G25 -> -4450.3 | H24: =H25 -> -4450.3 | I24: =I25 -> -4450.3 | J24: =J25 -> -4450.3
F25: ԸՆԹԱՑԻԿ ԾԱԽՍԵՐ | G25: =G26 -> -4450.3 | H25: =H26 -> -4450.3 | I25: =I26 -> -4450.3 | J25: =J26 -> -4450.3
F26: ԱՅԼ ԾԱԽՍԵՐ | G26: =G27 -> -4450.3 | H26: =H27 -> -4450.3 | I26: =I27 -> -4450.3 | J26: =J27 -> -4450.3
F27: Պահուստային միջոցներ | G27: =Հավելված2!G50 -> -4450.3 | H27: =Հավելված2!H50 -> -4450.3 | I27: =Հավելված2!I50 -> -4450.3 | J27: =Հավելված2!J50 -> -4450.3
A28: 01 | F28: ԸՆԴՀԱՆՈՒՐ ԲՆՈՒՅԹԻ ՀԱՆՐԱՅԻՆ ԾԱՌԱՅՈՒԹՅՈՒՆՆԵՐ | G28: =G29 -> 4450.3 | H28: =H29 -> 4450.3 | I28: =I29 -> 4450.3 | J28: =J29 -> 4450.3
B29: 01 | F29: Օրենսդիր և գործադիր մարմիններ, պետական կառավարում, ֆինանսական և հարկաբյուջետային հարաբերություններ, արտաքին հարաբերություններ | G29: =+G31+G47+G55 -> 4450.3 | H29: =+H31 -> 4450.3 | I29: =+I31 -> 4450.3 | J29: =+J31 -> 4450.3
F30: այդ թվում`
C31: 01 | F31: Օրենսդիր և գործադիր մարմիններ, պետական կառավարում | G31: =+G42 -> 4450.3 | H31: =+H42 -> 4450.3 | I31: =+I42 -> 4450.3 | J31: =+J42 -> 4450.3
F32: այդ թվում`
F33: ՀՀ արդարադատության նախարարություն | G33: =G35 -> 4450.3 | H33: =H35 -> 4450.3 | I33: =I35 -> 4450.3 | J33: =J35 -> 4450.3
F34: այդ թվում`
D35: 1057 | F35: Արդարադատության ոլորտում քաղաքականության մշակում, ծրագրերի համակարգում, խորհրդատվության և մոնիտորինգի իրականացում | G35: =+G37+G53+G61 -> 4450.3 | H35: =+H37+H53+H61 -> 4450.3 | I35: =+I37+I53+I61 -> 4450.3 | J35: =+J37+J53+J61 -> 4450.3
F36: այդ թվում`
E37: 11001 | F37: Արդարադատության ոլորտում քաղաքականության, խորհրդատվության, մոնիտորինգի, գնման և աջակցության իրականացում | G37: =G39 -> 4450.3 | H37: =H39 -> 4450.3 | I37: =I39 -> 4450.3 | J37: =J39 -> 4450.3
F38: այդ թվում` ըստ կատարողների
F39: ՀՀ արդարադատության նախարարություն | G39: =G41 -> 4450.3 | H39: =H41 -> 4450.3 | I39: =I41 -> 4450.3 | J39: =J41 -> 4450.3
F40: այդ թվում` բյուջետային ծախսերի տնտեսագիտական դասակարգման հոդվածներ
F41: ԸՆԴԱՄԵՆԸ ԾԱԽՍԵՐ | G41: =G42 -> 4450.3 | H41: =H42 -> 4450.3 | I41: =I42 -> 4450.3 | J41: =J42 -> 4450.3
F42: ԸՆԹԱՑԻԿ ԾԱԽՍԵՐ | G42: =G43 -> 4450.3 | H42: =H43 -> 4450.3 | I42: =I43 -> 4450.3 | J42: =J43 -> 4450.3
F43: ԾԱՌԱՅՈՒԹՅՈՒՆՆԵՐԻ ԵՎ ԱՊՐԱՆՔՆԵՐԻ ՁԵՌՔԲԵՐՈՒՄ | G43: =G44 -> 4450.3 | H43: =H44 -> 4450.3 | I43: =I44 -> 4450.3 | J43: =J44 -> 4450.3
F44: Պայմանագրային այլ ծառայությունների ձեռքբերում | G44: =G45 -> 4450.3 | H44: =H45 -> 4450.3 | I44: =I45 -> 4450.3 | J44: =J45 -> 4450.3
F45: - Ներկայացուցչական ծախսեր | G45: =Հավելված2!G32 -> 4450.3 | H45: =Հավելված2!H32 -> 4450.3 | I45: =Հավելված2!I32 -> 4450.3 | J45: =Հավելված2!J32 -> 4450.3
