Workbook
Name AgencyCode: #REF!
Name AgencyCode: #REF!
Name AgencyCode: #REF!
Name AgencyCode: #REF!
Name AgencyCode: #REF!
Name AgencyCode: #REF!
Name AgencyName: #REF!
Name AgencyName: #REF!
Name AgencyName: #REF!
Name AgencyName: #REF!
Name AgencyName: #REF!
Name AgencyName: #REF!
Name åû: #REF!
Name åû: #REF!
Name davit: #REF!
Name davit: #REF!
Name davit: #REF!
Name davit: #REF!
Name davit: #REF!
Name Functional1: #REF!
Name Functional1: #REF!
Name Functional1: #REF!
Name Functional1: #REF!
Name Functional1: #REF!
Name Functional1: #REF!
Name ggg: #REF!
Name ggg: #REF!
Name ggg: #REF!
Name ggg: #REF!
Name ggg: #REF!
Name mas: #REF!
Name mas: #REF!
Name mass: #REF!
Name mass: #REF!
Name PANature: #REF!
Name PANature: #REF!
Name PANature: #REF!
Name PANature: #REF!
Name PANature: #REF!
Name PANature: #REF!
Name PAType: #REF!
Name PAType: #REF!
Name PAType: #REF!
Name PAType: #REF!
Name PAType: #REF!
Name PAType: #REF!
Name Performance2: #REF!
Name Performance2: #REF!
Name Performance2: #REF!
Name Performance2: #REF!
Name Performance2: #REF!
Name Performance2: #REF!
Name PerformanceType: #REF!
Name PerformanceType: #REF!
Name PerformanceType: #REF!
Name PerformanceType: #REF!
Name PerformanceType: #REF!
Name PerformanceType: #REF!
Name x: #REF!
Name x: #REF!

Sheet Հ 1
G1: Հավելված N 1
C2: ՀՀ կառավարության 2023 թվականի
C3: ______________ ի ___Ն որոշման
A5: «ՀԱՅԱUՏԱՆԻ ՀԱՆՐԱՊԵՏՈՒԹՅԱՆ 2023 ԹՎԱԿԱՆԻ ՊԵՏԱԿԱՆ ԲՅՈՒՋԵԻ ՄԱUԻՆ» OՐԵՆՔԻ N 1 ՀԱՎԵԼՎԱԾԻ N 2 ԱՂՅՈՒՍԱԿՈՒՄ ԿԱՏԱՐՎՈՂ ՎԵՐԱԲԱՇԽՈՒՄԸ ԵՎ ՀԱՅԱՍՏԱՆԻ ՀԱՆՐԱՊԵՏՈՒԹՅԱՆ ԿԱՌԱՎԱՐՈՒԹՅԱՆ 2022 ԹՎԱԿԱՆԻ ԴԵԿՏԵՄԲԵՐԻ 29-Ի ԹԻՎ 2111-Ն ՈՐՈՇՄԱՆ N 5 ՀԱՎԵԼՎԱԾԻ N 1 ԱՂՅՈՒՍԱԿՈՒՄ ԿԱՏԱՐՎՈՂ ԼՐԱՑՈՒՄՆԵՐԸ ԵՎ ՓՈՓՈԽՈՒԹՅՈՒՆՆԵՐԸ
F7: /հազար դրամ/
A8: Ծրագրային դասիչը | C8: Բյուջետային հատկացումների գլխավոր կարգադրիչների, ծրագրերի և միջոցառումների անվանումները | D8: Ցուցանիշների փոփոխությունը (ավելացումները նշված են դրական նշանով, իսկ նվազեցումները` փակագծերում)
A9: Ծրագիրը | B9: Միջոցառումը | D9: Առաջին եռամսյակ | E9: Առաջին կիսամյակ | F9: Ինն ամիս | G9: Տարի
B10: ԸՆԴԱՄԵՆԸ | D10: =+D11+D38 -> 0 | E10: =+E11+E38 -> 0 | F10: =+F11+F38 -> 0 | G10: =+G11+G38 -> 0
C11: ՀՀ տարածքային կառավարման և ենթակառուցվածքների նախարարություն | D11: =+D12+D25 -> 0 | E11: =+E12+E25 -> 0 | F11: =+F12+F25 -> 0 | G11: =+G12+G25 -> 0
A12: 1212 | C12: Ծրագրի անվանումը` | D12: =+D19 -> -6348.6 | E12: =+E19 -> -6348.6 | F12: =+F19 -> -6348.6 | G12: =+G19 -> -6348.6
C13: Տարածքային զարգացում
C14: Ծրագրի նպատակը`
C15: Տարածքային համաչափ զարգացման խթանում
C16: Վերջնական արդյունքի նկարագրությունը`
C17: ՀՀ համայնքների կառավարման արդյունավետության բարձրացում և տնտեսական գործունեության խթանում
A18: Ծրագրի միջոցառումներ
B19: 12026 | C19: Միջոցառման անվանումը` | D19: =-D32 -> -6348.6 | E19: =-E32 -> -6348.6 | F19: =-F32 -> -6348.6 | G19: =-G32 -> -6348.6
C20: Ազդակիր բնակավայրերի և համայնքների բյուջեներին հատկացվող համայնքային մասհանումներ
C21: Միջոցառման նկարագրությունը`
C22: Օրենսդրությամբ նախատեսված` հաշվետու տարում ռոյալթի վճարողի կողմից օրենքով սահմանված չափով և կարգով պետական բյուջե վճարված ռոյալթիի չափի երկու տոկոսից փոխհատուցումներ տեղական ինքնակառավարման մարմիններին
C23: Միջոցառման տեսակը
C24: Տրանսֆերտների տրամադրում
A25: 1157 | C25: Ծրագրի անվանումը` | D25: =+D32 -> 6348.6 | E25: =+E32 -> 6348.6 | F25: =+F32 -> 6348.6 | G25: =+G32 -> 6348.6
C26: Քաղաքային զարգացում
C27: Ծրագրի նպատակը`
C28: Քաղաքային ենթակառուցվածքների զարգացում
C29: Վերջնական արդյունքի նկարագրությունը`
C30: Քաղաքային ենթակառուցվածքների արդիականացում և բարելավում
A31: Ծրագրի միջոցառումներ
B32: 31001 | C32: Միջոցառման անվանումը՝ | D32: =+'Հ 2'!G50 -> 6348.6 | E32: =+'Հ 2'!H50 -> 6348.6 | F32: =+'Հ 2'!I50 -> 6348.6 | G32: =+'Հ 2'!J50 -> 6348.6
C33: =+'[1]havelvac 1'!F34 -> Երևանի Բուսաբանական այգու տարածքում անտառպուրակի կառուցապատման նախագծային աշխատանքների իրականացում
C34: Միջոցառման նկարագրությունը՝
C35: =+C33 -> Երևանի Բուսաբանական այգու տարածքում անտառպուրակի կառուցապատման նախագծային աշխատանքների իրականացում
C36: Միջոցառման տեսակը՝
C37: Պետական մարմինների կողմից օգտագործվող ոչ ֆինանսական ակտիվների հետ գործառնություններ
C38: ՀՀ կառավարություն | D38: =+D40 -> 0 | E38: =+E40 -> 0 | F38: =+F40 -> 0 | G38: =+G40 -> 0
A39: 1139 | C39: Ծրագրի անվանումը`
C40: ՀՀ կառավարության պահուստային ֆոնդ | D40: =+D45+D51 -> 0 | E40: =+E45+E51 -> 0 | F40: =+F45+F51 -> 0 | G40: =+G45+G51 -> 0
C41: Ծրագրի նպատակը`
C42: Պետական բյուջեում չկանխատեսված՝ ինչպես նաև բյուջետային երաշխիքների ապահովման ծախսերի ֆինանսավորման ապահովում
...

Sheet Հ 2
J1: Հավելված N 2
F2: ՀՀ կառավարության 2023 թվականի
F3: ______________ ի ___Ն որոշման
A6: ՀԱՅԱՍՏԱՆԻ ՀԱՆՐԱՊԵՏՈՒԹՅԱՆ ԿԱՌԱՎԱՐՈՒԹՅԱՆ 2022 ԹՎԱԿԱՆԻ ԴԵԿՏԵՄԲԵՐԻ 29-Ի N 2111-Ն ՈՐՈՇՄԱՆ N 3 ԵՎ N 4 ՀԱՎԵԼՎԱԾՆԵՐՈՒՄ ԿԱՏԱՐՎՈՂ ԼՐԱՑՈՒՄՆԵՐԸ ԵՎ ՓՈՓՈԽՈՒԹՅՈՒՆՆԵՐԸ
J8: /հազար դրամ/
A9: Գործառական դասիչը | D9: Ծրագրային դասիչը | F9: Բյուջետային ծախսերի գործառական դասակարգման բաժինների, խմբերի և դասերի, բյուջետային ծրագրերի, միջոցառումների բյուջետային հատկացումնեյի գլխավոր կարգադրիչների անվանումները | G9: Ցուցանիշների փոփոխությունը (ավելացումները նշված են դրական նշանով, իսկ նվազեցումները` փակագծերում)
A10: Բաժին | B10: Խումբ | C10: Դաս | D10: Ծրագիր | E10: Միջոցառում | G10: Առաջին եռամսյակ | H10: Առաջին կիսամյակ | I10: Ինն ամիս | J10: Տարի
F11: ԸՆԴԱՄԵՆԸ | G11: =+G12+G51 -> 0 | H11: =+H12+H51 -> 0 | I11: =+I12+I51 -> 0 | J11: =+J12+J51 -> 0
F12: ՀՀ տարածքային կառավարման և ենթակառուցվածքների նախարարություն | G12: =+G13+G32 -> 0 | H12: =+H13+H32 -> 0 | I12: =+I13+I32 -> 0 | J12: =+J13+J32 -> 0
A13: 01 | F13: ԸՆԴՀԱՆՈՒՐ ԲՆՈՒՅԹԻ ՀԱՆՐԱՅԻՆ ԾԱՌԱՅՈՒԹՅՈՒՆՆԵՐ | G13: =+G15 -> -6348.6 | H13: =+H15 -> -6348.6 | I13: =+I15 -> -6348.6 | J13: =+J15 -> -6348.6
F14: այդ թվում`
B15: 08 | F15: Կառավարության տարբեր մակարդակների միջև իրականացվող ընդհանուր բնույթի տրանսֆերտներ | G15: =G17 -> -6348.6 | H15: =H17 -> -6348.6 | I15: =I17 -> -6348.6 | J15: =J17 -> -6348.6
F16: այդ թվում`
C17: 01 | F17: Կառավարության տարբեր մակարդակների միջև իրականացվող ընդհանուր բնույթի տրանսֆերտներ | G17: =G19 -> -6348.6 | H17: =H19 -> -6348.6 | I17: =I19 -> -6348.6 | J17: =J19 -> -6348.6
F18: այդ թվում`
F19: ՀՀ տարածքային կառավարման և ենթակառուցվածքների նախարարություն | G19: =G23 -> -6348.6 | H19: =H23 -> -6348.6 | I19: =I23 -> -6348.6 | J19: =J23 -> -6348.6
F20: այդ թվում`
D21: 1212 | F21: Տարածքային զարգացում | G21: =+G23 -> -6348.6 | H21: =+H23 -> -6348.6 | I21: =+I23 -> -6348.6 | J21: =+J23 -> -6348.6
F22: այդ թվում`
E23: 12026 | F23: Ազդակիր բնակավայրերի և համայնքների բյուջեներին հատկացվող համայնքային մասհանումներ | G23: =G25 -> -6348.6 | H23: =H25 -> -6348.6 | I23: =I25 -> -6348.6 | J23: =J25 -> -6348.6
F24: այդ թվում` ըստ կատարողների
F25: ՀՀ կառավարություն | G25: =G27 -> -6348.6 | H25: =H27 -> -6348.6 | I25: =I27 -> -6348.6 | J25: =J27 -> -6348.6
F26: այդ թվում` բյուջետային ծախսերի տնտեսագիտական դասակարգման հոդվածներ
F27: ԸՆԴԱՄԵՆԸ ԾԱԽՍԵՐ | G27: =G28 -> -6348.6 | H27: =H28 -> -6348.6 | I27: =I28 -> -6348.6 | J27: =J28 -> -6348.6
F28: ԸՆԹԱՑԻԿ ԾԱԽՍԵՐ | G28: =G29 -> -6348.6 | H28: =H29 -> -6348.6 | I28: =I29 -> -6348.6 | J28: =J29 -> -6348.6
F29: ԴՐԱՄԱՇՆՈՐՀՆԵՐ | G29: =G31 -> -6348.6 | H29: =H31 -> -6348.6 | I29: =I31 -> -6348.6 | J29: =J31 -> -6348.6
F30: Կապիտալ դրամաշնորհներ պետական հատվածի այլ մակարդակներին | G30: =+G31 -> -6348.6 | H30: =+H31 -> -6348.6 | I30: =+I31 -> -6348.6 | J30: =+J31 -> -6348.6
F31: - Կապիտալ սուբվենցիաներ համայնքներին | G31: =-G50 -> -6348.6 | H31: =-H50 -> -6348.6 | I31: =-I50 -> -6348.6 | J31: =-J50 -> -6348.6
A32: 08 | F32: ՀԱՆԳԻՍՏ, ՄՇԱԿՈՒՅԹ ԵՎ ԿՐՈՆ | G32: =+G34 -> 6348.6 | H32: =+H34 -> 6348.6 | I32: =+I34 -> 6348.6 | J32: =+J34 -> 6348.6
F33: այդ թվում`
B34: 02 | F34: Մշակութային ծառայություններ | G34: =+G36 -> 6348.6 | H34: =+H36 -> 6348.6 | I34: =+I36 -> 6348.6 | J34: =+J36 -> 6348.6
F35: այդ թվում՝
C36: 04 | F36: Այլ մշակութային կազմակերպություններ | G36: =G42 -> 6348.6 | H36: =H42 -> 6348.6 | I36: =I42 -> 6348.6 | J36: =J42 -> 6348.6
F37: այդ թվում`
F38: =+'Հ 1'!C11 -> ՀՀ տարածքային կառավարման և ենթակառուցվածքների նախարարություն | G38: =+G42 -> 6348.6 | H38: =+H42 -> 6348.6 | I38: =+I42 -> 6348.6 | J38: =+J42 -> 6348.6
F39: այդ թվում`
D40: 1157 | F40: Քաղաքային զարգացում | G40: =+G42 -> 6348.6 | H40: =+H42 -> 6348.6 | I40: =+I42 -> 6348.6 | J40: =+J42 -> 6348.6
F41: այդ թվում`
E42: 31001 | F42: Երևանի Բուսաբանական այգու տարածքում անտառպուրակի կառուցապատման նախագծային աշխատանքների իրականացում | G42: =+G44 -> 6348.6 | H42: =+H44 -> 6348.6 | I42: =+I44 -> 6348.6 | J42: =+J44 -> 6348.6
F43: այդ թվում` ըստ կատարողների
...

Sheet Հ 3
E1: Հավելված N 3
C2: ՀՀ կառավարության 2023 թվականի
C3: ______________ ի ___Ն որոշման
A4: ՀԱՅԱՍՏԱՆԻ ՀԱՆՐԱՊԵՏՈՒԹՅԱՆ ԿԱՌԱՎԱՐՈՒԹՅԱՆ 2022 ԹՎԱԿԱՆԻ ԴԵԿՏԵՄԲԵՐԻ 29-Ի ԹԻՎ 2111-Ն ՈՐՈՇՄԱՆ N 5 ՀԱՎԵԼՎԱԾԻ N 2 ԱՂՅՈՒՍԱԿՈՒՄ ԿԱՏԱՐՎՈՂ ԼՐԱՑՈՒՄԸ
H5: /հազար դրամ/
A6: Ծրագրային դասիչը | C6: Բյուջետային հատկացումների գլխավոր կարգադրիչների, ծրագրերի, միջոցառումների, ծախսային ուղղությունների անվանումները | E6: Ցուցանիշների փոփոխությունը (ավելացումները նշված են դրական նշանով, իսկ նվազեցումները` փակագծերում)
A7: Ծրագիրը | B7: Միջոցառումը | E7: Առաջին եռամսյակ | F7: Առաջին կիսամյակ | G7: Ինն ամիս | H7: Տարի
C8: ԸՆԴԱՄԵՆԸ, | E8: =+E10+E17 -> 0 | F8: =+F10+F17 -> 0 | G8: =+G10+G17 -> 0 | H8: =+H10+H17 -> 0
C9: այդ թվում՝
C10: ՀՀ ՏԱՐԱԾՔԱՅԻՆ ԿԱՌԱՎԱՐՄԱՆ ԵՎ ԵՆԹԱԿԱՌՈՒՑՎԱԾՔՆԵՐԻ ՆԱԽԱՐԱՐՈՒԹՅՈՒՆ | E10: =+E12 -> 6348.6 | F10: =+F12 -> 6348.6 | G10: =+G12 -> 6348.6 | H10: =+H12 -> 6348.6
C11: այդ թվում՝
A12: 1157 | B12: 31001 | C12: =+'[1]havelvac 2'!C33 -> Երևանի Բուսաբանական այգու տարածքում անտառպուրակի կառուցապատման նախագծային աշխատանքների իրականացում | E12: =E14 -> 6348.6 | F12: =F14 -> 6348.6 | G12: =G14 -> 6348.6 | H12: =H14 -> 6348.6
B13: այդ թվում՝ ըստ կատարողների
C14: ՀՀ տարածքային կառավարման և ենթակառուցվածքների նախարարություն | E14: =+'Հ 1'!D25 -> 6348.6 | F14: =+'Հ 1'!E25 -> 6348.6 | G14: =+E14 -> 6348.6 | H14: =+G14 -> 6348.6
C15: այդ թվում՝ ըստ ուղղությունների
B16: 1 | C16: =+C12 -> Երևանի Բուսաբանական այգու տարածքում անտառպուրակի կառուցապատման նախագծային աշխատանքների իրականացում | E16: =+'Հ 2'!G50 -> 6348.6 | F16: =+'Հ 2'!H50 -> 6348.6 | G16: =+'Հ 2'!I50 -> 6348.6 | H16: =+'Հ 2'!J50 -> 6348.6
C17: ՀՀ ԿԱՌԱՎԱՐՈՒԹՅՈՒՆ | D17: =D19 -> 1000000 | E17: =+E19 -> -6348.6 | F17: =+F19 -> -6348.6 | G17: =+G19 -> -6348.6 | H17: =+H19 -> -6348.6
C18: այդ թվում`
A19: 1139 | B19: 11001 | C19: Պահուստային ֆոնդ | D19: 1000000 | E19: =-E16 -> -6348.6 | F19: =-F16 -> -6348.6 | G19: =-G16 -> -6348.6 | H19: =-H16 -> -6348.6
A23: ՀԱՅԱՍՏԱՆԻ ՀԱՆՐԱՊԵՏՈՒԹՅԱՆ
A24: ՎԱՐՉԱՊԵՏԻ ԱՇԽԱՏԱԿԱԶՄԻ
C25: ՂԵԿԱՎԱՐ՝ Ա.ՀԱՐՈՒԹՅՈՒՆՅԱՆ

Sheet Հ 4
E1: Հավելված N 4
C2: ՀՀ կառավարության 2023 թվականի
C3: ______________ ի ___Ն որոշման
A5: «ՀԱՅԱUՏԱՆԻ ՀԱՆՐԱՊԵՏՈՒԹՅԱՆ 2023 ԹՎԱԿԱՆԻ ՊԵՏԱԿԱՆ ԲՅՈՒՋԵԻ ՄԱUԻՆ» OՐԵՆՔԻ N 1 ՀԱՎԵԼՎԱԾԻ N 3 ԱՂՅՈՒՍԱԿՈՒՄ ԿԱՏԱՐՎՈՂ ԼՐԱՑՈՒՄԸ
I6: /հազար դրամ/
A7: Ծրագրային դասիչը | C7: Բյուջետային գլխավոր կարգադրիչների, ծրագրերի, միջոցառումների և ուղղությունների անվանումները | E7: Ցուցանիշների փոփոխությունը (ավելացումները նշված են դրական նշանով, իսկ նվազեցումները` փակագծերում)
A8: Ծրագիրը | B8: Միջոցառումը | E8: Ընդամենը | F8: այդ թվում՝
F9: կառուցման աշխատանքներ | G9: վերակառուցման, վերանորոգման և վերականգնման աշխատանքներ | H9: նախագծահետազոտական, գեոդեզիա-քարտեզագրական աշխատանքներ | I9: ոչ ֆինանսական այլ ակտիվների ձեռքբերում
C10: ԸՆԴԱՄԵՆԸ, | E10: =+F10+G10+H10+I10 -> 0 | F10: =+F12+F17 -> 0 | G10: =+G12+G17 -> -6348.6 | H10: =+H12+H17 -> 6348.6 | I10: =+I12+I17 -> 0
C11: այդ թվում՝
C12: ՀՀ ՏԱՐԱԾՔԱՅԻՆ ԿԱՌԱՎԱՐՄԱՆ ԵՎ ԵՆԹԱԿԱՌՈՒՑՎԱԾՔՆԵՐԻ ՆԱԽԱՐԱՐՈՒԹՅՈՒՆ | E12: =+E14 -> 6348.6 | F12: 0 | G12: 0 | H12: =+H14 -> 6348.6 | I12: 0
C13: այդ թվում՝
A14: 1157 | B14: 31001 | C14: =+'[1]havelvac 2'!C33 -> Երևանի Բուսաբանական այգու տարածքում անտառպուրակի կառուցապատման նախագծային աշխատանքների իրականացում | E14: =+F14+G14+H14+I14 -> 6348.6 | F14: 0 | G14: 0 | H14: =+H16 -> 6348.6 | I14: 0
B15: այդ թվում՝
B16: 1 | C16: =+C14 -> Երևանի Բուսաբանական այգու տարածքում անտառպուրակի կառուցապատման նախագծային աշխատանքների իրականացում | E16: =+F16+G16+H16+I16 -> 6348.6 | F16: 0 | G16: 0 | H16: =+'Հ 9'!I9 -> 6348.6 | I16: 0
C17: ՀՀ ԿԱՌԱՎԱՐՈՒԹՅՈՒՆ | E17: =+F17+G17+H17+I17 -> -6348.6 | F17: =+F19 -> 0 | G17: =+G19 -> -6348.6 | H17: =+H19 -> 0 | I17: =+I19 -> 0
C18: այդ թվում`
A19: 1139 | B19: 11001 | C19: Պահուստային ֆոնդ | E19: =+F19+G19+H19+I19 -> -6348.6 | F19: 0 | G19: =-H16 -> -6348.6 | H19: 0 | I19: 0
A22: ՀԱՅԱՍՏԱՆԻ ՀԱՆՐԱՊԵՏՈՒԹՅԱՆ
A23: ՎԱՐՉԱՊԵՏԻ ԱՇԽԱՏԱԿԱԶՄԻ
C24: ՂԵԿԱՎԱՐ՝ Ա.ՀԱՐՈՒԹՅՈՒՆՅԱՆ

Sheet Հ 5
H1: Հավելված N 5
H2: ՀՀ կառավարության 2023 թվականի
H3: ______________ ի ___Ն որոշման
A5: «ՀԱՅԱՍՏԱՆԻ ՀԱՆՐԱՊԵՏՈՒԹՅԱՆ 2023 ԹՎԱԿԱՆԻ ՊԵՏԱԿԱՆ ԲՅՈՒՋԵԻ ՄԱՍԻՆ» ՕՐԵՆՔԻ N 1 ՀԱՎԵԼՎԱԾԻ N 7 ԱՂՅՈՒՍԱԿՈՒՄ ԵՎ ՀԱՅԱՍՏԱՆԻ ՀԱՆՐԱՊԵՏՈՒԹՅԱՆ ԿԱՌԱՎԱՐՈՒԹՅԱՆ 2022 ԹՎԱԿԱՆԻ ԴԵԿՏԵՄԲԵՐԻ 29-Ի N 2111-Ն ՈՐՈՇՄԱՆ N 5 ՀԱՎԵԼՎԱԾԻ N 6 ԱՂՅՈՒՍԱԿՈՒՄ ԿԱՏԱՐՎՈՂ ՓՈՓՈԽՈՒԹՅՈՒՆՆԵՐԸ
H7: /հազար դրամ/
B8: Ծրագրային դասիչը | D8: Հատկացումների տրամադրման նպատակները և բյուջետային գլխավոր կարգադրիչների, ծրագրերի, միջոցառումների և կատարող պետական մարմնի անվանումները | E8: Ցուցանիշների փոփոխությունը (նվազեցումները նշված են փակագծերում)
B9: Ծրագիր | C9: Միջոցառում | E9: Առաջին եռամսյակ | F9: Առաջին կիսամյակ | G9: Ինն ամիս | H9: Տարի
D10: Ընդամենը | E10: =E14+E33+E47 -> -6348.6 | F10: =F14+F33+F47 -> -6348.6 | G10: =G14+G33+G47 -> -6348.6 | H10: =H14+H33+H47 -> -6348.6
B11: այդ թվում`
B12: Կապիտալ սուբվենցիաներ համայնքներին | E12: =+E14 -> -6348.6 | F12: =+F14 -> -6348.6 | G12: =+G14 -> -6348.6 | H12: =+H14 -> -6348.6
B13: այդ թվում`
B14: ՀՀ տարածքային կառավարման և ենթակառուցվածքների նախարարություն | E14: =E16+E19+E30 -> -6348.6 | F14: =F16+F19+F30 -> -6348.6 | G14: =G16+G19+G30 -> -6348.6 | H14: =H16+H19+H30 -> -6348.6
B15: այդ թվում`
B16: 1212 | C16: Տարածքային զարգացում | E16: =E17 -> -6348.6 | F16: =F17 -> -6348.6 | G16: =G17 -> -6348.6 | H16: =H17 -> -6348.6
C17: 12026 | D17: Ազդակիր բնակավայրերի և համայնքների բյուջեներին հատկացվող համայնքային մասհանումներ | E17: =+E18 -> -6348.6 | F17: =+F18 -> -6348.6 | G17: =+G18 -> -6348.6 | H17: =+H18 -> -6348.6
D18: ՀՀ կառավարություն | E18: =-'Հ 2'!G42 -> -6348.6 | F18: =-'Հ 2'!H42 -> -6348.6 | G18: =-'Հ 2'!I42 -> -6348.6 | H18: =-'Հ 2'!J42 -> -6348.6

Sheet Հ 6
H1: Հավելված N 6
H2: ՀՀ կառավարության 2023 թվականի
H3: ______________ ի ___Ն որոշման
B5: ՀԱՅԱՍՏԱՆԻ ՀԱՆՐԱՊԵՏՈՒԹՅԱՆ ԿԱՌԱՎԱՐՈՒԹՅԱՆ 2022 ԹՎԱԿԱՆԻ ԴԵԿՏԵՄԲԵՐԻ 29-Ի N 2111-Ն ՈՐՈՇՄԱՆ N 8 ՀԱՎԵԼՎԱԾՈՒՄ ԿԱՏԱՐՎՈՂ ԼՐԱՑՈՒՄԸ
B7: Գործառական դասիչը | E7: Ծրագրային դասիչը | G7: Բյուջետային հատակացումների գլխավոր կարգադրիչներ, ծրագրերի, միջոցառումների և միջոցառումներն իրականացնող պետական մարմինների անվանումները | H7: Ցուցանիշների փոփոխությունը (ավելացումները նշված են դրական նշանով)
B8: Բաժին | C8: Խումբ | D8: Դաս | E8: Ծրագիր | F8: Միջոցառում | H8: Գումարը (հազար դրամ)
G9: ԸՆԴԱՄԵՆԸ ԾԱԽՍԵՐ | H9: =+H10 -> 6348.6
B10: 08 | G10: ՀԱՆԳԻՍՏ, ՄՇԱԿՈՒՅԹ ԵՎ ԿՐՈՆ | H10: =+H11 -> 6348.6
C11: 02 | G11: Մշակութային ծառայություններ | H11: =+H12 -> 6348.6
D12: 04 | G12: Այլ մշակութային կազմակերպություններ | H12: =+H13 -> 6348.6
E13: =+'Հ 2'!D40 -> 1157 | G13: =+'Հ 2'!F40 -> Քաղաքային զարգացում | H13: =+H14 -> 6348.6
F14: =+'Հ 2'!E42 -> 31001 | G14: =+'Հ 2'!F42 -> Երևանի Բուսաբանական այգու տարածքում անտառպուրակի կառուցապատման նախագծային աշխատանքների իրականացում | H14: =+'Հ 2'!J42 -> 6348.6

Sheet Հ 7
G2: Հավելված N 7
G3: ՀՀ կառավարության 2023 թվականի
G4: ______________ ի ___Ն որոշման
A6: ՀԱՅԱՍՏԱՆԻ ՀԱՆՐԱՊԵՏՈՒԹՅԱՆ ԿԱՌԱՎԱՐՈՒԹՅԱՆ 2022 ԹՎԱԿԱՆԻ ԴԵԿՏԵՄԲԵՐԻ 29-Ի ԹԻՎ 2111-Ն ՈՐՈՇՄԱՆ N 9 ՀԱՎԵԼՎԱԾԻ NN 9.7 ԵՎ 9.47 ԱՂՅՈՒՍԱԿՆԵՐՈՒՄ ԿԱՏԱՐՎՈՂ ՓՈՓՈԽՈՒԹՅՈՒՆՆԵՐԸ ԵՎ ԼՐԱՑՈՒՄՆԵՐԸ
G7: Աղյուսակ 9.7
A8: ՀՀ տարածքային կառավարման և ենթակառուցվածքների նախարարություն
A10: ՄԱՍ 2. ՊԵՏԱԿԱՆ ՄԱՐՄՆԻ ԳԾՈՎ ԱՐԴՅՈՒՆՔԱՅԻՆ (ԿԱՏԱՐՈՂԱԿԱՆ) ՑՈՒՑԱՆԻՇՆԵՐԸ
B12: Ծրագրի դասիչը | C12: Ծրագրի անվանումը
B13: 1157 | C13: =+'Հ 1'!C26 -> Քաղաքային զարգացում
B14: Ծրագրի միջոցառումները
B15: Ծրագրի դասիչը՝ | C15: 1157 | D15: Ցուցանիշների փոփոխությունը (ավելացումները նշված են դրական նշանով)
B16: Միջոցառման դասիչը՝ | C16: 31001 | D16: Առաջին եռամսյակ | E16: Առաջին կիսամյակ | F16: Ինն ամիս | G16: Տարի
B17: Միջոցառման անվանումը՝ | C17: =+'Հ 1'!C33 -> Երևանի Բուսաբանական այգու տարածքում անտառպուրակի կառուցապատման նախագծային աշխատանքների իրականացում
B18: Նկարագրությունը՝ | C18: =+'Հ 1'!C33 -> Երևանի Բուսաբանական այգու տարածքում անտառպուրակի կառուցապատման նախագծային աշխատանքների իրականացում
B19: Միջոցառման տեսակը՝ | C19: =+'Հ 1'!C37 -> Պետական մարմինների կողմից օգտագործվող ոչ ֆինանսական ակտիվների հետ գործառնություններ
B20: Միջոցառումն իրականացնողի անվանումը | C20: Մասնագիտացված միավոր
B21: Արդյունքի չափորոշիչներ
B22: Պայմանագրերի թիվ, հատ | D22: 1 | E22: 1 | F22: 1 | G22: 1
B23: Միջոցառման վրա կատարվող ծախսը (հազար դրամ) | D23: =+'Հ 1'!D25 -> 6348.6 | E23: =+'Հ 1'!E25 -> 6348.6 | F23: =+'Հ 1'!F25 -> 6348.6 | G23: =+'Հ 1'!G25 -> 6348.6
B26: Ծրագրի դասիչը | C26: Ծրագրի անվանումը
B27: 1212 | C27: =+'Հ 8'!C30 -> Տարածքային զարգացում
B28: Ծրագրի միջոցառումները
B29: =+'Հ 8'!B32 -> Ծրագրի դասիչը` | C29: =+'Հ 8'!C32 -> 1212 | D29: Ցուցանիշների փոփոխությունը (նվազեցումները նշված են փակագծերում)
B30: =+'Հ 8'!B33 -> Միջոցառման դասիչը` | C30: =+'Հ 8'!C33 -> 12026 | D30: Առաջին եռամսյակ | E30: Առաջին կիսամյակ | F30: Ինն ամիս | G30: Տարի
B31: =+'Հ 8'!B34 -> Միջոցառման անվանումը` | C31: =+'Հ 8'!C34 -> Ազդակիր բնակավայրերի և համայնքների բյուջեներին հատկացվող համայնքային մասհանումներ
B32: =+'Հ 8'!B35 -> Նկարագրությունը` | C32: =+'Հ 8'!C35 -> Օրենսդրությամբ նախատեսված՛ հաշվետու տարում ռոյալթի վճարողի կողմից օրենքով սահմանված չափով և կարգով պետական բյուջե վճարված ռոյալթիի չափի երկու տոկոսից փոխհատուցումներ տեղական ինքնակառավարման մարմիններին
B33: =+'Հ 8'!B36 -> Միջոցառման տեսակը | C33: =+'Հ 8'!C36 -> Տրանսֆերտների տրամադրում
B34: =+'Հ 8'!B37 -> Շահառուների ընտրության չափանիշները` | C34: =+'Հ 8'!C37 -> ՀՀ բյուջետային համակարգի մասին օրենք
C35: Արդյունքի չափորոշիչներ
B36: Միջոցառման վրա կատարվող ծախսը (հազար դրամ) | D36: =+'Հ 1'!D19 -> -6348.6 | E36: =+'Հ 1'!E19 -> -6348.6 | F36: =+G36 -> -6348.6 | G36: =+'Հ 1'!G19 -> -6348.6
G38: Աղյուսակ 9.47
A39: ՀՀ կառավարություն
A40: ՄԱՍ 2. ՊԵՏԱԿԱՆ ՄԱՐՄՆԻ ԳԾՈՎ ԱՐԴՅՈՒՆՔԱՅԻՆ (ԿԱՏԱՐՈՂԱԿԱՆ) ՑՈՒՑԱՆԻՇՆԵՐԸ
B42: Ծրագրի դասիչը | C42: Ծրագրի անվանումը
B43: 1139 | C43: ՀՀ կառավարության պահուստային ֆոնդ
B44: Ծրագրի միջոցառումները
B45: Ծրագրի դասիչը՝ | C45: 1139 | D45: Ցուցանիշների փոփոխությունը (ավելացումները նշված են դրական նշանով)
B46: Միջոցառման դասիչը՝ | C46: 11001 | D46: Առաջին եռամսյակ | E46: Առաջին կիսամյակ | F46: Ինն ամիս | G46: Տարի
B47: Միջոցառման անվանումը՝ | C47: ՀՀ կառավարության պահուստային ֆոնդ
B48: Նկարագրությունը՝ | C48: ՀՀ պետական բյուջեում նախատեսված ելքերի լրացուցիչ ֆինանսավորման՝ պետական բյուջեում չկանխատեսված ելքերի, ինչպես նաև բյուջետային երաշխիքների ապահովման ելքերի ֆինանսավորման ապահովում
...

Sheet Հ 8
G2: Հավելված N 8
G3: ՀՀ կառավարության 2023 թվականի
G4: ______________ ի ___Ն որոշման
A6: ՀԱՅԱՍՏԱՆԻ ՀԱՆՐԱՊԵՏՈՒԹՅԱՆ ԿԱՌԱՎԱՐՈՒԹՅԱՆ 2022 ԹՎԱԿԱՆԻ ԴԵԿՏԵՄԲԵՐԻ 29-Ի ԹԻՎ 2111-Ն ՈՐՈՇՄԱՆ N 9.1 ՀԱՎԵԼՎԱԾԻ NN 9.1.7 ԵՎ 9.1.58 ԱՂՅՈՒՍԱԿՆԵՐՈՒՄ ԿԱՏԱՐՎՈՂ ՓՈՓՈԽՈՒԹՅՈՒՆՆԵՐԸ ԵՎ ԼՐԱՑՈՒՄՆԵՐԸ
G7: Աղյուսակ 9.1.7
A8: ՀՀ տարածքային կառավարման և ենթակառուցվածքների նախարարություն
A10: ՄԱՍ 1. ՊԵՏԱԿԱՆ ՄԱՐՄՆԻ ԳԾՈՎ ԱՐԴՅՈՒՆՔԱՅԻՆ (ԿԱՏԱՐՈՂԱԿԱՆ) ՑՈՒՑԱՆԻՇՆԵՐԸ
B12: Ծրագրի դասիչը | C12: Ծրագրի անվանումը
B13: 1157 | C13: =+'Հ 1'!C26 -> Քաղաքային զարգացում
B15: Ծրագրի դասիչը՝ | C15: 1157 | D15: Ցուցանիշների փոփոխությունը (ավելացումները նշված են դրական նշանով)
B16: Միջոցառման դասիչը՝ | C16: 31001 | D16: Առաջին եռամսյակ | E16: Առաջին կիսամյակ | F16: Ինն ամիս | G16: Տարի
B17: Միջոցառման անվանումը՝ | C17: =+'Հ 1'!C33 -> Երևանի Բուսաբանական այգու տարածքում անտառպուրակի կառուցապատման նախագծային աշխատանքների իրականացում
B18: Նկարագրությունը՝ | C18: =+'Հ 1'!C33 -> Երևանի Բուսաբանական այգու տարածքում անտառպուրակի կառուցապատման նախագծային աշխատանքների իրականացում
B19: Միջոցառման տեսակը՝ | C19: =+'Հ 1'!C37 -> Պետական մարմինների կողմից օգտագործվող ոչ ֆինանսական ակտիվների հետ գործառնություններ
B20: Միջոցառումն իրականացնողի անվանումը | C20: Մասնագիտացված միավոր
B21: Արդյունքի չափորոշիչներ
B22: Պայմանագրերի թիվ, հատ | D22: 1 | E22: 1 | F22: 1 | G22: 1
B23: Միջոցառման վրա կատարվող ծախսը (հազար դրամ) | D23: =+'Հ 1'!D25 -> 6348.6 | E23: =+'Հ 1'!E25 -> 6348.6 | F23: =+'Հ 1'!F25 -> 6348.6 | G23: =+'Հ 1'!G25 -> 6348.6
G25: Աղյուսակ 9.1.58
A26: ՀՀ կառավարություն
A27: ՄԱՍ 1. ՊԵՏԱԿԱՆ ՄԱՐՄՆԻ ԳԾՈՎ ԱՐԴՅՈՒՆՔԱՅԻՆ (ԿԱՏԱՐՈՂԱԿԱՆ) ՑՈՒՑԱՆԻՇՆԵՐԸ
B29: Ծրագրի դասիչը | C29: Ծրագրի անվանումը
B30: 1212 | C30: Տարածքային զարգացում
B31: Ծրագրի միջոցառումները
B32: Ծրագրի դասիչը` | C32: 1212 | D32: Ցուցանիշների փոփոխությունը (նվազեցումները նշված են փակագծերում)
B33: Միջոցառման դասիչը` | C33: 12026 | D33: Առաջին եռամսյակ | E33: Առաջին կիսամյակ | F33: Ինն ամիս | G33: Տարի
B34: Միջոցառման անվանումը` | C34: Ազդակիր բնակավայրերի և համայնքների բյուջեներին հատկացվող համայնքային մասհանումներ
B35: Նկարագրությունը` | C35: Օրենսդրությամբ նախատեսված՛ հաշվետու տարում ռոյալթի վճարողի կողմից օրենքով սահմանված չափով և կարգով պետական բյուջե վճարված ռոյալթիի չափի երկու տոկոսից փոխհատուցումներ տեղական ինքնակառավարման մարմիններին
B36: Միջոցառման տեսակը | C36: Տրանսֆերտների տրամադրում
B37: Շահառուների ընտրության չափանիշները` | C37: ՀՀ բյուջետային համակարգի մասին օրենք
C38: Արդյունքի չափորոշիչներ
B39: Միջոցառման վրա կատարվող ծախսը (հազար դրամ) | D39: =+'Հ 1'!D19 -> -6348.6 | E39: =+'Հ 1'!E19 -> -6348.6 | F39: =+G39 -> -6348.6 | G39: =+'Հ 1'!G19 -> -6348.6
B42: Ծրագրի դասիչը | C42: Ծրագրի անվանումը
B43: 1139 | C43: ՀՀ կառավարության պահուստային ֆոնդ
B44: Ծրագրի միջոցառումները
B45: Ծրագրի դասիչը՝ | C45: 1139 | D45: Ցուցանիշների փոփոխությունը (ավելացումները նշված են դրական նշանով)
B46: Միջոցառման դասիչը՝ | C46: 11001 | D46: Առաջին եռամսյակ | E46: Առաջին կիսամյակ | F46: Ինն ամիս | G46: Տարի
B47: Միջոցառման անվանումը՝ | C47: ՀՀ կառավարության պահուստային ֆոնդ
B48: Նկարագրությունը՝ | C48: ՀՀ պետական բյուջեում նախատեսված ելքերի լրացուցիչ ֆինանսավորման՝ պետական բյուջեում չկանխատեսված ելքերի, ինչպես նաև բյուջետային երաշխիքների ապահովման ելքերի ֆինանսավորման ապահովում
B49: Միջոցառման տեսակը՝ | C49: Ծառայությունների մատուցում
...

Sheet Հ 9
H1: Հավելված N 9
I2: ՀՀ կառավարության 2023 թվականի
I3: ______________ ի ___Ն որոշման
A5: ՀԱՅԱՍՏԱՆԻ ՀԱՆՐԱՊԵՏՈՒԹՅԱՆ ԿԱՌԱՎԱՐՈՒԹՅԱՆ 2022 ԹՎԱԿԱՆԻ ԴԵԿՏԵՄԲԵՐԻ 29-Ի ԹԻՎ 2111-Ն ՈՐՈՇՄԱՆ N 10 ՀԱՎԵԼՎԱԾՈՒՄ ԿԱՏԱՐՎՈՂ ԼՐԱՑՈՒՄՆԵՐԸ
A6: Կոդը | B6: Անվանումը | E6: Գնման ձևը | F6: Չափման միավորը | G6: Միավորի գինը | H6: Քանակը | I6: Ցուցանիշների փոփոխությունը (ավելացումները նշված են դրական նշանով)
I7: Գումարը (հազար դրամ)
A8: 1 | B8: 2 | E8: 3 | F8: 4 | G8: 5 | H8: 6 | I8: 7
A9: ՀՀ տարածքային կառավարման և ենթակառուցվածքների նախարարություն | I9: =+I10 -> 6348.6
A10: Բաժին N 08 | B10: Խումբ N 02 | C10: Դաս N 04 | D10: =+'Հ 8'!C13 -> Քաղաքային զարգացում | I10: =+I11 -> 6348.6
A11: 1157-31001 | B11: =+'Հ 8'!C17 -> Երևանի Բուսաբանական այգու տարածքում անտառպուրակի կառուցապատման նախագծային աշխատանքների իրականացում | I11: =+I12 -> 6348.6
B12: ՄԱՍ III. ԾԱՌԱՅՈՒԹՅՈՒՆՆԵՐ | I12: =+I13 -> 6348.6
A13: 71241200 | B13: նախագծերի պատրաստման, ծախսերի գնահատման ծառայություններ | E13: ՀՄԱ | F13: դրամ | G13: 6348600 | H13: 1 | I13: =+G13*H13/1000 -> 6348.6
A18: ՀԱՅԱՍՏԱՆԻ ՀԱՆՐԱՊԵՏՈՒԹՅԱՆ
A19: ՎԱՐՉԱՊԵՏԻ ԱՇԽԱՏԱԿԱԶՄԻ
B20: ՂԵԿԱՎԱՐ՝ Ա.ՀԱՐՈՒԹՅՈՒՆՅԱՆ
