Workbook
Name AgencyCode: #REF!
Name AgencyCode: #REF!
Name AgencyCode: #REF!
Name AgencyCode: #REF!
Name AgencyName: #REF!
Name AgencyName: #REF!
Name AgencyName: #REF!
Name AgencyName: #REF!
Name åû: #REF!
Name davit: #REF!
Name davit: #REF!
Name Functional1: #REF!
Name Functional1: #REF!
Name Functional1: #REF!
Name Functional1: #REF!
Name ggg: #REF!
Name ggg: #REF!
Name mas: #REF!
Name mass: #REF!
Name PANature: #REF!
Name PANature: #REF!
Name PANature: #REF!
Name PANature: #REF!
Name PAType: #REF!
Name PAType: #REF!
Name PAType: #REF!
Name PAType: #REF!
Name Performance2: #REF!
Name Performance2: #REF!
Name Performance2: #REF!
Name Performance2: #REF!
Name PerformanceType: #REF!
Name PerformanceType: #REF!
Name PerformanceType: #REF!
Name PerformanceType: #REF!
Name x: #REF!
Name Հավելված: #REF!
Name Հավելված: #REF!
Name Մաս: #REF!
Name Մաս: #REF!
Name շախմատիստ: #REF!
Name շախմատիստ: #REF!

Sheet Հ1
G1: Հավելված N 1
G2: ՀՀ կառավարության 2023 թվականի
G3: ______________ ի ___Ն որոշման
A5: «ՀԱՅԱUՏԱՆԻ ՀԱՆՐԱՊԵՏՈՒԹՅԱՆ 2023 ԹՎԱԿԱՆԻ ՊԵՏԱԿԱՆ ԲՅՈՒՋԵԻ ՄԱUԻՆ» OՐԵՆՔԻ N 1 ՀԱՎԵԼՎԱԾԻ N 2 ԱՂՅՈՒՍԱԿՈՒՄ ԿԱՏԱՐՎՈՂ ՎԵՐԱԲԱՇԽՈՒՄԸ ԵՎ ՀԱՅԱՍՏԱՆԻ ՀԱՆՐԱՊԵՏՈՒԹՅԱՆ ԿԱՌԱՎԱՐՈՒԹՅԱՆ 2022 ԹՎԱԿԱՆԻ ԴԵԿՏԵՄԲԵՐԻ 29-Ի N 2111-Ն ՈՐՈՇՄԱՆ N 5 ՀԱՎԵԼՎԱԾԻ N 1 ԱՂՅՈՒՍԱԿՈՒՄ ԿԱՏԱՐՎՈՂ ՓՈՓՈԽՈՒԹՅՈՒՆՆԵՐԸ
G7: հազար դրամներով
A8: Ծրագրային դասիչը | C8: Բյուջետային հատկացումների գլխավոր կարգադրիչների, ծրագրերի և միջոցառումների անվանումները | D8: Ցուցանիշների փոփոխությունը (ավելացումները նշված են դրական նշանով, իսկ նվազեցումները` փակագծերում)
A9: Ծրագիր | B9: Միջոցառում | D9: Առաջին եռամսյակ | E9: Առաջին կիսամյակ | F9: Ինն ամիս | G9: Տարի
C10: ԸՆԴԱՄԵՆԸ | D10: =+D12+D26 -> 0 | E10: =+E12+E26 -> 0 | F10: =+F12+F26 -> 0 | G10: =+G12+G26 -> 0
C11: այդ թվում
B12: ՀՀ տարածքային կառավարման և ենթակառուցվածքների նախարարություն | D12: =+D14 -> 97460.5 | E12: =+E14 -> 97460.5 | F12: =+F14 -> 97460.5 | G12: =+G14 -> 97460.5
A13: 1212 | C13: Ծրագրի անվանումը`
C14: Տարածքային զարգացում | D14: =+D21 -> 97460.5 | E14: =+E21 -> 97460.5 | F14: =+F21 -> 97460.5 | G14: =+G21 -> 97460.5
C15: Ծրագրի նպատակը`
C16: Տարածքային համաչափ զարգացման խթանում
C17: Վերջնական արդյունքի նկարագրությունը`
C18: ՀՀ համայնքների կառավարման արդյունավետության բարձրացում և տնտեսական գործունեության խթանում
C19: Ծրագրի միջոցառումներ
B20: 12029 | C20: Միջոցառման անվանումը`
C21: Լաչինի միջանցքի արգելափակման հետևանքով Հայաստանի Հանրապետությունում Լեռնային Ղարաբաղի քաղաքացիներին կացարան տրամադրած կազմակերպություններին աջակցության տրամադրում | D21: =+E21 -> 97460.5 | E21: =+F21 -> 97460.5 | F21: =+G21 -> 97460.5 | G21: =+Հ2!J21 -> 97460.5
C22: Միջոցառման նկարագրությունը`
C23: Հայաստանի Հանրապետությունում Լեռնային Ղարաբաղի քաղաքացիներին կեցություն տրամադրած կազմակերպություններին հյուրանոցային ծառայությունների դիմաց ծախսերի փոխհատուցում
C24: Միջոցառման տեսակը
C25: Տրանսֆերտների տրամադրում
B26: ՀՀ կառավարություն | C26: ՀՀ կառավարություն | D26: =+D28 -> -97460.5 | E26: =+E28 -> -97460.5 | F26: =+F28 -> -97460.5 | G26: =+G28 -> -97460.5
A27: 1139 | C27: Ծրագրի անվանումը`
C28: ՀՀ կառավարության պահուստային ֆոնդ | D28: =+D34 -> -97460.5 | E28: =+E34 -> -97460.5 | F28: =+F34 -> -97460.5 | G28: =+G34 -> -97460.5
C29: Ծրագրի նպատակը`
C30: Պետական բյուջեում չկանխատեսված, ինչպես նաև բյուջետային երաշխիքների ապահովման ծախսերի ֆինանսավորման ապահովում
C31: Վերջնական արդյունքի նկարագրությունը`
C32: Պահուստային ֆոնդի կառավարման արդյունավետության և թափանցիկության ապահովում
B33: 11001 | C33: Միջոցառման անվանումը`
C34: ՀՀ կառավարության պահուստային ֆոնդ | D34: =-D21 -> -97460.5 | E34: =-E21 -> -97460.5 | F34: =-F21 -> -97460.5 | G34: =-G21 -> -97460.5
C35: Միջոցառման նկարագրությունը`
C36: ՀՀ պետական բյուջեում նախատեսված ելքերի լրացուցիչ ֆինանսավորման՝ պետական բյուջեում չկանխատեսված ելքերի, ինչպես նաև բյուջետային երաշխիքների ապահովման ելքերի ֆինանսավորման ապահովում
C37: Միջոցառման տեսակը
C38: Ծառայությունների մատուցում
A42: ՀԱՅԱՍՏԱՆԻ ՀԱՆՐԱՊԵՏՈՒԹՅԱՆ
A43: ՎԱՐՉԱՊԵՏԻ ԱՇԽԱՏԱԿԱԶՄԻ
B44: ՂԵԿԱՎԱՐ՝ Ա.ՀԱՐՈՒԹՅՈՒՆՅԱՆ

Sheet Հ2
J1: Հավելված N 2
J2: ՀՀ կառավարության 2023 թվականի
J3: ______________ ի ___Ն որոշման
A5: ՀԱՅԱՍՏԱՆԻ ՀԱՆՐԱՊԵՏՈՒԹՅԱՆ ԿԱՌԱՎԱՐՈՒԹՅԱՆ 2022 ԹՎԱԿԱՆԻ ԴԵԿՏԵՄԲԵՐԻ 29-Ի N 2111-Ն ՈՐՈՇՄԱՆ N 3 ԵՎ N 4 ՀԱՎԵԼՎԱԾՆԵՐՈՒՄ ԿԱՏԱՐՎՈՂ ՓՈՓՈԽՈՒԹՅՈՒՆՆԵՐԸ
J7: հազար դրամներով
A8: Գործառական դասիչը | D8: Ծրագրային դասիչը | F8: Բյուջետային հատկացումների գլխավոր կարգադրիչների, ծրագրերի, միջոցառումների և միջոցառումները կատարող պետական մարմինների անվանումները | G8: Ցուցանիշների փոփոխությունը (ավելացումները նշված են դրական նշանով, իսկ նվազեցումները` փակագծերում)
A9: Բաժին | B9: Խումբ | C9: Դաս | D9: Ծրագիր | E9: Միջոցառում | G9: Առաջին եռամսյակ | H9: Առաջին կիսամյակ | I9: Ինն ամիս | J9: Տարի
F10: ԸՆԴԱՄԵՆԸ | G10: =+G12+G39 -> 0 | H10: =+H12+H39 -> 0 | I10: =+I12+I39 -> 0 | J10: =+J12+J39 -> 0
F11: այդ թվում
F12: ՀՀ տարածքային կառավարման և ենթակառուցվածքների նախարարություն | G12: =+G13 -> 97460.5 | H12: =+H13 -> 97460.5 | I12: =+I13 -> 97460.5 | J12: =+J13 -> 97460.5
A13: 01 | F13: ԸՆԴՀԱՆՈՒՐ ԲՆՈՒՅԹԻ ՀԱՆՐԱՅԻՆ ԾԱՌԱՅՈՒԹՅՈՒՆՆԵՐ | G13: =G15 -> 97460.5 | H13: =H15 -> 97460.5 | I13: =I15 -> 97460.5 | J13: =J15 -> 97460.5
F14: այդ թվում`
B15: 08 | F15: Կառավարության տարբեր մակարդակների միջև իրականացվող ընդհանուր բնույթի տրանսֆերտներ | G15: =G17 -> 97460.5 | H15: =H17 -> 97460.5 | I15: =I17 -> 97460.5 | J15: =J17 -> 97460.5
F16: այդ թվում`
C17: 01 | F17: Կառավարության տարբեր մակարդակների միջև իրականացվող ընդհանուր բնույթի տրանսֆերտներ | G17: =+G19 -> 97460.5 | H17: =+H19 -> 97460.5 | I17: =+I19 -> 97460.5 | J17: =+J19 -> 97460.5
F18: այդ թվում`
F19: ՀՀ տարածքային կառավարման և ենթակառուցվածքների նախարարություն | G19: =+G21 -> 97460.5 | H19: =+H21 -> 97460.5 | I19: =+I21 -> 97460.5 | J19: =+J21 -> 97460.5
F20: այդ թվում`
D21: 1212 | F21: Տարածքային զարգացում | G21: =+G23 -> 97460.5 | H21: =+H23 -> 97460.5 | I21: =+I23 -> 97460.5 | J21: =+J23 -> 97460.5
F22: այդ թվում`
E23: 12029 | F23: =+Հ1!C21 -> Լաչինի միջանցքի արգելափակման հետևանքով Հայաստանի Հանրապետությունում Լեռնային Ղարաբաղի քաղաքացիներին կացարան տրամադրած կազմակերպություններին աջակցության տրամադրում | G23: =G32+G25 -> 97460.5 | H23: =H32+H25 -> 97460.5 | I23: =I32+I25 -> 97460.5 | J23: =J32+J25 -> 97460.5
F24: այդ թվում` ըստ կատարողների
F25: ՀՀ տարածքային կառավարման և ենթակառուցվածքների նախարարություն | G25: =G27 -> 8326 | H25: =H27 -> 8326 | I25: =I27 -> 8326 | J25: =J27 -> 8326
F26: այդ թվում` բյուջետային ծախսերի տնտեսագիտական դասակարգման հոդվածներ
F27: ԸՆԴԱՄԵՆԸ ԾԱԽՍԵՐ | G27: =+G28 -> 8326 | H27: =+H28 -> 8326 | I27: =+I28 -> 8326 | J27: =+J28 -> 8326
F28: ԸՆԹԱՑԻԿ ԾԱԽՍԵՐ | G28: =G29 -> 8326 | H28: =H29 -> 8326 | I28: =I29 -> 8326 | J28: =J29 -> 8326
F29: ԴՐԱՄԱՇՆՈՐՀՆԵՐ | G29: =G30 -> 8326 | H29: =H30 -> 8326 | I29: =I30 -> 8326 | J29: =J30 -> 8326
F30: Ընթացիկ դրամաշնորհներ պետական հատվածի այլ մակարդակներին | G30: =G31 -> 8326 | H30: =H31 -> 8326 | I30: =I31 -> 8326 | J30: =J31 -> 8326
F31: - Ընթացիկ սուբվենցիաներ համայնքներին | G31: 8326 | H31: 8326 | I31: 8326 | J31: 8326
F32: Սյունիքի մարզպետարան | G32: =G34 -> 89134.5 | H32: =H34 -> 89134.5 | I32: =I34 -> 89134.5 | J32: =J34 -> 89134.5
F33: այդ թվում`բյուջետային ծախսերի տնտեսագիտական դասակարգման հոդվածներ
F34: ԸՆԴԱՄԵՆԸ ԾԱԽՍԵՐ | G34: =+G35 -> 89134.5 | H34: =+H35 -> 89134.5 | I34: =+I35 -> 89134.5 | J34: =+J35 -> 89134.5
F35: ԸՆԹԱՑԻԿ ԾԱԽՍԵՐ | G35: =G36 -> 89134.5 | H35: =H36 -> 89134.5 | I35: =I36 -> 89134.5 | J35: =J36 -> 89134.5
F36: ԾԱՌԱՅՈՒԹՅՈՒՆՆԵՐԻ ԵՎ ԱՊՐԱՆՔՆԵՐԻ ՁԵՌՔԲԵՐՈՒՄ | G36: =G37 -> 89134.5 | H36: =H37 -> 89134.5 | I36: =I37 -> 89134.5 | J36: =J37 -> 89134.5
F37: Պայմանագրային այլ ծառայությունների ձեռքբերում | G37: =G38 -> 89134.5 | H37: =H38 -> 89134.5 | I37: =I38 -> 89134.5 | J37: =J38 -> 89134.5
F38: - Ընդհանուր բնույթի այլ ծառայություններ | G38: 89134.5 | H38: 89134.5 | I38: 89134.5 | J38: 89134.5
F39: ՀՀ կառավարություն | G39: =+G40 -> -97460.5 | H39: =+H40 -> -97460.5 | I39: =+I40 -> -97460.5 | J39: =+J40 -> -97460.5
A40: 11 | F40: ՀԻՄՆԱԿԱՆ ԲԱԺԻՆՆԵՐԻՆ ՉԴԱՍՎՈՂ ՊԱՀՈՒՍՏԱՅԻՆ ՖՈՆԴԵՐ | G40: =+G42 -> -97460.5 | H40: =+H42 -> -97460.5 | I40: =+I42 -> -97460.5 | J40: =+J42 -> -97460.5
F41: այդ թվում`
B42: 01 | F42: ՀՀ կառավարության և համայնքների պահուստային ֆոնդ | G42: =+G44 -> -97460.5 | H42: =+H44 -> -97460.5 | I42: =+I44 -> -97460.5 | J42: =+J44 -> -97460.5
F43: այդ թվում`
C44: 01 | F44: ՀՀ կառավարության պահուստային ֆոնդ | G44: =+G57+G58 -> -97460.5 | H44: =+H57+H58 -> -97460.5 | I44: =+I57+I58 -> -97460.5 | J44: =+J57+J58 -> -97460.5
F45: այդ թվում`
F46: ՀՀ կառավարություն | G46: =+G48 -> -97460.5 | H46: =+H48 -> -97460.5 | I46: =+I48 -> -97460.5 | J46: =+J48 -> -97460.5
F47: այդ թվում`
D48: 1139 | F48: ՀՀ կառավարության պահուստային ֆոնդ | G48: =+G57+G58 -> -97460.5 | H48: =+H57+H58 -> -97460.5 | I48: =+I57+I58 -> -97460.5 | J48: =+J57+J58 -> -97460.5
F49: այդ թվում`
E50: 11001 | F50: ՀՀ կառավարության պահուստային ֆոնդ | G50: =+G52 -> -97460.5 | H50: =+H52 -> -97460.5 | I50: =+I52 -> -97460.5 | J50: =+J52 -> -97460.5
F51: այդ թվում` ըստ կատարողների
F52: ՀՀ կառավարություն | G52: =+G54 -> -97460.5 | H52: =+H54 -> -97460.5 | I52: =+I54 -> -97460.5 | J52: =+J54 -> -97460.5
F53: այդ թվում` բյուջետային ծախսերի տնտեսագիտական դասակարգման հոդվածներ
F54: ԸՆԴԱՄԵՆԸ ԾԱԽՍԵՐ | G54: =+G55 -> -97460.5 | H54: =+H55 -> -97460.5 | I54: =+I55 -> -97460.5 | J54: =+J55 -> -97460.5
F55: ԸՆԹԱՑԻԿ ԾԱԽՍԵՐ | G55: =+G56 -> -97460.5 | H55: =+H56 -> -97460.5 | I55: =+I56 -> -97460.5 | J55: =+J56 -> -97460.5
F56: ԱՅԼ ԾԱԽՍԵՐ | G56: =+G57 -> -97460.5 | H56: =+H57 -> -97460.5 | I56: =+I57 -> -97460.5 | J56: =+J57 -> -97460.5
F57: Պահուստային միջոցներ | G57: =-G38-G31 -> -97460.5 | H57: =-H38-H31 -> -97460.5 | I57: =-I38-I31 -> -97460.5 | J57: =+Հ1!G34 -> -97460.5
A61: ՀԱՅԱՍՏԱՆԻ ՀԱՆՐԱՊԵՏՈՒԹՅԱՆ
A62: ՎԱՐՉԱՊԵՏԻ ԱՇԽԱՏԱԿԱԶՄԻ
B63: ՂԵԿԱՎԱՐ՝ Ա.ՀԱՐՈՒԹՅՈՒՆՅԱՆ

Sheet Հ3
H1: Հավելված N 3
H2: ՀՀ կառավարության 2023 թվականի
H3: ______________ ի ___Ն որոշման
A5: «ՀԱՅԱՍՏԱՆԻ ՀԱՆՐԱՊԵՏՈՒԹՅԱՆ 2023 ԹՎԱԿԱՆԻ ՊԵՏԱԿԱՆ ԲՅՈՒՋԵԻ ՄԱՍԻՆ» ՕՐԵՆՔԻ N 1 ՀԱՎԵԼՎԱԾԻ N 7 ԱՂՅՈՒՍԱԿՈՒՄ ԵՎ ՀԱՅԱՍՏԱՆԻ ՀԱՆՐԱՊԵՏՈՒԹՅԱՆ ԿԱՌԱՎԱՐՈՒԹՅԱՆ 2022 ԹՎԱԿԱՆԻ ԴԵԿՏԵՄԲԵՐԻ 29-Ի N 2111-Ն ՈՐՈՇՄԱՆ N 5 ՀԱՎԵԼՎԱԾԻ N 6 ԱՂՅՈՒՍԱԿՈՒՄ ԿԱՏԱՐՎՈՂ ՓՈՓՈԽՈՒԹՅՈՒՆՆԵՐԸ
H7: հազար դրամներով
B8: Ծրագրային դասիչը | D8: Հատկացումների տրամադրման նպատակները և բյուջետային գլխավոր կարգադրիչների, ծրագրերի, միջոցառումների և կատարող պետական մարմնի անվանումները | E8: Ցուցանիշների փոփոխությունը (ավելացումները նշված են դրական նշանով)
B9: Ծրագիր | C9: Միջոցառում | E9: Առաջին եռամսյակ | F9: Առաջին կիսամյակ | G9: Ինն ամիս | H9: Տարի
D10: Ընդամենը | E10: =E12+E31+E45 -> 8326 | F10: =F12+F31+F45 -> 8326 | G10: =G12+G31+G45 -> 8326 | H10: =H12+H31+H45 -> 8326
B11: այդ թվում`
B12: ՀՀ տարածքային կառավարման և ենթակառուցվածքների նախարարություն | E12: =E14+E17+E28 -> 8326 | F12: =F14+F17+F28 -> 8326 | G12: =G14+G17+G28 -> 8326 | H12: =H14+H17+H28 -> 8326
B13: այդ թվում`
B14: 1212 | C14: Տարածքային զարգացում | E14: =E15 -> 8326 | F14: =F15 -> 8326 | G14: =G15 -> 8326 | H14: =H15 -> 8326
C15: =+Հ2!E23 -> 12029 | D15: =+Հ2!F23 -> Լաչինի միջանցքի արգելափակման հետևանքով Հայաստանի Հանրապետությունում Լեռնային Ղարաբաղի քաղաքացիներին կացարան տրամադրած կազմակերպություններին աջակցության տրամադրում | E15: =+E16 -> 8326 | F15: =+F16 -> 8326 | G15: =+G16 -> 8326 | H15: =+H16 -> 8326
D16: ՀՀ տարածքային կառավարման և ենթակառուցվածքների նախարարություն | E16: =+Հ2!G31 -> 8326 | F16: =+Հ2!H31 -> 8326 | G16: =+Հ2!I31 -> 8326 | H16: =+Հ2!J31 -> 8326
A20: ՀԱՅԱՍՏԱՆԻ ՀԱՆՐԱՊԵՏՈՒԹՅԱՆ
A21: ՎԱՐՉԱՊԵՏԻ ԱՇԽԱՏԱԿԱԶՄԻ
B22: ՂԵԿԱՎԱՐ՝ Ա.ՀԱՐՈՒԹՅՈՒՆՅԱՆ

Sheet Հ4
G1: Հավելված N 4
F2: ՀՀ կառավարության 2023 թվականի
F3: ______________ ի ___Ն որոշման
A6: ՀԱՅԱՍՏԱՆԻ ՀԱՆՐԱՊԵՏՈՒԹՅԱՆ ԿԱՌԱՎԱՐՈՒԹՅԱՆ 2022 ԹՎԱԿԱՆԻ ԴԵԿՏԵՄԲԵՐԻ 29-Ի N 2111-Ն ՈՐՈՇՄԱՆ N 8 ՀԱՎԵԼՎԱԾՈՒՄ ԿԱՏԱՐՎՈՂ ԼՐԱՑՈՒՄՆԵՐԸ
G8: /հազար դրամ/
A9: Գործառական դասիչը | D9: Ծրագրային դասիչը | F9: Բյուջետային ծախսերի գործառական դասակարգման բաժինների, խմբերի և դասերի, բյուջետային ծրագրերի, միջոցառումների բյուջետային հատկացումնեյի գլխավոր կարգադրիչների անվանումները | G9: Ցուցանիշների փոփոխությունը (ավելացումները նշված են դրական նշանով)
A10: Բաժին | B10: Խումբ | C10: Դաս | D10: Ծրագիր | E10: Միջոցառում | G10: Տարի
F11: ԸՆԴԱՄԵՆԸ | G11: =+G12 -> 8326
A12: 01 | F12: ԸՆԴՀԱՆՈՒՐ ԲՆՈՒՅԹԻ ՀԱՆՐԱՅԻՆ ԾԱՌԱՅՈՒԹՅՈՒՆՆԵՐ | G12: =+G13 -> 8326
B13: 08 | F13: Կառավարության տարբեր մակարդակների միջև իրականացվող ընդհանուր բնույթի տրանսֆերտներ | G13: =G14 -> 8326
C14: 01 | F14: Կառավարության տարբեր մակարդակների միջև իրականացվող ընդհանուր բնույթի տրանսֆերտներ | G14: =+G15 -> 8326
D15: 1212 | F15: Տարածքային զարգացում | G15: =+G16 -> 8326
E16: 12029 | F16: Լաչինի միջանցքի արգելափակման հետևանքով Հայաստանի Հանրապետությունում Լեռնային Ղարաբաղի քաղաքացիներին կացարան տրամադրած կազմակերպություններին աջակցության տրամադրում | G16: =+Հ3!E10 -> 8326
A20: ՀԱՅԱՍՏԱՆԻ ՀԱՆՐԱՊԵՏՈՒԹՅԱՆ
A21: ՎԱՐՉԱՊԵՏԻ ԱՇԽԱՏԱԿԱԶՄԻ
B22: ՂԵԿԱՎԱՐ՝ Ա.ՀԱՐՈՒԹՅՈՒՆՅԱՆ

Sheet Հ5
A1: Հ5 | G1: Հավելված N 5
G2: ՀՀ կառավարության 2023 թվականի
G3: ______________ ի ___Ն որոշման
B5: ՀԱՅԱՍՏԱՆԻ ՀԱՆՐԱՊԵՏՈՒԹՅԱՆ ԿԱՌԱՎԱՐՈՒԹՅԱՆ 2022 ԹՎԱԿԱՆԻ ԴԵԿՏԵՄԲԵՐԻ 29-Ի ԹԻՎ 2111-Ն ՈՐՈՇՄԱՆ N 9 ՀԱՎԵԼՎԱԾԻ NN 9.7 ԵՎ 9.47 ԱՂՅՈՒՍԱԿՆԵՐՈՒՄ ԿԱՏԱՐՎՈՂ ՓՈՓՈԽՈՒԹՅՈՒՆՆԵՐԸ
G6: Աղյուսակ 9.7
B7: ՀՀ տարածքային կառավարման և ենթակառուցվածքների նախարարություն
B8: ՄԱՍ 2. ՊԵՏԱԿԱՆ ՄԱՐՄՆԻ ԳԾՈՎ ԱՐԴՅՈՒՆՔԱՅԻՆ (ԿԱՏԱՐՈՂԱԿԱՆ) ՑՈՒՑԱՆԻՇՆԵՐԸ
B10: Ծրագրի դասիչը | C10: Ծրագրի անվանումը
B11: 1212 | C11: Տարածքային զարգացում
B13: Ծրագրի դասիչը` | C13: 1212 | D13: Ցուցանիշների փոփոխությունը (ավելացումները նշված են դրական նշանով)
B14: Միջոցառման դասիչը` | C14: =+Հ3!C15 -> 12029 | D14: Առաջին եռամսյակ | E14: Առաջին կիսամյակ | F14: Ինն ամիս | G14: Տարի
B15: Միջոցառման անվանումը` | C15: =+Հ1!C21 -> Լաչինի միջանցքի արգելափակման հետևանքով Հայաստանի Հանրապետությունում Լեռնային Ղարաբաղի քաղաքացիներին կացարան տրամադրած կազմակերպություններին աջակցության տրամադրում
B16: Նկարագրությունը` | C16: =+Հ1!C23 -> Հայաստանի Հանրապետությունում Լեռնային Ղարաբաղի քաղաքացիներին կեցություն տրամադրած կազմակերպություններին հյուրանոցային ծառայությունների դիմաց ծախսերի փոխհատուցում
B17: Միջոցառման տեսակը` | C17: Տրանսֆերտների տրամադրում
B18: Շահառուների ընտրության չափանիշները` | C18: Կեցության ծառայություններ մատուցող կազմակերպություններ
B19: Արդյունքի չափորոշիչներ
B20: Շահառու կազմակերպությունների թիվը (հատ) | D20: 20 | E20: 20 | F20: 20 | G20: 20
B21: Շահառու քաղաքացիների քանակը (մարդ) | D21: 340 | E21: 340 | F21: 340 | G21: 340
B22: Ծառայության մատոցման ժամանակահատվածը | D22: =+G22 -> 26.01.2023-19.02.2023թթ. | E22: =+G22 -> 26.01.2023-19.02.2023թթ. | F22: =+G22 -> 26.01.2023-19.02.2023թթ. | G22: 26.01.2023-19.02.2023թթ.
B23: Միջոցառման վրա կատարվող ծախսը (հազար դրամ) | D23: =+Հ2!G23 -> 97460.5 | E23: =+Հ2!H23 -> 97460.5 | F23: =+Հ2!I23 -> 97460.5 | G23: =+Հ2!J23 -> 97460.5
G25: Աղյուսակ 9.47
C26: ՀՀ կառավարություն
B27: ՄԱՍ 2. ՊԵՏԱԿԱՆ ՄԱՐՄՆԻ ԳԾՈՎ ԱՐԴՅՈՒՆՔԱՅԻՆ (ԿԱՏԱՐՈՂԱԿԱՆ) ՑՈՒՑԱՆԻՇՆԵՐԸ
B29: Ծրագրի դասիչը | C29: Ծրագրի անվանումը
B30: 1139 | C30: ՀՀ կառավարության պահուստային ֆոնդ
B31: Ծրագրի միջոցառումները
B32: Ծրագրի դասիչը՝ | C32: 1139 | D32: Ցուցանիշների փոփոխությունը (նվազեցումները նշված են փակագծերում)
B33: Միջոցառման դասիչը՝ | C33: 11001 | D33: Առաջին եռամսյակ | E33: Առաջին կիսամյակ | F33: Ինն ամիս | G33: Տարի
B34: Միջոցառման անվանումը՝ | C34: ՀՀ կառավարության պահուստային ֆոնդ
B35: Նկարագրությունը՝ | C35: ՀՀ պետական բյուջեում նախատեսված ելքերի լրացուցիչ ֆինանսավորման՝ պետական բյուջեում չկանխատեսված ելքերի, ինչպես նաև բյուջետային երաշխիքների ապահովման ելքերի ֆինանսավորման ապահովում
B36: Միջոցառման տեսակը՝ | C36: Ծառայությունների մատուցում
B37: Միջոցառումն իրականացնողի անվանումը | C37: ՀՀ կառավարություն
C38: Արդյունքի չափորոշիչներ
B39: Միջոցառման վրա կատարվող ծախսը (հազար դրամ) | D39: =-D23 -> -97460.5 | E39: =-E23 -> -97460.5 | F39: =-F23 -> -97460.5 | G39: =-G23 -> -97460.5
B42: ՀԱՅԱՍՏԱՆԻ ՀԱՆՐԱՊԵՏՈՒԹՅԱՆ
B43: ՎԱՐՉԱՊԵՏԻ ԱՇԽԱՏԱԿԱԶՄԻ
B44: ՂԵԿԱՎԱՐ՝ | E44: Ա. ՀԱՐՈՒԹՅՈՒՆՅԱՆ

Sheet Հ6
G1: Հավելված N 6
G2: ՀՀ կառավարության 2023 թվականի
G3: ______________ ի ___Ն որոշման
B5: ՀԱՅԱՍՏԱՆԻ ՀԱՆՐԱՊԵՏՈՒԹՅԱՆ ԿԱՌԱՎԱՐՈՒԹՅԱՆ 2022 ԹՎԱԿԱՆԻ ԴԵԿՏԵՄԲԵՐԻ 29-Ի N 2111-Ն ՈՐՈՇՄԱՆ N 9.1 ՀԱՎԵԼՎԱԾԻ NN 9.1.7, 9.1.55 ԵՎ 9.1.58 ԱՂՅՈՒՍԱԿՆԵՐՈՒՄ ԿԱՏԱՐՎՈՂ ՓՈՓՈԽՈՒԹՅՈՒՆՆԵՐԸ
G7: Աղյուսակ 9.1.7
B8: ՀՀ տարածքային կառավարման և ենթակառուցվածքների նախարարություն
B9: ՄԱՍ 1. ՊԵՏԱԿԱՆ ՄԱՐՄՆԻ ԳԾՈՎ ԱՐԴՅՈՒՆՔԱՅԻՆ (ԿԱՏԱՐՈՂԱԿԱՆ) ՑՈՒՑԱՆԻՇՆԵՐԸ
B11: Ծրագրի դասիչը | C11: Ծրագրի անվանումը
B12: 1212 | C12: Տարածքային զարգացում
B14: Ծրագրի միջոցառումները
B15: Ծրագրի դասիչը` | C15: 1212 | D15: Ցուցանիշների փոփոխությունը (ավելացումները նշված են դրական նշանով)
B16: Միջոցառման դասիչը` | C16: =+Հ5!C14 -> 12029 | D16: Առաջին եռամսյակ | E16: Առաջին կիսամյակ | F16: Ինն ամիս | G16: Տարի
B17: Միջոցառման անվանումը` | C17: =+Հ5!C15 -> Լաչինի միջանցքի արգելափակման հետևանքով Հայաստանի Հանրապետությունում Լեռնային Ղարաբաղի քաղաքացիներին կացարան տրամադրած կազմակերպություններին աջակցության տրամադրում
B18: Նկարագրությունը` | C18: =+Հ5!C16 -> Հայաստանի Հանրապետությունում Լեռնային Ղարաբաղի քաղաքացիներին կեցություն տրամադրած կազմակերպություններին հյուրանոցային ծառայությունների դիմաց ծախսերի փոխհատուցում
B19: Միջոցառման տեսակը` | C19: =+Հ5!C17 -> Տրանսֆերտների տրամադրում
B20: Շահառուների ընտրության չափանիշները` | C20: =+Հ5!C18 -> Կեցության ծառայություններ մատուցող կազմակերպություններ
B21: Արդյունքի չափորոշիչներ
B22: =+Հ5!B20 -> Շահառու կազմակերպությունների թիվը (հատ) | D22: 3 | E22: 3 | F22: 3 | G22: 3
B23: =+Հ5!B21 -> Շահառու քաղաքացիների քանակը (մարդ) | D23: 40 | E23: 40 | F23: 40 | G23: 40
B24: =+Հ5!B22 -> Ծառայության մատոցման ժամանակահատվածը | D24: =+Հ5!D22 -> 26.01.2023-19.02.2023թթ. | E24: =+Հ5!E22 -> 26.01.2023-19.02.2023թթ. | F24: =+Հ5!F22 -> 26.01.2023-19.02.2023թթ. | G24: =+Հ5!G22 -> 26.01.2023-19.02.2023թթ.
B25: Միջոցառման վրա կատարվող ծախսը (հազար դրամ) | D25: =+E25 -> 8326 | E25: =+F25 -> 8326 | F25: =+G25 -> 8326 | G25: =+Հ2!J31 -> 8326
G27: Աղյուսակ 9.1.55
B28: ՀՀ Սյունիքի մարզպետարան
B29: ՄԱՍ 1. ՊԵՏԱԿԱՆ ՄԱՐՄՆԻ ԳԾՈՎ ԱՐԴՅՈՒՆՔԱՅԻՆ (ԿԱՏԱՐՈՂԱԿԱՆ) ՑՈՒՑԱՆԻՇՆԵՐԸ
B31: Ծրագրի դասիչը | C31: Ծրագրի անվանումը
B32: 1212 | C32: Տարածքային զարգացում
B34: Ծրագրի միջոցառումները
B35: Ծրագրի դասիչը` | C35: 1212 | D35: Ցուցանիշների փոփոխությունը (ավելացումները նշված են դրական նշանով)
B36: Միջոցառման դասիչը` | C36: =+C16 -> 12029 | D36: Առաջին եռամսյակ | E36: Առաջին կիսամյակ | F36: Ինն ամիս | G36: Տարի
B37: Միջոցառման անվանումը` | C37: =+C17 -> Լաչինի միջանցքի արգելափակման հետևանքով Հայաստանի Հանրապետությունում Լեռնային Ղարաբաղի քաղաքացիներին կացարան տրամադրած կազմակերպություններին աջակցության տրամադրում
B38: Նկարագրությունը` | C38: =+C18 -> Հայաստանի Հանրապետությունում Լեռնային Ղարաբաղի քաղաքացիներին կեցություն տրամադրած կազմակերպություններին հյուրանոցային ծառայությունների դիմաց ծախսերի փոխհատուցում
B39: Միջոցառման տեսակը` | C39: =+C19 -> Տրանսֆերտների տրամադրում
B40: Շահառուների ընտրության չափանիշները` | C40: =+C20 -> Կեցության ծառայություններ մատուցող կազմակերպություններ
B41: Արդյունքի չափորոշիչներ
B42: =+B22 -> Շահառու կազմակերպությունների թիվը (հատ) | D42: 17 | E42: 17 | F42: 17 | G42: 17
B43: =+Հ5!B21 -> Շահառու քաղաքացիների քանակը (մարդ) | D43: 300 | E43: 300 | F43: 300 | G43: 300
B44: =+Հ5!B22 -> Ծառայության մատոցման ժամանակահատվածը | D44: =+Հ5!D22 -> 26.01.2023-19.02.2023թթ. | E44: =+Հ5!E22 -> 26.01.2023-19.02.2023թթ. | F44: =+Հ5!F22 -> 26.01.2023-19.02.2023թթ. | G44: =+Հ5!G22 -> 26.01.2023-19.02.2023թթ.
B45: Միջոցառման վրա կատարվող ծախսը (հազար դրամ) | D45: =+E45 -> 89134.5 | E45: =+F45 -> 89134.5 | F45: =+G45 -> 89134.5 | G45: =+Հ2!J32 -> 89134.5
G47: Աղյուսակ 9.1.58
C48: ՀՀ կառավարություն
B49: ՄԱՍ 1. ՊԵՏԱԿԱՆ ՄԱՐՄՆԻ ԳԾՈՎ ԱՐԴՅՈՒՆՔԱՅԻՆ (ԿԱՏԱՐՈՂԱԿԱՆ) ՑՈՒՑԱՆԻՇՆԵՐԸ
B51: Ծրագրի դասիչը | C51: Ծրագրի անվանումը
B52: 1139 | C52: ՀՀ կառավարության պահուստային ֆոնդ
B54: Ծրագրի միջոցառումները
B55: Ծրագրի դասիչը՝ | C55: 1139 | D55: Ցուցանիշների փոփոխությունը (նվազեցումները նշված են փակագծերում)
B56: Միջոցառման դասիչը՝ | C56: 11001 | D56: Առաջին եռամսյակ | E56: Առաջին կիսամյակ | F56: Ինն ամիս | G56: Տարի
B57: Միջոցառման անվանումը՝ | C57: ՀՀ կառավարության պահուստային ֆոնդ
B58: Նկարագրությունը՝ | C58: ՀՀ պետական բյուջեում նախատեսված ելքերի լրացուցիչ ֆինանսավորման՝ պետական բյուջեում չկանխատեսված ելքերի, ինչպես նաև բյուջետային երաշխիքների ապահովման ելքերի ֆինանսավորման ապահովում
B59: Միջոցառման տեսակը՝ | C59: Ծառայությունների մատուցում
B60: Միջոցառումն իրականացնողի անվանումը | C60: ՀՀ կառավարություն
C61: Արդյունքի չափորոշիչներ
B62: Միջոցառման վրա կատարվող ծախսը (հազար դրամ) | D62: =-D45-D25 -> -97460.5 | E62: =-E45-E25 -> -97460.5 | F62: =-F45-F25 -> -97460.5 | G62: =-G45-G25 -> -97460.5
A66: ՀԱՅԱՍՏԱՆԻ ՀԱՆՐԱՊԵՏՈՒԹՅԱՆ
A67: ՎԱՐՉԱՊԵՏԻ ԱՇԽԱՏԱԿԱԶՄԻ
B68: ՂԵԿԱՎԱՐ՝ Ա.ՀԱՐՈՒԹՅՈՒՆՅԱՆ

Sheet Հ7
H1: Հավելված N 7
H2: ՀՀ կառավարության 2023 թվականի
H3: ______________ ի ___Ն որոշման
B5: ՀԱՅԱՍՏԱՆԻ ՀԱՆՐԱՊԵՏՈՒԹՅԱՆ ԿԱՌԱՎԱՐՈՒԹՅԱՆ 2022 ԹՎԱԿԱՆԻ ԴԵԿՏԵՄԲԵՐԻ 29-Ի N 2111-Ն ՈՐՈՇՄԱՆ N 10 ՀԱՎԵԼՎԱԾՈՒՄ ԿԱՏԱՐՎՈՂ ՓՈՓՈԽՈՒԹՅՈՒՆՆԵՐԸ
B6: Կոդը | C6: Անվանումը | D6: Գնման ձևը | E6: Չափման միավորը | F6: Միավորի գինը | G6: Ցուցանիշների փոփոխությունը (ավելացումները նշված են դրական նշանով)
G7: Քանակը | H7: Գումարը (հազար դրամով)
B8: ՀՀ Սյունիքի մարզպետարան | H8: =+H9 -> 89134.5
B9: Բաժին N 01 | C9: Խումբ N 08 | D9: Դաս N 01 | E9: Կառավարության տարբեր մակարդակների միջև իրականացվող ընդհանուր բնույթի տրանսֆերտներ | H9: =+H10 -> 89134.5
B10: 1212 12029 | C10: Լաչինի միջանցքի արգելափակման հետևանքով Հայաստանի Հանրապետությունում Լեռնային Ղարաբաղի քաղաքացիներին կացարան տրամադրած կազմակերպություններին աջակցության տրամադրում | H10: =+H11 -> 89134.5
B11: ՄԱՍ III. ԾԱՌԱՅՈՒԹՅՈՒՆՆԵՐ | H11: =SUM(H12:H13) -> 89134.5
B12: 60141100 | C12: Ոչ կանոնավոր ուղևորափոխադրման ծառայություններ | D12: ՀՄԱ | E12: դրամ | F12: 6380000 | G12: 1 | H12: =+G12*F12/1000 -> 6380
B13: 55111300 | C13: Այլ հյուրանոցային ծառայություններ | D13: ՀՄԱ | E13: դրամ | F13: =+Հ6!G45*1000-F12 -> 82754500 | G13: 1 | H13: =+G13*F13/1000 -> 82754.5
A16: ՀԱՅԱՍՏԱՆԻ ՀԱՆՐԱՊԵՏՈՒԹՅԱՆ
A17: ՎԱՐՉԱՊԵՏԻ ԱՇԽԱՏԱԿԱԶՄԻ
B18: ՂԵԿԱՎԱՐ՝ Ա.ՀԱՐՈՒԹՅՈՒՆՅԱՆ
