Workbook
Name a: #REF!
Name a: #REF!
Name a: #REF!
Name a: #REF!
Name AgencyCode: #REF!
Name AgencyCode: #REF!
Name AgencyCode: #REF!
Name AgencyCode: #REF!
Name AgencyCode: #REF!
Name AgencyName: #REF!
Name AgencyName: #REF!
Name AgencyName: #REF!
Name AgencyName: #REF!
Name AgencyName: #REF!
Name davit: #REF!
Name davit: #REF!
Name davit: #REF!
Name davit: #REF!
Name Functional1: #REF!
Name Functional1: #REF!
Name Functional1: #REF!
Name Functional1: #REF!
Name Functional1: #REF!
Name ggg: #REF!
Name ggg: #REF!
Name ggg: #REF!
Name ggg: #REF!
Name PANature: #REF!
Name PANature: #REF!
Name PANature: #REF!
Name PANature: #REF!
Name PANature: #REF!
Name PAType: #REF!
Name PAType: #REF!
Name PAType: #REF!
Name PAType: #REF!
Name PAType: #REF!
Name Performance2: #REF!
Name Performance2: #REF!
Name Performance2: #REF!
Name Performance2: #REF!
Name Performance2: #REF!
Name PerformanceType: #REF!
Name PerformanceType: #REF!
Name PerformanceType: #REF!
Name PerformanceType: #REF!
Name PerformanceType: #REF!
Name Հավելված: #REF!
Name Հավելված: #REF!
Name Հավելված: #REF!
Name Հավելված: #REF!
Name Մաս: #REF!
Name Մաս: #REF!
Name Մաս: #REF!
Name Մաս: #REF!
Name շախմատիստ: #REF!
Name շախմատիստ: #REF!
Name շախմատիստ: #REF!
Name շախմատիստ: #REF!

Sheet Հավելված N 1
C1: Հավելված N 1
C2: ՀՀ կառավարության 2022 թվականի
C3: ______________ ի ___Ն որոշման
A7: «ՀԱՅԱUՏԱՆԻ ՀԱՆՐԱՊԵՏՈՒԹՅԱՆ 2022 ԹՎԱԿԱՆԻ ՊԵՏԱԿԱՆ ԲՅՈՒՋԵԻ ՄԱUԻՆ» ՀԱՅԱUՏԱՆԻ ՀԱՆՐԱՊԵՏՈՒԹՅԱՆ OՐԵՆՔԻ N 1 ՀԱՎԵԼՎԱԾԻ N 2 ԱՂՅՈՒՍԱԿՈՒՄ ԿԱՏԱՐՎՈՂ ՎԵՐԱԲԱՇԽՈՒՄԸ ԵՎ ՀԱՅԱՍՏԱՆԻ ՀԱՆՐԱՊԵՏՈՒԹՅԱՆ ԿԱՌԱՎԱՐՈՒԹՅԱՆ 2021 ԹՎԱԿԱՆԻ ԴԵԿՏԵՄԲԵՐԻ 23-Ի N 2121-Ն ՈՐՈՇՄԱՆ N 5 ՀԱՎԵԼՎԱԾԻ N 1 ԱՂՅՈՒՍԱԿՈՒՄ ԿԱՏԱՐՎՈՂ ՓՈՓՈԽՈՒԹՅՈՒՆՆԵՐԸ
D10: հազ. դրամներով
A11: Ծրագրային դասիչը | C11: Բյուջետային հատկացումների գլխավոր կարգադրիչների, ծրագրերի և միջոցառումների անվանումները | D11: Ցուցանիշների փոփոխությունը (ավելացումները նշված են դրական նշանով, իսկ նվազեցումները՝ փակագծերում)
A12: Ծրագիր | B12: Միջոցառում | D12: Տարի
A13: 1192 | C13: ԸՆԴԱՄԵՆԸ | D13: =+D15+D106 -> 0
C14: այդ թվում
C15: ՀՀ ԿՐԹՈՒԹՅԱՆ, ԳԻՏՈՒԹՅԱՆ, ՄՇԱԿՈՒՅԹԻ ԵՎ ՍՊՈՐՏԻ ՆԱԽԱՐԱՐՈՒԹՅՈՒՆ | D15: =+D17+D30+D43+D62+D81 -> -2338806.3
A16: 1045 | C16: Ծրագրի անվանումը`
C17: Նախնական (արհեստագործական) և միջին մասնագիտական կրթություն | D17: =+D24 -> -200000
C18: Ծրագրի նպատակը`
C19: Աշխատաշուկայի արդի պահանջներին համապատասխան նախնական մասնագիտական (արհեստագործական) և միջին մասնագիտական կրթության որակավորում ունեցող մասնագետների պատրաստում, կրթության մատչելիության ապահովում:
C20: Վերջնական արդյունքի նկարագրությունը`
C21: Նախնական (արհեստագործական) և միջին մասնագիտական կրթության գրավչության բարձրացում, մատչելի և մրցունակ նախնական (արհեստագործական) և միջին մասնագիտական կրթության ապահովում
C22: Ծրագրի միջոցառումներ
B23: 12004 | C23: Միջոցառման անվանումը`
C24: Միջին մասնագիտական կրթության գծով ուսանողական նպաստների տրամադրում | D24: =+'Հավելված N 2'!G71 -> -200000
C25: Միջոցառման նկարագրությունը`
C26: Միջին մասնագիտական կրթության գծով ուսանողական նպաստների տրամադրում
C27: Միջոցառման տեսակը
C28: Տրանսֆերտների տրամադրում
A29: 1111 | C29: Ծրագրի անվանումը`
C30: Բարձրագույն և հետբուհական մասնագիտական կրթության ծրագիր | D30: =+D37 -> -1330000
C31: Ծրագրի նպատակը`
C32: Ապահովել մատչելի, որակյալ և մրցունակ բարձրագույն և հետբուհական մասնագիտական կրթություն
C33: Վերջնական արդյունքի նկարագրությունը`
C34: Գիտելիքների տնտեսության և գիտության զարգացման արդի պահանջներին համապատասխան բարձրագույն և հետբուհական մասնագիտական որակավորում ունեցող մասնագետների պատրաստում
C35: Ծրագրի միջոցառումներ
B36: 12004 | C36: Միջոցառման անվանումը`
C37: Բարձրագույն մասնագիտական կրթության գծով ուսանողական նպաստների տրամադրում | D37: =+'Հավելված N 2'!G88 -> -1330000
C38: Միջոցառման նկարագրությունը`
C39: Բարձրագույն մասնագիտական կրթություն ստացող ուսանողների նպաստներ
C40: Միջոցառման տեսակը
C41: Տրանսֆերտների տրամադրում
A42: 1146 | C42: Ծրագրի անվանումը`
C43: Հանրակրթության ծրագիր | D43: =+D50+D56 -> -272138.1
C44: Ծրագրի նպատակը`
C45: Ապահովել անվճար և որակյալ հանրակրթություն
C46: Վերջնական արդյունքի նկարագրությունը`
C47: Մտավոր, հոգևոր, ֆիզիկական և սոցիալական ունակությունների համակողմանի ու ներդաշնակ զարգացմամբ, հայրենասիրության, պետականության և մարդասիրության ոգով դաստիրակված, պատշաճ վարքով և վարվելակերպով անձի ձևավորում
C48: Ծրագրի միջոցառումներ
B49: 11001 | C49: Միջոցառման անվանումը`
C50: Տարրական ընդհանուր հանրակրթություն | D50: =+'Հավելված N 2'!G54 -> -66730
C51: Միջոցառման նկարագրությունը`
C52: Պարտադիր կրթության առաջին մակարդակում սովորողների ընդգրկվածության, գրագիտության և համակողմանի զարգացման բարձր մակարդակի ապահովում
C53: Միջոցառման տեսակը
C54: Ծառայությունների մատուցում
B55: 12010 | C55: Միջոցառման անվանումը`
C56: «Մոդուլային» տիպի մանկապարտեզների շենքային ապահովում | D56: =+'Հավելված N 2'!G105 -> -205408.1
C57: Միջոցառման նկարագրությունը`
C58: Համայնքներում «Մոդուլային» տիպի մանկապարտեզների կառուցում և նախագծում
C59: Միջոցառման տեսակը
C60: Տրանսֆերտների տրամադրում
A61: 1168 | C61: Ծրագրի անվանումը`
C62: Արվեստների ծրագիր | D62: =+D69+D75 -> -85461.3
C63: Ծրագրի նպատակը`
C64: Նպաստել ազգային հենքի վրա ժամանակակից թատերարվեստի, երաժշտարվեստի, կերպարվեստի և պարարվեստի զարգացմանը և հանրահռչակմանը
C65: Վերջնական արդյունքի նկարագրությունը`
C66: Մրցունակ արվեստային արտադրանքի ստեղծում, ստեղծագործական գործընթացների խթանում, արվեստի նոր նախագծերի ներդրում և մշակութային կյանքում հասարակության ներգրավում
C67: Ծրագրի միջոցառումներ
B68: 32001 | C68: Միջոցառման անվանումը`
C69: Ներդրումներ թատրոնների շենքերի կապիտալ վերանորոգման համար | D69: =+'Հավելված N 2'!G24 -> -16326.6
C70: Միջոցառման նկարագրությունը`
C71: Թատրոնների շենքերի մասնաշենքերի հիմնանորոգում, համաշինարարական աշխատանքներ, ջեռուցման համակարգի իրականացում, ներքին հարդարում, տարածքի բարեկարգում և նախագծում
C72: Միջոցառման տեսակը
C73: Այլ պետական կազմակերպությունների կողմից օգտագործվող ոչ ֆինանսական ակտիվների հետ գործառնություններ
B74: 32007 | C74: Միջոցառման անվանումը`
C75: Թատերահամերգային կազմակերպությունների նյութատեխնիկական բազայի համալրում | D75: =+'Հավելված N 2'!G35 -> -69134.7
C76: Միջոցառման նկարագրությունը`
C77: Թատերահամերգային կազմակերպությունների համար անհրաժեշտ տեխնիկայի և սարքավորումենրի ձեռքբերում
C78: Միջոցառման տեսակը
C79: Այլ պետական կազմակերպությունների կողմից օգտագործվող ոչ ֆինանսական ակտիվների հետ գործառնություններ
A80: 1183 | C80: Ծրագրի անվանումը`
C81: Ապահով դպրոց | D81: =+D88+D94+D100 -> -451206.9
C82: Ծրագրի նպատակը`
C83: Դպրոցներին սպառնացող աղետների ռիսկի կառավարման կարողությունների հզորացում, դպրոցի անձնակազմի և աշակերտների անվտանգության ապահովման մակարդակի բարձրացում՛ կիրառելով ներառական և երեխայակենտրոն մոտեցում
C84: Վերջնական արդյունքի նկարագրությունը`
C85: Դպրոցական միջավայրի բարելավում
C86: Ծրագրի միջոցառումներ
B87: 11001 | C87: Միջոցառման անվանումը`
C88: Դպրոցների համալիր անվտանգության ապահովում | D88: =+'Հավելված N 2'!G116 -> -4890.5
C89: Միջոցառման նկարագրությունը`
C90: Օժանդակություն հանրակրթական ուսումնական հաստատություններին ԱՌԿ պլանների իրականացմանը
C91: Միջոցառման տեսակը
C92: Ծառայությունների մատուցում
B93: 32007 | C93: Միջոցառման անվանումը`
C94: Հանրակրթական կրթություն իրականացնող ուսումնական հաստատությունների նոր մարզադահլիճների կառուցում | D94: =+'Հավելված N 2'!G125 -> -145971.5
C95: Միջոցառման նկարագրությունը`
C96: Հանրակրթական ուսուցում իրականացնող ուսումնական հաստատությունների նոր մարզադահլիճների կառուցման նախագծանախահաշվային փաստաթղթերի մշակում
C97: Միջոցառման տեսակը
C98: Այլ պետական կազմակերպությունների կողմից օգտագործվող ոչ ֆինանսական ակտիվների հետ գործառնություններ
B99: 32012 | C99: Միջոցառման անվանումը`
C100: Հանրակրթական դպրոցների գույքով և տեխնիկայով ապահովում | D100: =+'Հավելված N 2'!G134 -> -300344.9
C101: Միջոցառման նկարագրությունը`
C102: Կրթական ժամանակակից նորմերին համապատասխանող գույքի ձեռքբերում
C103: Միջոցառման տեսակը
C104: Այլ պետական կազմակերպությունների կողմից օգտագործվող ոչ ֆինանսական ակտիվների հետ գործառնություններ
C106: ՀՀ ՊԱՇՏՊԱՆՈՒԹՅԱՆ ՆԱԽԱՐԱՐՈՒԹՅՈՒՆ | D106: =+D108 -> 2338806.3
...

Sheet Հավելված N 2
F1: Հավելված N 2
F2: ՀՀ կառավարության 2022 թվականի
F3: ______________ ի ___Ն որոշման
A6: ՀԱՅԱՍՏԱՆԻ ՀԱՆՐԱՊԵՏՈՒԹՅԱՆ ԿԱՌԱՎԱՐՈՒԹՅԱՆ 2021 ԹՎԱԿԱՆԻ ԴԵԿՏԵՄԲԵՐԻ 23-Ի N2121-Ն ՈՐՈՇՄԱՆ N 3 ԵՎ N 4 ՀԱՎԵԼՎԱԾՆԵՐՈՒՄ ԿԱՏԱՐՎՈՂ ՓՈՓՈԽՈՒԹՅՈՒՆՆԵՐԸ
G8: հազ. դրամներով
A9: Գործառական դասիչը | D9: Ծրագրային դասիչը | F9: Բյուջետային հատկացումների գլխավոր կարգադրիչների, ծրագրերի, միջոցառումների և միջոցառումները կատարող պետական մարմինների անվանումները | G9: Ցուցանիշների փոփոխությունը (ավելացումները նշված են դրական նշանով, իսկ նվազեցումները՝ փակագծերում)
A10: Բաժին | B10: Խումբ | C10: Դաս | D10: Ծրագիր | E10: Միջոցառում | G10: Տարի
F11: ԸՆԴԱՄԵՆԸ | G11: =+G13+G144 -> 0
F12: այդ թվում
F13: ՀՀ ԿՐԹՈՒԹՅԱՆ, ԳԻՏՈՒԹՅԱՆ, ՄՇԱԿՈՒՅԹԻ ԵՎ ՍՊՈՐՏԻ ՆԱԽԱՐԱՐՈՒԹՅՈՒՆ | G13: =+G14+G44 -> -2338806.3
A14: 08 | F14: ՀԱՆԳԻՍՏ, ՄՇԱԿՈՒՅԹ ԵՎ ԿՐՈՆ | G14: =+G16 -> -85461.3
F15: այդ թվում`
B16: 02 | F16: Մշակութային ծառայություններ | G16: =+G18 -> -85461.3
F17: այդ թվում`
C18: 05 | F18: Արվեստ | G18: =+G20 -> -85461.3
F19: այդ թվում`
F20: ՀՀ կրթության, գիտության, մշակույթի և սպորտի նախարարություն | G20: =+G22 -> -85461.3
F21: այդ թվում`
D22: 1168 | E22: Արվեստների ծրագիր | G22: =+G24+G35 -> -85461.3
F23: այդ թվում`
E24: 32001 | F24: Ներդրումներ թատրոնների շենքերի կապիտալ վերանորոգման համար | G24: =+G26 -> -16326.6
F25: այդ թվում` ըստ կատարողների
F26: ՀՀ կրթության, գիտության, մշակույթի և սպորտի նախարարություն | G26: =+G28 -> -16326.6
F27: այդ թվում՝ բյուջետային ծախսերի տնտեսագիտական դասակարգման հոդվածներ
F28: ԸՆԴԱՄԵՆԸ ԾԱԽՍԵՐ | G28: =+G29 -> -16326.6
F29: ՈՉ ՖԻՆԱՆՍԱԿԱՆ ԱԿՏԻՎՆԵՐԻ ԳԾՈՎ ԾԱԽՍԵՐ | G29: =+G30 -> -16326.6
F30: ՀԻՄՆԱԿԱՆ ՄԻՋՈՑՆԵՐ | G30: =+G31 -> -16326.6
F31: ՇԵՆՔԵՐ ԵՎ ՇԻՆՈՒԹՅՈՒՆՆԵՐ | G31: =+G32+G33 -> -16326.6
F32: - Շենքերի և շինությունների կապիտալ վերանորոգում | G32: =+'Հավելված N 3'!D22 -> -12653.9
F33: ԱՅԼ ՀԻՄՆԱԿԱՆ ՄԻՋՈՑՆԵՐ | G33: =+G34 -> -3672.7
F34: - Նախագծահետազոտական ծախսեր | G34: =+'Հավելված N 3'!D23 -> -3672.7
E35: 32007 | F35: Թատերահամերգային կազմակերպությունների նյութատեխնիկական բազայի համալրում | G35: =+G37 -> -69134.7
F36: այդ թվում` ըստ կատարողների
F37: ՀՀ կրթության, գիտության, մշակույթի և սպորտի նախարարություն | G37: =+G39 -> -69134.7
F38: այդ թվում՝ բյուջետային ծախսերի տնտեսագիտական դասակարգման հոդվածներ
F39: ԸՆԴԱՄԵՆԸ ԾԱԽՍԵՐ | G39: =+G40 -> -69134.7
F40: ՈՉ ՖԻՆԱՆՍԱԿԱՆ ԱԿՏԻՎՆԵՐԻ ԳԾՈՎ ԾԱԽՍԵՐ | G40: =+G41 -> -69134.7
F41: ՀԻՄՆԱԿԱՆ ՄԻՋՈՑՆԵՐ | G41: =+G42 -> -69134.7
F42: ՄԵՔԵՆԱՆԵՐ ԵՎ ՍԱՐՔԱՎՈՐՈՒՄՆԵՐ | G42: =+G43 -> -69134.7
F43: - Վարչական սարքավորումներ | G43: =+'Հավելված N 4'!E31 -> -69134.7
A44: 09 | F44: ԿՐԹՈՒԹՅՈՒՆ | G44: =+G46+G63+G80+G97 -> -2253345
F45: այդ թվում`
B46: 01 | F46: Նախադպրոցական և տարրական ընդհանուր կրթություն | G46: =+G48 -> -66730
F47: այդ թվում`
C48: 02 | F48: Տարրական ընդհանուր կրթություն | G48: =+G50 -> -66730
F49: այդ թվում`
F50: ՀՀ կրթության, գիտության, մշակույթի և սպորտի նախարարություն | G50: =+G52 -> -66730
F51: այդ թվում՝
D52: 1146 | E52: Հանրակրթության ծրագիր | G52: =+G54 -> -66730
F53: այդ թվում`
E54: 11001 | F54: Տարրական ընդհանուր հանրակրթություն | G54: =+G56 -> -66730
F55: այդ թվում` ըստ կատարողների
F56: ՀՀ տարածքային կառավարման և ենթակառուցվածքների նախարարություն | G56: =G58 -> -66730
F57: այդ թվում՝ բյուջետային ծախսերի տնտեսագիտական դասակարգման հոդվածներ
F58: ԸՆԴԱՄԵՆԸ ԾԱԽՍԵՐ | G58: =+G59 -> -66730
F59: ԸՆԹԱՑԻԿ ԾԱԽՍԵՐ | G59: =G60 -> -66730
F60: ՍՈՒԲՍԻԴԻԱՆԵՐ | G60: =+G61 -> -66730
F61: Սուբսիդիաներ պետական կազմակերպություններին | G61: =+G62 -> -66730
F62: - Սուբսիդիաներ ոչ ֆինանսական պետական կազմակերպություններին | G62: -66730
B63: 03 | F63: Նախնական մասնագիտական (արհեստագործական) և միջին մասնագիտական կրթություն | G63: =+G65 -> -200000
F64: այդ թվում`
C65: 02 | F65: Միջին մասնագիտական կրթություն | G65: =+G67 -> -200000
F66: այդ թվում`
F67: ՀՀ կրթության, գիտության, մշակույթի և սպորտի նախարարություն | G67: =+G69 -> -200000
F68: այդ թվում՝
D69: 1045 | E69: Նախնական (արհեստագործական) և միջին մասնագիտական կրթություն | G69: =+G71 -> -200000
F70: այդ թվում`
E71: 12004 | F71: Միջին մասնագիտական կրթության գծով ուսանողական նպաստների տրամադրում | G71: =+G73 -> -200000
F72: այդ թվում` ըստ կատարողների
F73: ՀՀ կրթության, գիտության, մշակույթի և սպորտի նախարարություն | G73: =G75 -> -200000
F74: այդ թվում՝ բյուջետային ծախսերի տնտեսագիտական դասակարգման հոդվածներ
F75: ԸՆԴԱՄԵՆԸ ԾԱԽՍԵՐ | G75: =+G76 -> -200000
F76: ԸՆԹԱՑԻԿ ԾԱԽՍԵՐ | G76: =G77 -> -200000
F77: ՍՈՑԻԱԼԱԿԱՆ ՆՊԱՍՏՆԵՐ ԵՎ ԿԵՆՍԱԹՈՇԱԿՆԵՐ | G77: =+G78 -> -200000
F78: Սոցիալական օգնության դրամական արտահայտությամբ նպաստներ (բյուջեից) | G78: =+G79 -> -200000
F79: - Այլ նպաստներ բյուջեից | G79: -200000
B80: 04 | F80: Բարձրագույն կրթություն | G80: =+G82 -> -1330000
F81: այդ թվում`
C82: 01 | F82: Բարձրագույն մասնագիտական կրթություն | G82: =+G84 -> -1330000
F83: այդ թվում`
F84: ՀՀ կրթության, գիտության, մշակույթի և սպորտի նախարարություն | G84: =+G86 -> -1330000
F85: այդ թվում՝
D86: 1111 | E86: Բարձրագույն և հետբուհական մասնագիտական կրթության ծրագիր | G86: =+G88 -> -1330000
F87: այդ թվում`
E88: 12004 | F88: Բարձրագույն մասնագիտական կրթության գծով ուսանողական նպաստների տրամադրում | G88: =+G90 -> -1330000
F89: այդ թվում` ըստ կատարողների
F90: ՀՀ կրթության, գիտության, մշակույթի և սպորտի նախարարություն | G90: =G92 -> -1330000
F91: այդ թվում՝ բյուջետային ծախսերի տնտեսագիտական դասակարգման հոդվածներ
F92: ԸՆԴԱՄԵՆԸ ԾԱԽՍԵՐ | G92: =+G93 -> -1330000
F93: ԸՆԹԱՑԻԿ ԾԱԽՍԵՐ | G93: =G94 -> -1330000
F94: ՍՈՑԻԱԼԱԿԱՆ ՆՊԱՍՏՆԵՐ ԵՎ ԿԵՆՍԱԹՈՇԱԿՆԵՐ | G94: =+G95 -> -1330000
F95: Սոցիալական օգնության դրամական արտահայտությամբ նպաստներ (բյուջեից) | G95: =+G96 -> -1330000
F96: - Այլ նպաստներ բյուջեից | G96: -1330000
B97: 06 | F97: Կրթությանը տրամադրվող օժանդակ ծառայություններ | G97: =+G99 -> -656615
F98: այդ թվում`
C99: 01 | F99: Կրթությանը տրամադրվող օժանդակ ծառայություններ | G99: =+G101 -> -656615
F100: այդ թվում`
F101: ՀՀ կրթության, գիտության, մշակույթի և սպորտի նախարարություն | G101: =+G103+G114 -> -656615
F102: այդ թվում՝
D103: 1146 | E103: Հանրակրթության ծրագիր | G103: =+G105 -> -205408.1
...

Sheet Հավելված N 3
F1: Հավելված N 3
F2: ՀՀ կառավարության 2022 թվականի
F3: ______________ ի ___Ն որոշման
A5: «ՀԱՅԱUՏԱՆԻ ՀԱՆՐԱՊԵՏՈՒԹՅԱՆ 2022 ԹՎԱԿԱՆԻ ՊԵՏԱԿԱՆ ԲՅՈՒՋԵԻ ՄԱUԻՆ» ՀԱՅԱUՏԱՆԻ ՀԱՆՐԱՊԵՏՈՒԹՅԱՆ OՐԵՆՔԻ N 1 ՀԱՎԵԼՎԱԾԻ N 3 ԱՂՅՈՒՍԱԿՈՒՄ ԿԱՏԱՐՎՈՂ ՓՈՓՈԽՈՒԹՅՈՒՆՆԵՐԸ ԵՎ ԼՐԱՑՈՒՄԸ
H8: հազ. դրամներով
A9: Ծրագրային դասիչ | C9: Բյուջետային գլխավոր կարգադրիչների, ծրագրերի, միջոցառումների և ուղղությունների անվանումները | D9: Ընդամենը | E9: Ցուցանիշների փոփոխությունը (ավելացումները նշված են դրական նշանով, իսկ նվազեցումները՝ փակագծերում)
A10: Ծրագիր | B10: Միջոցառում | E10: Կառուցման աշխատանքներ | F10: Վերակառուցման, վերանորոգման և վերականգնման աշխատանքներ | G10: Նախագծահե- տազոտական, գեոդեզիա- քարտեզագրա- կան աշխա- տանքներ | H10: Ոչ ֆինանսական այլ ակտիվների ձեռքբերում
C11: ԸՆԴԱՄԵՆԸ | D11: =SUM(E11:H11) -> 1601620.5 | E11: =+E13+E56 -> 1987426.7 | F11: =+F13+F56 -> -12653.9 | G11: =+G13+G56 -> -3672.7 | H11: =+H13+H56 -> -369479.6
C12: այդ թվում՝
C13: ՀՀ ԿՐԹՈՒԹՅԱՆ, ԳԻՏՈՒԹՅԱՆ, ՄՇԱԿՈՒՅԹԻ ԵՎ ՍՊՈՐՏԻ ՆԱԽԱՐԱՐՈՒԹՅՈՒՆ | D13: =SUM(E13:H13) -> -737185.8 | E13: =+E15+E19+E24+E31+E38 -> -351379.6 | F13: =+F15+F19+F24+F31+F38 -> -12653.9 | G13: =+G15+G19+G24+G31+G38 -> -3672.7 | H13: =+H15+H19+H24+H31+H38 -> -369479.6
C14: այդ թվում`
A15: 1146 | B15: 12010 | C15: «Մոդուլային» տիպի մանկապարտեզների շենքային ապահովում | D15: =+E15+F15+G15+H15 -> -205408.1 | E15: =+E17 -> -205408.1 | F15: =+F17 -> 0 | G15: =+G17 -> 0 | H15: =+H17 -> 0
C16: այդ թվում`
C17: ՀՀ Արմավիրի մարզ | D17: =SUM(E17:H17) -> -205408.1 | E17: =+E18 -> -205408.1 | F17: =+F18 -> 0 | G17: =+G18 -> 0 | H17: =+H18 -> 0
C18: ՀՀ Արմավիրի մարզի Արևիկ համայնքում «Մոդուլային» տիպի 144 տեղ հզորությամբ մսուր-մանկապարտեզ | D18: =+E18+F18+G18+H18 -> -205408.1 | E18: =+'Հավելված N 8'!I62+'Հավելված N 8'!I64+'Հավելված N 8'!I65 -> -205408.1
A19: 1168 | B19: 32001 | C19: Ներդրումներ թատրոնների շենքերի կապիտալ վերանորոգման համար | D19: =+E19+F19+G19+H19 -> -16326.6 | E19: =+E21 -> 0 | F19: =+F21 -> -12653.9 | G19: =+G21 -> -3672.7 | H19: =+H21 -> 0
C20: այդ թվում`
C21: Երևան քաղաք | D21: =SUM(E21:H21) -> -16326.6 | E21: =+E22+E23 -> 0 | F21: =+F22+F23 -> -12653.9 | G21: =+G22+G23 -> -3672.7 | H21: =+H22+H23 -> 0
C22: «Ալ․ Սպենդիարյանի անվանա օպերայի և բալետի ազգային ակադեմիական թատրոն» ՊՈԱԿ /հակահրդեհային/ և /ցածր լարման կայաններ/ | D22: =+E22+F22+G22+H22 -> -12653.9 | F22: =+'Հավելված N 8'!I14 -> -12653.9
C23: «Հայաստանի պետական սիմֆոնիկ նվագախումբ» ՊՈԱԿ | D23: =+E23+F23+G23+H23 -> -3672.7 | G23: =+'Հավելված N 8'!I16+'Հավելված N 8'!I17 -> -3672.7
A24: 1168 | B24: 32007 | C24: Թատերահամերգային կազմակերպությունների նյութատեխնիկական բազայի համալրում | D24: =+E24+F24+G24+H24 -> -69134.7 | E24: =+E26 -> 0 | F24: =+F26 -> 0 | G24: =+G26 -> 0 | H24: =+H26 -> -69134.7
C25: այդ թվում`
C26: Երևան քաղաք | D26: =SUM(E26:H26) -> -69134.7 | E26: =+E27+E28+E29+E30 -> 0 | F26: =+F27+F28+F29+F30 -> 0 | G26: =+G27+G28+G29+G30 -> 0 | H26: =+H27+H28+H29+H30 -> -69134.7
C27: «Կամերային երաժշտության ազգային կենտրոն» ՊՈԱԿ | D27: =+E27+F27+G27+H27 -> -462.9 | H27: =+'Հավելված N 8'!I20+'Հավելված N 8'!I22 -> -462.9
C28: «Հայաստանի երգի պետական թատրոն» ՊՈԱԿ | D28: =+E28+F28+G28+H28 -> -5002.5 | H28: =+'Հավելված N 8'!I21+'Հավելված N 8'!I23 -> -5002.5
C29: «Հ. Պարոնյանի անվան երաժշտական կոմեդիայի պետական թատրոն» ՊՈԱԿ | D29: =+E29+F29+G29+H29 -> -60369.3 | H29: =+'Հավելված N 8'!I24+'Հավելված N 8'!I25+'Հավելված N 8'!I26+'Հավելված N 8'!I27+'Հավելված N 8'!I28 -> -60369.3
C30: «Հայաստանի էստրադային ջազ նվագախումբ» ՊՈԱԿ | D30: =+E30+F30+G30+H30 -> -3300 | H30: =+'Հավելված N 8'!I29+'Հավելված N 8'!I30 -> -3300
A31: 1183 | B31: 32007 | C31: Հանրակրթական կրթություն իրականացնող ուսումնական հաստատությունների նոր մարզադահլիճների կառուցում | D31: =SUM(E31:H31) -> -145971.5 | E31: =+E33 -> -145971.5 | F31: =+F33 -> 0 | G31: =+G33 -> 0 | H31: =+H33 -> 0
C32: այդ թվում`
C33: Երևան քաղաք | D33: =SUM(E33:H33) -> -145971.5 | E33: =+E34+E35+E36+E37 -> -145971.5 | F33: =+F34+F35+F36+F37 -> 0 | G33: =+G34+G35+G36+G37 -> 0 | H33: =+H34+H35+H36+H37 -> 0
C34: «Երևանի Միքայել Նալբանդյանի անվան հ.33 հիմնական դպրոց» ՊՈԱԿ | D34: =SUM(E34:H34) -> -25328.6 | E34: =+'Հավելված N 8'!I47+'Հավելված N 8'!I52+'Հավելված N 8'!I56 -> -25328.6
C35: «Երևանի Ս. Խանզադյանի անվան հ. 184 ավագ դպրոց» ՊՈԱԿ | D35: =SUM(E35:H35) -> -19615.8 | E35: =+'Հավելված N 8'!I48+'Հավելված N 8'!I53+'Հավելված N 8'!I57 -> -19615.8
C36: «Երևանի Ա. Երզնկյանի անվան հ. 118 ավագ դպրոց» ՊՈԱԿ | D36: =SUM(E36:H36) -> -55353.9 | E36: =+'Հավելված N 8'!I50+'Հավելված N 8'!I54+'Հավելված N 8'!I58 -> -55353.9
C37: «Երևանի Սիլվա Կապուտիկյանի անվան հ. 145 հիմնական դպրոց» ՊՈԱԿ | D37: =SUM(E37:H37) -> -45673.2 | E37: =+'Հավելված N 8'!I49+'Հավելված N 8'!I55+'Հավելված N 8'!I59 -> -45673.2
A38: 1183 | B38: 32012 | C38: Հանրակրթական դպրոցների գույքով և տեխնիկայով ապահովում | D38: =+E38+F38+G38+H38 -> -300344.9 | E38: =+E40+E42+E44+E46+E49+E52 -> 0 | F38: =+F40+F42+F44+F46+F49+F52 -> 0 | G38: =+G40+G42+G44+G46+G49+G52 -> 0 | H38: =+H40+H42+H44+H46+H49+H52 -> -300344.9
C39: այդ թվում`
C40: ՀՀ Արարատի մարզ | D40: =SUM(E40:H40) -> -30159.6 | E40: =+E41 -> 0 | F40: =+F41 -> 0 | G40: =+G41 -> 0 | H40: =+H41 -> -30159.6
C41: «Դեղձուտի միջնակարգ դպրոց» ՊՈԱԿ | D41: =SUM(E41:H41) -> -30159.6 | H41: =-50000+19840.4 -> -30159.6
C42: ՀՀ Արմավիրի մարզ | D42: =SUM(E42:H42) -> -32654.7 | E42: =+E43 -> 0 | F42: =+F43 -> 0 | G42: =+G43 -> 0 | H42: =+H43 -> -32654.7
C43: «Արգինայի միջնակարգ դպրոց» ՊՈԱԿ | D43: =SUM(E43:H43) -> -32654.7 | H43: =-50000+17345.3 -> -32654.7
C44: ՀՀ Լոռու մարզ | D44: =SUM(E44:H44) -> -32654.7 | E44: =+E45 -> 0 | F44: =+F45 -> 0 | G44: =+G45 -> 0 | H44: =+H45 -> -32654.7
C45: «Հագվու հիմնական դպրոց» ՊՈԱԿ | D45: =SUM(E45:H45) -> -32654.7 | H45: =-50000+17345.3 -> -32654.7
C46: ՀՀ Կոտայքի մարզ | D46: =SUM(E46:H46) -> -60319.2 | E46: =+E47+E48 -> 0 | F46: =+F47+F48 -> 0 | G46: =+G47+G48 -> 0 | H46: =+H47+H48 -> -60319.2
C47: «Ջրառատի միջնակարգ դպրոց» ՊՈԱԿ | D47: =SUM(E47:H47) -> -30159.6 | H47: =-50000+19840.4 -> -30159.6
C48: «Կաթնաղբյուրի հիմնական դպրոց» ՊՈԱԿ | D48: =SUM(E48:H48) -> -30159.6 | H48: =-50000+19840.4 -> -30159.6
C49: ՀՀ Սյունիքի մարզ | D49: =SUM(E49:H49) -> -100000 | E49: =+E50+E51 -> 0 | F49: =+F50+F51 -> 0 | G49: =+G50+G51 -> 0 | H49: =+H50+H51 -> -100000
C50: «Վաղատինի միջնակարգ դպրոց» ՊՈԱԿ | D50: =SUM(E50:H50) -> -50000 | H50: -50000
C51: «Դարբասի միջնակարգ դպրոց» ՊՈԱԿ | D51: =SUM(E51:H51) -> -50000 | H51: -50000
C52: ՀՀ Վայոց Ձորի մարզ | D52: =SUM(E52:H52) -> -44556.7 | E52: =+E53+E54 -> 0 | F52: =+F53+F54 -> 0 | G52: =+G53+G54 -> 0 | H52: =+H53+H54 -> -44556.7
C53: «Եղեգիսի միջնակարգ դպրոց» ՊՈԱԿ | D53: =SUM(E53:H53) -> -32654.7 | H53: =-50000+17345.3 -> -32654.7
C54: «Գոմքի միջնակարգ դպրոց» ՊՈԱԿ | D54: =SUM(E54:H54) -> -11902 | H54: =-23800+11898 -> -11902
C56: ՀՀ ՊԱՇՏՊԱՆՈՒԹՅԱՆ ՆԱԽԱՐԱՐՈՒԹՅՈՒՆ | D56: =SUM(E56:H56) -> 2338806.3 | E56: =+E58 -> 2338806.3 | F56: =+F58 -> 0 | G56: =+G58 -> 0 | H56: =+H58 -> 0
C57: այդ թվում`
A58: 1169 | B58: 31001 | C58: ՀՀ պաշտպանության նախարարության շենքային պայմանների բարելավում | D58: =+E58+F58+G58+H58 -> 2338806.3 | E58: 2338806.3 | F58: 0 | G58: 0 | H58: 0

Sheet Հավելված N 4
D1: Հավելված N 4
D2: ՀՀ կառավարության 2022 թվականի
D3: ______________ ի ___Ն որոշման
B5: ՀԱՅԱՍՏԱՆԻ ՀԱՆՐԱՊԵՏՈՒԹՅԱՆ ԿԱՌԱՎԱՐՈՒԹՅԱՆ 2021 ԹՎԱԿԱՆԻ ԴԵԿՏԵՄԲԵՐԻ 23-Ի N 2121-Ն ՈՐՈՇՄԱՆ N 5 ՀԱՎԵԼՎԱԾԻ N 2 ԱՂՅՈՒՍԱԿՈՒՄ ԿԱՏԱՐՎՈՂ ՓՈՓՈԽՈՒԹՅՈՒՆՆԵՐԸ ԵՎ ԼՐԱՑՈՒՄԸ
E8: հազ. դրամներով
B9: Ծրագրային դասիչ | D9: Բյուջետային գլխավոր կարգադրիչների, ծրագրերի, միջոցառումների, միջոցառումները կատարող պետական մարմինների և ուղղությունների անվանումները | E9: Ցուցանիշների փոփոխությունը (ավելացումները նշված են դրական նշանով, իսկ նվազեցումները՝ փակագծերում)
B10: Ծրագիր | C10: Միջոցառում | E10: Տարի
D12: ԸՆԴԱՄԵՆԸ | E12: =+E14+E67 -> 1601620.5
D13: այդ թվում՝
D14: ՀՀ ԿՐԹՈՒԹՅԱՆ, ԳԻՏՈՒԹՅԱՆ, ՄՇԱԿՈՒՅԹԻ ԵՎ ՍՊՈՐՏԻ ՆԱԽԱՐԱՐՈՒԹՅՈՒՆ | E14: =+E16+E22+E29+E38+E47 -> -737185.8
D15: այդ թվում՝
B16: 1146 | C16: 12010 | D16: «Մոդուլային» տիպի մանկապարտեզների շենքային ապահովում | E16: =+E18 -> -205408.1
D17: այդ թվում` ըստ կատարողների
D18: ՀՀ քաղաքաշինության կոմիտե | E18: =+E20 -> -205408.1
D19: այդ թվում` ըստ ուղղությունների
D20: ՀՀ Արմավիրի մարզ | E20: =+E21 -> -205408.1
D21: ՀՀ Արմավիրի մարզի Արևիկ համայնքում «Մոդուլային» տիպի 144 տեղ հզորությամբ մսուր-մանկապարտեզ | E21: =+'Հավելված N 3'!D18 -> -205408.1
B22: 1168 | C22: 32001 | D22: Ներդրումներ թատրոնների շենքերի կապիտալ վերանորոգման համար | E22: =+E24 -> -16326.6
D23: այդ թվում` ըստ կատարողների
D24: ՀՀ կրթության, գիտության, մշակույթի և սպորտի նախարարություն | E24: =+E26 -> -16326.6
D25: այդ թվում` ըստ ուղղությունների
D26: Երևան քաղաք | E26: =+E27+E28 -> -16326.6
D27: «Ալ․ Սպենդիարյանի անվանա օպերայի և բալետի ազգային ակադեմիական թատրոն» ՊՈԱԿ /հակահրդեհային/ և /ցածր լարման կայաններ/ | E27: =+'Հավելված N 3'!D22 -> -12653.9
D28: «Հայաստանի պետական սիմֆոնիկ նվագախումբ» ՊՈԱԿ | E28: =+'Հավելված N 3'!D23 -> -3672.7
B29: 1168 | C29: 32007 | D29: Թատերահամերգային կազմակերպությունների նյութատեխնիկական բազայի համալրում | E29: =+E31 -> -69134.7
D30: այդ թվում` ըստ կատարողների
D31: ՀՀ կրթության, գիտության, մշակույթի և սպորտի նախարարություն | E31: =+E33 -> -69134.7
D32: այդ թվում` ըստ ուղղությունների
D33: Երևան քաղաք | E33: =+E34+E35+E36+E37 -> -69134.7
D34: «Կամերային երաժշտության ազգային կենտրոն» ՊՈԱԿ | E34: =+'Հավելված N 3'!D27 -> -462.9
D35: «Հայաստանի երգի պետական թատրոն» ՊՈԱԿ | E35: =+'Հավելված N 3'!D28 -> -5002.5
D36: «Հ. Պարոնյանի անվան երաժշտական կոմեդիայի պետական թատրոն» ՊՈԱԿ | E36: =+'Հավելված N 3'!D29 -> -60369.3
D37: «Հայաստանի էստրադային ջազ նվագախումբ» ՊՈԱԿ | E37: =+'Հավելված N 3'!D30 -> -3300
B38: 1183 | C38: 32007 | D38: Հանրակրթական կրթություն իրականացնող ուսումնական հաստատությունների նոր մարզադահլիճների կառուցում | E38: =+E40 -> -145971.5
D39: այդ թվում` ըստ կատարողների
D40: ՀՀ քաղաքաշինության կոմիտե | E40: =+E42 -> -145971.5
D41: այդ թվում` ըստ ուղղությունների
D42: Երևան քաղաք | E42: =+E43+E44+E45+E46 -> -145971.5
D43: «Երևանի Միքայել Նալբանդյանի անվան հ.33 հիմնական դպրոց» ՊՈԱԿ | E43: =+'Հավելված N 3'!D34 -> -25328.6
D44: «Երևանի Ս. Խանզադյանի անվան հ. 184 ավագ դպրոց» ՊՈԱԿ | E44: =+'Հավելված N 3'!D35 -> -19615.8
D45: «Երևանի Ա. Երզնկյանի անվան հ. 118 ավագ դպրոց» ՊՈԱԿ | E45: =+'Հավելված N 3'!D36 -> -55353.9
D46: «Երևանի Սիլվա Կապուտիկյանի անվան հ. 145 հիմնական դպրոց» ՊՈԱԿ | E46: =+'Հավելված N 3'!D37 -> -45673.2
B47: 1183 | C47: 32012 | D47: Հանրակրթական դպրոցների գույքով և տեխնիկայով ապահովում | E47: =+E49 -> -300344.9
D48: այդ թվում` ըստ կատարողների
D49: ՀՀ կրթության, գիտության, մշակույթի և սպորտի նախարարություն | E49: =+E51+E53+E55+E57+E60+E63 -> -300344.9
D50: այդ թվում` ըստ ուղղությունների
D51: ՀՀ Արարատի մարզ | E51: =+E52 -> -30159.6
D52: «Դեղձուտի միջնակարգ դպրոց» ՊՈԱԿ | E52: =+'Հավելված N 3'!D41 -> -30159.6
D53: ՀՀ Արմավիրի մարզ | E53: =+E54 -> -32654.7
D54: «Արգինայի միջնակարգ դպրոց» ՊՈԱԿ | E54: =+'Հավելված N 3'!D43 -> -32654.7
D55: ՀՀ Լոռու մարզ | E55: =+E56 -> -32654.7
D56: «Հագվու հիմնական դպրոց» ՊՈԱԿ | E56: =+'Հավելված N 3'!D45 -> -32654.7
D57: ՀՀ Կոտայքի մարզ | E57: =+E58+E59 -> -60319.2
D58: «Ջրառատի միջնակարգ դպրոց» ՊՈԱԿ | E58: =+'Հավելված N 3'!D47 -> -30159.6
D59: «Կաթնաղբյուրի հիմնական դպրոց» ՊՈԱԿ | E59: =+'Հավելված N 3'!D48 -> -30159.6
D60: ՀՀ Սյունիքի մարզ | E60: =+E61+E62 -> -100000
D61: «Վաղատինի միջնակարգ դպրոց» ՊՈԱԿ | E61: =+'Հավելված N 3'!D50 -> -50000
D62: «Դարբասի միջնակարգ դպրոց» ՊՈԱԿ | E62: =+'Հավելված N 3'!D51 -> -50000
D63: ՀՀ Վայոց Ձորի մարզ | E63: =+E64+E65 -> -44556.7
D64: «Եղեգիսի միջնակարգ դպրոց» ՊՈԱԿ | E64: =+'Հավելված N 3'!D53 -> -32654.7
D65: «Գոմքի միջնակարգ դպրոց» ՊՈԱԿ | E65: =+'Հավելված N 3'!D54 -> -11902
D67: ՀՀ ՊԱՇՏՊԱՆՈՒԹՅԱՆ ՆԱԽԱՐԱՐՈՒԹՅՈՒՆ | E67: =+E69 -> 2338806.3
D68: այդ թվում՝
B69: 1169 | C69: 31001 | D69: ՀՀ պաշտպանության նախարարության շենքային պայմանների բարելավում | E69: =+E71 -> 2338806.3
D70: այդ թվում` ըստ կատարողների
D71: ՀՀ պաշտպանության նախարարություն | E71: 2338806.3

Sheet Հավելված N 5
F1: Հավելված N 5
F2: ՀՀ կառավարության 2022 թվականի
F3: ______________ ի ___Ն որոշման
A6: ՀԱՅԱՍՏԱՆԻ ՀԱՆՐԱՊԵՏՈՒԹՅԱՆ ԿԱՌԱՎԱՐՈՒԹՅԱՆ 2021 ԹՎԱԿԱՆԻ ԴԵԿՏԵՄԲԵՐԻ 23-Ի N 2121-Ն ՈՐՈՇՄԱՆ N 5 ՀԱՎԵԼՎԱԾԻ N 7 ԱՂՅՈՒՍԱԿՈՒՄ ԿԱՏԱՐՎՈՂ ՓՈՓՈԽՈՒԹՅՈՒՆԸ
G7: հազ. դրամներով
A8: Ծրագրային դասիչը | C8: Բյուջետային հատկացումների գլխավոր կարգադրիչների, ծրագրերի, միջոցառումների և միջոցառումները կատարող պետական մարմինների անվանումները | F8: Միջոցառումները կատարող պետական մարմինների և դրամաշնորհ ստացող տնտեսվարող սուբյեկտների անվանումները | G8: Ցուցանիշների փոփոխությունը (նվազեցումները նշված են փակագծերում)
A9: Ծրագիր | B9: Միջոցառում | G9: Տարի
A10: ՀՀ կրթության, գիտության, մշակույթի և սպորտի նախարարություն | G10: =+G11 -> -4890.5
A11: 1183 | B11: Ապահով դպրոց | G11: =+G12 -> -4890.5
B12: 11001 | C12: Դպրոցների համալիր անվտանգության ապահովում | F12: ՀՀ կրթության, գիտության, մշակույթի և սպորտի նախարարություն | G12: =G13 -> -4890.5
F13: Մրցույթով ընտրված կազմակերպություն | G13: -4890.5

Sheet Հավելված N 6
C1: Հավելված N 6
C2: ՀՀ կառավարության 2022 թվականի
C3: ______________ ի ___Ն որոշման
B5: ՀԱՅԱՍՏԱՆԻ ՀԱՆՐԱՊԵՏՈՒԹՅԱՆ ԿԱՌԱՎԱՐՈՒԹՅԱՆ 2021 ԹՎԱԿԱՆԻ ԴԵԿՏԵՄԲԵՐԻ 23-Ի N 2121-Ն ՈՐՈՇՄԱՆ N 9 ՀԱՎԵԼՎԱԾԻ N 9.13 ԱՂՅՈՒՍԱԿՈՒՄ ԿԱՏԱՐՎՈՂ ՓՈՓՈԽՈՒԹՅՈՒՆՆԵՐԸ ԵՎ ԵՎ N 9.14 ԱՂՅՈՒՍԱԿՈՒՄ ԿԱՏԱՐՎՈՂ ԼՐԱՑՈՒՄԸ
A7: Աղյուսակ 9․13
C8: ՀՀ կրթության, գիտության, մշակույթի և սպորտի նախարարություն
B9: ՄԱՍ 2. ՊԵՏԱԿԱՆ ՄԱՐՄՆԻ ԳԾՈՎ ԱՐԴՅՈՒՆՔԱՅԻՆ (ԿԱՏԱՐՈՂԱԿԱՆ) ՑՈՒՑԱՆԻՇՆԵՐԸ
B12: Ծրագրի դասիչը | C12: Ծրագրի անվանումը
B13: 1045 | C13: Նախնական (արհեստագործական) և միջին մասնագիտական կրթություն
B15: Ծրագրի միջոցառումները
B16: Ծրագրի դասիչը՝ | C16: 1045 | D16: Ցուցանիշների փոփոխությունը (նվազեցումները նշված են փակագծերում)
B17: Միջոցառման դասիչը՝ | C17: 12004 | D17: Տարի
B18: Միջոցառման անվանումը` | C18: Միջին մասնագիտական կրթության գծով ուսանողական նպաստների տրամադրում
B19: Նկարագրությունը` | C19: Միջին մասնագիտական կրթության գծով ուսանողական նպաստների տրամադրում
B20: Միջոցառման տեսակը` | C20: Տրանսֆերտների տրամադրում
B21: Շահառուների ընտրության չափորոշիչները՛ | C21: Միջին մասնագիտական կրթություն ստացող ուսանողներ
B22: Արդյունքի չափորոշիչներ
B23: Ուսանողական նպաստ ստացող ուսանողների թիվը, մարդ | D23: -573
B24: Միջոցառման վրա կատարվող ծախսը (հազար դրամ) | D24: =+'Հավելված N 1'!D24 -> -200000
B26: Ծրագրի դասիչը | C26: Ծրագրի անվանումը
B27: 1111 | C27: Բարձրագույն և հետբուհական մասնագիտական կրթության ծրագիր
B29: Ծրագրի միջոցառումները
B30: Ծրագրի դասիչը՝ | C30: 1111 | D30: Ցուցանիշների փոփոխությունը (նվազեցումները նշված են փակագծերում)
B31: Միջոցառման դասիչը՝ | C31: 12004 | D31: Տարի
B32: Միջոցառման անվանումը` | C32: Բարձրագույն մասնագիտական կրթության գծով ուսանողական նպաստների տրամադրում
B33: Նկարագրությունը` | C33: Բարձրագույն մասնագիտական կրթություն ստացող ուսանողների նպաստներ
B34: Միջոցառման տեսակը` | C34: Տրանսֆերտների տրամադրում
B35: Շահառուների ընտրության չափորոշիչները՛ | C35: Բարձրագույն մասնագիտական կրթություն ստացող ուսանողներ
B36: Արդյունքի չափորոշիչներ
B37: Նպաստներ ստացող ուսանողների թիվ, մարդ | D37: -300
B38: Ուսման վարձավճարի լրիվ փոխհատուցմամբ սովորող ուսանողների թիվ, մարդ | D38: -350
B39: Միջոցառման վրա կատարվող ծախսը (հազար դրամ) | D39: =+'Հավելված N 1'!D37 -> -1330000
B41: Ծրագրի դասիչը | C41: Ծրագրի անվանումը
B42: 1146 | C42: Հանրակրթության ծրագիր
B44: Ծրագրի միջոցառումները
B45: Ծրագրի դասիչը՝ | C45: 1146 | D45: Ցուցանիշների փոփոխությունը (նվազեցումները նշված են փակագծերում)
B46: Միջոցառման դասիչը՝ | C46: 11001 | D46: Տարի
B47: Միջոցառման անվանումը` | C47: Տարրական ընդհանուր հանրակրթություն
B48: Նկարագրությունը` | C48: Պարտադիր կրթության առաջին մակարդակում սովորողների ընդգրկվածության, գրագիտության և համակողմանի զարգացման բարձր մակարդակի ապահովում
B49: Միջոցառման տեսակը` | C49: Ծառայությունների մատուցում
B50: Ծառայությունը մատուցող կազմակերպության(ների) անվանում(ներ)ը՛ | C50: ՀՀ կրթության, գիտության,մշակույթի և սպորտի նախարարության, ՀՀ մարզպետարանների, Երևանի քաղաքապետարանի ենթակայության ուսումնական հաստատություններ
B51: Արդյունքի չափորոշիչներ
B52: Միջոցառման վրա կատարվող ծախսը (հազար դրամ) | D52: =+'Հավելված N 1'!D50 -> -66730
B54: Ծրագրի միջոցառումները
B55: Ծրագրի դասիչը՝ | C55: 1146 | D55: Ցուցանիշների փոփոխությունը (նվազեցումները նշված են փակագծերում)
B56: Միջոցառման դասիչը՝ | C56: 12010 | D56: Տարի
B57: Միջոցառման անվանումը` | C57: «Մոդուլային» տիպի մանկապարտեզների շենքային ապահովում
B58: Նկարագրությունը` | C58: Համայնքներում «Մոդուլային» տիպի մանկապարտեզների կառուցում և նախագծում
B59: Միջոցառման տեսակը` | C59: Տրանսֆերտների տրամադրում
B60: Շահառուների ընտրության չափանիշները | C60: Նախադպրոցական կրթությույն իրականացնող ուսումնական հաստատություններ
B61: Արդյունքի չափորոշիչներ
B62: Հաստատությունների քանակը, որոնց շինարարական աշխատանքների ավարտվածության աստիճանը 100% է (հատ) | D62: -1
B63: Միջոցառման վրա կատարվող ծախսը (հազար դրամ) | D63: =+'Հավելված N 1'!D56 -> -205408.1
B65: Ծրագրի դասիչը | C65: Ծրագրի անվանումը
B66: 1168 | C66: Արվեստների ծրագիր
B68: Ծրագրի միջոցառումները
B69: Ծրագրի դասիչը՝ | C69: 1168 | D69: Ցուցանիշների փոփոխությունը (նվազեցումները նշված են փակագծերում)
B70: Միջոցառման դասիչը՝ | C70: 32001 | D70: Տարի
B71: Միջոցառման անվանումը՝ | C71: Ներդրումներ թատրոնների շենքերի կապիտալ վերանորոգման համար
B72: Նկարագրությունը՝ | C72: Թատրոնների շենքերի մասնաշենքերի հիմնանորոգում, համաշինարարական աշխատանքներ, ջեռուցման համակարգի իրականացում, ներքին հարդարում, տարածքի բարեկարգում և նախագծում
B73: Միջոցառման տեսակը՝ | C73: Այլ պետական կազմակերպությունների կողմից օգտագործվող ոչ ֆինանսական ակտիվների հետ գործառնություններ
B74: Ակտիվն օգտագործող կազմակերպությունների անվանումները | C74: Թատրոններ
B75: Արդյունքի չափորոշիչներ
B76: Միջոցառման վրա կատարվող ծախսը (հազար դրամ) | D76: =+'Հավելված N 1'!D69 -> -16326.6
B78: Ծրագրի միջոցառումները
B79: Ծրագրի դասիչը՝ | C79: 1168 | D79: Ցուցանիշների փոփոխությունը (նվազեցումները նշված են փակագծերում)
B80: Միջոցառման դասիչը՝ | C80: 32007 | D80: Տարի
B81: Միջոցառման անվանումը՝ | C81: Թատերահամերգային կազմակերպությունների նյութատեխնիկական բազայի համալրում
B82: Նկարագրությունը՝ | C82: Թատերահամերգային կազմակերպությունների համար անհրաժեշտ տեխնիկայի և սարքավորումենրի ձեռքբերում
B83: Միջոցառման տեսակը՝ | C83: Այլ պետական կազմակերպությունների կողմից օգտագործվող ոչ ֆինանսական ակտիվների հետ գործառնություններ
B84: Ակտիվն օգտագործող կազմակերպությունների անվանումները | C84: Թատերահամերգային կազմակերպություններ
B85: Արդյունքի չափորոշիչներ
B86: Համերգային կազմակերպությունների թիվը, որտեղ կատարվում են ներդրումները, հատ | D86: -1
B87: Միջոցառման վրա կատարվող ծախսը (հազար դրամ) | D87: =+'Հավելված N 1'!D75 -> -69134.7
B89: Ծրագրի դասիչը | C89: Ծրագրի անվանումը
B90: 1183 | C90: Ապահով դպրոց
B92: Ծրագրի միջոցառումները
B93: Ծրագրի դասիչը` | C93: 1183 | D93: Ցուցանիշների փոփոխությունը (նվազեցումները նշված են փակագծերում)
B94: Միջոցառման դասիչը` | C94: 11001 | D94: Տարի
B95: Միջոցառման անվանումը` | C95: Դպրոցների համալիր անվտանգության ապահովում
B96: Նկարագրությունը` | C96: Օժանդակություն հանրակրթական ուսումնական հաստատություններին ԱՌԿ պլանների իրականացմանը
B97: Միջոցառման տեսակը` | C97: Ծառայությունների մատուցում
B98: Ծառայությունը մատուցող կազմակերպության(ների) անվանում(ներ)ը՛ | C98: Մասնագիտացված կազմակերպություններ,
B99: Արդյունքի չափորոշիչներ
B100: Միջոցառման վրա կատարվող ծախսը (հազար դրամ) | D100: =+'Հավելված N 1'!D88 -> -4890.5
B102: Ծրագրի միջոցառումները
B103: Ծրագրի դասիչը` | C103: 1183 | D103: Ցուցանիշների փոփոխությունը (նվազեցումները նշված են փակագծերում)
B104: Միջոցառման դասիչը` | C104: 32007 | D104: Տարի
B105: Միջոցառման անվանումը` | C105: Հանրակրթական կրթություն իրականացնող ուսումնական հաստատությունների նոր մարզադահլիճների կառուցում
B106: Նկարագրությունը` | C106: Հանրակրթական ուսուցում իրականացնող ուսումնական հաստատությունների նոր մարզադահլիճների կառուցման նախագծանախահաշվային փաստաթղթերի մշակում
B107: Միջոցառման տեսակը` | C107: Այլ պետական կազմակերպությունների կողմից օգտագործվող ոչ ֆինանսական ակտիվների հետ գործառնություններ
B108: Ակտիվն օգտագործող կազմակերպությունների անվանումները | C108: Հանրակրթական դպրոցներ
B109: Արդյունքի չափորոշիչներ
B110: Միջոցառման վրա կատարվող ծախսը (հազար դրամ) | D110: =+'Հավելված N 1'!D94 -> -145971.5
B112: Ծրագրի միջոցառումները
B113: Ծրագրի դասիչը` | C113: 1183 | D113: Ցուցանիշների փոփոխությունը (նվազեցումները նշված են փակագծերում)
B114: Միջոցառման դասիչը` | C114: 32012 | D114: Տարի
B115: Միջոցառման անվանումը` | C115: Հանրակրթական դպրոցների գույքով և տեխնիկայով ապահովում
B116: Նկարագրությունը` | C116: Կրթական ժամանակակից նորմերին համապատասխանող գույքի ձեռքբերում
B117: Միջոցառման տեսակը` | C117: Այլ պետական կազմակերպությունների կողմից օգտագործվող ոչ ֆինանսական ակտիվների հետ գործառնություններ
...

Sheet Հավելված N 7
C1: Հավելված N 7
C2: ՀՀ կառավարության 2022 թվականի
C3: ______________ ի ___Ն որոշման
B5: ՀԱՅԱՍՏԱՆԻ ՀԱՆՐԱՊԵՏՈՒԹՅԱՆ ԿԱՌԱՎԱՐՈՒԹՅԱՆ 2021 ԹՎԱԿԱՆԻ ԴԵԿՏԵՄԲԵՐԻ 23-Ի N 2121-Ն ՈՐՈՇՄԱՆ N 9.1 ՀԱՎԵԼՎԱԾԻ N 9.1.8, 9.1.14 ԵՎ 9.1.42 ԱՂՅՈՒՍԱԿՆԵՐՈՒՄ ԿԱՏԱՐՎՈՂ ՓՈՓՈԽՈՒԹՅՈՒՆՆԵՐԸ ԵՎ ԵՎ N 9.1.15 ԱՂՅՈՒՍԱԿՈՒՄ ԿԱՏԱՐՎՈՂ ԼՐԱՑՈՒՄԸ
A8: Աղյուսակ 9․1.8
C9: ՀՀ տարածքային կառավարման և ենթակառուցվածքների նախարարություն
B10: ՄԱՍ 1. ՊԵՏԱԿԱՆ ՄԱՐՄՆԻ ԳԾՈՎ ԱՐԴՅՈՒՆՔԱՅԻՆ (ԿԱՏԱՐՈՂԱԿԱՆ) ՑՈՒՑԱՆԻՇՆԵՐԸ
B13: Ծրագրի դասիչը | C13: Ծրագրի անվանումը
B14: 1146 | C14: Հանրակրթության ծրագիր
B16: Ծրագրի միջոցառումները
B17: Ծրագրի դասիչը՝ | C17: 1146 | D17: Ցուցանիշների փոփոխությունը (նվազեցումները նշված են փակագծերում)
B18: Միջոցառման դասիչը՝ | C18: 11001 | D18: Տարի
B19: Միջոցառման անվանումը` | C19: Տարրական ընդհանուր հանրակրթություն
B20: Նկարագրությունը` | C20: Պարտադիր կրթության առաջին մակարդակում սովորողների ընդգրկվածության, գրագիտության և համակողմանի զարգացման բարձր մակարդակի ապահովում
B21: Միջոցառման տեսակը` | C21: Ծառայությունների մատուցում
B22: Ծառայությունը մատուցող կազմակերպության(ների) անվանում(ներ)ը՛ | C22: Երևանի քաղաքապետարանի ենթակայության հանրակրթական դպրոցներ
B23: Արդյունքի չափորոշիչներ
B24: Միջոցառման վրա կատարվող ծախսը (հազար դրամ) | D24: =+'Հավելված N 2'!G56 -> -66730
A28: Աղյուսակ 9․1.14
C29: ՀՀ կրթության, գիտության, մշակույթի և սպորտի նախարարություն
B30: ՄԱՍ 1. ՊԵՏԱԿԱՆ ՄԱՐՄՆԻ ԳԾՈՎ ԱՐԴՅՈՒՆՔԱՅԻՆ (ԿԱՏԱՐՈՂԱԿԱՆ) ՑՈՒՑԱՆԻՇՆԵՐԸ
B33: Ծրագրի դասիչը | C33: Ծրագրի անվանումը
B34: 1045 | C34: Նախնական (արհեստագործական) և միջին մասնագիտական կրթություն
B36: Ծրագրի միջոցառումները
B37: Ծրագրի դասիչը՝ | C37: 1045 | D37: Ցուցանիշների փոփոխությունը (նվազեցումները նշված են փակագծերում)
B38: Միջոցառման դասիչը՝ | C38: 12004 | D38: Տարի
B39: Միջոցառման անվանումը` | C39: Միջին մասնագիտական կրթության գծով ուսանողական նպաստների տրամադրում
B40: Նկարագրությունը` | C40: Միջին մասնագիտական կրթության գծով ուսանողական նպաստների տրամադրում
B41: Միջոցառման տեսակը` | C41: Տրանսֆերտների տրամադրում
B42: Շահառուների ընտրության չափորոշիչները՛ | C42: Միջին մասնագիտական կրթություն ստացող ուսանողներ
B43: Արդյունքի չափորոշիչներ
B44: Ուսանողական նպաստ ստացող ուսանողների թիվը, մարդ | D44: -573
B45: Միջոցառման վրա կատարվող ծախսը (հազար դրամ) | D45: =+'Հավելված N 2'!G73 -> -200000
B47: Ծրագրի դասիչը | C47: Ծրագրի անվանումը
B48: 1111 | C48: Բարձրագույն և հետբուհական մասնագիտական կրթության ծրագիր
B50: Ծրագրի միջոցառումները
B51: Ծրագրի դասիչը՝ | C51: 1111 | D51: Ցուցանիշների փոփոխությունը (նվազեցումները նշված են փակագծերում)
B52: Միջոցառման դասիչը՝ | C52: 12004 | D52: Տարի
B53: Միջոցառման անվանումը` | C53: Բարձրագույն մասնագիտական կրթության գծով ուսանողական նպաստների տրամադրում
B54: Նկարագրությունը` | C54: Բարձրագույն մասնագիտական կրթություն ստացող ուսանողների նպաստներ
B55: Միջոցառման տեսակը` | C55: Տրանսֆերտների տրամադրում
B56: Շահառուների ընտրության չափորոշիչները՛ | C56: Բարձրագույն մասնագիտական կրթություն ստացող ուսանողներ
B57: Արդյունքի չափորոշիչներ
B58: Նպաստներ ստացող ուսանողների թիվ, մարդ | D58: -300
B59: Ուսման վարձավճարի լրիվ փոխհատուցմամբ սովորող ուսանողների թիվ, մարդ | D59: -350
B60: Միջոցառման վրա կատարվող ծախսը (հազար դրամ) | D60: =+'Հավելված N 2'!G90 -> -1330000
B62: Ծրագրի դասիչը | C62: Ծրագրի անվանումը
B63: 1168 | C63: Արվեստների ծրագիր
B65: Ծրագրի միջոցառումները
B66: Ծրագրի դասիչը՝ | C66: 1168 | D66: Ցուցանիշների փոփոխությունը (նվազեցումները նշված են փակագծերում)
B67: Միջոցառման դասիչը՝ | C67: 32001 | D67: Տարի
B68: Միջոցառման անվանումը՝ | C68: Ներդրումներ թատրոնների շենքերի կապիտալ վերանորոգման համար
B69: Նկարագրությունը՝ | C69: Թատրոնների շենքերի մասնաշենքերի հիմնանորոգում, համաշինարարական աշխատանքներ, ջեռուցման համակարգի իրականացում, ներքին հարդարում, տարածքի բարեկարգում և նախագծում
B70: Միջոցառման տեսակը՝ | C70: Այլ պետական կազմակերպությունների կողմից օգտագործվող ոչ ֆինանսական ակտիվների հետ գործառնություններ
B71: Ակտիվն օգտագործող կազմակերպությունների անվանումները | C71: Թատրոններ
B72: Արդյունքի չափորոշիչներ
B73: Միջոցառման վրա կատարվող ծախսը (հազար դրամ) | D73: =+'Հավելված N 2'!G26 -> -16326.6
B75: Ծրագրի միջոցառումները
B76: Ծրագրի դասիչը՝ | C76: 1168 | D76: Ցուցանիշների փոփոխությունը (նվազեցումները նշված են փակագծերում)
B77: Միջոցառման դասիչը՝ | C77: 32007 | D77: Տարի
B78: Միջոցառման անվանումը՝ | C78: Թատերահամերգային կազմակերպությունների նյութատեխնիկական բազայի համալրում
B79: Նկարագրությունը՝ | C79: Թատերահամերգային կազմակերպությունների համար անհրաժեշտ տեխնիկայի և սարքավորումենրի ձեռքբերում
B80: Միջոցառման տեսակը՝ | C80: Այլ պետական կազմակերպությունների կողմից օգտագործվող ոչ ֆինանսական ակտիվների հետ գործառնություններ
B81: Ակտիվն օգտագործող կազմակերպությունների անվանումները | C81: Թատերահամերգային կազմակերպություններ
B82: Արդյունքի չափորոշիչներ
B83: Համերգային կազմակերպությունների թիվը, որտեղ կատարվում են ներդրումները, հատ | D83: -1
B84: Միջոցառման վրա կատարվող ծախսը (հազար դրամ) | D84: =+'Հավելված N 2'!G37 -> -69134.7
B86: Ծրագրի դասիչը | C86: Ծրագրի անվանումը
B87: 1183 | C87: Ապահով դպրոց
B89: Ծրագրի միջոցառումները
B90: Ծրագրի դասիչը` | C90: 1183 | D90: Ցուցանիշների փոփոխությունը (նվազեցումները նշված են փակագծերում)
B91: Միջոցառման դասիչը` | C91: 11001 | D91: Տարի
B92: Միջոցառման անվանումը` | C92: Դպրոցների համալիր անվտանգության ապահովում
B93: Նկարագրությունը` | C93: Օժանդակություն հանրակրթական ուսումնական հաստատություններին ԱՌԿ պլանների իրականացմանը
B94: Միջոցառման տեսակը` | C94: Ծառայությունների մատուցում
B95: Ծառայությունը մատուցող կազմակերպության(ների) անվանում(ներ)ը՛ | C95: Մասնագիտացված կազմակերպություններ,
B96: Արդյունքի չափորոշիչներ
B97: Միջոցառման վրա կատարվող ծախսը (հազար դրամ) | D97: =+'Հավելված N 2'!G118 -> -4890.5
B99: Ծրագրի միջոցառումները
B100: Ծրագրի դասիչը` | C100: 1183 | D100: Ցուցանիշների փոփոխությունը (նվազեցումները նշված են փակագծերում)
B101: Միջոցառման դասիչը` | C101: 32012 | D101: Տարի
B102: Միջոցառման անվանումը` | C102: Հանրակրթական դպրոցների գույքով և տեխնիկայով ապահովում
B103: Նկարագրությունը` | C103: Կրթական ժամանակակից նորմերին համապատասխանող գույքի ձեռքբերում
B104: Միջոցառման տեսակը` | C104: Այլ պետական կազմակերպությունների կողմից օգտագործվող ոչ ֆինանսական ակտիվների հետ գործառնություններ
B105: Ակտիվն օգտագործող կազմակերպությունների անվանումները | C105: Հանրակրթական դպրոցներ
B106: Արդյունքի չափորոշիչներ
B107: Միջոցառման վրա կատարվող ծախսը (հազար դրամ) | D107: =+'Հավելված N 2'!G136 -> -300344.9
A111: Աղյուսակ 9․1.15
C112: ՀՀ պաշտպանության նախարարություն
B113: ՄԱՍ 1. ՊԵՏԱԿԱՆ ՄԱՐՄՆԻ ԳԾՈՎ ԱՐԴՅՈՒՆՔԱՅԻՆ (ԿԱՏԱՐՈՂԱԿԱՆ) ՑՈՒՑԱՆԻՇՆԵՐԸ
B116: Ծրագրի դասիչը | C116: Ծրագրի անվանումը
B117: 1169 | C117: ՀՀ պաշտպանության ապահովում
B119: Ծրագրի միջոցառումները
B120: Ծրագրի դասիչը՝ | C120: 1169 | D120: Ցուցանիշների փոփոխությունը (ավելացումները նշված են դրական նշանով)
B121: Միջոցառման դասիչը՝ | C121: 31001 | D121: Տարի
B122: Միջոցառման անվանումը` | C122: ՀՀ պաշտպանության նախարարության շենքային պայմանների բարելավում
B123: Նկարագրությունը` | C123: Պաշտպանության կարիքների համար բնակելի, գրասենյակային և այլ նշանակության շենքերի և շինությունների կառուցում
B124: Միջոցառման տեսակը` | C124: Պետական մարմինների կողմից օգտագործվող ոչ ֆինանսական ակտիվների հետ գործառնություններ
B125: Ակտիվն օգտագործող կազմակերպության(ների) անվանում(ներ)ը՛ | C125: ՀՀ պաշտպանության նախարարություն
C126: Արդյունքի չափորոշիչներ
...

Sheet Հավելված N 8
H1: Հավելված N 8
H2: ՀՀ կառավարության 2022 թվականի
H3: ______________ ի ___Ն որոշման
A5: ՀԱՅԱՍՏԱՆԻ ՀԱՆՐԱՊԵՏՈՒԹՅԱՆ ԿԱՌԱՎԱՐՈՒԹՅԱՆ 2021 ԹՎԱԿԱՆԻ ԴԵԿՏԵՄԲԵՐԻ 23-Ի N 2121-Ն ՈՐՈՇՄԱՆ N 10 ՀԱՎԵԼՎԱԾՈՒՄ ԿԱՏԱՐՎՈՂ ՓՈՓՈԽՈՒԹՅՈՒՆՆԵՐԸ
A7: Կոդը | B7: Անվանումը | E7: Գնման ձևը | F7: Չափման միավորը | G7: Միավորի գինը | H7: Ցուցանիշների փոփոխությունը (նվազեցումները նշված են փակագծերում)
H8: Քանակը | I8: Գումարը (հազար դրամ)
A9: 1 | B9: 2 | E9: 3 | F9: 4 | G9: 5 | H9: 6 | I9: 7
A10: ՀՀ կրթության, գիտության, մշակույթի և սպորտի նախարարություն | I10: =+I11+I31 -> -385806.2
A11: Բաժին N 08 | B11: Խումբ N 02 | C11: Դաս N 05 | D11: Արվեստ | I11: =+I12+I18 -> -85461.3
A12: 168-32001 | B12: Ներդրումներ թատրոնների շենքերի կապիտալ վերանորոգման համար | I12: =+I13+I15 -> -16326.6
B13: ՄԱՍ II. ԱՇԽԱՏԱՆՔՆԵՐ | I13: =+I14 -> -12653.9
A14: 45611200-501 | B14: մշակութային օբյեկտների հիմնանորոգում | E14: ԳՀ | F14: դրամ | I14: -12653.9
B15: ՄԱՍ III. ԾԱՌԱՅՈՒԹՅՈՒՆՆԵՐ | I15: =SUM(I16:I17) -> -3672.7
A16: 71241200-4 | B16: նախագծերի պատրաստում, ծախսերի գնահատում | E16: ԳՀ | F16: դրամ | I16: -3382.3
A17: 50531140-6 | B17: փորձաքննության ծառայություններ | E17: ԳՀ | F17: դրամ | I17: -290.4
A18: 1168-32007 | B18: Թատերահամերգային կազմակերպությունների նյութատեխնիկական բազայի համալրում | I18: =+I19 -> -69134.7
B19: ՄԱՍ I. ԱՊՐԱՆՔՆԵՐ | I19: =SUM(I20:I30) -> -69134.7
A20: 34991111-1 | B20: թատրոնի շենքի արտաքին լուսավորություն | E20: ԷԱՃ | F20: լրակազմ | I20: -199.7
A21: 31521700-1 | B21: թատրոնի բեմի լուսային համակարգ | E21: ԷԱՃ | F21: լրակազմ | I21: -204.1
A22: 31521700-3 | B22: թատրոնի բեմի լուսային համակարգ | E22: ԷԱՃ | F22: լրակազմ | I22: -263.2
A23: 32351121-1 | B23: LED էկրան իր համակարգով | E23: ԷԱՃ | F23: լրակազմ | I23: -4798.4
A24: 32351121-2 | B24: LED էկրան իր համակարգով | E24: ԷԱՃ | F24: լրակազմ | I24: -6972
A25: 39121100-3 | B25: գրասեղաններ | E25: ԷԱՃ | F25: հատ | I25: -147
A26: 39714220-1 | B26: օդորակիչ,12000 BTU | E26: ԷԱՃ | F26: հատ | I26: -660
A27: 39111180-1 | B27: աթոռ` գրասենյակային | E27: ԷԱՃ | F27: հատ | I27: -545.1
A28: 38651200-1 | B28: պրոյեկտորներ | E28: ԷԱՃ | F28: հատ | I28: -52045.2
A29: 30211280-5 | B29: համակարգիչ ամբողջը մեկում | E29: ԷԱՃ | F29: հատ | G29: 400000 | H29: -4 | I29: =+H29*G29/1000 -> -1600
A30: 30232130-2 | B30: գունավոր տպիչներ | E30: ԷԱՃ | F30: հատ | G30: 1700000 | H30: -1 | I30: =+H30*G30/1000 -> -1700
A31: Բաժին N 09 | B31: Խումբ N 06 | C31: Դաս N 01 | D31: Կրթությանը տրամադրվող օժանդակ ծառայություններ | I31: =+I32 -> -300344.9
A32: 1183-32012 | B32: Հանրակրթական դպրոցների գույքով և տեխնիկայով ապահովում | I32: =+I33 -> -300344.9
B33: ՄԱՍ I. Ա Պ Ր Ա Ն Ք Ն Ե Ր | I33: =SUM(I34:I41) -> -300344.9
A34: 39121100-1 | B34: գրասեղաններ | E34: ԷԱՃ | F34: հատ | G34: 199633 | H34: -545 | I34: =ROUND((H34*G34/1000),1) -> -108800
A35: 39121100-8 | B35: գրասեղաններ | E35: ԷԱՃ | F35: հատ | G35: 78000 | H35: -1 | I35: =ROUND((H35*G35/1000),1) -> -78
A36: 39138120-1 | B36: աթոռ փայտյա | E36: ԷԱՃ | F36: հատ | G36: 300000 | H36: -17 | I36: =ROUND((H36*G36/1000),1) -> -5100
A37: 30239170-4 | B37: բազմաֆունկցիոնալ սարք` լազերային | E37: ԷԱՃ | F37: հատ | G37: 345000 | H37: -12 | I37: =ROUND((H37*G37/1000),1) -> -4140
A38: 44421300-1 | B38: չհրկիզվող պահարաններ | E38: ԷԱՃ | F38: հատ | G38: 430000 | H38: -6 | I38: =ROUND((H38*G38/1000),1) -> -2580
A39: 37461310-1 | B39: նետման համար նախատեսված թիրախներ | E39: ԷԱՃ | F39: հատ | G39: 13000 | H39: -6 | I39: =ROUND((H39*G39/1000),1) -> -78
A40: 30211280-14 | B40: համակարգիչ ամբողջը մեկում | C40: համակարգիչ ամբողջը մեկում | D40: համակարգիչ ամբողջը մեկում | E40: ՀՄԱ | F40: հատ | G40: 1538550 | H40: -27 | I40: =ROUNDDOWN((H40*G40/1000),1) -> -41540.8
A41: 30211280-15 | B41: համակարգիչ ամբողջը մեկում | C41: համակարգիչ ամբողջը մեկում | D41: համակարգիչ ամբողջը մեկում | E41: ԷԱՃ | F41: հատ | G41: 1380281 | H41: -100 | I41: =ROUND((H41*G41/1000),1) -> -138028.1
A43: ՀՀ քաղաքաշինության կոմիտե | I43: =+I44 -> -351379.6
A44: Բաժին N 09 | B44: Խումբ N 06 | C44: Դաս N 01 | D44: Կրթությանը տրամադրվող օժանդակ ծառայություններ | I44: =+I45+I60 -> -351379.6
A45: 1183-32007 | B45: Հանրակրթական կրթություն իրականացնող ուսումնական հաստատությունների նոր մարզադահլիճների կառուցում | I45: =+I46+I51 -> -145971.5
B46: ՄԱՍ II. ԱՇԽԱՏԱՆՔՆԵՐ | I46: =SUM(I47:I50) -> -140495.2
A47: 45221142-537 | B47: ընդհանուր շինարարական աշխատանքներ | E47: ԲՄ | F47: դրամ | I47: -24389.3
A48: 45221142-538 | B48: ընդհանուր շինարարական աշխատանքներ | E48: ԲՄ | F48: դրամ | I48: -18898.1
A49: 45221142-546 | B49: ընդհանուր շինարարական աշխատանքներ | E49: ԲՄ | F49: դրամ | I49: -43999.5
A50: 45221142-548 | B50: ընդհանուր շինարարական աշխատանքներ | E50: ԲՄ | F50: դրամ | I50: -53208.3
B51: ՄԱՍ III. ԾԱՌԱՅՈՒԹՅՈՒՆՆԵՐ | I51: =SUM(I52:I59) -> -5476.3
A52: 71351540-508 | B52: տեխնիկական հսկողության ծառայություններ | E52: ԳՀ | F52: դրամ | I52: -793.8
A53: 71351540-509 | B53: տեխնիկական հսկողության ծառայություններ | E53: ԳՀ | F53: դրամ | I53: -601.2
A54: 71351540-510 | B54: տեխնիկական հսկողության ծառայություններ | E54: ԳՀ | F54: դրամ | I54: -1830.8
A55: 71351540-511 | B55: տեխնիկական հսկողության ծառայություններ | E55: ԳՀ | F55: դրամ | I55: -1418.4
A56: 98111140-38 | B56: հեղինակային հսկողության ծառայություններ | E56: ՄԱ | F56: դրամ | I56: -145.5
A57: 98111140-39 | B57: հեղինակային հսկողության ծառայություններ | E57: ՄԱ | F57: դրամ | I57: -116.5
A58: 98111140-40 | B58: հեղինակային հսկողության ծառայություններ | E58: ՄԱ | F58: դրամ | I58: -314.8
A59: 98111140-41 | B59: հեղինակային հսկողության ծառայություններ | E59: ՄԱ | F59: դրամ | I59: -255.3
A60: 1146-12010 | B60: «Մոդուլային» տիպի մանկապարտեզների շենքային ապահովում | I60: =+I61+I63 -> -205408.1
B61: ՄԱՍ II. ԱՇԽԱՏԱՆՔՆԵՐ | I61: =+I62 -> -200000
A62: 45221142-2 | B62: ընդհանուր շինարարական աշխատանքներ | E62: ՀԲՄ | F62: դրամ | I62: -200000
B63: ՄԱՍ III. ԾԱՌԱՅՈՒԹՅՈՒՆՆԵՐ | I63: =SUM(I64:I65) -> -5408.1
A64: 71351540-48 | B64: տեխնիկական հսկողության ծառայություններ | E64: ԳՀ | F64: դրամ | I64: -4065.6
A65: 98111140-22 | B65: հեղինակային հսկողության ծառայություններ | E65: ՄԱ | F65: դրամ | I65: -1342.5
