Workbook
Name _tab10: #REF!
Name _tab10: #REF!
Name _tab11: #REF!
Name _tab11: #REF!
Name _tab12: #REF!
Name _tab12: #REF!
Name _tab13: #REF!
Name _tab13: #REF!
Name _tab14: #REF!
Name _tab14: #REF!
Name _tab15: #REF!
Name _tab15: #REF!
Name _tab16: #REF!
Name _tab16: #REF!
Name _tab17: #REF!
Name _tab17: #REF!
Name _tab18: #REF!
Name _tab18: #REF!
Name _tab19: #REF!
Name _tab19: #REF!
Name _tab20: #REF!
Name _tab20: #REF!
Name _tab21: #REF!
Name _tab21: #REF!
Name _tab22: #REF!
Name _tab22: #REF!
Name _tab23: #REF!
Name _tab23: #REF!
Name _tab24: #REF!
Name _tab24: #REF!
Name _tab5: #REF!
Name _tab5: #REF!
Name _tab6: #REF!
Name _tab6: #REF!
Name _tab7: #REF!
Name _tab7: #REF!
Name _tab8: #REF!
Name _tab8: #REF!
Name _tab9: #REF!
Name _tab9: #REF!
Name par_count: #REF!,#REF!,#REF!,#REF!,#REF!,#REF!,#REF!,#REF!,#REF!,#REF!,#REF!,#REF!,#REF!,#REF!,#REF!
Name par_count: #REF!,#REF!,#REF!,#REF!,#REF!,#REF!,#REF!,#REF!,#REF!,#REF!,#REF!,#REF!,#REF!,#REF!,#REF!
Name par_qual: #REF!,#REF!,#REF!,#REF!,#REF!
Name par_qual: #REF!,#REF!,#REF!,#REF!,#REF!
Name par_time: #REF!,#REF!,#REF!,#REF!
Name par_time: #REF!,#REF!,#REF!,#REF!
Name par2.12s: #REF!
Name par2.12s: #REF!
Name par2.4s: #REF!,#REF!,#REF!,#REF!,#REF!,#REF!,#REF!,#REF!,#REF!,#REF!,#REF!,#REF!,#REF!,#REF!,#REF!,#REF!
Name par2.4s: #REF!,#REF!,#REF!,#REF!,#REF!,#REF!,#REF!,#REF!,#REF!,#REF!,#REF!,#REF!,#REF!,#REF!,#REF!,#REF!
Name par2.5s: #REF!,#REF!
Name par2.5s: #REF!,#REF!
Name par2.6s: #REF!,#REF!,#REF!,#REF!
Name par2.6s: #REF!,#REF!,#REF!,#REF!
Name par2.7s: #REF!,#REF!
Name par2.7s: #REF!,#REF!
Name par2.9s: #REF!,#REF!,#REF!,#REF!,#REF!,#REF!,#REF!,#REF!,#REF!,#REF!,#REF!,#REF!,#REF!,#REF!,#REF!,#REF!
Name par2.9s: #REF!,#REF!,#REF!,#REF!,#REF!,#REF!,#REF!,#REF!,#REF!,#REF!,#REF!,#REF!,#REF!,#REF!,#REF!,#REF!
Name par4.10s: #REF!,#REF!
Name par4.10s: #REF!,#REF!

Sheet 1
D1: Հավելված N 1
D2: ՀՀ կառավարության 2022 թվականի
C3: -----------------ի N -----------Ն որոշման
A5: ՀԱՅԱՍՏԱՆԻ ՀԱՆՐԱՊԵՏՈՒԹՅԱՆ 2022 ԹՎԱԿԱՆԻ ՊԵՏԱԿԱՆ ԲՅՈՒՋԵԻ ՄԱՍԻՆ» ՕՐԵՆՔԻ N 1 ՀԱՎԵԼՎԱԾԻ N 2 ԱՂՅՈՒՍԱԿՈՒՄ ԿԱՏԱՐՎՈՂ ՎԵՐԱԲԱՇԽՈՒՄԸ ԵՎ ՀԱՅԱՍՏԱՆԻ ՀԱՆՐԱՊԵՏՈՒԹՅԱՆ ԿԱՌԱՎԱՐՈՒԹՅԱՆ 2021 ԹՎԱԿԱՆԻ ԴԵԿՏԵՄԲԵՐԻ 23-Ի N 2121-Ն ՈՐՈՇՄԱՆ N 5 ՀԱՎԵԼՎԱԾԻ N 1 ԱՂՅՈՒՍԱԿՈՒՄ ԿԱՏԱՐՎՈՂ ՓՈՓՈԽՈՒԹՅՈՒՆՆԵՐԸ ԵՎ ԼՐԱՑՈՒՄԸ
D6: (հազար դրամ)
A7: Ծրագրային դասիչը | C7: Բյուջետային հատկացումների գլխավոր կարգադրիչների, ծրագրերի և միջոցառումների անվանումները | D7: Ցուցանիշների փոփոխությունները ավելացումները նշված են դրական նշանով, իսկ նվազեցումները՝ փակագծերում
A8: Ծրագիր | B8: Միջոցառում | D8: Տարի
C9: ԸՆԴԱՄԵՆԸ | D9: =SUM(D10) -> 0
C10: ՀՀ աշխատանքի և սոցիալական հարցերի նախարարություն | D10: =D11+D24 -> 0
A11: 1011 | C11: Ծրագրի անվանումը` | D11: =D18 -> -310600
C12: Անապահով սոցիալական խմբերին աջակցություն
C13: Ծրագրի նպատակը`
C14: Օժանդակել անապահով ընտանիքների կենսամակարդակի բարձրացմանը
C15: Վերջնական արդյունքի նկարագրությունը`
C16: Աղքատության մեղմում և ծայրահեղ աղքատության կրճատում
A17: Ծրագրի միջոցառումներ
B18: 12001 | C18: Միջոցառման անվանումը` | D18: -310600
C19: Ընտանիքի կենսամակարդակի բարձրացմանն ուղղված նպաստներ
C20: Միջոցառման նկարագրությունը`
C21: Ընտանիքների անապահովության գնահատման համակարգում հաշվառված, անապահով ճանաչված ընտանիքներին նպաստի, սոցիալական նպաստի և հրատապ օգնության տրամադրում
C22: Միջոցառման տեսակը
C23: Տրանսֆերտների տրամադրում
A24: 1184 | C24: Ծրագրի անվանումը` | D24: =D31+D37 -> 310600
C25: Ավանդների և այլ փոխհատուցումներ
C26: Ծրագրի նպատակը`
C27: «ՎՏԲ-Հայաստան» ՓԲԸ-ում ավանդատու հանդիսացող և նախկին ԽՍՀՄ Խնայբանկի ՀԽՍՀ հանրապետական բանկում մինչև 1993 թվականի հունիսի 10-ը ներդրված դրամական ավանդների փոխհատուցում և անավարտ շինարարության բնակարանաշինարարական կոոպերատիվների փայատերերի կողմից Խորհրդային
C28: Վերջնական արդյունքի նկարագրությունը`
C29: Փոխհատուցված ավանդատու անձանց ընդգրկվածության աճ և փայատերերի թիվը
A30: Ծրագրի միջոցառումներ
B31: 11001 | C31: Միջոցառման անվանումը` | D31: 3100
C32: Մինչև 1993 թվականի հունիսի 10-ը ներդրված ավանդների դիմաց փոխհատուցման միջոցառման իրականացման ապահովում
C33: Միջոցառման նկարագրությունը`
C34: «ՎՏԲ-Հայաստան» ՓԲԸ-ում ավանդատու հանդիսացող և նախկին ԽՍՀՄ Խնայբանկի ՀԽՍՀ հանրապետական բանկում մինչև 1993 թվականի հունիսի 10-ը ավանդներ ներդրած քաղաքացիների փոխհատուցման վճարման ծառայությունների ձեռքբերում
C35: Միջոցառման տեսակը
C36: Ծառայությունների մատուցում
B37: 12001 | C37: Միջոցառման անվանումը` | D37: 307500
C38: «ՎՏԲ- Հայաստան» ՓԲԸ-ում ավանդատու հանդիսացող քաղաքացիների, որպես նախկին ԽՍՀՄ Խնայբանկի ՀԽՍՀ հանրապետական բանկում մինչև 1993 թվականի հունիսի 10-ը ներդրված դրամական ավանդների դիմաց փոխհատուցում
C39: Միջոցառման նկարագրությունը`
C40: «ՎՏԲ-Հայաստան» ՓԲԸ-ում ավանդատու հանդիսացող քաղաքացիների՛ որպես նախկին ԽՍՀՄ Խնայբանկի ՀԽՍՀ հանրապետական բանկում մինչև 1993 թվականի հունիսի 10-ը ներդրված ավանդների դիմաց փոխհատուցման տրամադրում
C41: Միջոցառման տեսակը
...

Sheet 2
G1: Հավելված N 2
G2: ՀՀ կառավարության 2022 թվականի
G3: -----------------ի N -----------Ն որոշման
A5: ՀԱՅԱՍՏԱՆԻ ՀԱՆՐԱՊԵՏՈՒԹՅԱՆ ԿԱՌԱՎԱՐՈՒԹՅԱՆ 2021 ԹՎԱԿԱՆԻ ԴԵԿՏԵՄԲԵՐԻ 23-Ի N 2121-Ն ՈՐՈՇՄԱՆ N N 3 ԵՎ 4 ՀԱՎԵԼՎԱԾՆԵՐՈՒՄ ԿԱՏԱՐՎՈՂ ՓՈՓՈԽՈՒԹՅՈՒՆՆԵՐԸ ԵՎ ԼՐԱՑՈՒՄԸ
G6: հազար դրամ
A7: Գործառական դասիչը | D7: Ծրագրային դասիչը | F7: Բյուջետային ծախսերի գործառական դասակարգման բաժինների, խմբերի և դասերի, բյուջետային ծրագրերի միջոցառումների, բյուջետային հատկացումների գլխավոր կարգադրիչների անվանումները | G7: ='1'!D7 -> Ցուցանիշների փոփոխությունները ավելացումները նշված են դրական նշանով, իսկ նվազեցումները՝ փակագծերում
A8: Բաժինը | B8: Խումբը | C8: Դասը | D8: Ծրագիր | E8: Միջոցառում | G8: ='1'!D8 -> Տարի
F9: ԸՆԴԱՄԵՆԸ ԾԱԽՍԵՐ | G9: =G11 -> 0
F10: այդ թվում`
F11: ՀՀ աշխատանքի և սոցիալական հարցերի նախարարություն | G11: =G12 -> 0
A12: 10 | F12: ՍՈՑԻԱԼԱԿԱՆ ՊԱՇՏՊԱՆՈՒԹՅՈՒՆ | G12: =G14+G44+G29 -> 0
F13: այդ թվում`
B14: 04 | F14: Ընտանիքի անդամներ և զավակներ | G14: =G16 -> -310600
F15: այդ թվում՝
C16: 01 | F16: Ընտանիքի անդամներ և զավակներ | G16: =G18 -> -310600
F17: այդ թվում`
D18: 1011 | F18: Ժողովրդագրական վիճակի բարելավում | G18: =G20 -> -310600
F19: այդ թվում`
E20: 12001 | F20: Ընտանիքի կենսամակարդակի բարձրացմանն ուղղված նպաստներ | G20: =G22 -> -310600
F21: այդ թվում` ըստ կատարողների
F22: ՀՀ աշխատանքի և սոցիալական հարցերի նախարարության միասնական սոցիալական ծառայություն | G22: =G24 -> -310600
F23: այդ թվում` բյուջետային ծախսերի տնտեսագիտական դասակարգման հոդվածներ
F24: ԸՆԴԱՄԵՆԸ ԾԱԽՍԵՐ | G24: =G25 -> -310600
F25: ԸՆԹԱՑԻԿ ԾԱԽՍԵՐ | G25: =G26 -> -310600
F26: ՍՈՑԻԱԼԱԿԱՆ ՆՊԱՍՏՆԵՐ ԵՎ ԿԵՆՍԱԹՈՇԱԿՆԵՐ | G26: =G27 -> -310600
F27: Սոցիալական օգնության դրամական արտահայտությամբ նպաստներ (բյուջեից) | G27: =G28 -> -310600
F28: - Երեխաների կամ ընտանեկան նպաստներ բյուջեից | G28: ='1'!D18 -> -310600
B29: 07 | F29: Սոցիալական հատուկ արտոնություններ (այլ դասերին չպատկանող) | G29: =G31 -> 307500
F30: այդ թվում՝
C31: 01 | F31: Սոցիալական հատուկ արտոնություններ (այլ դասերին չպատկանող) | G31: =G33 -> 307500
F32: այդ թվում`
D33: 1184 | F33: Ավանդների և այլ փոխհատուցումներ | G33: =G35 -> 307500
F34: այդ թվում`
E35: 12001 | F35: «ՎՏԲ- Հայաստան» ՓԲԸ-ում ավանդատու հանդիսացող քաղաքացիների, որպես նախկին ԽՍՀՄ Խնայբանկի ՀԽՍՀ հանրապետական բանկում մինչև 1993 թվականի հունիսի 10-ը ներդրված դրամական ավանդների դիմաց փոխհատուցում | G35: =G36 -> 307500
F36: այդ թվում` ըստ կատարողների | G36: =G38 -> 307500
F37: ՀՀ աշխատանքի և սոցիալական հարցերի նախարարության միասնական սոցիալական ծառայություն
F38: այդ թվում` բյուջետային ծախսերի տնտեսագիտական դասակարգման հոդվածներ | G38: =G39 -> 307500
F39: ԸՆԴԱՄԵՆԸ ԾԱԽՍԵՐ | G39: =G40 -> 307500
F40: ԸՆԹԱՑԻԿ ԾԱԽՍԵՐ | G40: =G41 -> 307500
F41: ՍՈՑԻԱԼԱԿԱՆ ՆՊԱՍՏՆԵՐ ԵՎ ԿԵՆՍԱԹՈՇԱԿՆԵՐ | G41: =G42 -> 307500
...

Sheet 3
C1: Հավելված N 3
C2: ՀՀ կառավարության 2022 թվականի
C3: -----------------ի N -----------Ն որոշման
A4: ՀԱՅԱՍՏԱՆԻ ՀԱՆՐԱՊԵՏՈՒԹՅԱՆ ԿԱՌԱՎԱՐՈՒԹՅԱՆ 2020 ԹՎԱԿԱՆԻ ԴԵԿՏԵՄԲԵՐԻ 30-Ի N 2215-Ն ՈՐՈՇՄԱՆ N 9 ՀԱՎԵԼՎԱԾԻ N 9.1.20 ԱՂՅՈՒՍԱԿՈՒՄ ԿԱՏԱՐՎՈՂ ՓՈՓՈԽՈՒԹՅՈՒՆՆԵՐԸ
A5: ՀԱՅԱՍՏԱՆԻ ՀԱՆՐԱՊԵՏՈՒԹՅԱՆ ԿԱՌԱՎԱՐՈՒԹՅԱՆ 2021 ԹՎԱԿԱՆԻ ԴԵԿՏԵՄԲԵՐԻ 23-Ի N 2121-Ն ՈՐՈՇՄԱՆ N 9 ՀԱՎԵԼՎԱԾԻ N 9.15 ԱՂՅՈՒՍԱԿՆԵՐՈՒՄ ԿԱՏԱՐՎՈՂ ՓՈՓՈԽՈՒԹՅՈՒՆՆԵՐԸ ԵՎ ԼՐԱՑՈՒՄԸ
A6: Հայաստանի Հանրապետության աշխատանքի և սոցիալական հարցերի նախարարություն
A7: ՄԱՍ 2. ՊԵՏԱԿԱՆ ՄԱՐՄՆԻ ԳԾՈՎ ԱՐԴՅՈՒՆՔԱՅԻՆ (ԿԱՏԱՐՈՂԱԿԱՆ) ՑՈՒՑԱՆԻՇՆԵՐԸ
A10: Ծրագրի դասիչը | B10: Ծրագրի անվանումը
A11: 1011 | B11: Անապահով սոցիալական խմբերին աջակցություն
A12: Ծրագրի միջոցառումներ
A14: Ծրագրի դասիչը` | B14: 1011 | C14: Ցուցանիշների փոփոխությունները նվազեցումները նշված են փակագծերում
A15: Միջոցառման դասիչը` | B15: 12001 | C15: Տարի
A16: Միջոցառման անվանումը` | B16: Ընտանիքի կենսամակարդակի բարձրացմանն ուղղված նպաստներ
A17: Նկարագրությունը` | B17: Ընտանիքների անապահովության գնահատման համակարգում հաշվառված, անապահով ճանաչված ընտանիքներին նպաստի, սոցիալական նպաստի և հրատապ օգնության տրամադրում
A18: Միջոցառման տեսակը` | B18: Տրանսֆերտների տրամադրում
A19: Շահառուների ընտրության չափանիշները | B19: Ընտանիքների անապահովության գնահատման համակարգում հաշվառված ընտանիք (ընտանիքի անապահովության միավորի հիման վրա)
A20: Արդյունքի չափորոշիչներ
A21: Միջոցառման վրա կատարվող ծախսը (հազար դրամ) | C21: ='1'!D18 -> -310600
A23: Ծրագրի դասիչը | B23: Ծրագրի անվանումը
A24: 1184 | B24: ='1'!C25 -> Ավանդների և այլ փոխհատուցումներ
A25: Ծրագրի միջոցառումներ
A27: Ծրագրի դասիչը` | B27: 1184 | C27: Ցուցանիշների փոփոխությունները ավելացումները նշված են դրական նշանով
A28: Միջոցառման դասիչը` | B28: 11001 | C28: ='1'!D8 -> Տարի
A29: Միջոցառման անվանումը` | B29: Մինչև 1993 թվականի հունիսի 10-ը ներդրված ավանդների դիմաց փոխհատուցման միջոցառման իրականացման ապահովում
A30: Նկարագրությունը` | B30: «ՎՏԲ-Հայաստան» ՓԲԸ-ում ավանդատու հանդիսացող և նախկին ԽՍՀՄ Խնայբանկի ՀԽՍՀ հանրապետական բանկում մինչև 1993 թվականի հունիսի 10-ը ավանդներ ներդրած քաղաքացիների փոխհատուցման վճարման ծառայությունների ձեռքբերում
A31: Միջոցառման տեսակը` | B31: Ծառայությունների մատուցում
A32: Միջոցառումն իրականացնողի անվանումը | B32: «Գնումների մասին» ՀՀ օրենքի համաձայն ընտրված կազմակերպություն
A33: Արդյունքի չափորոշիչներ
A34: Միջոցառման վրա կատարվող ծախսը (հազար դրամ) | C34: ='1'!D31 -> 3100
A37: Ծրագրի դասիչը` | B37: 1184 | C37: Ցուցանիշների փոփոխությունները ավելացումները նշված են դրական նշանով
A38: Միջոցառման դասիչը` | B38: 12001
A39: Միջոցառման անվանումը` | B39: «ՎՏԲ- Հայաստան» ՓԲԸ-ում ավանդատու հանդիսացող քաղաքացիների, որպես նախկին ԽՍՀՄ Խնայբանկի ՀԽՍՀ հանրապետական բանկում մինչև 1993 թվականի հունիսի 10-ը ներդրված դրամական ավանդների դիմաց փոխհատուցում
A40: Նկարագրությունը` | B40: «ՎՏԲ-Հայաստան» ՓԲԸ-ում ավանդատու հանդիսացող քաղաքացիների՛ որպես նախկին ԽՍՀՄ Խնայբանկի ՀԽՍՀ հանրապետական բանկում մինչև 1993 թվականի հունիսի 10-ը ներդրված ավանդների դիմաց փոխհատուցման տրամադրում
A41: Միջոցառման տեսակը` | B41: Տրանսֆերտների տրամադրում
A42: Շահառուների ընտրության չափանիշները | B42: Նախկին ԽՍՀՄ Խնայբանկի ՀԽՍՀ հանրապետական բանկում մինչև 1993 թվականի հունիսի 10-ը ներդրված դրամական ավանդ ունենալը և դիմողի տարիքը
A43: Արդյունքի չափորոշիչներ
A44: Փոխհատուցվող ավանդատուների քանակ, մարդ | C44: 1650
A45: Միջոցառման վրա կատարվող ծախսը (հազար դրամ) | C45: ='1'!D37 -> 307500

Sheet 4
C1: Հավելված N 3
C2: ՀՀ կառավարության 2022 թվականի
C3: -----------------ի N -----------Ն որոշման
A4: ՀԱՅԱՍՏԱՆԻ ՀԱՆՐԱՊԵՏՈՒԹՅԱՆ ԿԱՌԱՎԱՐՈՒԹՅԱՆ 2020 ԹՎԱԿԱՆԻ ԴԵԿՏԵՄԲԵՐԻ 30-Ի N 2215-Ն ՈՐՈՇՄԱՆ N 9 ՀԱՎԵԼՎԱԾԻ N 9.1.20 ԱՂՅՈՒՍԱԿՈՒՄ ԿԱՏԱՐՎՈՂ ՓՈՓՈԽՈՒԹՅՈՒՆՆԵՐԸ
A5: ՀԱՅԱՍՏԱՆԻ ՀԱՆՐԱՊԵՏՈՒԹՅԱՆ ԿԱՌԱՎԱՐՈՒԹՅԱՆ 2021 ԹՎԱԿԱՆԻ ԴԵԿՏԵՄԲԵՐԻ 23-Ի N 2121-Ն ՈՐՈՇՄԱՆ N 9.1 ՀԱՎԵԼՎԱԾԻ N 9.1.20 ԱՂՅՈՒՍԱԿՆԵՐՈՒՄ ԿԱՏԱՐՎՈՂ ՓՈՓՈԽՈՒԹՅՈՒՆՆԵՐԸ ԵՎ ԼՐԱՑՈՒՄԸ
A6: ՀՀ աշխատանքի և սոցիալական հարցերի նախարարության միասնական սոցիալական ծառայություն
A7: ՄԱՍ 1. ՊԵՏԱԿԱՆ ՄԱՐՄՆԻ ԳԾՈՎ ԱՐԴՅՈՒՆՔԱՅԻՆ (ԿԱՏԱՐՈՂԱԿԱՆ) ՑՈՒՑԱՆԻՇՆԵՐԸ
A10: Ծրագրի դասիչը | B10: Ծրագրի անվանումը
A11: 1011 | B11: Անապահով սոցիալական խմբերին աջակցություն
A12: Ծրագրի միջոցառումներ
A14: Ծրագրի դասիչը` | B14: 1011 | C14: Ցուցանիշների փոփոխությունները նվազեցումները նշված են փակագծերում
A15: Միջոցառման դասիչը` | B15: 12001 | C15: Տարի
A16: Միջոցառման անվանումը` | B16: Ընտանիքի կենսամակարդակի բարձրացմանն ուղղված նպաստներ
A17: Նկարագրությունը` | B17: Ընտանիքների անապահովության գնահատման համակարգում հաշվառված, անապահով ճանաչված ընտանիքներին նպաստի, սոցիալական նպաստի և հրատապ օգնության տրամադրում
A18: Միջոցառման տեսակը` | B18: Տրանսֆերտների տրամադրում
A19: Շահառուների ընտրության չափանիշները | B19: Ընտանիքների անապահովության գնահատման համակարգում հաշվառված ընտանիք (ընտանիքի անապահովության միավորի հիման վրա)
A20: Արդյունքի չափորոշիչներ
A21: Միջոցառման վրա կատարվող ծախսը (հազար դրամ) | C21: ='1'!D18 -> -310600
A23: Ծրագրի դասիչը | B23: Ծրագրի անվանումը
A24: 1184 | B24: ='1'!C25 -> Ավանդների և այլ փոխհատուցումներ
A25: Ծրագրի միջոցառումներ
A27: Ծրագրի դասիչը` | B27: 1184 | C27: Ցուցանիշների փոփոխությունները ավելացումները նշված են դրական նշանով
A28: Միջոցառման դասիչը` | B28: 11001 | C28: ='1'!D8 -> Տարի
A29: Միջոցառման անվանումը` | B29: Մինչև 1993 թվականի հունիսի 10-ը ներդրված ավանդների դիմաց փոխհատուցման միջոցառման իրականացման ապահովում
A30: Նկարագրությունը` | B30: «ՎՏԲ-Հայաստան» ՓԲԸ-ում ավանդատու հանդիսացող և նախկին ԽՍՀՄ Խնայբանկի ՀԽՍՀ հանրապետական բանկում մինչև 1993 թվականի հունիսի 10-ը ավանդներ ներդրած քաղաքացիների փոխհատուցման վճարման ծառայությունների ձեռքբերում
A31: Միջոցառման տեսակը` | B31: Ծառայությունների մատուցում
A32: Միջոցառումն իրականացնողի անվանումը | B32: «Գնումների մասին» ՀՀ օրենքի համաձայն ընտրված կազմակերպություն
A33: Արդյունքի չափորոշիչներ
A34: Միջոցառման վրա կատարվող ծախսը (հազար դրամ) | C34: ='1'!D31 -> 3100
A37: Ծրագրի դասիչը` | B37: 1184 | C37: Ցուցանիշների փոփոխությունները ավելացումները նշված են դրական նշանով
A38: Միջոցառման դասիչը` | B38: 12001
A39: Միջոցառման անվանումը` | B39: «ՎՏԲ- Հայաստան» ՓԲԸ-ում ավանդատու հանդիսացող քաղաքացիների, որպես նախկին ԽՍՀՄ Խնայբանկի ՀԽՍՀ հանրապետական բանկում մինչև 1993 թվականի հունիսի 10-ը ներդրված դրամական ավանդների դիմաց փոխհատուցում
A40: Նկարագրությունը` | B40: «ՎՏԲ-Հայաստան» ՓԲԸ-ում ավանդատու հանդիսացող քաղաքացիների՛ որպես նախկին ԽՍՀՄ Խնայբանկի ՀԽՍՀ հանրապետական բանկում մինչև 1993 թվականի հունիսի 10-ը ներդրված ավանդների դիմաց փոխհատուցման տրամադրում
A41: Միջոցառման տեսակը` | B41: Տրանսֆերտների տրամադրում
A42: Շահառուների ընտրության չափանիշները | B42: Նախկին ԽՍՀՄ Խնայբանկի ՀԽՍՀ հանրապետական բանկում մինչև 1993 թվականի հունիսի 10-ը ներդրված դրամական ավանդ ունենալը և դիմողի տարիքը
A43: Արդյունքի չափորոշիչներ
A44: Փոխհատուցվող ավանդատուների քանակ, մարդ | C44: ='3'!C44 -> 1650
A45: Միջոցառման վրա կատարվող ծախսը (հազար դրամ) | C45: ='3'!C45 -> 307500

Sheet 5
I1: Հավելված N 5
G2: ՀՀ կառավարության 2022 թվականի
G3: -----------------ի N -----------Ն որոշման
A5: ՀԱՅԱՍՏԱՆԻ ՀԱՆՐԱՊԵՏՈՒԹՅԱՆ ԿԱՌԱՎԱՐՈՒԹՅԱՆ 2021 ԹՎԱԿԱՆԻ ԴԵԿՏԵՄԲԵՐԻ 23-Ի N 2121-Ն ՈՐՈՇՄԱՆ N 10 ՀԱՎԵԼՎԱԾՈՒՄ ԿԱՏԱՐՎՈՂ ԼՐԱՑՈՒՄԸ
A7: Կոդը | B7: Անվանումը | E7: Գնման ձևը | F7: Չափման միավորը | G7: Միավորի գինը | H7: Ցուցանիշների փոփոխություն (ավելացումները նշված են դրական նշանով)
H8: Քանակը | I8: Գումարը (հազար դրամով)
A9: ՀՀ աշխատանքի և սոցիալական հարցերի նախարարություն | I9: =I10 -> 3100
A10: Բաժին N 10 | B10: Խումբ N 09 | C10: Դաս N 02 | D10: ='2'!F48 -> Ավանդների և այլ փոխհատուցումներ | I10: =I11 -> 3100
A11: 1184 11001 | B11: ='1'!C32 -> Մինչև 1993 թվականի հունիսի 10-ը ներդրված ավանդների դիմաց փոխհատուցման միջոցառման իրականացման ապահովում | I11: =I12 -> 3100
B12: ՄԱՍ III. ԾԱՌԱՅՈՒԹՅՈՒՆՆԵՐ | I12: =I13 -> 3100
A13: 79571100-1 | B13: փոստային առաքման ծառայություններ | E13: ՄԱ | F13: դրամ | G13: 3100000 | I13: =G13/1000 -> 3100
