Workbook
Name AgencyCode: #REF!
Name AgencyCode: #REF!
Name AgencyCode: #REF!
Name AgencyCode: #REF!
Name AgencyName: #REF!
Name AgencyName: #REF!
Name AgencyName: #REF!
Name AgencyName: #REF!
Name åû: #REF!
Name åû: #REF!
Name davit: #REF!
Name davit: #REF!
Name davit: #REF!
Name davit: #REF!
Name Functional1: #REF!
Name Functional1: #REF!
Name Functional1: #REF!
Name Functional1: #REF!
Name ggg: #REF!
Name ggg: #REF!
Name ggg: #REF!
Name ggg: #REF!
Name mas: #REF!
Name mas: #REF!
Name mass: #REF!
Name mass: #REF!
Name PANature: #REF!
Name PANature: #REF!
Name PANature: #REF!
Name PANature: #REF!
Name PAType: #REF!
Name PAType: #REF!
Name PAType: #REF!
Name PAType: #REF!
Name Performance2: #REF!
Name Performance2: #REF!
Name Performance2: #REF!
Name Performance2: #REF!
Name PerformanceType: #REF!
Name PerformanceType: #REF!
Name PerformanceType: #REF!
Name PerformanceType: #REF!
Name x: #REF!
Name x: #REF!
Name Հավելված: #REF!
Name Հավելված: #REF!
Name Հավելված: #REF!
Name Հավելված: #REF!
Name Մաս: #REF!
Name Մաս: #REF!
Name Մաս: #REF!
Name Մաս: #REF!
Name շախմատիստ: #REF!
Name շախմատիստ: #REF!
Name շախմատիստ: #REF!
Name շախմատիստ: #REF!

Sheet 1
D2: Հավելված N1
D3: ՀՀ կառավարության 2022 թվականի
D4: ______________ ի ___Ն որոշման
A6: «ՀԱՅԱՍՏԱՆԻ ՀԱՆՐԱՊԵՏՈՒԹՅԱՆ 2022 ԹՎԱԿԱՆԻ ՊԵՏԱԿԱՆ ԲՅՈՒՋԵԻ ՄԱՍԻՆ» ՕՐԵՆՔԻ N 1 ՀԱՎԵԼՎԱԾԻ N 2 ԱՂՅՈՒՍԱԿՈՒՄ ՎԵՐԱԲԱՇԽՈՒՄԸ ԵՎ ՀԱՅԱՍՏԱՆԻ ՀԱՆՐԱՊԵՏՈՒԹՅԱՆ ԿԱՌԱՎԱՐՈՒԹՅԱՆ 2021 ԹՎԱԿԱՆԻ ԴԵԿՏԵՄԲԵՐԻ 23-Ի N 2121-Ն ՈՐՈՇՄԱՆ N 5 ՀԱՎԵԼՎԱԾԻ N 1 ԱՂՅՈՒՍԱԿՈՒՄ ԿԱՏԱՐՎՈՂ ՓՈՓՈԽՈՒԹՅՈՒՆՆԵՐԸ ԵՎ ԼՐԱՑՈՒՄՆԵՐԸ
D8: հազար դրամ
A9: Ծրագրային դասիչը | C9: Բյուջետային հատկացումների գլխավոր կարգադրիչների, ծրագրերի և միջոցառումների անվանումները | D9: Ցուցանիշների փոփոխությունը (ավելացումները նշված են դրական նշանով, իսկ նվազեցումները` փակագծերում)
A10: Ծրագիր | B10: Միջոցառում | D10: Տարի
B11: ԸՆԴԱՄԵՆԸ | D11: =D12 -> 0
C12: ՀՀ տարածքային կառավարման և ենթակառուցվածքների նախարարություն | D12: =+D14+D26 -> 0
A13: 1049 | C13: Ծրագրի անվանումը՝
C14: Ճանապարհային ցանցի բարելավում | D14: =D20 -> -1312283
C15: Ծրագրի նպատակը՝
C16: Ճանապարհային ցանցի բարելավում և անվտանգ երթևեկության ապահովում
C17: Վերջնական արդյունքի նկարագրությունը՝
C18: Ճանապարհների ծածկի որակի և փոխադրումների արդյունավետության բարելավում, ճանապարհների վիճակով պայմանավորված պատահարների նվազում
C19: Ծրագրի միջոցառումներ
B20: 11001 | C20: Միջոցառման անվանումը` | D20: =D25 -> -1312283
C21: Միջպետական և հանրապետական նշանակության ավտոճանապարհների պահպանման և անվտանգ երթևեկության ծառայություններ
C22: Միջոցառման նկարագրությունը`
C23: Հողային պաստառի, երթևեկելի մասի, արհեստական կառույցների և կահավորման տարրերի նորմատիվ մակարդակում պահպանում և շահագործում
C24: Միջոցառման տեսակը
C25: Ծառայությունների մատուցում | D25: -1312283
A26: 1212 | C26: Ծրագրի անվանումը` | D26: =+D33 -> 1312283
C27: Տարածքային զարգացում
C28: Ծրագրի նպատակը`
C29: Տարածքային համաչափ զարգացման խթանում
C30: Վերջնական արդյունքի նկարագրությունը`
C31: ՀՀ համայնքների կառավարման արդյունավետության բարձրացում և տնտեսական գործունեության խթանում
C32: Ծրագրի միջոցառումներ
B33: 12007 | C33: Միջոցառման անվանումը` | D33: =-D25 -> 1312283
C34: ՀՀ մարզերին սուբվենցիաների տրամադրում՛ ենթակառուցվածքների զարգացման նպատակով
C35: Միջոցառման նկարագրությունը`
C36: ՀՀ մարզերին սուբվենցիաների տրամադրում` ենթակառուցվածքների զարգացման նպատակով
C37: Միջոցառման տեսակը
C38: Տրանսֆերտների տրամադրում
A41: ՀԱՅԱՍՏԱՆԻ ՀԱՆՐԱՊԵՏՈՒԹՅԱՆ
A42: ՎԱՐՉԱՊԵՏԻ ԱՇԽԱՏԱԿԱԶՄԻ
B43: ՂԵԿԱՎԱՐ ՝ Ա. ՀԱՐՈՒԹՅՈՒՆՅԱՆ

Sheet 2
G1: Հավելված N2
F2: ՀՀ կառավարության 2022 թվականի
F3: ______________ ի ___Ն որոշման
A6: ՀԱՅԱՍՏԱՆԻ ՀԱՆՐԱՊԵՏՈՒԹՅԱՆ ԿԱՌԱՎԱՐՈՒԹՅԱՆ 2021 ԹՎԱԿԱՆԻ ԴԵԿՏԵՄԲԵՐԻ 23-Ի N 2121-Ն ՈՐՈՇՄԱՆ NN 3 ԵՎ 4 ՀԱՎԵԼՎԱԾՆԵՐՈՒՄ ԿԱՏԱՐՎՈՂ ՓՈՓՈԽՈՒԹՅՈՒՆՆԵՐԸ ԵՎ ԼՐԱՑՈՒՄՆԵՐԸ
G8: հազար դրամ
A9: Գործառական դասիչը | D9: Ծրագրային դասիչը | F9: Բյուջետային ծախսերի գործառական դասակարգման բաժինների, խմբերի և դասերի, բյուջետային ծրագրերի, միջոցառումների բյուջետային հատկացումնեյի գլխավոր կարգադրիչների անվանումները | G9: Ցուցանիշների փոփոխությունը (ավելացումները նշված են դրական նշանով, իսկ նվազեցումները` փակագծերում)
A10: Բաժին | B10: Խումբ | C10: Դաս | D10: Ծրագիր | E10: Միջոցառում | G10: Տարի
F11: ԸՆԴԱՄԵՆԸ | G11: =G12 -> 0
F12: ՀՀ տարածքային կառավարման և ենթակառուցվածքների նախարարություն | G12: =+G13+G31 -> 0
A13: 04 | F13: ՏՆՏԵՍԱԿԱՆ ՀԱՐԱԲԵՐՈՒԹՅՈՒՆՆԵՐ | G13: =+G15 -> -1312283
F14: այդ թվում`
B15: 05 | F15: Տրանսպորտ | G15: =+G17 -> -1312283
F16: այդ թվում՝
C17: 01 | F17: Ճանապարհային տրանսպորտ | G17: =+G18 -> -1312283
F18: ՀՀ տարածքային կառավարման և ենթակառուցվածքների նախարարություն | G18: =+G20 -> -1312283
F19: այդ թվում`
D20: 1049 | F20: Ճանապարհային ցանցի բարելավում | G20: =G22 -> -1312283
F21: այդ թվում`
E22: 11001 | F22: Միջպետական և հանրապետական նշանակության ավտոճանապարհների պահպանման և անվտանգ երթևեկության ծառայություններ | G22: =+G24 -> -1312283
F23: այդ թվում` ըստ կատարողների
F24: ՀՀ տարածքային կառավարման և ենթակառուցվածքների նախարարություն | G24: =+G26 -> -1312283
F25: այդ թվում` բյուջետային ծախսերի տնտեսագիտական դասակարգման հոդվածներ
F26: ԸՆԴԱՄԵՆԸ ԾԱԽՍԵՐ | G26: =+G27 -> -1312283
F27: ԸՆԹԱՑԻԿ ԾԱԽՍԵՐ | G27: =+G28 -> -1312283
F28: ԾԱՌԱՅՈՒԹՅՈՒՆՆԵՐԻ ԵՎ ԱՊՐԱՆՔՆԵՐԻ ՁԵՌՔԲԵՐՈՒՄ | G28: =+G29 -> -1312283
F29: Ընթացիկ նորոգում և պահպանում (ծառայություններ և նյութեր) | G29: =+G30 -> -1312283
F30: - Շենքերի և կառույցների ընթացիկ նորոգում և պահպանում | G30: ='1'!D25 -> -1312283
A31: 01 | F31: ԸՆԴՀԱՆՈՒՐ ԲՆՈՒՅԹԻ ՀԱՆՐԱՅԻՆ ԾԱՌԱՅՈՒԹՅՈՒՆՆԵՐ | G31: =G33 -> 1312283
F32: այդ թվում`
B33: 08 | F33: Կառավարության տարբեր մակարդակների միջև իրականացվող ընդհանուր բնույթի տրանսֆերտներ | G33: =G35 -> 1312283
F34: այդ թվում`
C35: 01 | F35: Կառավարության տարբեր մակարդակների միջև իրականացվող ընդհանուր բնույթի տրանսֆերտներ | G35: =G38 -> 1312283
F36: այդ թվում`
F37: ՀՀ տարածքային կառավարման և ենթակառուցվածքների նախարարություն
D38: ='1'!A26 -> 1212 | F38: ='1'!C27 -> Տարածքային զարգացում | G38: =+G40 -> 1312283
F39: այդ թվում`
E40: ='1'!B33 -> 12007 | F40: ='1'!C34 -> ՀՀ մարզերին սուբվենցիաների տրամադրում՛ ենթակառուցվածքների զարգացման նպատակով | G40: =G42 -> 1312283
F41: այդ թվում` ըստ կատարողների
F42: ՀՀ կառավարություն | G42: =G44 -> 1312283
F43: այդ թվում` բյուջետային ծախսերի տնտեսագիտական դասակարգման հոդվածներ
...

Sheet 3
D1: Հավելված N3
D2: ՀՀ կառավարության 2022 թվականի
D3: ______________ ի ___Ն որոշման
A6: «ՀԱՅԱՍՏԱՆԻ ՀԱՆՐԱՊԵՏՈՒԹՅԱՆ 2022 ԹՎԱԿԱՆԻ ՊԵՏԱԿԱՆ ԲՅՈՒՋԵԻ ՄԱՍԻՆ» ՕՐԵՆՔԻ N 1 ՀԱՎԵԼՎԱԾԻ N 7 ԱՂՅՈՒՍԱԿՈՒՄ ԿԱՏԱՐՎՈՂ ՎԵՐԱԲԱՇԽՈՒՄԸ ԵՎ ՀԱՅԱՍՏԱՆԻ ՀԱՆՐԱՊԵՏՈՒԹՅԱՆ ԿԱՌԱՎԱՐՈՒԹՅԱՆ 2021 ԹՎԱԿԱՆԻ ԴԵԿՏԵՄԲԵՐԻ 23-Ի N 2121-Ն ՈՐՈՇՄԱՆ N 5 ՀԱՎԵԼՎԱԾԻ N 6 ԱՂՅՈՒՍԱԿՈՒՄ ԿԱՏԱՐՎՈՂ ՓՈՓՈԽՈՒԹՅՈՒՆԸ ԵՎ ԼՐԱՑՈՒՄՆԵՐԸ
A8: Ծրագրային դասիչը | C8: Բյուջետային հատկացումների գլխավոր կարգադրիչների, ծրագրերի, միջոցառումների և միջոցառումները կատարող պետական մարմինների անվանումները | D8: Ցուցանիշների փոփոխությունը (ավելացումները նշված են դրական նշանով)
A9: Ծրագիր | B9: Միջոցառում | D9: Տարի
C10: ԸՆԴԱՄԵՆԸ | D10: =+D12 -> 1312283
C11: այդ թվում
C12: Կապիտալ սուբվենցիաներ համայնքներին | D12: =+D14 -> 1312283
C13: այդ թվում`
C14: ՀՀ տարածքային կառավարման և ենթակառուցվածքների նախարարություն | D14: =+D16 -> 1312283
C15: այդ թվում`
A16: 1212 | C16: Տարածքային զարգացում | D16: =+D18 -> 1312283
C17: այդ թվում`
B18: 12007 | C18: ՀՀ մարզերին սուբվենցիաների տրամադրում՝ ենթակառուցվածքների զարգացման նպատակով | D18: =D20 -> 1312283
C19: այդ թվում` ըստ կատարողների
C20: ՀՀ կառավարություն | D20: ='1'!D33 -> 1312283

Sheet 4
D2: Հավելված N4
B3: ՀՀ կառավարության 2022 թվականի
B4: ______________ ի ___Ն որոշման
A6: «ՀԱՅԱՍՏԱՆԻ ՀԱՆՐԱՊԵՏՈՒԹՅԱՆ 2022 ԹՎԱԿԱՆԻ ՊԵՏԱԿԱՆ ԲՅՈՒՋԵԻ ՄԱՍԻՆ» ՕՐԵՆՔԻ N 1 ՀԱՎԵԼՎԱԾԻ N 6 ԱՂՅՈՒՍԱԿՈՒՄ ԿԱՏԱՐՎՈՂ ՎԵՐԱԲԱՇԽՈՒՄԸ, ՀԱՅԱՍՏԱՆԻ ՀԱՆՐԱՊԵՏՈՒԹՅԱՆ ԿԱՌԱՎԱՐՈՒԹՅԱՆ 2021 ԹՎԱԿԱՆԻ ԴԵԿՏԵՄԲԵՐԻ 23-Ի N 2121-Ն ՈՐՈՇՄԱՆ N 5 ՀԱՎԵԼՎԱԾԻ N 5 ԱՂՅՈՒՍԱԿՈՒՄ ԿԱՏԱՐՎՈՂ ՓՈՓՈԽՈՒԹՅՈՒՆՆԵՐԸ ԵՎ ԼՐԱՑՈՒՄՆԵՐԸ
D8: հազար դրամ
A9: Ծրագրային դասիչը | C9: Բյուջետային ծրագրերի, միջոցառումների և աշխատանքների անվանումները | D9: Տարի
A10: Ծրագիր | B10: Միջոցառում
A11: 1049 | C11: Ճանապարհային ցանցի բարելավում
B12: 11001 | C12: Միջպետական և հանրապետական նշանակության ավտոճանապարհների պահպանման և անվտանգ երթևեկության ծառայություններ¸ այդ թվում՝ | D12: =D13+D17 -> -1691937.1
C13: 1. Ավտոճանապարհների ձմեռային և ընթացիկ պահպանում, այդ թվում` | D13: =D14+D15+D16 -> -1556614.1
C14: 1.1 Միջպետական և հանրապետական նշանակության ավտոճանապարհների ձմեռային և ընթացիկ պահպանում | D14: -620000
C15: 1.2 Պարբերական պահպանում (միջին նորոգում) | D15: =-379654.1-304260 -> -683914.1
C16: 1.3 Միջպետական և հանրապետական նշանակության ավտոճանապարհների նշագծում | D16: -252700
C17: 2. Արհեստական կառույցների պահպանում և շահագործում, այդ թվում` | D17: =SUM(D18:D24) -> -135323
C18: 2.1 Պուշկինի թունել Լոռու մարզ | D18: -26194
C19: 2.2 Դիլիջանի թունել Գեղարքունիքի և Տավուշի մարզեր | D19: -63600
C20: 2.3 Նալբանդի թունել Լոռու մարզ | D20: -21363
C21: 2.5 Հ-6 Աբովյան-Եղվարդ-Աշտարակ ա/ճ-ի Հրազդան գետի վրայի կամուրջ Կոտայքի մարզ | D21: -7208
C22: 2.6 Մ-1 Երևան-Գյումրի-Վրաստանի սահման ա/ճ-ի Քասախ գետի վրայի կամուրջ Արագածոտնի մարզ | D22: -8000
C23: 2.7 Մ-3 Մարգարա-Վանաձոր-Տաշիր-Վրաստանի սահման ա/ճ-ի Ձորագետ գետի վրայի կամուրջ Լոռու մարզ (ք. Ստեփանավան) | D23: -2480
C24: 2.8 Ջերմուկ քաղաքի կամուրջ Վայոց Ձորի մարզ | D24: -6478

Sheet 5
C2: Հավելված N5
C3: ՀՀ կառավարության 2022 թվականի
C4: ______________ ի ___Ն որոշման
A6: ՀԱՅԱՍՏԱՆԻ ՀԱՆՐԱՊԵՏՈՒԹՅԱՆ ԿԱՌԱՎԱՐՈՒԹՅԱՆ 2021 ԹՎԱԿԱՆԻ ԴԵԿՏԵՄԲԵՐԻ 23-Ի N 2121-Ն ՈՐՈՇՄԱՆ N 9 ՀԱՎԵԼՎԱԾԻ N 9.7 ԱՂՅՈՒՍԱԿՈՒՄ ԿԱՏԱՐՎՈՂ ՓՈՓՈԽՈՒԹՅՈՒՆՆԵՐԸ ԵՎ ԼՐԱՑՈՒՄՆԵՐԸ
C7: Աղյուսակ 9.7
A9: ՀՀ ՏԱՐԱԾՔԱՅԻՆ ԿԱՌԱՎԱՐՄԱՆ ԵՎ ԵՆԹԱԿԱՌՈՒՑՎԱԾՔՆԵՐԻ ՆԱԽԱՐԱՐՈՒԹՅՈՒՆ
A10: ՄԱՍ 2. ՊԵՏԱԿԱՆ ՄԱՐՄՆԻ ԳԾՈՎ ԱՐԴՅՈՒՆՔԱՅԻՆ (ԿԱՏԱՐՈՂԱԿԱՆ) ՑՈՒՑԱՆԻՇՆԵՐԸ
A11: Ծրագրի դասիչը | B11: Ծրագրի անվանումը
A12: 1049 | B12: Ճանապարհային ցանցի բարելավում
A14: Ծրագրի միջոցառումները
A16: Ծրագրի դասիչը` | B16: 1049 | C16: Ցուցանիշների փոփոխությունը (նվազեցումները նշված են փակագծերում)
A17: Միջոցառման դասիչը` | B17: 11001 | C17: Տարի
A18: Միջոցառման անվանումը` | B18: Միջպետական և հանրապետական նշանակության ավտոճանապարհների պահպանման և անվտանգ երթևեկության ծառայություններ
A19: Նկարագրությունը` | B19: Հողային պաստառի, երթևեկելի մասի, արհեստական կառույցների և կահավորման տարրերի նորմատիվ մակարդակում պահպանում և շահագործում
A20: Միջոցառման տեսակը` | B20: Ծառայությունների մատուցում
A21: Միջոցառումն իրականացնողի անվանումը | B21: ՀՀ տարածքային կառավարման և ենթակառուցվածքների նախարարություն, մրցութային կարգով ընտրված կազմակերպություններ
A22: Արդյունքի չափորոշիչներ
A23: Պարբերական պահպանման/ միջին նորոգման ենթակա ճանապարհների երկարությունը, կիլոմետր | C23: -34.3
A24: Ամառային պահպանման ենթակա ավտոճանապարհների ընդհանուր երկարությունը (ոչ կուտակային ցուցանիշ), կիլոմետր | C24: -618.4
A25: Միջոցառման վրա կատարվող ծախսը (հազար դրամ) | C25: ='1'!D25 -> -1312283
A28: Ծրագրի դասիչը | B28: Ծրագրի անվանումը
A29: =+'1'!A26 -> 1212 | B29: =+'1'!C27 -> Տարածքային զարգացում
A31: Ծրագրի միջոցառումները
A33: Ծրագրի դասիչը` | B33: =+'1'!A26 -> 1212 | C33: Ցուցանիշների փոփոխությունը (ավելացումները նշված են դրական նշանով)
A34: Միջոցառման դասիչը` | B34: =+'1'!B33 -> 12007 | C34: Տարի
A35: Միջոցառման անվանումը` | B35: =+'1'!C34 -> ՀՀ մարզերին սուբվենցիաների տրամադրում՛ ենթակառուցվածքների զարգացման նպատակով
A36: Նկարագրությունը` | B36: =+'1'!C36 -> ՀՀ մարզերին սուբվենցիաների տրամադրում` ենթակառուցվածքների զարգացման նպատակով
A37: Միջոցառման տեսակը` | B37: =+'1'!C38 -> Տրանսֆերտների տրամադրում
A38: Արդյունքի չափորոշիչներ
A39: Միջոցառման վրա կատարվող ծախսը (հազար դրամ) | C39: ='1'!D33 -> 1312283
A43: ՀԱՅԱՍՏԱՆԻ ՀԱՆՐԱՊԵՏՈՒԹՅԱՆ
A44: ՎԱՐՉԱՊԵՏԻ ԱՇԽԱՏԱԿԱԶՄԻ
A45: ՂԵԿԱՎԱՐ | B45: Ա. ՀԱՐՈՒԹՅՈՒՆՅԱՆ

Sheet 6
C2: Հավելված N6
C3: ՀՀ կառավարության 2022 թվականի
C4: ______________ ի ___Ն որոշման
A6: ՀԱՅԱՍՏԱՆԻ ՀԱՆՐԱՊԵՏՈՒԹՅԱՆ ԿԱՌԱՎԱՐՈՒԹՅԱՆ 2021 ԹՎԱԿԱՆԻ ԴԵԿՏԵՄԲԵՐԻ 23-Ի N 2121-Ն ՈՐՈՇՄԱՆ N 9.1 ՀԱՎԵԼՎԱԾԻ NN 9.1.8 ԵՎ 9.1.59 ԱՂՅՈՒՍԱԿՆԵՐՈՒՄ ԿԱՏԱՐՎՈՂ ՓՈՓՈԽՈՒԹՅՈՒՆՆԵՐԸ ԵՎ ԼՐԱՑՈՒՄՆԵՐԸ
C7: Աղյուսակ 9.1.8
A9: ՀՀ ՏԱՐԱԾՔԱՅԻՆ ԿԱՌԱՎԱՐՄԱՆ ԵՎ ԵՆԹԱԿԱՌՈՒՑՎԱԾՔՆԵՐԻ ՆԱԽԱՐԱՐՈՒԹՅՈՒՆ
A10: ՄԱՍ 1. ՊԵՏԱԿԱՆ ՄԱՐՄՆԻ ԳԾՈՎ ԱՐԴՅՈՒՆՔԱՅԻՆ (ԿԱՏԱՐՈՂԱԿԱՆ) ՑՈՒՑԱՆԻՇՆԵՐԸ
A11: Ծրագրի դասիչը | B11: Ծրագրի անվանումը
A12: 1049 | B12: Ճանապարհային ցանցի բարելավում
A14: Ծրագրի միջոցառումները
A16: Ծրագրի դասիչը` | B16: 1049 | C16: Ցուցանիշների փոփոխությունը (նվազեցումները նշված են փակագծերում)
A17: Միջոցառման դասիչը` | B17: 11001 | C17: Տարի
A18: Միջոցառման անվանումը` | B18: Միջպետական և հանրապետական նշանակության ավտոճանապարհների պահպանման և անվտանգ երթևեկության ծառայություններ
A19: Նկարագրությունը` | B19: Հողային պաստառի, երթևեկելի մասի, արհեստական կառույցների և կահավորման տարրերի նորմատիվ մակարդակում պահպանում և շահագործում
A20: Միջոցառման տեսակը` | B20: Ծառայությունների մատուցում
A21: Միջոցառումն իրականացնողի անվանումը | B21: ՀՀ տարածքային կառավարման և ենթակառուցվածքների նախարարություն, մրցութային կարգով ընտրված կազմակերպություններ
A22: Արդյունքի չափորոշիչներ
A23: ='5'!A23:B23 -> Պարբերական պահպանման/ միջին նորոգման ենթակա ճանապարհների երկարությունը, կիլոմետր | C23: ='5'!C23 -> -34.3
A24: ='5'!A24:B24 -> Ամառային պահպանման ենթակա ավտոճանապարհների ընդհանուր երկարությունը (ոչ կուտակային ցուցանիշ), կիլոմետր | C24: ='5'!C24 -> -618.4
A25: Միջոցառման վրա կատարվող ծախսը (հազար դրամ) | C25: ='5'!C25 -> -1312283
A28: Ծրագրի դասիչը | B28: Ծրագրի անվանումը
A29: 1049 | B29: Ճանապարհային ցանցի բարելավում
C32: Աղյուսակ 9.1.59
A33: ՀՀ ԿԱՌԱՎԱՐՈՒԹՅՈՒՆ
A35: Ծրագրի դասիչը | B35: Ծրագրի անվանումը
A36: =+'1'!A26 -> 1212 | B36: =+'1'!C27 -> Տարածքային զարգացում
A38: Ծրագրի միջոցառումները
A40: Ծրագրի դասիչը` | B40: =+'1'!A26 -> 1212 | C40: Ցուցանիշների փոփոխությունը (ավելացումները նշված են դրական նշանով)
A41: Միջոցառման դասիչը` | B41: =+'1'!B33 -> 12007 | C41: Տարի
A42: Միջոցառման անվանումը` | B42: =+'1'!C34 -> ՀՀ մարզերին սուբվենցիաների տրամադրում՛ ենթակառուցվածքների զարգացման նպատակով
A43: Նկարագրությունը` | B43: =+'1'!C36 -> ՀՀ մարզերին սուբվենցիաների տրամադրում` ենթակառուցվածքների զարգացման նպատակով
A44: Միջոցառման տեսակը` | B44: =+'1'!C38 -> Տրանսֆերտների տրամադրում
A45: Արդյունքի չափորոշիչներ
A46: Միջոցառման վրա կատարվող ծախսը (հազար դրամ) | C46: ='1'!D33 -> 1312283
A50: ՀԱՅԱՍՏԱՆԻ ՀԱՆՐԱՊԵՏՈՒԹՅԱՆ
A51: ՎԱՐՉԱՊԵՏԻ ԱՇԽԱՏԱԿԱԶՄԻ
A52: ՂԵԿԱՎԱՐ | B52: Ա. ՀԱՐՈՒԹՅՈՒՆՅԱՆ

Sheet 7
A1: Հավելված N7
A2: ՀՀ կառավարության 2022 թվականի
A3: ______________ ի ___Ն որոշման
A5: ՀԱՅԱՍՏԱՆԻ ՀԱՆՐԱՊԵՏՈՒԹՅԱՆ ԿԱՌԱՎԱՐՈՒԹՅԱՆ 2021 ԹՎԱԿԱՆԻ ԴԵԿՏԵՄԲԵՐԻ 23-Ի N 2121-Ն ՈՐՈՇՄԱՆ N 10 ՀԱՎԵԼՎԱԾՈՒՄ ԿԱՏԱՐՎՈՂ ՓՈՓՈԽՈՒԹՅՈՒՆՆԵՐԸ ԵՎ ԼՐԱՑՈՒՄՆԵՐԸ
A6: Կոդը | B6: Անվանումը | C6: Գնման ձևը | D6: Չափման միավորը | E6: Միավորի գինը | F6: Ցուցանիշների փոփոխությունը (նվազեցումները նշված են փակագծերում)
F7: Քանակը | G7: Գումարը (հազար դրամով)
A8: ՀՀ տարածքային կառավարման և ենթակառուցվածքների նախարարություն | G8: =+G9 -> -1312283
A9: Բաժին N 04 | B9: Խումբ N 05 | C9: Դաս N 01 | D9: Ճանապարհային տրանսպորտ | G9: =+G10 -> -1312283
A10: 1049 11001 | B10: =+'[1]4'!B15 -> Միջպետական և հանրապետական նշանակության ավտոճանապարհների պահպանման և անվտանգ երթևեկության ծառայություններ | G10: =G11 -> -1312283
A11: ՄԱՍ II. ԱՇԽԱՏԱՆՔՆԵՐ | G11: =SUM(G12:G57) -> -1312283
A12: 45231176/33 | B12: ճանապարհների պահպանման աշխատանքներ | C12: ՀԲՄ | D12: դրամ | E12: 0 | F12: 0 | G12: -2218.839
A13: 45231176/36 | B13: ճանապարհների պահպանման աշխատանքներ | C13: ՀԲՄ | D13: դրամ | E13: 0 | F13: 0 | G13: -38154.479
A14: 45231176/30 | B14: ճանապարհների պահպանման աշխատանքներ | C14: ՀԲՄ | D14: դրամ | E14: 0 | F14: 0 | G14: -1465.305
A15: 45231176/25 | B15: ճանապարհների պահպանման աշխատանքներ | C15: ՀԲՄ | D15: դրամ | E15: 0 | F15: 0 | G15: -2929.971
A16: 45231176/3 | B16: ճանապարհների պահպանման աշխատանքներ | C16: ՀԲՄ | D16: դրամ | E16: 0 | F16: 0 | G16: -11877.958
A17: 45231176/21 | B17: ճանապարհների պահպանման աշխատանքներ | C17: ՀԲՄ | D17: դրամ | E17: 0 | F17: 0 | G17: -5935.099
A18: 45231176/12 | B18: ճանապարհների պահպանման աշխատանքներ | C18: ՀԲՄ | D18: դրամ | E18: 0 | F18: 0 | G18: -19653.908
A19: 45231176/17 | B19: ճանապարհների պահպանման աշխատանքներ | C19: ՀԲՄ | D19: դրամ | E19: 0 | F19: 0 | G19: -1978.849
A20: 45231176/34 | B20: ճանապարհների պահպանման աշխատանքներ | C20: ՀԲՄ | D20: դրամ | E20: 0 | F20: 0 | G20: -2597.058
A21: 45231176/19 | B21: ճանապարհների պահպանման աշխատանքներ | C21: ՀԲՄ | D21: դրամ | E21: 0 | F21: 0 | G21: -2399.711
A22: 45231176/23 | B22: ճանապարհների պահպանման աշխատանքներ | C22: ՀԲՄ | D22: դրամ | E22: 0 | F22: 0 | G22: -44822.816
A23: 45231176/14 | B23: ճանապարհների պահպանման աշխատանքներ | C23: ՀԲՄ | D23: դրամ | E23: 0 | F23: 0 | G23: -64247.781
... A57: 45231176/1 | B57: ճանապարհների պահպանման աշխատանքներ | C57: ԲՄ | D57: դրամ | E57: 0 | F57: 0 | G57: -413585.18
