Workbook
Name AgencyCode: #REF!
Name AgencyCode: #REF!
Name AgencyCode: #REF!
Name AgencyName: #REF!
Name AgencyName: #REF!
Name AgencyName: #REF!
Name åû: #REF!
Name davit: #REF!
Name Functional1: #REF!
Name Functional1: #REF!
Name Functional1: #REF!
Name ggg: #REF!
Name mas: #REF!
Name mass: #REF!
Name PANature: #REF!
Name PANature: #REF!
Name PANature: #REF!
Name PAType: #REF!
Name PAType: #REF!
Name PAType: #REF!
Name Performance2: #REF!
Name Performance2: #REF!
Name Performance2: #REF!
Name PerformanceType: #REF!
Name PerformanceType: #REF!
Name PerformanceType: #REF!
Name x: #REF!
Name Հավելված: #REF!
Name Մաս: #REF!
Name շախմատիստ: #REF!

Sheet Հ1
A1: Հավելված N 1
A2: ՀՀ կառավարության 2022 թվականի
A3: ______________ ի ___Ն որոշման
A5: «ՀԱՅԱUՏԱՆԻ ՀԱՆՐԱՊԵՏՈՒԹՅԱՆ 2022 ԹՎԱԿԱՆԻ ՊԵՏԱԿԱՆ ԲՅՈՒՋԵԻ ՄԱUԻՆ» OՐԵՆՔԻ N 1 ՀԱՎԵԼՎԱԾԻ N 2 ԱՂՅՈՒՍԱԿՈՒՄ ԿԱՏԱՐՎՈՂ ՎԵՐԱԲԱՇԽՈՒՄԸ ԵՎ ՀԱՅԱՍՏԱՆԻ ՀԱՆՐԱՊԵՏՈՒԹՅԱՆ ԿԱՌԱՎԱՐՈՒԹՅԱՆ 2021 ԹՎԱԿԱՆԻ ԴԵԿՏԵՄԲԵՐԻ 23-Ի N 2121-Ն ՈՐՈՇՄԱՆ N 5 ՀԱՎԵԼՎԱԾԻ N 1 ԱՂՅՈՒՍԱԿՈՒՄ ԿԱՏԱՐՎՈՂ ՓՈՓՈԽՈՒԹՅՈՒՆՆԵՐԸ
D7: հազար դրամով
A8: Ծրագրային դասիչը | C8: Բյուջետային հատկացումների գլխավոր կարգադրիչների, ծրագրերի և միջոցառումների անվանումները | D8: Ցուցանիշների փոփոխությունը (ավելացումները նշված են դրական նշանով, իսկ նվազեցումները` փակագծերում)
A9: Ծրագիր | B9: Միջոցառում | D9: Տարի
A10: 1192 | C10: ԸՆԴԱՄԵՆԸ | D10: 0
C11: այդ թվում
B12: ՀՀ տարածքային կառավարման և ենթակառուցվածքների նախարարություն | D12: =D14 -> 0
A13: 1212 | C13: Ծրագրի անվանումը`
C14: Տարածքային զարգացում | D14: =D21+D27 -> 0
C15: Ծրագրի նպատակը`
C16: Տարածքային համաչափ զարգացման խթանում
C17: Վերջնական արդյունքի նկարագրությունը`
C18: ՀՀ համայնքների կառավարման արդյունավետության բարձրացում և տնտեսական գործունեության խթանում
C19: Ծրագրի միջոցառումներ
B20: 12022 | C20: Միջոցառման անվանումը`
C21: Առաջնահերթ լուծում պահանջող հիմնախնդիրների լուծում | D21: ='Հ2 '!G23 -> 92929.4
C22: Միջոցառման նկարագրությունը`
C23: Արցախի դեմ պատերազմական գործողությունների հետևանքով Սյունիքի մարզի համայնքներում առաջնահերթ լուծում պահանջող հիմնախնդիրների լուծման աջակցություն:
C24: Միջոցառման տեսակը
C25: Տրանսֆերտների տրամադրում
B26: ='Հ2 '!E35 -> 12003 | C26: Միջոցառման անվանումը`
C27: ='Հ2 '!F35 -> Պետական աջակցություն սահմանամերձ համայնքներին | D27: ='Հ2 '!G35 -> -92929.4
C28: Միջոցառման նկարագրությունը`
C29: Ծրագրի իրականացմամբ ապահովվում է «Սահմանամերձ համայնքների սոցիալական աջակցության մասին» ՀՀ օրենքի կիրարկումը
C30: Միջոցառման տեսակը
C31: Տրանսֆերտների տրամադրում

Sheet Հ2 
A1: Հավելված N 2
A2: ՀՀ կառավարության 2022 թվականի
A3: ______________ ի ___Ն որոշման
A5: ՀԱՅԱՍՏԱՆԻ ՀԱՆՐԱՊԵՏՈՒԹՅԱՆ ԿԱՌԱՎԱՐՈՒԹՅԱՆ 2021 ԹՎԱԿԱՆԻ ԴԵԿՏԵՄԲԵՐԻ 23-Ի N 2121-Ն ՈՐՈՇՄԱՆ N 3 ԵՎ N 4 ՀԱՎԵԼՎԱԾՆԵՐՈՒՄ ԿԱՏԱՐՎՈՂ ՓՈՓՈԽՈՒԹՅՈՒՆՆԵՐԸ
G7: հազար դրամով
A8: Գործառական դասիչը | D8: Ծրագրային դասիչը | F8: Բյուջետային հատկացումների գլխավոր կարգադրիչների, ծրագրերի, միջոցառումների և միջոցառումները կատարող պետական մարմինների անվանումները | G8: Ցուցանիշների փոփոխությունը (ավելացումները նշված են դրական նշանով, իսկ նվազեցումները` փակագծերում)
A9: Բաժին | B9: Խումբ | C9: Դաս | D9: Ծրագիր | E9: Միջոցառում | G9: Տարի
F10: ԸՆԴԱՄԵՆԸ | G10: =G12 -> 0
F11: այդ թվում
F12: ՀՀ տարածքային կառավարման և ենթակառուցվածքների նախարարություն | G12: =+G13 -> 0
A13: 01 | F13: ԸՆԴՀԱՆՈՒՐ ԲՆՈՒՅԹԻ ՀԱՆՐԱՅԻՆ ԾԱՌԱՅՈՒԹՅՈՒՆՆԵՐ | G13: =G15 -> 0
F14: այդ թվում`
B15: 08 | F15: Կառավարության տարբեր մակարդակների միջև իրականացվող ընդհանուր բնույթի տրանսֆերտներ | G15: =G17 -> 0
F16: այդ թվում`
C17: 01 | F17: Կառավարության տարբեր մակարդակների միջև իրականացվող ընդհանուր բնույթի տրանսֆերտներ | G17: =+G19 -> 0
F18: այդ թվում`
F19: ՀՀ տարածքային կառավարման և ենթակառուցվածքների նախարարություն | G19: =+G21 -> 0
F20: այդ թվում`
D21: 1212 | E21: Տարածքային զարգացում | G21: =+G23+G35 -> 0
E22: 12022 | F22: այդ թվում`
F23: =+Հ1!C21 -> Առաջնահերթ լուծում պահանջող հիմնախնդիրների լուծում | G23: =G25 -> 92929.4
F24: այդ թվում` ըստ կատարողների
F25: Սյունիքի մարզպետարան | G25: =G27 -> 92929.4
F26: այդ թվում`բյուջետային ծախսերի տնտեսագիտական դասակարգման հոդվածներ
F27: ԸՆԴԱՄԵՆԸ ԾԱԽՍԵՐ | G27: =+G28 -> 92929.4
F28: ԸՆԹԱՑԻԿ ԾԱԽՍԵՐ | G28: =G29 -> 92929.4
F29: ԴՐԱՄԱՇՆՈՐՀՆԵՐ | G29: =G30+G32 -> 92929.4
F30: Ընթացիկ դրամաշնորհներ պետական հատվածի այլ մակարդակներին | G30: =G31 -> 10972.9
F31: - Այլ ընթացիկ դրամաշնորհներ | G31: 10972.9
F32: Կապիտալ դրամաշնորհներ պետական հատվածի այլ մակարդակներին | G32: =G34 -> 81956.5
F33: այդ թվում`
F34: - Այլ կապիտալ դրամաշնորհներ | G34: 81956.5
E35: 12003 | F35: Պետական աջակցություն սահմանամերձ համայնքներին | G35: =G37+G44 -> -92929.4
F36: այդ թվում` ըստ կատարողների
F37: ՀՀ Գեղարքունիքի մարզպետարան | G37: =G39 -> -40000
F38: այդ թվում` բյուջետային ծախսերի տնտեսագիտական դասակարգման հոդվածներ
F39: ԸՆԴԱՄԵՆԸ ԾԱԽՍԵՐ | G39: =G40 -> -40000
F40: ԸՆԹԱՑԻԿ ԾԱԽՍԵՐ | G40: =G41 -> -40000
F41: ՍՈՑԻԱԼԱԿԱՆ ՆՊԱՍՏՆԵՐ ԵՎ ԿԵՆՍԱԹՈՇԱԿՆԵՐ | G41: =G42 -> -40000
F42: Սոցիալական օգնության դրամական արտահայտությամբ նպաստներ (բյուջեից) | G42: =G43 -> -40000
F43: - Այլ նպաստներ բյուջեից | G43: -40000
F44: ՀՀ Սյունիքի մարզպետարան | G44: =G46 -> -52929.4
F45: այդ թվում` բյուջետային ծախսերի տնտեսագիտական դասակարգման հոդվածներ
F46: ԸՆԴԱՄԵՆԸ ԾԱԽՍԵՐ | G46: =G47 -> -52929.4
F47: ԸՆԹԱՑԻԿ ԾԱԽՍԵՐ | G47: =G48 -> -52929.4
F48: ՍՈՑԻԱԼԱԿԱՆ ՆՊԱՍՏՆԵՐ ԵՎ ԿԵՆՍԱԹՈՇԱԿՆԵՐ | G48: =G49 -> -52929.4
F49: Սոցիալական օգնության դրամական արտահայտությամբ նպաստներ (բյուջեից) | G49: =G50 -> -52929.4
F50: - Այլ նպաստներ բյուջեից | G50: -52929.4

Sheet Հ3
A1: Հավելված N 3
A2: ՀՀ կառավարության 2022 թվականի -ի N -Ն որոշման
A3: «ՀԱՅԱՍՏԱՆԻ ՀԱՆՐԱՊԵՏՈՒԹՅԱՆ 2021 ԹՎԱԿԱՆԻ ՊԵՏԱԿԱՆ ԲՅՈՒՋԵԻ ՄԱՍԻՆ» ՀԱՅԱՍՏԱՆԻ ՀԱՆՐԱՊԵՏՈՒԹՅԱՆ ՕՐԵՆՔԻ N 1 ՀԱՎԵԼՎԱԾԻ N 8 ԱՂՅՈՒՍԱԿՈՒՄ ԿԱՏԱՐՎՈՂ ՓՈՓՈԽՈՒԹՅՈՒՆՆԵՐԸ
E5: հազար դրամ
A6: Ծրագրային դասիչը | C6: Ծրագրերի և միջոցառումների անվանումները | D6: Պետական մարմինների անվանումները | E6: Գումարը
A7: Ծրագիր | B7: Միջոցառում
C8: ԸՆԴԱՄԵՆԸ | E8: =E9 -> -92929.4
A9: 1212 | C9: Տարածքային զարգացում | E9: =E10 -> -92929.4
B10: 12003 | C10: Պետական աջակցություն սահմանամերձ համայնքներին | D10: Տարածքային կառավարման և ենթակառուցվածքների նախարարություն | E10: =E11+E12 -> -92929.4
D11: ՀՀ Գեղարքունիքի մարզպետարան | E11: ='Հ2 '!G37 -> -40000
D12: ՀՀ Սյունիքի մարզպետարան | E12: ='Հ2 '!G44 -> -52929.4

Sheet Հ4
G1: Հավելված N 4
G2: ՀՀ կառավարության 2022 թվականի
G3: ______________ ի ___Ն որոշման
A6: ՀԱՅԱՍՏԱՆԻ ՀԱՆՐԱՊԵՏՈՒԹՅԱՆ ԿԱՌԱՎԱՐՈՒԹՅԱՆ 2021 ԹՎԱԿԱՆԻ ԴԵԿՏԵՄԲԵՐԻ 23-Ի N 2121-Ն ՈՐՈՇՄԱՆ N 5 ՀԱՎԵԼՎԱԾԻ N 7 ԱՂՅՈՒՍԱԿՈՒՄ ԿԱՏԱՐՎՈՂ ՓՈՓՈԽՈՒԹՅՈՒՆԸ
A10: Ծրագրային դասիչ | C10: Բյուջետային հատկացումների գլխավոր կարգադրիչների, ծրագրերի, միջոցառումների, ծախսային ուղղությունների անվանումները | F10: Միջոցառումները կատարող պետական մարմինների և դրամաշնորհ ստացող տնտեսվարող սուբյեկտների անվանումները | G10: Ցուցանիշների փոփոխությունը (ավելացումները նշված են դրական նշանով)
A11: Ծրագիր | B11: Միջոցառում | G11: Տարի
A12: 1 | B12: 2 | C12: 3 | F12: 4 | G12: 8
A13: ՀՀ տարածքային կառավարման և ենթակառուցվածքների նախարարություն | G13: =+G14+G17+G23+G31+G28 -> 92929.4
A14: 1212 | B14: Տարածքային զարգացում | G14: =+G15 -> 92929.4
B15: 12022 | C15: Առաջնահերթ լուծում պահանջող հիմնախնդիրների լուծում | F15: ՀՀ տարածքային կառավարման և ենթակառուցվածքների նախարարություն | G15: =+G16 -> 92929.4
F16: «ՀՀ Սյունիքի մարզի զարգացման և ներդրման հիմնադրամ» | G16: ='Հ2 '!G23 -> 92929.4

Sheet Հ5
C1: Հավելված N 5
C2: ՀՀ կառավարության 2022 թվականի
C3: ______________ ի ___Ն որոշման
A5: ՀԱՅԱՍՏԱՆԻ ՀԱՆՐԱՊԵՏՈՒԹՅԱՆ ԿԱՌԱՎԱՐՈՒԹՅԱՆ 2021 ԹՎԱԿԱՆԻ ԴԵԿՏԵՄԲԵՐԻ 23-Ի N 2121-Ն ՈՐՈՇՄԱՆ N 9 ՀԱՎԵԼՎԱԾԻ NN 9.7 ԵՎ 9.47 ԱՂՅՈՒՍԱԿՆԵՐՈՒՄ ԿԱՏԱՐՎՈՂ ՓՈՓՈԽՈՒԹՅՈՒՆՆԵՐԸ ԵՎ ԼՐԱՑՈՒՄՆԵՐԸ
C7: Աղյուսակ 9.7
A8: ՀՀ տարածքային կառավարման և ենթակառուցվածքների նախարարություն
A9: ՄԱՍ 2. ՊԵՏԱԿԱՆ ՄԱՐՄՆԻ ԳԾՈՎ ԱՐԴՅՈՒՆՔԱՅԻՆ (ԿԱՏԱՐՈՂԱԿԱՆ) ՑՈՒՑԱՆԻՇՆԵՐԸ
A11: Ծրագրի դասիչը | B11: Ծրագրի անվանումը
A12: 1212 | B12: Տարածքային զարգացում
A14: Ծրագրի միջոցառումները
A15: Ծրագրի դասիչը` | B15: 1212 | C15: Ցուցանիշների փոփոխությունը (ավելացումները նշված են դրական նշանով)
A16: Միջոցառման դասիչը` | B16: 12022 | C16: Տարի
A17: Միջոցառման անվանումը` | B17: =+Հ1!C21 -> Առաջնահերթ լուծում պահանջող հիմնախնդիրների լուծում
A18: Նկարագրությունը` | B18: =+Հ1!C23 -> Արցախի դեմ պատերազմական գործողությունների հետևանքով Սյունիքի մարզի համայնքներում առաջնահերթ լուծում պահանջող հիմնախնդիրների լուծման աջակցություն:
A19: Միջոցառման տեսակը` | B19: Տրանսֆերտների տրամադրում
A20: Շահառուների ընտրության չափանիշները` | B20: Ադրբեջանի Հանրապետության կողմից 2020 թվականի սեպտեմբերի 27-ին Արցախի Հանրապետության դեմ սանձազերծված պատերազմի արդյունքում տուժած համայնքներ
A21: Արդյունքի չափորոշիչներ
A22: Միջոցառման վրա կատարվող ծախսը (հազար դրամ) | C22: ='Հ2 '!G23 -> 92929.4
A23: Ծրագրի միջոցառումները
A24: Ծրագրի դասիչը` | B24: 1212 | C24: Ցուցանիշների փոփոխությունը (ավելացումները նշված են դրական նշանով)
A25: Միջոցառման դասիչը` | B25: 12003 | C25: Տարի
A26: Միջոցառման անվանումը` | B26: =Հ1!C27 -> Պետական աջակցություն սահմանամերձ համայնքներին
A27: Նկարագրությունը` | B27: =Հ1!C29 -> Ծրագրի իրականացմամբ ապահովվում է «Սահմանամերձ համայնքների սոցիալական աջակցության մասին» ՀՀ օրենքի կիրարկումը
A28: Միջոցառման տեսակը` | B28: =Հ1!C31 -> Տրանսֆերտների տրամադրում
A29: Շահառուների ընտրության չափանիշները` | B29: ՀՀ կառավարության 2014 թվականի դեկտեմբերի 18-ի N1444-Ն որոշման համաձայն
A30: Արդյունքի չափորոշիչներ
A31: Միջոցառման վրա կատարվող ծախսը (հազար դրամ) | C31: =Հ1!D27 -> -92929.4

Sheet Հ6
C1: Հավելված N 6
C2: ՀՀ կառավարության 2022 թվականի
C3: ______________ ի ___Ն որոշման
A5: ՀԱՅԱՍՏԱՆԻ ՀԱՆՐԱՊԵՏՈՒԹՅԱՆ ԿԱՌԱՎԱՐՈՒԹՅԱՆ 2021 ԹՎԱԿԱՆԻ ԴԵԿՏԵՄԲԵՐԻ 23-Ի N 2121-Ն ՈՐՈՇՄԱՆ N 9.1 ՀԱՎԵԼՎԱԾԻ NN 9.1.56 ԵՎ 9.1.59 ԱՂՅՈՒՍԱԿՆԵՐՈՒՄ ԿԱՏԱՐՎՈՂ ՓՈՓՈԽՈՒԹՅՈՒՆՆԵՐԸ ԵՎ ԼՐԱՑՈՒՄՆԵՐԸ
C7: Աղյուսակ 9.1.56
A8: ՀՀ Սյունիքի մարզպետարան
A9: ՄԱՍ 1. ՊԵՏԱԿԱՆ ՄԱՐՄՆԻ ԳԾՈՎ ԱՐԴՅՈՒՆՔԱՅԻՆ (ԿԱՏԱՐՈՂԱԿԱՆ) ՑՈՒՑԱՆԻՇՆԵՐԸ
A11: Ծրագրի դասիչը | B11: Ծրագրի անվանումը
A12: 1212 | B12: Տարածքային զարգացում
A14: Ծրագրի միջոցառումները
A15: Ծրագրի դասիչը` | B15: 1212 | C15: Ցուցանիշների փոփոխությունը (ավելացումները նշված են դրական նշանով)
A16: Միջոցառման դասիչը` | B16: 12022 | C16: Տարի
A17: Միջոցառման անվանումը` | B17: =Հ5!B17 -> Առաջնահերթ լուծում պահանջող հիմնախնդիրների լուծում
A18: Նկարագրությունը` | B18: =Հ5!B18 -> Արցախի դեմ պատերազմական գործողությունների հետևանքով Սյունիքի մարզի համայնքներում առաջնահերթ լուծում պահանջող հիմնախնդիրների լուծման աջակցություն:
A19: Միջոցառման տեսակը` | B19: Տրանսֆերտների տրամադրում
A20: Շահառուների ընտրության չափանիշները` | B20: Ադրբեջանի Հանրապետության կողմից 2020 թվականի սեպտեմբերի 27-ին Արցախի Հանրապետության դեմ սանձազերծված պատերազմի արդյունքում տուժած համայնքներ
A21: Արդյունքի չափորոշիչներ
A22: Միջոցառման վրա կատարվող ծախսը (հազար դրամ) | C22: =Հ5!C22 -> 92929.4
A25: ՀԱՅԱՍՏԱՆԻ ՀԱՆՐԱՊԵՏՈՒԹՅԱՆ ԿԱՌԱՎԱՐՈՒԹՅԱՆ 2021 ԹՎԱԿԱՆԻ ԴԵԿՏԵՄԲԵՐԻ 23-Ի N 2121-Ն ՈՐՈՇՄԱՆ N 9.1 ՀԱՎԵԼՎԱԾԻ N9.1.52 ԱՂՅՈՒՍԱԿՈՒՄ ԿԱՏԱՐՎՈՂ ԼՐԱՑՈՒՄՆԵՐ
A27: ՀՀ Գեղարքունիքի մարզպետարան
A28: ՄԱՍ 1. ՊԵՏԱԿԱՆ ՄԱՐՄՆԻ ԳԾՈՎ ԱՐԴՅՈՒՆՔԱՅԻՆ (ԿԱՏԱՐՈՂԱԿԱՆ) ՑՈՒՑԱՆԻՇՆԵՐԸ
A29: Ծրագրի դասիչը` | B29: 1212 | C29: Ցուցանիշների փոփոխությունը (նվազեցումները նշված են փակագծերում)
A30: Միջոցառման դասիչը` | B30: 12003 | C30: Տարի
A31: Միջոցառման անվանումը` | B31: Պետական աջակցություն սահմանամերձ համայնքներին
A32: Նկարագրությունը` | B32: Ծրագրի իրականացմամբ ապահովվում է «Սահմանամերձ համայնքների սոցիալական աջակցության մասին» ՀՀ օրենքի կիրարկումը
A33: Միջոցառման տեսակը` | B33: Տրանսֆերտների տրամադրում
A34: Շահառուների ընտրության չափանիշները | B34: ՀՀ կառավարության 2014 թվականի դեկտեմբերի 18-ի 1444-Ն որոշման համաձայն
A35: Արդյունքի չափորոշիչներ
A36: Միջոցառման վրա կատարվող ծախսը (հազար դրամ) | C36: ='Հ2 '!G37 -> -40000
A39: ՀԱՅԱՍՏԱՆԻ ՀԱՆՐԱՊԵՏՈՒԹՅԱՆ ԿԱՌԱՎԱՐՈՒԹՅԱՆ2021 ԹՎԱԿԱՆԻ ԴԵԿՏԵՄԲԵՐԻ 23-Ի N 2121-Ն ՈՐՈՇՄԱՆ N 9.1 ՀԱՎԵԼՎԱԾԻ N 9.1.56 ԱՂՅՈՒՍԱԿՈՒՄ ԿԱՏԱՐՎՈՂ ԼՐԱՑՈՒՄՆԵՐ
A41: ՀՀ Սյունիքի մարզպետարան
A42: ՄԱՍ 1. ՊԵՏԱԿԱՆ ՄԱՐՄՆԻ ԳԾՈՎ ԱՐԴՅՈՒՆՔԱՅԻՆ (ԿԱՏԱՐՈՂԱԿԱՆ) ՑՈՒՑԱՆԻՇՆԵՐԸ
A43: Ծրագրի դասիչը` | B43: 1212 | C43: Ցուցանիշների փոփոխությունը (նվազեցումները նշված են փակագծերում)
A44: Միջոցառման դասիչը` | B44: 12003 | C44: Տարի
A45: Միջոցառման անվանումը` | B45: Պետական աջակցություն սահմանամերձ համայնքներին
A46: Նկարագրությունը` | B46: Ծրագրի իրականացմամբ ապահովվում է «Սահմանամերձ համայնքների սոցիալական աջակցության մասին» ՀՀ օրենքի կիրարկումը
A47: Միջոցառման տեսակը` | B47: Տրանսֆերտների տրամադրում
A48: Շահառուների ընտրության չափանիշները | B48: ՀՀ կառավարության 2014 թվականի դեկտեմբերի 18-ի 1444-Ն որոշման համաձայն
A49: Արդյունքի չափորոշիչներ
A50: Միջոցառման վրա կատարվող ծախսը (հազար դրամ) | C50: ='Հ2 '!G44 -> -52929.4
