Workbook
Name AgencyCode: #REF!
Name AgencyCode: #REF!
Name AgencyCode: #REF!
Name AgencyCode: #REF!
Name AgencyCode: #REF!
Name AgencyName: #REF!
Name AgencyName: #REF!
Name AgencyName: #REF!
Name AgencyName: #REF!
Name AgencyName: #REF!
Name alisa: #REF!
Name alisa: #REF!
Name barev: #REF!
Name Functional1: #REF!
Name Functional1: #REF!
Name Functional1: #REF!
Name Functional1: #REF!
Name Functional1: #REF!
Name havelvac: #REF!
Name havelvac: #REF!
Name havelvac: #REF!
Name havelvac: #REF!
Name havelvac50: #REF!
Name havelvac7: #REF!
Name havelvac7: #REF!
Name PANature: #REF!
Name PANature: #REF!
Name PANature: #REF!
Name PANature: #REF!
Name PANature: #REF!
Name PAType: #REF!
Name PAType: #REF!
Name PAType: #REF!
Name PAType: #REF!
Name PAType: #REF!
Name Performance2: #REF!
Name Performance2: #REF!
Name Performance2: #REF!
Name Performance2: #REF!
Name Performance2: #REF!
Name PerformanceType: #REF!
Name PerformanceType: #REF!
Name PerformanceType: #REF!
Name PerformanceType: #REF!
Name PerformanceType: #REF!
Name sheet1: #REF!
Name sheet1: #REF!
Name sheet4: #REF!
Name sheet4: #REF!
Name sheet7: #REF!
Name sheet7: #REF!
Name գնումներ: #REF!
Name գնումներ: #REF!
Name հավ5: #REF!
Name հավ5: #REF!

Sheet 1
E1: Հավելված N 1
C2: ՀՀ կառավարության 2022 թվականի
C3: ___________ ___-ի N _______ -Ն որոշման
A5: «ՀԱՅԱUՏԱՆԻ ՀԱՆՐԱՊԵՏՈՒԹՅԱՆ 2022 ԹՎԱԿԱՆԻ ՊԵՏԱԿԱՆ ԲՅՈՒՋԵԻ ՄԱUԻՆ» ՀԱՅԱUՏԱՆԻ ՀԱՆՐԱՊԵՏՈՒԹՅԱՆ OՐԵՆՔԻ N 1 ՀԱՎԵԼՎԱԾԻ N 2 ԱՂՅՈՒՍԱԿՈՒՄ ԿԱՏԱՐՎՈՂ ՎԵՐԱԲԱՇԽՈՒՄԸ ԵՎ ՀԱՅԱՍՏԱՆԻ ՀԱՆՐԱՊԵՏՈՒԹՅԱՆ ԿԱՌԱՎԱՐՈՒԹՅԱՆ 2021ԹՎԱԿԱՆԻ ԴԵԿՏԵՄԲԵՐԻ 23-Ի N2121-Ն ՈՐՈՇՄԱՆ N5 ՀԱՎԵԼՎԱԾԻ N1 ԱՂՅՈՒՍԱԿՈՒՄ ԿԱՏԱՐՎՈՂ ՓՈՓՈԽՈՒԹՅՈՒՆՆԵՐԸ ԵՎ ԼՐԱՑՈՒՄՆԵՐԸ
A7: Ծրագրային դասիչը | C7: Բյուջետային հատկացումների գլխավոր կարգադրիչների, ծրագրերի և միջոցառումների անվանումները | D7: Ցուցանիշների փոփոխությունները (Ավելացումները նշված են դրական նշանով, իսկ նվազեցումները՝ փակագծերում)
A8: Ծրագիր | B8: Միջոցառում | D8: Տարի
C9: ԸՆԴԱՄԵՆԸ | D9: =+D10+D69 -> 0.024
B10: ՀՀ արտակարգ իրավիճակների նախարարություն | D10: =+D11+D51 -> 0.024
A11: 1090 | C11: Ծրագրի անվանումը` | D11: =D18+D25+D32+D39+D45 -> 0.024
C12: Փրկարարական ծառայություններ
C13: Ծրագրի նպատակը`
C14: Արտակարգ իրավիճակների արդյունավետ արձագանք
C15: Վերջնական արդյունքի նկարագրությունը`
C16: Արտակարգ իրավիճակների հնարավոր դեպքերի կանխում՝ դրանց ժամանակին արձագանքում՝ հետևանքների նվազեցում և բնակչության պաշտպանություն
C17: Ծրագրի միջոցառումներ
B18: 11001 | C18: Միջոցառման անվանումը՝ | D18: =+'2'!G18 -> -42983.176
C19: Փրկարարական ծառայություններ
C20: Միջոցառման նկարագրությունը՝
C21: Հրդեհաշիջման, հակահրդեհային քարոզչության, բնական և տեխնածին աղետների ժամանակ բնակչության և կառույցների պաշտպանություն
C22: Միջոցառման տեսակը՝
C23: Ծառայությունների մատուցում
C24: Ծրագրի միջոցառումներ
B25: 11001 | C25: Միջոցառման անվանումը՝ | D25: =+'2'!G36 -> 8740.4
C26: Փրկարարական ծառայություններ
C27: Միջոցառման նկարագրությունը՝
C28: Հրդեհաշիջման, հակահրդեհային քարոզչության, բնական և տեխնածին աղետների ժամանակ բնակչության և կառույցների պաշտպանություն
C29: Միջոցառման տեսակը՝
C30: Ծառայությունների մատուցում
C31: Ծրագրի միջոցառումներ
B32: 31001 | C32: Միջոցառման անվանումը՝ | D32: -2232
C33: Փրկարար ծառայության տեխնիկական հագեցվածության բարելավում
C34: Միջոցառման նկարագրությունը՝
C35: Տրանսպորտային միջոցների և սարքավորումների ձեռքբերում
C36: Միջոցառման տեսակը՝
C37: Պետական մարմինների կողմից օգտագործվող ոչ ֆինանասական ակտիվների հետ գործառնություններ
C38: Ծրագրի միջոցառումներ
B39: 31001 | C39: Միջոցառման անվանումը՝ | D39: =+'2'!G59 -> 28838.8
C40: Փրկարար ծառայության տեխնիկական հագեցվածության բարելավում
C41: Միջոցառման նկարագրությունը՝
C42: Համակարգչային և գրասենյակային սարքավորումների ձեռքբերում
C43: Միջոցառման տեսակը՝
C44: Պետական մարմինների կողմից օգտագործվող ոչ ֆինանասական ակտիվների հետ գործառնություններ
B45: 31007 | C45: Միջոցառման անվանումը՝ | D45: =+'2'!G67 -> 7636
C46: ԱԻՆ Փրկարար ծառայության շենքային ապահովվածության և պայմանների բարելավում
C47: Միջոցառման նկարագրությունը՝
C48: Փրկարար ծառայության շենքերի, շինությունների կառուցում և կապիտալ վերանորոգում
C49: Միջոցառման տեսակը՝
C50: Պետական մարմինների կողմից օգտագործվող ոչ ֆինանասական ակտիվների հետ գործառնություններ
A51: 1112 | C51: Ծրագրի անվանումը` | D51: =D58+D64 -> 0
C52: Արտակարգ իրավիճակների բնագավառի պետական քաղաքականության մշակում, ծրագրերի համակարգում և մոնիտորինգ
C53: Ծրագրի նպատակը`
C54: Արտակարգ իրավիճակների բնագավառում պետական արդյունավետ քաղաքականության մշակման և իրականացման ապահովում
C55: Վերջնական արդյունքի նկարագրությունը`
C56: Արտակարգ իրավիճակների քաղաքականության իրագործմանն ուղղված ծրագրերի ազդեցության և արդյունավետության բարելավում
B57: 11001 | C57: Միջոցառման անվանումը՝
C58: Արտակարգ իրավիճակների բնագավառում քաղաքականության մշակում, խորհրդատվական ծառայությունների տրամադրում և մոնիտորինգի իրականացում | D58: -576
C59: Միջոցառման նկարագրությունը՝
C60: Արտակարգ իրավիճակների բնագավառում քաղաքականության մշակում, խորհրդատվական ծառայությունների տրամադրում և մոնիտորինգի իրականացում
C61: Միջոցառման տեսակը՝
C62: Ծառայությունների մատուցում
B63: 31001 | C63: Միջոցառման անվանումը՝
C64: Արտակարգ իրավիճակների նախարարության տեխնիկական հագեցվածության բարելավում | D64: 576
C65: Միջոցառման նկարագրությունը՝
C66: Արտակարգ իրավիճակների նախարարության աշխատակազմի աշխատանքային պայմանների բարելավման համար վարչական սարքավորումների ձեռքբերում
C67: Միջոցառման տեսակը՝
C68: Պետական մարմինների կողմից օգտագործվող ոչ ֆինանասական ակտիվների հետ գործառնություններ
B69: ՀՀ կառավարություն | D69: =D77+D84 -> 0
A70: 1139 | C70: Ծրագրի անվանումը` | D70: =+D77+D84 -> 0
C71: ՀՀ կառավարության պահուստային ֆոնդ
C72: Ծրագրի նպատակը`
C73: Պետական բյուջեում չկանխատեսված, ինչպես նաև բյուջետային երաշխիքների ապահովման ծախսերի ֆինանսավորման ապահովում
C74: Վերջնական արդյունքի նկարագրությունը`
C75: Պահուստային ֆոնդի կառավարման արդյունավետության և թափանցիկության ապահովում
A76: Ծրագրի միջոցառումներ
B77: 11001 | C77: Միջոցառման անվանումը` | D77: =+'2'!G117 -> 45791.2
C78: ՀՀ կառավարության պահուստային ֆոնդ
C79: Միջոցառման նկարագրությունը`
C80: ՀՀ պետական բյուջեում նախատեսված ելքերի լրացուցիչ ֆինանսավորման՝ պետական բյուջեում չկանխատեսված ելքերի, ինչպես նաև բյուջետային երաշխիքների ապահովման ելքերի ֆինանսավորման ապահովում
C81: Միջոցառման տեսակը
C82: Ծառայությունների մատուցում
A83: Ծրագրի միջոցառումներ
B84: 11001 | C84: Միջոցառման անվանումը` | D84: -45791.2
C85: ՀՀ կառավարության պահուստային ֆոնդ
C86: Միջոցառման նկարագրությունը`
C87: ՀՀ պետական բյուջեում նախատեսված ելքերի լրացուցիչ ֆինանսավորման՝ պետական բյուջեում չկանխատեսված ելքերի, ինչպես նաև բյուջետային երաշխիքների ապահովման ելքերի ֆինանսավորման ապահովում
C88: Միջոցառման տեսակը
C89: Ծառայությունների մատուցում
A91: ՀԱՅԱՍՏԱՆԻ ՀԱՆՐԱՊԵՏՈՒԹՅԱՆ ՎԱՐՉԱՊԵՏԻ ԱՇԽԱՏԱԿԱԶՄԻ
A92: ՂԵԿԱՎԱՐ Ա. ՀԱՐՈՒԹՅՈՒՆՅԱՆ

Sheet 2
F1: Հավելված N 2
D2: ՀՀ կառավարության 2022 թվականի
D3: ___________ ___-ի N _______ -Ն որոշման
A5: ՀԱՅԱՍՏԱՆԻ ՀԱՆՐԱՊԵՏՈՒԹՅԱՆ ԿԱՌԱՎԱՐՈՒԹՅԱՆ 2021 ԹՎԱԿԱՆԻ ԴԵԿՏԵՄԲԵՐԻ 23-Ի N 2121-Ն ՈՐՈՇՄԱՆ N 3 ԵՎ N 4 ՀԱՎԵԼՎԱԾՆԵՐՈՒՄ ԿԱՏԱՐՎՈՂ ՓՈՓՈԽՈՒԹՅՈՒՆՆԵՐԸ ԵՎ ԼՐԱՑՈՒՄՆԵՐԸ
G6: հազար դրամներով
A7: Գործառական դասիչը | D7: Ծրագրային դասիչը | F7: Բյուջետային ծախսերի գործառական դասակարգման բաժինների, խմբերի և դասերի, բյուջետային հատկացումների գլխավոր կարգադրիչների, ծրագրերի, միջոցառումների և միջոցառումները կատարող պետական մարմինների անվանումները | G7: Ցուցանիշների փոփոխությունները (Ավելացումները նշված են դրական նշանով, իսկ նվազեցումները՝ փակագծերում)
A8: Բաժին | B8: Խումբ | C8: Դաս | D8: Ծրագիր | E8: Միջոցառում | G8: Տարի
F9: Ընդամենը | G9: =+G10+G107 -> 0.0323
A10: 03 | F10: ՀԱՍԱՐԱԿԱԿԱՆ ԿԱՐԳ, ԱՆՎՏԱՆԳՈՒԹՅՈՒՆ ԵՎ ԴԱՏԱԿԱՆ ԳՈՐԾՈՒՆԵՈՒԹՅՈՒՆ | G10: =+G12+G76 -> 0.0323
F11: այդ թվում`
B12: 02 | F12: Փրկարար ծառայություն | G12: =+G14 -> 0.024
F13: այդ թվում`
C14: 01 | F14: Փրկարար ծառայություն | G14: =+G16 -> 0.024
F15: այդ թվում
D16: 1090 | F16: Փրկարարական ծառայություններ | G16: =G18+G36+G51+G59+G67 -> 0.024
F17: այդ թվում`
E18: 11001 | F18: Փրկարարական ծառայություններ | G18: =G22 -> -42983.176
F19: այդ թվում` ըստ կատարողների
F20: ՀՀ արտակարգ իրավիճակների նախարարություն
F21: այդ թվում` բյուջետային ծախսերի տնտեսագիտական դասակարգման հոդվածներ
F22: ԸՆԴԱՄԵՆԸ ԾԱԽՍԵՐ | G22: =+G23 -> -42983.176
F23: ԸՆԹԱՑԻԿ ԾԱԽՍԵՐ | G23: =+G24 -> -42983.176
F24: ԾԱՌԱՅՈՒԹՅՈՒՆՆԵՐԻ ԵՎ ԱՊՐԱՆՔՆԵՐԻ ՁԵՌՔԲԵՐՈՒՄ | G24: =G25+G27+G29 -> -42983.176
F25: Շարունակական ծախսեր | G25: =G26 -> -4
F26: - Գույքի և սարքավորումների վարձակալություն | G26: -4
F27: Պայմանագրային այլ ծառայությունների ձեռքբերում | G27: =G28 -> -574.1
F28: -Տեղեկատվական ծառայություններ | G28: -574.1
F29: Նյութեր (Ապրանքներ) | G29: =G30+G31+G32+G33+G34+G35 -> -42405.076
F30: -Գրասենյակային նյութեր և հագուստ | G30: -28722.568
F31: - Գյուղատնտեսական ապրանքներ | G31: -80.012
F32: - Տրանսպորտային նյութեր | G32: =-5881.3 -> -5881.3
F33: - Առողջապահական և լաբորատոր նյութեր | G33: -205.098
F34: - Կենցաղային և հանրային սննդի նյութեր | G34: -1104.698
F35: -Հատուկ նպատակային այլ նյութեր | G35: -6411.4
E36: 11001 | F36: Փրկարարական ծառայություններ | G36: =+G38 -> 8740.4
F37: այդ թվում` ըստ կատարողների
F38: ՀՀ արտակարգ իրավիճակների նախարարություն | G38: =G40 -> 8740.4
F39: այդ թվում` բյուջետային ծախսերի տնտեսագիտական դասակարգման հոդվածներ
F40: ԸՆԴԱՄԵՆԸ ԾԱԽՍԵՐ | G40: =+G41 -> 8740.4
F41: ԸՆԹԱՑԻԿ ԾԱԽՍԵՐ | G41: =+G42 -> 8740.4
F42: ԾԱՌԱՅՈՒԹՅՈՒՆՆԵՐԻ ԵՎ ԱՊՐԱՆՔՆԵՐԻ ՁԵՌՔԲԵՐՈՒՄ | G42: =G43+G46+G48 -> 8740.4
F43: Շարունակական ծախսեր | G43: =+G44+G45 -> 2387.5
F44: - Կապի ծառայություններ | G44: 1600
F45: -Ներկայացուցչական ծախսեր | G45: 787.5
F46: Ընթացիկ նորոգում և պահպանում (ծառայություններ և նյութեր) | G46: =+G47 -> 1500
F47: - Մեքենաների և սարքավորումների ընթացիկ նորոգում և պահպանում | G47: 1500
F48: Նյութեր (Ապրանքներ) | G48: =G49+G50 -> 4852.9
F49: -Գրասենյակային նյութեր և հագուստ | G49: 2955.5
F50: - Կենցաղային և հանրային սննդի նյութեր | G50: 1897.4
E51: 31001 | F51: Փրկարար ծառայության տեխնիկական հագեցվածության բարելավում | G51: =+G53 -> -2232
F52: այդ թվում` ըստ կատարողների
F53: ՀՀ արտակարգ իրավիճակների նախարարություն | G53: =+G55 -> -2232
F54: այդ թվում` բյուջետային ծախսերի տնտեսագիտական դասակարգման հոդվածներ
F55: ՈՉ ՖԻՆԱՆՍԱԿԱՆ ԱԿՏԻՎՆԵՐԻ ԳԾՈՎ ԾԱԽՍԵՐ | G55: =+G56 -> -2232
F56: ՀԻՄՆԱԿԱՆ ՄԻՋՈՑՆԵՐ | G56: =+G57 -> -2232
F57: ՄԵՔԵՆԱՆԵՐ ԵՎ ՍԱՐՔԱՎՈՐՈՒՄՆԵՐ | G57: =+G58 -> -2232
F58: - Վարչական սարքավորումներ | G58: -2232
E59: 31001 | F59: Փրկարար ծառայության տեխնիկական հագեցվածության բարելավում | G59: =+G61 -> 28838.8
F60: այդ թվում` ըստ կատարողների
F61: ՀՀ արտակարգ իրավիճակների նախարարություն | G61: =+G63 -> 28838.8
F62: այդ թվում` բյուջետային ծախսերի տնտեսագիտական դասակարգման հոդվածներ
F63: ՈՉ ՖԻՆԱՆՍԱԿԱՆ ԱԿՏԻՎՆԵՐԻ ԳԾՈՎ ԾԱԽՍԵՐ | G63: =+G64 -> 28838.8
F64: ՀԻՄՆԱԿԱՆ ՄԻՋՈՑՆԵՐ | G64: =+G65 -> 28838.8
F65: ՄԵՔԵՆԱՆԵՐ ԵՎ ՍԱՐՔԱՎՈՐՈՒՄՆԵՐ | G65: =+G66 -> 28838.8
F66: - Վարչական սարքավորումներ | G66: 28838.8
E67: 31007 | F67: ԱԻՆ Փրկարար ծառայության շենքային ապահովվածության և պայմանների բարելավում | G67: =+G69 -> 7636
F68: այդ թվում` ըստ կատարողների
F69: ՀՀ արտակարգ իրավիճակների նախարարություն | G69: =+G71 -> 7636
F70: այդ թվում` բյուջետային ծախսերի տնտեսագիտական դասակարգման հոդվածներ
F71: ԸՆԴԱՄԵՆԸ ԾԱԽՍԵՐ | G71: =+G72 -> 7636
F72: ՈՉ ՖԻՆԱՆՍԱԿԱՆ ԱԿՏԻՎՆԵՐԻ ԳԾՈՎ ԾԱԽՍԵՐ | G72: =+G73 -> 7636
F73: ՀԻՄՆԱԿԱՆ ՄԻՋՈՑՆԵՐ | G73: =+G74+G75 -> 7636
F74: - Շենքերի և շինությունների կապիտալ վերանորոգում | G74: 7576
F75: - Նախագծահետազոտական ծախսեր | G75: 60
D76: 1112 | F76: Արտակարգ իրավիճակների բնագավառի պետական քաղաքականության մշակում, ծրագրերի համակարգում և մոնիտորինգ | G76: =G78+G97 -> 0.0083
F77: այդ թվում`
E78: 11001 | F78: Արտակարգ իրավիճակների բնագավառում քաղաքականության մշակում, խորհրդատվական ծառայությունների տրամադրում և մոնիտորինգի իրականացում | G78: =+G80 -> -575.9917
F79: այդ թվում` ըստ կատարողների
F80: ՀՀ արտակարգ իրավիճակների նախարարություն | G80: =G82 -> -575.9917
F81: այդ թվում` բյուջետային ծախսերի տնտեսագիտական դասակարգման հոդվածներ
F82: ԸՆԴԱՄԵՆԸ ԾԱԽՍԵՐ | G82: =+G83 -> -575.9917
F83: ԸՆԹԱՑԻԿ ԾԱԽՍԵՐ | G83: =+G84 -> -575.9917
F84: ԾԱՌԱՅՈՒԹՅՈՒՆՆԵՐԻ ԵՎ ԱՊՐԱՆՔՆԵՐԻ ՁԵՌՔԲԵՐՈՒՄ | G84: =G87+G92+G90+G85 -> -575.9917
F85: Շարունակական ծախսեր | G85: =G86 -> -15
F86: - Կոմունալ ծառայություններ | G86: -15
F87: Պայմանագրային այլ ծառայությունների ձեռքբերում | G87: =G88+G89 -> -140.8
F88: -Տեղեկատվական ծառայություններ | G88: -8.8
F89: - Ընդհանուր բնույթի այլ ծառայություններ | G89: -132
F90: Ընթացիկ նորոգում և պահպանում (ծառայություններ և նյութեր) | G90: =G91 -> -50
F91: - Մեքենաների և սարքավորումների ընթացիկ նորոգում և պահպանում | G91: -50
F92: Նյութեր (Ապրանքներ) | G92: =G93+G94+G95 -> -370.1917
F93: -Գրասենյակային նյութեր և հագուստ | G93: -73.397
F94: - Տրանսպորտային նյութեր | G94: -77.5
F95: - Կենցաղային և հանրային սննդի նյութեր | G95: -219.2947
F96: այդ թվում`
E97: 11001 | F97: Արտակարգ իրավիճակների բնագավառում քաղաքականության մշակում, խորհրդատվական ծառայությունների տրամադրում և մոնիտորինգի իրականացում | G97: =+G99 -> 576
F98: այդ թվում` ըստ կատարողների
F99: ՀՀ արտակարգ իրավիճակների նախարարություն | G99: =+G101 -> 576
F100: այդ թվում` բյուջետային ծախսերի տնտեսագիտական դասակարգման հոդվածներ
F101: ԸՆԴԱՄԵՆԸ ԾԱԽՍԵՐ | G101: =+G103 -> 576
...

Sheet 3
A1: Հավելված N 3
F2: ՀՀ կառավարության 2022 թվականի -ի N -Ն որոշման
C3: «ՀԱՅԱՍՏԱՆԻ ՀԱՆՐԱՊԵՏՈՒԹՅԱՆ 2022 ԹՎԱԿԱՆԻ ՊԵՏԱԿԱՆ ԲՅՈՒՋԵԻ ՄԱՍԻՆ» ՀԱՅԱՍՏԱՆԻ ՀԱՆՐԱՊԵՏՈՒԹՅԱՆ ՕՐԵՆՔԻ N 1 ՀԱՎԵԼՎԱԾԻ N3 ԱՂՅՈՒՍԱԿՈՒՄ ԿԱՏԱՐՎՈՂ ՓՈՓՈԽՈՒԹՅՈՒՆՆԵՐԸ ԵՎ ԼՐԱՑՈՒՄՆԵՐԸ
G4: հազար դրամներով
A5: Ծրագրային դասիչ | C5: Բյուջետային գլխավոր կարգադրիչների, ծրագրերի, միջոցառումների և ուղղությունների անվանումները | D5: Ընդամենը, | E5: Ցուցանիշների փոփոխությունը (ավելացումները նշված են դրական նշանով)
A6: Ծրագիր | B6: Միջոցառում | E6: Կառուցման աշխատանքներ | F6: Վերակառուցման, վերանորոգման և վերականգնման աշխատանքներ | G6: Նախագծահե- տազոտական, գեոդեզիա- քարտեզագրա- կան աշխա- տանքներ | H6: Ոչ ֆինանսական այլ ակտիվների ձեռքբերում
C7: ԸՆԴԱՄԵՆԸ | D7: =+D9 -> 37050.8 | E7: =+E9 -> 0 | F7: =+F9 -> 7576 | G7: =+G9 -> 60 | H7: =+H9 -> 29414.8
C8: այդ թվում`
C9: ՀՀ ԱՐՏԱԿԱՐԳ ԻՐԱՎԻՃԱԿՆԵՐԻ ՆԱԽԱՐԱՐՈՒԹՅՈՒՆ | D9: =+F9+G9+H9 -> 37050.8 | E9: =+E11 -> 0 | F9: =+F12+F13 -> 7576 | G9: =+G12+G13 -> 60 | H9: =+H11+H13 -> 29414.8
C10: այդ թվում`
A11: 1090 | B11: 31001 | C11: Փրկարար ծառայության տեխնիկական հագեցվածության բարելավում | D11: ='2'!G61 -> 28838.8 | H11: 28838.8
B12: 31007 | C12: ԱԻՆ Փրկարար ծառայության շենքային ապահովվածության և պայմանների բարելավում | D12: ='2'!G71 -> 7636 | E12: =+E49+E50 -> 0 | F12: =+'2'!G74 -> 7576 | G12: 60
A13: 1112 | B13: 31001 | C13: Արտակարգ իրավիճակների նախարարության տեխնիկական հագեցվածության բարելավում | D13: 576 | H13: 576
A17: ՀԱՅԱՍՏԱՆԻ ՀԱՆՐԱՊԵՏՈՒԹՅԱՆ ՎԱՐՉԱՊԵՏԻ ԱՇԽԱՏԱԿԱԶՄԻ
A18: ՂԵԿԱՎԱՐ Ա. ՀԱՐՈՒԹՅՈՒՆՅԱՆ

Sheet 4
B1: Հավելված N 4 ՀՀ կառավարության 2022 թվականի __________-ի ____-ի N _____-Ն որոշման
A3: ՀԱՅԱՍՏԱՆԻ ՀԱՆՐԱՊԵՏՈՒԹՅԱՆ ԿԱՌԱՎԱՐՈՒԹՅԱՆ 2021 ԹՎԱԿԱՆԻ ԴԵԿՏԵՄԲԵՐԻ 23-Ի N 2121-Ն ՈՐՈՇՄԱՆ N 5 ՀԱՎԵԼՎԱԾԻ N 2 ԱՂՅՈՒՍԱԿՈՒՄ ԿԱՏԱՐՎՈՂ ՓՈՓՈԽՈՒԹՅՈՒՆՆԵՐԸ ԵՎ ԼՐԱՑՈՒՄՆԵՐԸ
A5: Ծրագրային դասիչ | C5: Բյուջետային գլխավոր կարգադրիչների, ծրագրերի, միջոցառումների, միջոցառումները կատարող պետական մարմինների և ուղղությունների անվանումները | D5: Ցուցանիշների փոփոխությունը (ավելացումները նշված են դրական նշանով)
A6: Ծրագիր | B6: Միջոցառում | D6: Տարի
C7: ԸՆԴԱՄԵՆԸ | D7: =+D9 -> 37050.8
C8: այդ թվում՝
C9: ՀՀ ԱՐՏԱԿԱՐԳ ԻՐԱՎԻՃԱԿՆԵՐԻ ՆԱԽԱՐԱՐՈՒԹՅՈՒՆ | D9: =D11+D15+D22 -> 37050.8
C10: այդ թվում`
A11: 1090 | B11: 31001 | C11: Փրկարար ծառայության տեխնիկական հագեցվածության բարելավում | D11: =+D14 -> 28838.8
C12: այդ թվում` ըստ կատարողների
C13: ՀՀ արտակարգ իրավիճակների նախարարություն
C14: Վարչական սարքավորումներ | D14: ='3'!H11 -> 28838.8
B15: 31007 | C15: ԱԻՆ Փրկարար ծառայության շենքային ապահովվածության և պայմանների բարելավում | D15: =+SUM(D17:D18) -> 7636
C16: այդ թվում`
C17: Փրկարար ծառայության շենքերի և շինությունների վերանորոգում | D17: ='3'!F12 -> 7576
C18: Նախագծահետազոտական ծախսեր | D18: =+'2'!G75 -> 60
C19: այդ թվում` ըստ կատարողների
C20: ՀՀ արտակարգ իրավիճակների նախարարություն
A21: 1112 | C21: Արտակարգ իրավիճակների բնագավառի պետական քաղաքականության մշակում, ծրագրերի համակարգում և մոնիտորինգ
B22: 31001 | C22: Արտակարգ իրավիճակների նախարարության տեխնիկական հագեցվածության բարելավում | D22: =+D23 -> 576
C23: Վարչական սարքավորումներ | D23: ='3'!H13 -> 576
C24: այդ թվում` ըստ կատարողների
C25: ՀՀ արտակարգ իրավիճակների նախարարություն
A28: ՀԱՅԱՍՏԱՆԻ ՀԱՆՐԱՊԵՏՈՒԹՅԱՆ ՎԱՐՉԱՊԵՏԻ ԱՇԽԱՏԱԿԱԶՄԻ
A29: ՂԵԿԱՎԱՐ Ա. ՀԱՐՈՒԹՅՈՒՆՅԱՆ

Sheet 5
B1: Հավելված N 5 ՀՀ կառավարության 2022 թվականի __________-ի ____-ի N _____-Ն որոշման
A3: ՀԱՅԱՍՏԱՆԻ ՀԱՆՐԱՊԵՏՈՒԹՅԱՆ ԿԱՌԱՎԱՐՈՒԹՅԱՆ 2021 ԹՎԱԿԱՆԻ ԴԵԿՏԵՄԲԵՐԻ 23-Ի N 2121-Ն ՈՐՈՇՄԱՆ N9 ՀԱՎԵԼՎԱԾԻ 9.18 ԵՎ 9.47 ԱՂՅՈՒՍԱԿՆԵՐՈՒՄ ԿԱՏԱՐՎՈՂ ՓՈՓՈԽՈՒԹՅՈՒՆՆԵՐԸ ԵՎ ԼՐԱՑՈՒՄՆԵՐԸ
A5: ՀՀ արտակարգ իրավիճակների նախարարություն
A6: ՄԱՍ 2. ՊԵՏԱԿԱՆ ՄԱՐՄՆԻ ԳԾՈՎ ԱՐԴՅՈՒՆՔԱՅԻՆ (ԿԱՏԱՐՈՂԱԿԱՆ) ՑՈՒՑԱՆԻՇՆԵՐԸ
A7: Ծրագրի դասիչը | B7: Ծրագրի անվանումը
A8: 1090 | B8: Փրկարարական ծառայություններ
A9: Ծրագրի միջոցառումները
A10: Ծրագրի դասիչը՝ | B10: 1090 | C10: Ցուցանիշների փոփոխությունը (նվազեցումները նշված են փակագծերում)
A11: Միջոցառման դասիչը՝ | B11: 11001 | C11: Տարի
A12: Միջոցառման անվանումը՝ | B12: Փրկարարական ծառայություններ
A13: Նկարագրությունը՝ | B13: Հրդեհաշիջման, հակահրդեհային քարոզչության, բնական և տեխնածին աղետների ժամանակ բնակչության և կառույցների պաշտպանություն
A14: Միջոցառման տեսակը՝ | B14: Ծառայությունների մատուցում
A15: Միջոցառումն իրականացնողի անվանումը` | B15: ՀՀ արտակարգ իրավիճակների նախարարություն
A16: Արդյունքի չափորոշիչներ
A17: Øß³ÏíáÕ ÝáñÙ³ïÇí Çñ³í³Ï³Ý ³Ïï»ñÇ Ý³Ë³·Í»ñÇ ù³Ý³Ï, Ñ³ï
A18: Ð³Ù³Ï³ñ·íáÕ, Çñ³Ï³Ý³óíáÕ ¨ í»ñ³ÑëÏÙ³Ý »ÝÃ³ñÏíáÕ ÙÇçáó³éáõÙÝ»ñÇ ù³Ý³Ï, Ñ³ï
A19: Միջոցառման վրա կատարվող ծախսը (հազար դրամ) | C19: ='1'!D18 -> -42983.176
A20: Ծրագրի դասիչը՝ | B20: 1090 | C20: Ցուցանիշների փոփոխությունը (ավելացումները նշված են դրական նշանով)
A21: Միջոցառման դասիչը՝ | B21: 11001 | C21: Տարի
A22: Միջոցառման անվանումը՝ | B22: Փրկարարական ծառայություններ
A23: Նկարագրությունը՝ | B23: Հրդեհաշիջման, հակահրդեհային քարոզչության, բնական և տեխնածին աղետների ժամանակ բնակչության և կառույցների պաշտպանություն
A24: Միջոցառման տեսակը՝ | B24: Ծառայությունների մատուցում
A25: Միջոցառումն իրականացնողի անվանումը` | B25: ՀՀ արտակարգ իրավիճակների նախարարություն
A26: Արդյունքի չափորոշիչներ
A27: Øß³ÏíáÕ ÝáñÙ³ïÇí Çñ³í³Ï³Ý ³Ïï»ñÇ Ý³Ë³·Í»ñÇ ù³Ý³Ï, Ñ³ï
A28: Ð³Ù³Ï³ñ·íáÕ, Çñ³Ï³Ý³óíáÕ ¨ í»ñ³ÑëÏÙ³Ý »ÝÃ³ñÏíáÕ ÙÇçáó³éáõÙÝ»ñÇ ù³Ý³Ï, Ñ³ï
A29: Միջոցառման վրա կատարվող ծախսը (հազար դրամ) | C29: ='1'!D25 -> 8740.4
A30: Ծրագրի դասիչը՝ | B30: 1090 | C30: Ցուցանիշների փոփոխությունը (նվազեցումները նշված են փակագծերում)
A31: Միջոցառման դասիչը՝ | B31: 31001 | C31: Տարի
A32: Միջոցառման անվանումը՝ | B32: Փրկարար ծառայության տեխնիկական հագեցվածության բարելավում
A33: Նկարագրությունը՝ | B33: Վարչական սարքավորումների ձեռքբերում
A34: Միջոցառման տեսակը՝ | B34: Պետական մարմինների կողմից օգտագործվող ոչ ֆինանասական ակտիվների հետ գործառնություններ
A35: Միջոցառումն իրականացնողի անվանումը` | B35: ՀՀ արտակարգ իրավիճակների նախարարություն
A36: Արդյունքի չափորոշիչներ
A37: Øß³ÏíáÕ ÝáñÙ³ïÇí Çñ³í³Ï³Ý ³Ïï»ñÇ Ý³Ë³·Í»ñÇ ù³Ý³Ï, Ñ³ï
A38: Ð³Ù³Ï³ñ·íáÕ, Çñ³Ï³Ý³óíáÕ ¨ í»ñ³ÑëÏÙ³Ý »ÝÃ³ñÏíáÕ ÙÇçáó³éáõÙÝ»ñÇ ù³Ý³Ï, Ñ³ï
A39: Միջոցառման վրա կատարվող ծախսը (հազար դրամ) | C39: ='1'!D32 -> -2232
A40: Ծրագրի դասիչը՝ | B40: 1090 | C40: Ցուցանիշների փոփոխությունները (Ավելացումները նշված են դրական նշանով)
A41: Միջոցառման դասիչը՝ | B41: 31001 | C41: Տարի
A42: Միջոցառման անվանումը՝ | B42: Փրկարար ծառայության տեխնիկական հագեցվածության բարելավում
A43: Նկարագրությունը՝ | B43: Վարչական սարքավորումների ձեռքբերում
A44: Միջոցառման տեսակը՝ | B44: Պետական մարմինների կողմից օգտագործվող ոչ ֆինանասական ակտիվների հետ գործառնություններ
A45: Միջոցառումն իրականացնողի անվանումը` | B45: ՀՀ արտակարգ իրավիճակների նախարարություն
A46: Արդյունքի չափորոշիչներ
A47: Øß³ÏíáÕ ÝáñÙ³ïÇí Çñ³í³Ï³Ý ³Ïï»ñÇ Ý³Ë³·Í»ñÇ ù³Ý³Ï, Ñ³ï
A48: Ð³Ù³Ï³ñ·íáÕ, Çñ³Ï³Ý³óíáÕ ¨ í»ñ³ÑëÏÙ³Ý »ÝÃ³ñÏíáÕ ÙÇçáó³éáõÙÝ»ñÇ ù³Ý³Ï, Ñ³ï
A49: Քանակական | B49: Գրասենյակային գույքի և սարքավորումների քանակ, հատ | C49: 503
A50: Ժամկետային | B50: Սարքավորումների ծառայության կանխատեսվող միջին ժամկետ, տարի | C50: 8
A51: Միջոցառման վրա կատարվող ծախսը (հազար դրամ) | C51: ='1'!D39 -> 28838.8
A52: Ծրագրի դասիչը՝ | B52: 1090 | C52: Ցուցանիշների փոփոխությունը (ավելացումները նշված են դրական նշանով)
A53: Միջոցառման դասիչը՝ | B53: 31007 | C53: Տարի
A54: Միջոցառման անվանումը՝ | B54: ԱԻՆ Փրկարար ծառայության շենքային ապահովվածության և պայմանների բարելավում
A55: Նկարագրությունը՝ | B55: Փրկարար ծառայության շենքերի, շինությունների կառուցում և կապիտալ վերանորոգում
A56: Միջոցառման տեսակը՝ | B56: Պետական մարմինների կողմից օգտագործվող ոչ ֆինանասական ակտիվների հետ գործառույթներ
A57: Միջոցառումն իրականացնողի անվանումը` | B57: Մասնագիտացված կազմակերպություն
A58: Արդյունքի չափորոշիչներ
A59: Քանակական | B59: ջրամատակարարման խողովակաշարերի տեղադրում, մետր | C59: 400
B60: գազի մատակարարաման մագիստրալային խողովակների տեղադրում, մետր | C60: 700
B61: Նախագծանախահաշվային փաստաթղթեր փաթեթ,հատ | C61: 1
B62: Տեխնիկական պլանավորման ծառայություններ | C62: 1
A63: Միջոցառման վրա կատարվող ծախսը (հազար դրամ) | C63: =+'2'!G67 -> 7636
A64: Ծրագրի դասիչը | B64: Ծրագրի անվանումը
A65: 1112 | B65: Արտակարգ իրավիճակների բնագավառի պետական քաղաքականության մշակում՝ ծրագրերի համակարգում և մոնիտորինգ
A66: Ծրագրի միջոցառումները
A67: Ծրագրի դասիչը՝ | B67: 1112 | C67: Ցուցանիշների փոփոխությունը (նվազեցումները նշված են փակագծերում)
A68: Միջոցառման դասիչը՝ | B68: 11001 | C68: Տարի
A69: Միջոցառման անվանումը՝ | B69: Արտակարգ իրավիճակների բնագավառում քաղաքականության մշակում, խորհրդատվական ծառայությունների տրամադրում և մոնիտորինգի իրականացում
A70: Նկարագրությունը՝ | B70: Արտակարգ իրավիճակների բնագավառում քաղաքականության մշակում, խորհրդատվական ծառայությունների տրամադրում և մոնիտորինգի իրականացում
A71: Միջոցառման տեսակը՝ | B71: Ծառայությունների մատուցում
A72: Միջոցառումն իրականացնողի անվանումը` | B72: ՀՀ արտակարգ իրավիճակների նախարարություն
A73: Արդյունքի չափորոշիչներ
A74: Միջոցառման վրա կատարվող ծախսը (հազար դրամ) | C74: -576
A75: Ծրագրի դասիչը՝ | B75: 1112 | C75: Ցուցանիշների փոփոխությունը (ավելացումները նշված են դրական նշանով)
A76: Միջոցառման դասիչը՝ | B76: 31001 | C76: Տարի
A77: Միջոցառման անվանումը՝ | B77: Արտակարգ իրավիճակների նախարարության տեխնիկական հագեցվածության բարելավում
A78: Նկարագրությունը՝ | B78: Վարչական սարքավորումների ձեռքբերում
A79: Միջոցառման տեսակը՝ | B79: Պետական մարմինների կողմից օգտագործվող ոչ ֆինանասական ակտիվների հետ գործառույթներ
A80: Միջոցառումն իրականացնողի անվանումը` | B80: Մասնագիտացված կազմակերպություն
A81: Արդյունքի չափորոշիչներ
A82: Քանակական | B82: Գրասենյակային գույքի և սարքավորումների քանակ, հատ | C82: 9
A83: Ժամկետային | B83: Սարքավորումների ծառայության կանխատեսվող միջին ժամկետ, տարի | C83: 8
A84: Միջոցառման վրա կատարվող ծախսը (հազար դրամ) | C84: ='4'!D23 -> 576
A86: ՀՀ կառավարություն
A87: ՄԱՍ 2. ՊԵՏԱԿԱՆ ՄԱՐՄՆԻ ԳԾՈՎ ԱՐԴՅՈՒՆՔԱՅԻՆ (ԿԱՏԱՐՈՂԱԿԱՆ) ՑՈՒՑԱՆԻՇՆԵՐԸ
A89: Ծրագրի դասիչը | B89: Ծրագրի անվանումը
A90: 1139 | B90: ՀՀ կառավարության պահուստային ֆոնդ
A92: Ծրագրի միջոցառումները
A93: Ծրագրի դասիչը` | B93: 1139 | C93: Ցուցանիշների փոփոխությունը (ավելացումները նշված են դրական նշանով)
A94: Միջոցառման դասիչը` | B94: 11001 | C94: Տարի
A95: Միջոցառման անվանումը` | B95: ՀՀ կառավարության պահուստային ֆոնդ
A96: Նկարագրությունը` | B96: ՀՀ պետական բյուջեում նախատեսված ելքերի լրացուցիչ ֆինանսավորման՝ պետական բյուջեում չկանխատեսված ելքերի՝ ինչպես նաև բյուջետային երաշխիքների ապահովման ելքերի ֆինանսավորման ապահովում
A97: Միջոցառման տեսակը` | B97: Ծառայությունների մատուցում
A98: Միջոցառումն իրականացնողի անվանումը | B98: ՀՀ կառավարություն
A99: Արդյունքի չափորոշիչներ
A100: Միջոցառման վրա կատարվող ծախսը (հազար դրամ) | C100: ='1'!D77 -> 45791.2
A101: 1139 | B101: ՀՀ կառավարության պահուստային ֆոնդ
A103: Ծրագրի միջոցառումները
A104: Ծրագրի դասիչը` | B104: 1139 | C104: Ցուցանիշների փոփոխությունը (նվազեցումները նշված են փակագծերում)
A105: Միջոցառման դասիչը` | B105: 11001 | C105: Տարի
A106: Միջոցառման անվանումը` | B106: ՀՀ կառավարության պահուստային ֆոնդ
...

Sheet 6
B1: Հավելված N 6 ՀՀ կառավարության 2022 թվականի __________-ի ____-ի N _____-Ն որոշման
A2: ՀԱՅԱՍՏԱՆԻ ՀԱՆՐԱՊԵՏՈՒԹՅԱՆ ԿԱՌԱՎԱՐՈՒԹՅԱՆ 2021ԹՎԱԿԱՆԻ ԴԵԿՏԵՄԲԵՐԻ 23-Ի N 2121-Ն ՈՐՈՇՄԱՆ N9.1 ՀԱՎԵԼՎԱԾԻ 9.1.19 ԵՎ 9.1.59 ԱՂՅՈՒՍԱԿՆԵՐՈՒՄ ԿԱՏԱՐՎՈՂ ՓՈՓՈԽՈՒԹՅՈՒՆՆԵՐԸ
A3: ՀՀ արտակարգ իրավիճակների նախարարություն
A5: ՄԱՍ 1 ՊԵՏԱԿԱՆ ՄԱՐՄՆԻ ԳԾՈՎ ԱՐԴՅՈՒՆՔԱՅԻՆ (ԿԱՏԱՐՈՂԱԿԱՆ) ՑՈՒՑԱՆԻՇՆԵՐԸ
A6: Ծրագրի դասիչը | B6: Ծրագրի անվանումը
A7: 1090 | B7: Փրկարարական ծառայություններ
A8: Ծրագրի միջոցառումները
A9: Ծրագրի դասիչը՝ | B9: 1090 | C9: Ցուցանիշների փոփոխությունը (նվազեցումները նշված են փակագծերում)
A10: Միջոցառման դասիչը՝ | B10: 11001 | C10: Տարի
A11: Միջոցառման անվանումը՝ | B11: Փրկարարական ծառայություններ
A12: Նկարագրությունը՝ | B12: Հրդեհաշիջման, հակահրդեհային քարոզչության, բնական և տեխնածին աղետների ժամանակ բնակչության և կառույցների պաշտպանություն
A13: Միջոցառման տեսակը՝ | B13: Ծառայությունների մատուցում
A14: Միջոցառումն իրականացնողի անվանումը` | B14: ՀՀ արտակարգ իրավիճակների նախարարություն
A15: Արդյունքի չափորոշիչներ
A16: Øß³ÏíáÕ ÝáñÙ³ïÇí Çñ³í³Ï³Ý ³Ïï»ñÇ Ý³Ë³·Í»ñÇ ù³Ý³Ï, Ñ³ï
A17: Ð³Ù³Ï³ñ·íáÕ, Çñ³Ï³Ý³óíáÕ ¨ í»ñ³ÑëÏÙ³Ý »ÝÃ³ñÏíáÕ ÙÇçáó³éáõÙÝ»ñÇ ù³Ý³Ï, Ñ³ï
A18: Միջոցառման վրա կատարվող ծախսը (հազար դրամ) | C18: ='1'!D18 -> -42983.176
A19: Ծրագրի դասիչը՝ | B19: 1090 | C19: Ցուցանիշների փոփոխությունը (ավելացումները նշված են դրական նշանով)
A20: Միջոցառման դասիչը՝ | B20: 11001 | C20: Տարի
A21: Միջոցառման անվանումը՝ | B21: Փրկարարական ծառայություններ
A22: Նկարագրությունը՝ | B22: Հրդեհաշիջման, հակահրդեհային քարոզչության, բնական և տեխնածին աղետների ժամանակ բնակչության և կառույցների պաշտպանություն
A23: Միջոցառման տեսակը՝ | B23: Ծառայությունների մատուցում
A24: Միջոցառումն իրականացնողի անվանումը` | B24: ՀՀ արտակարգ իրավիճակների նախարարություն
A25: Արդյունքի չափորոշիչներ
A26: Øß³ÏíáÕ ÝáñÙ³ïÇí Çñ³í³Ï³Ý ³Ïï»ñÇ Ý³Ë³·Í»ñÇ ù³Ý³Ï, Ñ³ï
A27: Ð³Ù³Ï³ñ·íáÕ, Çñ³Ï³Ý³óíáÕ ¨ í»ñ³ÑëÏÙ³Ý »ÝÃ³ñÏíáÕ ÙÇçáó³éáõÙÝ»ñÇ ù³Ý³Ï, Ñ³ï
A28: Միջոցառման վրա կատարվող ծախսը (հազար դրամ) | C28: ='1'!D25 -> 8740.4
A29: Ծրագրի դասիչը՝ | B29: 1090 | C29: Ցուցանիշների փոփոխությունը (նվազեցումները նշված են փակագծերում)
A30: Միջոցառման դասիչը՝ | B30: 31001 | C30: Տարի
A31: Միջոցառման անվանումը՝ | B31: Փրկարար ծառայության տեխնիկական հագեցվածության բարելավում
A32: Նկարագրությունը՝ | B32: Վարչական սարքավորումների ձեռքբերում
A33: Միջոցառման տեսակը՝ | B33: Պետական մարմինների կողմից օգտագործվող ոչ ֆինանասական ակտիվների հետ գործառնություններ
A34: Միջոցառումն իրականացնողի անվանումը` | B34: ՀՀ արտակարգ իրավիճակների նախարարություն
A35: Արդյունքի չափորոշիչներ
A36: Øß³ÏíáÕ ÝáñÙ³ïÇí Çñ³í³Ï³Ý ³Ïï»ñÇ Ý³Ë³·Í»ñÇ ù³Ý³Ï, Ñ³ï
A37: Ð³Ù³Ï³ñ·íáÕ, Çñ³Ï³Ý³óíáÕ ¨ í»ñ³ÑëÏÙ³Ý »ÝÃ³ñÏíáÕ ÙÇçáó³éáõÙÝ»ñÇ ù³Ý³Ï, Ñ³ï
A38: Միջոցառման վրա կատարվող ծախսը (հազար դրամ) | C38: ='1'!D32 -> -2232
A39: Ծրագրի դասիչը՝ | B39: 1090 | C39: Ցուցանիշների փոփոխությունները (Ավելացումները նշված են դրական նշանով)
A40: Միջոցառման դասիչը՝ | B40: 31001 | C40: Տարի
A41: Միջոցառման անվանումը՝ | B41: Փրկարար ծառայության տեխնիկական հագեցվածության բարելավում
A42: Նկարագրությունը՝ | B42: Վարչական սարքավորումների ձեռքբերում
A43: Միջոցառման տեսակը՝ | B43: Պետական մարմինների կողմից օգտագործվող ոչ ֆինանասական ակտիվների հետ գործառնություններ
A44: Միջոցառումն իրականացնողի անվանումը` | B44: ՀՀ արտակարգ իրավիճակների նախարարություն
A45: Արդյունքի չափորոշիչներ
A46: Øß³ÏíáÕ ÝáñÙ³ïÇí Çñ³í³Ï³Ý ³Ïï»ñÇ Ý³Ë³·Í»ñÇ ù³Ý³Ï, Ñ³ï
A47: Ð³Ù³Ï³ñ·íáÕ, Çñ³Ï³Ý³óíáÕ ¨ í»ñ³ÑëÏÙ³Ý »ÝÃ³ñÏíáÕ ÙÇçáó³éáõÙÝ»ñÇ ù³Ý³Ï, Ñ³ï
A48: Քանակական | B48: Գրասենյակային գույքի և սարքավորումների քանակ, հատ | C48: 503
A49: Ժամկետային | B49: Սարքավորումների ծառայության կանխատեսվող միջին ժամկետ, տարի | C49: 8
A50: Միջոցառման վրա կատարվող ծախսը (հազար դրամ) | C50: =+'5'!C51 -> 28838.8
A51: Ծրագրի դասիչը՝ | B51: 1090 | C51: Ցուցանիշների փոփոխությունը (Ավելացումները նշված են դրական նշանով)
A52: Միջոցառման դասիչը՝ | B52: 31007 | C52: Տարի
A53: Միջոցառման անվանումը՝ | B53: ԱԻՆ Փրկարար ծառայության շենքային ապահովվածության և պայմանների բարելավում
A54: Նկարագրությունը՝ | B54: Փրկարար ծառայության շենքերի, շինությունների կառուցում և կապիտալ վերանորոգում
A55: Միջոցառման տեսակը՝ | B55: Պետական մարմինների կողմից օգտագործվող ոչ ֆինանասական ակտիվների հետ գործառույթներ
A56: Միջոցառումն իրականացնողի անվանումը` | B56: Մասնագիտացված կազմակերպություն
A57: Արդյունքի չափորոշիչներ
A58: Քանակական | B58: ջրամատակարարման խողովակաշարերի տեղադրում, մետր | C58: 400
B59: գազի մատակարարաման մագիստրալային խողովակների տեղադրում, մետր | C59: 700
B60: Նախագծանախահաշվային փաստաթղթեր փաթեթ,հատ | C60: 1
B61: Տեխնիկական պլանավորման ծառայություններ | C61: 1
A62: Միջոցառման վրա կատարվող ծախսը (հազար դրամ) | C62: =+'5'!C63 -> 7636
A63: Ծրագրի դասիչը | B63: Ծրագրի անվանումը
A64: 1112 | B64: Արտակարգ իրավիճակների բնագավառի պետական քաղաքականության մշակում՝ ծրագրերի համակարգում և մոնիտորինգ
A65: Ծրագրի միջոցառումները
A66: Ծրագրի դասիչը՝ | B66: 1112 | C66: Ցուցանիշների փոփոխությունը (նվազեցումները նշված են փակագծերում)
A67: Միջոցառման դասիչը՝ | B67: 11001 | C67: Տարի
A68: Միջոցառման անվանումը՝ | B68: Արտակարգ իրավիճակների բնագավառում քաղաքականության մշակում, խորհրդատվական ծառայությունների տրամադրում և մոնիտորինգի իրականացում
A69: Նկարագրությունը՝ | B69: Արտակարգ իրավիճակների բնագավառում քաղաքականության մշակում, խորհրդատվական ծառայությունների տրամադրում և մոնիտորինգի իրականացում
A70: Միջոցառման տեսակը՝ | B70: Ծառայությունների մատուցում
A71: Միջոցառումն իրականացնողի անվանումը` | B71: ՀՀ արտակարգ իրավիճակների նախարարություն
A72: Արդյունքի չափորոշիչներ
A73: Միջոցառման վրա կատարվող ծախսը (հազար դրամ) | C73: -576
A74: Ծրագրի դասիչը՝ | B74: 1112 | C74: Ցուցանիշների փոփոխությունը (ավելացումները նշված են դրական նշանով)
A75: Միջոցառման դասիչը՝ | B75: 31001 | C75: Տարի
A76: Միջոցառման անվանումը՝ | B76: Արտակարգ իրավիճակների նախարարության տեխնիկական հագեցվածության բարելավում
A77: Նկարագրությունը՝ | B77: Վարչական սարքավորումների ձեռքբերում
A78: Միջոցառման տեսակը՝ | B78: Պետական մարմինների կողմից օգտագործվող ոչ ֆինանասական ակտիվների հետ գործառույթներ
A79: Միջոցառումն իրականացնողի անվանումը` | B79: Մասնագիտացված կազմակերպություն
A80: Արդյունքի չափորոշիչներ
A81: Քանակական | B81: Գրասենյակային գույքի և սարքավորումների քանակ, հատ | C81: 9
A82: Ժամկետային | B82: Սարքավորումների ծառայության կանխատեսվող միջին ժամկետ, տարի | C82: 8
A83: Միջոցառման վրա կատարվող ծախսը (հազար դրամ) | C83: =+'5'!C84 -> 576
A85: ՀՀ կառավարություն
A86: ՄԱՍ 2. ՊԵՏԱԿԱՆ ՄԱՐՄՆԻ ԳԾՈՎ ԱՐԴՅՈՒՆՔԱՅԻՆ (ԿԱՏԱՐՈՂԱԿԱՆ) ՑՈՒՑԱՆԻՇՆԵՐԸ
A88: Ծրագրի դասիչը | B88: Ծրագրի անվանումը
A89: 1139 | B89: ՀՀ կառավարության պահուստային ֆոնդ
A90: Ծրագրի միջոցառումները
A91: Ծրագրի դասիչը` | B91: 1139 | C91: Ցուցանիշների փոփոխությունը (ավելացումները նշված են դրական նշանով)
A92: Միջոցառման դասիչը` | B92: 11001 | C92: Տարի
A93: Միջոցառման անվանումը` | B93: ՀՀ կառավարության պահուստային ֆոնդ
A94: Նկարագրությունը` | B94: ՀՀ պետական բյուջեում նախատեսված ելքերի լրացուցիչ ֆինանսավորման՝ պետական բյուջեում չկանխատեսված ելքերի՝ ինչպես նաև բյուջետային երաշխիքների ապահովման ելքերի ֆինանսավորման ապահովում
A95: Միջոցառման տեսակը` | B95: Ծառայությունների մատուցում
A96: Միջոցառումն իրականացնողի անվանումը | B96: ՀՀ կառավարություն
A97: Արդյունքի չափորոշիչներ
A98: Միջոցառման վրա կատարվող ծախսը (հազար դրամ) | C98: ='1'!D77 -> 45791.2
A99: 1139 | B99: ՀՀ կառավարության պահուստային ֆոնդ
A100: Ծրագրի միջոցառումները
A101: Ծրագրի դասիչը` | B101: 1139 | C101: Ցուցանիշների փոփոխությունները (Նվազեցումները նշված են փակագծերում)
A102: Միջոցառման դասիչը` | B102: 11001 | C102: Տարի
A103: Միջոցառման անվանումը` | B103: ՀՀ կառավարության պահուստային ֆոնդ
...

Sheet 7 
F1: Հավելված N 7
E2: ՀՀ կառավարության 2020 թվականի
E3: ______________ ի ___Ն որոշման
A4: ՀԱՅԱՍՏԱՆԻ ՀԱՆՐԱՊԵՏՈՒԹՅԱՆ ԿԱՌԱՎԱՐՈՒԹՅԱՆ 2020 ԹՎԱԿԱՆԻ ԴԵԿՏԵՄԲԵՐԻ 30-Ի N 2215-Ն ՈՐՈՇՄԱՆ N 10 ՀԱՎԵԼՎԱԾՈՒՄ ԿԱՏԱՐՎՈՂ փոփոխությունները և ԼՐԱՑՈՒՄՆԵՐԸ
A5: Գնման առարկայի | G5: Գումարը (հազար դրամով) Ցուցանիշների փոփոխությունը (ավելացումները նշված են դրական նշանով, իսկ վազեցումները նշված են փակագծերում)
A6: Կոդը | B6: Անվանումը | C6: Գնման ձև | D6: Չափման միավորը | E6: Միավորի գինը | F6: Քանակը
A8: ՀՀ արտակարգ իրավիճակների նախարարություն | G8: =G9+G268+G300+G307 -> 0.03018 | I8: -0.01802
A9: Բաժին N 03 | B9: Խումբ N 02 | C9: Դաս N 01 | D9: Փրկարար ծառայություն | G9: =G10 -> -34242.777
A10: 1090 11001 | B10: Փրկարարական ծառայություններ | G10: =G11+G245 -> -34242.777
A11: ՄԱՍI, ԱՊՐԱՆՔՆԵՐ | G11: =SUM(G12:G244) -> -37552.177
A12: 18231600/6 | B12: սվիտերներ | C12: ԷԱՃ | D12: հատ | G12: -11000 | I12: -11000 | J12: -11000
A13: 18811210/2 | B13: ճտքավոր կոշիկներ | C13: ԷԱՃ | D13: զույգ | G13: -7000 | I13: -7000 | J13: -7000
A14: 35811180/9 | B14: հատուկ հանդերձանք ― պարագաներ | C14: ԷԱՃ | D14: հատ | G14: -3960.311 | I14: -3960.311 | J14: -3960.311
A15: 44163300/8 | B15: ռետինափողրակներ | C15: ԷԱՃ | D15: մետր | G15: -2829 | I15: -2829 | J15: -2829
A16: 18811210/4 | B16: ճտքավոր կոշիկներ | C16: ԷԱՃ | D16: զույգ | G16: -2689.6 | I16: -2689.6 | J16: -2689.6
A17: 09211100/12 | B17: շարժիչի յուղեր | C17: ԷԱՃ | D17: լիտր | G17: -1723 | I17: -1723 | J17: -1723
A18: 09211100/14 | B18: շարժիչի յուղեր | C18: ԷԱՃ | D18: լիտր | G18: -1117.121 | I18: -1117.121 | J18: -1117.121
A19: 44163300/12 | B19: ռետինափողրակներ | C19: ԷԱՃ | D19: մետր | G19: -1020 | I19: -1020 | J19: -1020
A20: 09132200/2 | B20: բենզին, ռեգուլյար | C20: ԷԱՃ | D20: լիտր | G20: -960 | I20: -960 | J20: -960
A21: 18231600/5 | B21: սվիտերներ | C21: ԷԱՃ | D21: հատ | G21: -864 | I21: -864 | J21: -864
A22: 44163300/11 | B22: ռետինափողրակներ | C22: ԷԱՃ | D22: մետր | G22: -520 | I22: -520 | J22: -520
A23: 18231600/4 | B23: սվիտերներ | C23: ԷԱՃ | D23: հատ | G23: -503.8 | I23: -503.8 | J23: -503.8
... A238: 34351200/620 | B238: ավտոմեքենաների անիվներ | C238: ԷԱՃ | D238: հատ | G238: -1 | I238: -1 | J238: -1
A239: 31531300/530 | B239: տնտեսող լամպեր | C239: ԷԱՃ | D239: հատ | E239: 8500 | F239: 194 | G239: =F239*E239/1000 -> 1649 | I239: =H239*G239/1000 -> 0 | J239: 1649
A240: 31531300/531 | B240: տնտեսող լամպեր | C240: ԷԱՃ | D240: հատ | E240: 3600 | F240: 149 | G240: =F240*E240/1000 -> 536.4 | I240: =H240*G240/1000 -> 0 | J240: 536.4
A241: 39511160/501 | B241: փետրաներքնակներ | C241: ԷԱՃ | D241: հատ | E241: 10500 | F241: 97 | G241: =F241*E241/1000 -> 1018.5 | I241: =H241*G241/1000 -> 0 | J241: 1018.5
A242: 39511190/501 | B242: բարձ` բամբակյա | C242: ԷԱՃ | D242: հատ | E242: 5000 | F242: 97 | G242: =F242*E242/1000 -> 485 | I242: =H242*G242/1000 -> 0 | J242: 485
A243: 19212600/503 | B243: անկողնային ծածկոց | C243: ԷԱՃ | D243: հատ | E243: 9000 | F243: 113 | G243: =F243*E243/1000 -> 1017 | I243: =H243*G243/1000 -> 0 | J243: 1017
A244: 39511130/503 | B244: սավաններ | C244: ԷԱՃ | D244: հատ | E244: 1500 | F244: 98 | G244: =F244*E244/1000 -> 147 | I244: =H244*G244/1000 -> 0 | J244: 147
A245: ՄԱՍII, ԾԱՌԱՅՈՒԹՅՈՒՆՆԵՐ | G245: =SUM(G246:G267) -> 3309.4
A246: 79821200/663 | B246: այլ պոլիգրաֆիական արտադրանքի տպագրման ծառայություն | C246: ԷԱՃ | D246: դրամ | G246: -162.8
A247: 79821200/700 | B247: այլ պոլիգրաֆիական արտադրանքի տպագրման ծառայություն | C247: ԷԱՃ | D247: դրամ | G247: -73.2
A248: 79821200/658 | B248: այլ պոլիգրաֆիական արտադրանքի տպագրման ծառայություն | C248: ԷԱՃ | D248: դրամ | G248: -42
A249: 79821200/709 | B249: այլ պոլիգրաֆիական արտադրանքի տպագրման ծառայություն | C249: ԷԱՃ | D249: դրամ | G249: -40
A250: 79821200/684 | B250: այլ պոլիգրաֆիական արտադրանքի տպագրման ծառայություն | C250: ԷԱՃ | D250: դրամ | G250: -40
A251: 79821200/664 | B251: այլ պոլիգրաֆիական արտադրանքի տպագրման ծառայություն | C251: ԷԱՃ | D251: դրամ | G251: -40
A252: 79821200/708 | B252: այլ պոլիգրաֆիական արտադրանքի տպագրման ծառայություն | C252: ԷԱՃ | D252: դրամ | G252: -38
A253: 79821200/683 | B253: այլ պոլիգրաֆիական արտադրանքի տպագրման ծառայություն | C253: ԷԱՃ | D253: դրամ | G253: -35
A254: 79821200/697 | B254: այլ պոլիգրաֆիական արտադրանքի տպագրման ծառայություն | C254: ԷԱՃ | D254: դրամ | G254: -25
A255: 79821200/670 | B255: այլ պոլիգրաֆիական արտադրանքի տպագրման ծառայություն | C255: ԷԱՃ | D255: դրամ | G255: -25
A256: 79821200/667 | B256: այլ պոլիգրաֆիական արտադրանքի տպագրման ծառայություն | C256: ԷԱՃ | D256: դրամ | G256: -22.5
A257: 79821200/702 | B257: այլ պոլիգրաֆիական արտադրանքի տպագրման ծառայություն | C257: ԷԱՃ | D257: դրամ | G257: -10.2
... A267: 79111200/1 | B267: ներկայացուցչական ծառայություններ | C267: ՄԱ | D267: դրամ | G267: 787.5
A268: 1090 31001 | B268: Փրկարար ծառայության տեխնիկական հագեցվածության բարելավում | G268: =+G269 -> 26606.779
A269: ՄԱՍI, ԱՊՐԱՆՔՆԵՐ | G269: =SUM(G270:G299) -> 26606.779
A270: 32531100/1 | B270: տեղեկատվության փոխանցման արբանյակային սարքեր | C270: ԳՀ | D270: հատ | G270: -1528
A271: 39121330/501 | B271: սեղան` լսարանային | C271: ԷԱՃ | D271: հատ | G271: -168.6
A272: 39138310/501 | B272: բազկաթոռ, շարժական | C272: ԷԱՃ | D272: հատ | G272: -156
A273: 39121520/501 | B273: գրապահարաններ | C273: ԷԱՃ | D273: հատ | G273: -137.8996
A274: 39151300/501 | B274: փափուկ կահույք | C274: ԳՀ | D274: լրակազմ | G274: -101
A275: 39121100/501 | B275: գրասեղաններ | C275: ԷԱՃ | D275: հատ | G275: -51.6996
A276: 39121360/501 | B276: սեղան` ղեկավարի | C276: ԷԱՃ | D276: հատ | G276: -32
A277: 30239210/501 | B277: տպիչ սարք, բազմաֆունկցիոնալ, A3, 13 էջ/րոպե արագության | C277: ԷԱՃ | D277: հատ | G277: -20.662
A278: 39711140/501 | B278: կենցաղային սառնարաններ | C278: ԷԱՃ | D278: հատ | G278: -8.34
A279: 37421210/502 | B279: վարժասարքեր | C279: ԷԱՃ | D279: հատ | G279: -8.15
A280: 37421210/503 | B280: վարժասարքեր | C280: ԷԱՃ | D280: հատ | G280: -7.3
A281: 37421210/501 | B281: վարժասարքեր | C281: ԷԱՃ | D281: հատ | G281: -6.3
... A284: 30211290/1 | B284: համակարգչային պլանշետ | C284: ԷԱՃ | D284: հատ | G284: -1.6
A285: 39121100//502 | B285: գրասեղաններ | C285: ԷԱՃ | D285: հատ | E285: 42000 | F285: 46 | G285: =E285*F285/1000 -> 1932
A286: 39138310/503 | B286: բազկաթոռ շարժական | C286: ԷԱՃ | D286: հատ | E286: 46000 | F286: 113 | G286: =E286*F286/1000 -> 5198
A287: 30232110/501 | B287: Լազերային տպիչներ | C287: ԷԱՃ | D287: հատ | E287: 82000 | F287: 7 | G287: =E287*F287/1000 -> 574
A288: 30239120/502 | B288: տպիչ սարք, բազմաֆունկցիոնալ, A4, 23 էջ/րոպե արագության | C288: ԷԱՃ | D288: հատ | E288: 150000 | F288: 9 | G288: =E288*F288/1000 -> 1350
A289: 39121360/502 | B289: սեղան ղեկավարի | C289: ԷԱՃ | D289: հատ | E289: 100000 | F289: 11 | G289: =E289*F289/1000 -> 1100
A290: 39141250/501 | B290: զինվորական մահճակալ | C290: ԷԱՃ | D290: հատ | E290: 40000 | F290: 100 | G290: =E290*F290/1000 -> 4000
A291: 39121520/502 | B291: գրապահարաններ | C291: ԷԱՃ | D291: հատ | E291: 57650 | F291: 51 | G291: =E291*F291/1000 -> 2940.15
A292: 39141260/503 | B292: զգեստապահարաններ | C292: ԷԱՃ | D292: հատ | E292: 50000 | F292: 15 | G292: =E292*F292/1000 -> 750
A293: 39121330/502 | B293: սեղան` լսարանային | C293: ԷԱՃ | D293: հատ | E293: 37000 | F293: 100 | G293: =F293*E293/1000 -> 3700
A294: 39141290/502 | B294: ճաշասենյակի կահույք | C294: ԷԱՃ | D294: հատ | E294: 80000 | F294: 10 | G294: =F294*E294/1000 -> 800
A295: 39711140/504 | B295: կենցաղային սառնարաններ | C295: ԷԱՃ | D295: հատ | E295: 243000 | F295: 7 | G295: =F295*E295/1000 -> 1701
A296: 39141290/501 | B296: ճաշասենյակի կահույք | C296: ԷԱՃ | D296: հատ | E296: 230000 | F296: 12 | G296: =F296*E296/1000 -> 2760
A297: 32324900/501 | B297: հեռուստացույցներ | C297: ԷԱՃ | D297: հատ | E297: 160000 | F297: 4 | G297: =F297*E297/1000 -> 640
A298: 39711140/502 | B298: կենցաղային սառնարաններ | C298: ԷԱՃ | D298: հատ | E298: 135000 | F298: 6 | G298: =F298*E298/1000 -> 810
A299: 39341100 | B299: գազի ճնշման սարքեր | C299: ՄԱ | D299: հատ | E299: 583600 | F299: 1 | G299: =F299*E299/1000 -> 583.6
A300: 1090 31007 | B300: ԱԻՆ Փրկարար ծառայության շենքային ապահովվածության և պայմանների բարելավում | G300: =+G301 -> 7636
A301: ՄԱՍII, ԱՇԽԱՏԱՆՔՆԵՐ | G301: =SUM(,G302:G306) -> 7636
A302: 45231131/501 | B302: Ջրամատակարարման խողովակաշարերի հետ կապված աշխատանքներ | C302: ԳՀ | D302: դրամ | E302: 4641645 | F302: 1 | G302: =F302*E302/1000 -> 4641.645
A303: 45231116/1 | B303: Գազի մատակարարաման մագիստրալային խողովակների կառուցման աշխատանքներ | C303: ՄԱ | D303: դրամ | E303: 1784355 | F303: 1 | G303: =F303*E303/1000 -> 1784.355
A304: 71241200 | B304: Նախագծերի պատրաստում, ծախսերի գնահատում | C304: ՄԱ | D304: դրամ | E304: 60000 | F304: 1 | G304: =F304*E304/1000 -> 60
A305: 71351570 | B305: Տեխնիկական պլանավորման ծառայություններ | C305: ՄԱ | D305: դրամ | E305: 10000 | F305: 1 | G305: =F305*E305/1000 -> 10
A306: 45231131 | B306: Ջրամատակարարման խողովակաշարերի հետ կապված աշխատանքներ | C306: ՀՄԱ | D306: դրամ | E306: 1140000 | F306: 1 | G306: =F306*E306/1000 -> 1140
A307: 1112 | B307: Արտակարգ իրավիճակների բնագավառի պետական քաղաքականության մշակում, ծրագրերի համակարգում և մոնիտորինգ | G307: =G308+G340 -> 0.0283
A308: 1112 11001 | B308: Արտակարգ իրավիճակների բնագավառում քաղաքականության մշակում, խորհրդատվական ծառայությունների տրամադրում և մոնիտորինգի իրականացում | G308: =G309+G332 -> -575.9717
A309: ՄԱՍI, ԱՊՐԱՆՔՆԵՐ | G309: =SUM(G310:G331) -> -370.1917
A310: 39831245/2 | B310: օճառ, հեղուկ | C310: ԷԱՃ | D310: լիտր | G310: -81.196
A311: 33761100/1 | B311: զուգարանի թուղթ | C311: ԷԱՃ | D311: հատ | G311: -62.4
A312: 09132200/3 | B312: բենզին, ռեգուլյար | C312: ԷԱՃ | D312: լիտր | G312: -60
A313: 24451190/3 | B313: կրծողների դեմ պայքարի նյութեր | C313: ԳՀ | D313: կիլոգրամ | G313: -40
A314: 30197622/6 | B314: թուղթ, A4 ֆորմատի | C314: ԷԱՃ | D314: կիլոգրամ | G314: -29.475
A315: 09132100/2 | B315: բենզին, պրեմիում | C315: ԷԱՃ | D315: լիտր | G315: -17.5
A316: 30197332/8 | B316: դակիչ միջին | C316: ԷԱՃ | D316: հատ | G316: -13.75
A317: 31531300/24 | B317: տնտեսող լամպեր | C317: ԷԱՃ | D317: հատ | G317: -11.1915
A318: 31531300/23 | B318: տնտեսող լամպեր | C318: ԷԱՃ | D318: հատ | G318: -9.6312
A319: 39263521/3 | B319: սեղմակ, միջին | C319: ԷԱՃ | D319: տուփ | G319: -7.84
A320: 32421100/4 | B320: ցանցային մալուխներ | C320: ԷԱՃ | D320: մետր | G320: -7.076
A321: 30197232/7 | B321: թղթապանակ, արագակար, թղթյա | C321: ԷԱՃ | D321: հատ | G321: -5.4
... A331: 30121460/26 | B331: տոներային քարտրիջներ | C331: ԷԱՃ | D331: հատ | G331: -1
A332: ՄԱՍII, ԾԱՌԱՅՈՒԹՅՈՒՆՆԵՐ | G332: =SUM(G333:G339) -> -205.78
A333: 50711100/2 | B333: շենքերում տեղակայված էլեկտրական սարքերի վերանորոգման ― պահպանման ծառայություններ | C333: ԳՀ | D333: դրամ | G333: -132
A334: 50731100/1 | B334: սառնարանային սարքերի վերանորոգման ― պահպանման ծառայություններ | C334: ԳՀ | D334: դրամ | G334: -50
A335: 90921100/1 | B335: ախտահանման ― մակաբույծների ոչնչացման ծառայություններ | C335: ԷԱՃ | D335: դրամ | G335: -15
...
