Workbook
Name AgencyCode: #REF!
Name AgencyCode: #REF!
Name AgencyCode: #REF!
Name AgencyCode: #REF!
Name AgencyCode: #REF!
Name AgencyName: #REF!
Name AgencyName: #REF!
Name AgencyName: #REF!
Name AgencyName: #REF!
Name AgencyName: #REF!
Name alisa: #REF!
Name alisa: #REF!
Name barev: #REF!
Name Functional1: #REF!
Name Functional1: #REF!
Name Functional1: #REF!
Name Functional1: #REF!
Name Functional1: #REF!
Name havelvac: #REF!
Name havelvac: #REF!
Name havelvac: #REF!
Name havelvac: #REF!
Name havelvac50: #REF!
Name havelvac7: #REF!
Name havelvac7: #REF!
Name PANature: #REF!
Name PANature: #REF!
Name PANature: #REF!
Name PANature: #REF!
Name PANature: #REF!
Name PAType: #REF!
Name PAType: #REF!
Name PAType: #REF!
Name PAType: #REF!
Name PAType: #REF!
Name Performance2: #REF!
Name Performance2: #REF!
Name Performance2: #REF!
Name Performance2: #REF!
Name Performance2: #REF!
Name PerformanceType: #REF!
Name PerformanceType: #REF!
Name PerformanceType: #REF!
Name PerformanceType: #REF!
Name PerformanceType: #REF!
Name sheet1: #REF!
Name sheet1: #REF!
Name sheet4: #REF!
Name sheet4: #REF!
Name sheet7: #REF!
Name sheet7: #REF!
Name գնումներ: #REF!
Name գնումներ: #REF!
Name հավ5: #REF!
Name հավ5: #REF!

Sheet 1
E1: Հավելված N 1
C2: ՀՀ կառավարության 2022 թվականի
C3: ___________ ___-ի N _______ -Ն որոշման
A5: «ՀԱՅԱUՏԱՆԻ ՀԱՆՐԱՊԵՏՈՒԹՅԱՆ 2022 ԹՎԱԿԱՆԻ ՊԵՏԱԿԱՆ ԲՅՈՒՋԵԻ ՄԱUԻՆ» ՀԱՅԱUՏԱՆԻ ՀԱՆՐԱՊԵՏՈՒԹՅԱՆ OՐԵՆՔԻ N 1 ՀԱՎԵԼՎԱԾԻ N 2 ԱՂՅՈՒՍԱԿՈՒՄ ԿԱՏԱՐՎՈՂ ՎԵՐԱԲԱՇԽՈՒՄԸ ԵՎ ՀԱՅԱՍՏԱՆԻ ՀԱՆՐԱՊԵՏՈՒԹՅԱՆ ԿԱՌԱՎԱՐՈՒԹՅԱՆ 2021ԹՎԱԿԱՆԻ ԴԵԿՏԵՄԲԵՐԻ 23-Ի N2121-Ն ՈՐՈՇՄԱՆ N5 ՀԱՎԵԼՎԱԾԻ N1 ԱՂՅՈՒՍԱԿՈՒՄ ԿԱՏԱՐՎՈՂ ՓՈՓՈԽՈՒԹՅՈՒՆՆԵՐԸ ԵՎ ԼՐԱՑՈՒՄՆԵՐԸ
A7: Ծրագրային դասիչը | C7: Բյուջետային հատկացումների գլխավոր կարգադրիչների, ծրագրերի և միջոցառումների անվանումները | D7: Ցուցանիշների փոփոխությունները (Ավելացումները նշված են դրական նշանով, իսկ նվազեցումները՝ փակագծերում)
A8: Ծրագիր | B8: Միջոցառում | D8: Տարի
C9: ԸՆԴԱՄԵՆԸ | D9: =+D10+D69 -> 0.024
B10: ՀՀ արտակարգ իրավիճակների նախարարություն | D10: =+D11+D51 -> 0.024
A11: 1090 | C11: Ծրագրի անվանումը` | D11: =D18+D25+D32+D39+D45 -> 0.024
C12: Փրկարարական ծառայություններ
C13: Ծրագրի նպատակը`
C14: Արտակարգ իրավիճակների արդյունավետ արձագանք
C15: Վերջնական արդյունքի նկարագրությունը`
C16: Արտակարգ իրավիճակների հնարավոր դեպքերի կանխում՝ դրանց ժամանակին արձագանքում՝ հետևանքների նվազեցում և բնակչության պաշտպանություն
C17: Ծրագրի միջոցառումներ
B18: 11001 | C18: Միջոցառման անվանումը՝ | D18: =+'2'!G18 -> -42983.176
C19: Փրկարարական ծառայություններ
C20: Միջոցառման նկարագրությունը՝
C21: Հրդեհաշիջման, հակահրդեհային քարոզչության, բնական և տեխնածին աղետների ժամանակ բնակչության և կառույցների պաշտպանություն
C22: Միջոցառման տեսակը՝
C23: Ծառայությունների մատուցում
C24: Ծրագրի միջոցառումներ
B25: 11001 | C25: Միջոցառման անվանումը՝ | D25: =+'2'!G36 -> 8740.4
C26: Փրկարարական ծառայություններ
C27: Միջոցառման նկարագրությունը՝
C28: Հրդեհաշիջման, հակահրդեհային քարոզչության, բնական և տեխնածին աղետների ժամանակ բնակչության և կառույցների պաշտպանություն
C29: Միջոցառման տեսակը՝
C30: Ծառայությունների մատուցում
C31: Ծրագրի միջոցառումներ
B32: 31001 | C32: Միջոցառման անվանումը՝ | D32: -2232
C33: Փրկարար ծառայության տեխնիկական հագեցվածության բարելավում
C34: Միջոցառման նկարագրությունը՝
C35: Տրանսպորտային միջոցների և սարքավորումների ձեռքբերում
C36: Միջոցառման տեսակը՝
C37: Պետական մարմինների կողմից օգտագործվող ոչ ֆինանասական ակտիվների հետ գործառնություններ
C38: Ծրագրի միջոցառումներ
B39: 31001 | C39: Միջոցառման անվանումը՝ | D39: =+'2'!G59 -> 28838.8
C40: Փրկարար ծառայության տեխնիկական հագեցվածության բարելավում
C41: Միջոցառման նկարագրությունը՝
C42: Համակարգչային և գրասենյակային սարքավորումների ձեռքբերում
...

Sheet 2
F1: Հավելված N 2
D2: ՀՀ կառավարության 2022 թվականի
D3: ___________ ___-ի N _______ -Ն որոշման
A5: ՀԱՅԱՍՏԱՆԻ ՀԱՆՐԱՊԵՏՈՒԹՅԱՆ ԿԱՌԱՎԱՐՈՒԹՅԱՆ 2021 ԹՎԱԿԱՆԻ ԴԵԿՏԵՄԲԵՐԻ 23-Ի N 2121-Ն ՈՐՈՇՄԱՆ N 3 ԵՎ N 4 ՀԱՎԵԼՎԱԾՆԵՐՈՒՄ ԿԱՏԱՐՎՈՂ ՓՈՓՈԽՈՒԹՅՈՒՆՆԵՐԸ ԵՎ ԼՐԱՑՈՒՄՆԵՐԸ
G6: հազար դրամներով
A7: Գործառական դասիչը | D7: Ծրագրային դասիչը | F7: Բյուջետային ծախսերի գործառական դասակարգման բաժինների, խմբերի և դասերի, բյուջետային հատկացումների գլխավոր կարգադրիչների, ծրագրերի, միջոցառումների և միջոցառումները կատարող պետական մարմինների անվանումները | G7: Ցուցանիշների փոփոխությունները (Ավելացումները նշված են դրական նշանով, իսկ նվազեցումները՝ փակագծերում)
A8: Բաժին | B8: Խումբ | C8: Դաս | D8: Ծրագիր | E8: Միջոցառում | G8: Տարի
F9: Ընդամենը | G9: =+G10+G107 -> 0.0323
A10: 03 | F10: ՀԱՍԱՐԱԿԱԿԱՆ ԿԱՐԳ, ԱՆՎՏԱՆԳՈՒԹՅՈՒՆ ԵՎ ԴԱՏԱԿԱՆ ԳՈՐԾՈՒՆԵՈՒԹՅՈՒՆ | G10: =+G12+G76 -> 0.0323
F11: այդ թվում`
B12: 02 | F12: Փրկարար ծառայություն | G12: =+G14 -> 0.024
F13: այդ թվում`
C14: 01 | F14: Փրկարար ծառայություն | G14: =+G16 -> 0.024
F15: այդ թվում
D16: 1090 | F16: Փրկարարական ծառայություններ | G16: =G18+G36+G51+G59+G67 -> 0.024
F17: այդ թվում`
E18: 11001 | F18: Փրկարարական ծառայություններ | G18: =G22 -> -42983.176
F19: այդ թվում` ըստ կատարողների
F20: ՀՀ արտակարգ իրավիճակների նախարարություն
F21: այդ թվում` բյուջետային ծախսերի տնտեսագիտական դասակարգման հոդվածներ
F22: ԸՆԴԱՄԵՆԸ ԾԱԽՍԵՐ | G22: =+G23 -> -42983.176
F23: ԸՆԹԱՑԻԿ ԾԱԽՍԵՐ | G23: =+G24 -> -42983.176
F24: ԾԱՌԱՅՈՒԹՅՈՒՆՆԵՐԻ ԵՎ ԱՊՐԱՆՔՆԵՐԻ ՁԵՌՔԲԵՐՈՒՄ | G24: =G25+G27+G29 -> -42983.176
F25: Շարունակական ծախսեր | G25: =G26 -> -4
F26: - Գույքի և սարքավորումների վարձակալություն | G26: -4
F27: Պայմանագրային այլ ծառայությունների ձեռքբերում | G27: =G28 -> -574.1
F28: -Տեղեկատվական ծառայություններ | G28: -574.1
F29: Նյութեր (Ապրանքներ) | G29: =G30+G31+G32+G33+G34+G35 -> -42405.076
F30: -Գրասենյակային նյութեր և հագուստ | G30: -28722.568
F31: - Գյուղատնտեսական ապրանքներ | G31: -80.012
F32: - Տրանսպորտային նյութեր | G32: =-5881.3 -> -5881.3
F33: - Առողջապահական և լաբորատոր նյութեր | G33: -205.098
F34: - Կենցաղային և հանրային սննդի նյութեր | G34: -1104.698
F35: -Հատուկ նպատակային այլ նյութեր | G35: -6411.4
E36: 11001 | F36: Փրկարարական ծառայություններ | G36: =+G38 -> 8740.4
F37: այդ թվում` ըստ կատարողների
F38: ՀՀ արտակարգ իրավիճակների նախարարություն | G38: =G40 -> 8740.4
F39: այդ թվում` բյուջետային ծախսերի տնտեսագիտական դասակարգման հոդվածներ
F40: ԸՆԴԱՄԵՆԸ ԾԱԽՍԵՐ | G40: =+G41 -> 8740.4
F41: ԸՆԹԱՑԻԿ ԾԱԽՍԵՐ | G41: =+G42 -> 8740.4
...

Sheet 3
A1: Հավելված N 3
F2: ՀՀ կառավարության 2022 թվականի -ի N -Ն որոշման
C3: «ՀԱՅԱՍՏԱՆԻ ՀԱՆՐԱՊԵՏՈՒԹՅԱՆ 2022 ԹՎԱԿԱՆԻ ՊԵՏԱԿԱՆ ԲՅՈՒՋԵԻ ՄԱՍԻՆ» ՀԱՅԱՍՏԱՆԻ ՀԱՆՐԱՊԵՏՈՒԹՅԱՆ ՕՐԵՆՔԻ N 1 ՀԱՎԵԼՎԱԾԻ N3 ԱՂՅՈՒՍԱԿՈՒՄ ԿԱՏԱՐՎՈՂ ՓՈՓՈԽՈՒԹՅՈՒՆՆԵՐԸ ԵՎ ԼՐԱՑՈՒՄՆԵՐԸ
G4: հազար դրամներով
A5: Ծրագրային դասիչ | C5: Բյուջետային գլխավոր կարգադրիչների, ծրագրերի, միջոցառումների և ուղղությունների անվանումները | D5: Ընդամենը, | E5: Ցուցանիշների փոփոխությունը (ավելացումները նշված են դրական նշանով)
A6: Ծրագիր | B6: Միջոցառում | E6: Կառուցման աշխատանքներ | F6: Վերակառուցման, վերանորոգման և վերականգնման աշխատանքներ | G6: Նախագծահե- տազոտական, գեոդեզիա- քարտեզագրա- կան աշխա- տանքներ | H6: Ոչ ֆինանսական այլ ակտիվների ձեռքբերում
C7: ԸՆԴԱՄԵՆԸ | D7: =+D9 -> 37050.8 | E7: =+E9 -> 0 | F7: =+F9 -> 7576 | G7: =+G9 -> 60 | H7: =+H9 -> 29414.8
C8: այդ թվում`
C9: ՀՀ ԱՐՏԱԿԱՐԳ ԻՐԱՎԻՃԱԿՆԵՐԻ ՆԱԽԱՐԱՐՈՒԹՅՈՒՆ | D9: =+F9+G9+H9 -> 37050.8 | E9: =+E11 -> 0 | F9: =+F12+F13 -> 7576 | G9: =+G12+G13 -> 60 | H9: =+H11+H13 -> 29414.8
C10: այդ թվում`
A11: 1090 | B11: 31001 | C11: Փրկարար ծառայության տեխնիկական հագեցվածության բարելավում | D11: ='2'!G61 -> 28838.8 | H11: 28838.8
B12: 31007 | C12: ԱԻՆ Փրկարար ծառայության շենքային ապահովվածության և պայմանների բարելավում | D12: ='2'!G71 -> 7636 | E12: =+E49+E50 -> 0 | F12: =+'2'!G74 -> 7576 | G12: 60
A13: 1112 | B13: 31001 | C13: Արտակարգ իրավիճակների նախարարության տեխնիկական հագեցվածության բարելավում | D13: 576 | H13: 576
A17: ՀԱՅԱՍՏԱՆԻ ՀԱՆՐԱՊԵՏՈՒԹՅԱՆ ՎԱՐՉԱՊԵՏԻ ԱՇԽԱՏԱԿԱԶՄԻ
A18: ՂԵԿԱՎԱՐ Ա. ՀԱՐՈՒԹՅՈՒՆՅԱՆ

Sheet 4
B1: Հավելված N 4 ՀՀ կառավարության 2022 թվականի __________-ի ____-ի N _____-Ն որոշման
A3: ՀԱՅԱՍՏԱՆԻ ՀԱՆՐԱՊԵՏՈՒԹՅԱՆ ԿԱՌԱՎԱՐՈՒԹՅԱՆ 2021 ԹՎԱԿԱՆԻ ԴԵԿՏԵՄԲԵՐԻ 23-Ի N 2121-Ն ՈՐՈՇՄԱՆ N 5 ՀԱՎԵԼՎԱԾԻ N 2 ԱՂՅՈՒՍԱԿՈՒՄ ԿԱՏԱՐՎՈՂ ՓՈՓՈԽՈՒԹՅՈՒՆՆԵՐԸ ԵՎ ԼՐԱՑՈՒՄՆԵՐԸ
A5: Ծրագրային դասիչ | C5: Բյուջետային գլխավոր կարգադրիչների, ծրագրերի, միջոցառումների, միջոցառումները կատարող պետական մարմինների և ուղղությունների անվանումները | D5: Ցուցանիշների փոփոխությունը (ավելացումները նշված են դրական նշանով)
A6: Ծրագիր | B6: Միջոցառում | D6: Տարի
C7: ԸՆԴԱՄԵՆԸ | D7: =+D9 -> 37050.8
C8: այդ թվում՝
C9: ՀՀ ԱՐՏԱԿԱՐԳ ԻՐԱՎԻՃԱԿՆԵՐԻ ՆԱԽԱՐԱՐՈՒԹՅՈՒՆ | D9: =D11+D15+D22 -> 37050.8
C10: այդ թվում`
A11: 1090 | B11: 31001 | C11: Փրկարար ծառայության տեխնիկական հագեցվածության բարելավում | D11: =+D14 -> 28838.8
C12: այդ թվում` ըստ կատարողների
C13: ՀՀ արտակարգ իրավիճակների նախարարություն
C14: Վարչական սարքավորումներ | D14: ='3'!H11 -> 28838.8
B15: 31007 | C15: ԱԻՆ Փրկարար ծառայության շենքային ապահովվածության և պայմանների բարելավում | D15: =+SUM(D17:D18) -> 7636
C16: այդ թվում`
C17: Փրկարար ծառայության շենքերի և շինությունների վերանորոգում | D17: ='3'!F12 -> 7576
C18: Նախագծահետազոտական ծախսեր | D18: =+'2'!G75 -> 60
C19: այդ թվում` ըստ կատարողների
C20: ՀՀ արտակարգ իրավիճակների նախարարություն
A21: 1112 | C21: Արտակարգ իրավիճակների բնագավառի պետական քաղաքականության մշակում, ծրագրերի համակարգում և մոնիտորինգ
B22: 31001 | C22: Արտակարգ իրավիճակների նախարարության տեխնիկական հագեցվածության բարելավում | D22: =+D23 -> 576
C23: Վարչական սարքավորումներ | D23: ='3'!H13 -> 576
C24: այդ թվում` ըստ կատարողների
C25: ՀՀ արտակարգ իրավիճակների նախարարություն
A28: ՀԱՅԱՍՏԱՆԻ ՀԱՆՐԱՊԵՏՈՒԹՅԱՆ ՎԱՐՉԱՊԵՏԻ ԱՇԽԱՏԱԿԱԶՄԻ
A29: ՂԵԿԱՎԱՐ Ա. ՀԱՐՈՒԹՅՈՒՆՅԱՆ

Sheet 5
B1: Հավելված N 5 ՀՀ կառավարության 2022 թվականի __________-ի ____-ի N _____-Ն որոշման
A3: ՀԱՅԱՍՏԱՆԻ ՀԱՆՐԱՊԵՏՈՒԹՅԱՆ ԿԱՌԱՎԱՐՈՒԹՅԱՆ 2021 ԹՎԱԿԱՆԻ ԴԵԿՏԵՄԲԵՐԻ 23-Ի N 2121-Ն ՈՐՈՇՄԱՆ N9 ՀԱՎԵԼՎԱԾԻ 9.18 ԵՎ 9.47 ԱՂՅՈՒՍԱԿՆԵՐՈՒՄ ԿԱՏԱՐՎՈՂ ՓՈՓՈԽՈՒԹՅՈՒՆՆԵՐԸ ԵՎ ԼՐԱՑՈՒՄՆԵՐԸ
A5: ՀՀ արտակարգ իրավիճակների նախարարություն
A6: ՄԱՍ 2. ՊԵՏԱԿԱՆ ՄԱՐՄՆԻ ԳԾՈՎ ԱՐԴՅՈՒՆՔԱՅԻՆ (ԿԱՏԱՐՈՂԱԿԱՆ) ՑՈՒՑԱՆԻՇՆԵՐԸ
A7: Ծրագրի դասիչը | B7: Ծրագրի անվանումը
A8: 1090 | B8: Փրկարարական ծառայություններ
A9: Ծրագրի միջոցառումները
A10: Ծրագրի դասիչը՝ | B10: 1090 | C10: Ցուցանիշների փոփոխությունը (նվազեցումները նշված են փակագծերում)
A11: Միջոցառման դասիչը՝ | B11: 11001 | C11: Տարի
A12: Միջոցառման անվանումը՝ | B12: Փրկարարական ծառայություններ
A13: Նկարագրությունը՝ | B13: Հրդեհաշիջման, հակահրդեհային քարոզչության, բնական և տեխնածին աղետների ժամանակ բնակչության և կառույցների պաշտպանություն
A14: Միջոցառման տեսակը՝ | B14: Ծառայությունների մատուցում
A15: Միջոցառումն իրականացնողի անվանումը` | B15: ՀՀ արտակարգ իրավիճակների նախարարություն
A16: Արդյունքի չափորոշիչներ
A17: Øß³ÏíáÕ ÝáñÙ³ïÇí Çñ³í³Ï³Ý ³Ïï»ñÇ Ý³Ë³·Í»ñÇ ù³Ý³Ï, Ñ³ï
A18: Ð³Ù³Ï³ñ·íáÕ, Çñ³Ï³Ý³óíáÕ ¨ í»ñ³ÑëÏÙ³Ý »ÝÃ³ñÏíáÕ ÙÇçáó³éáõÙÝ»ñÇ ù³Ý³Ï, Ñ³ï
A19: Միջոցառման վրա կատարվող ծախսը (հազար դրամ) | C19: ='1'!D18 -> -42983.176
A20: Ծրագրի դասիչը՝ | B20: 1090 | C20: Ցուցանիշների փոփոխությունը (ավելացումները նշված են դրական նշանով)
A21: Միջոցառման դասիչը՝ | B21: 11001 | C21: Տարի
A22: Միջոցառման անվանումը՝ | B22: Փրկարարական ծառայություններ
A23: Նկարագրությունը՝ | B23: Հրդեհաշիջման, հակահրդեհային քարոզչության, բնական և տեխնածին աղետների ժամանակ բնակչության և կառույցների պաշտպանություն
A24: Միջոցառման տեսակը՝ | B24: Ծառայությունների մատուցում
A25: Միջոցառումն իրականացնողի անվանումը` | B25: ՀՀ արտակարգ իրավիճակների նախարարություն
A26: Արդյունքի չափորոշիչներ
A27: Øß³ÏíáÕ ÝáñÙ³ïÇí Çñ³í³Ï³Ý ³Ïï»ñÇ Ý³Ë³·Í»ñÇ ù³Ý³Ï, Ñ³ï
A28: Ð³Ù³Ï³ñ·íáÕ, Çñ³Ï³Ý³óíáÕ ¨ í»ñ³ÑëÏÙ³Ý »ÝÃ³ñÏíáÕ ÙÇçáó³éáõÙÝ»ñÇ ù³Ý³Ï, Ñ³ï
A29: Միջոցառման վրա կատարվող ծախսը (հազար դրամ) | C29: ='1'!D25 -> 8740.4
A30: Ծրագրի դասիչը՝ | B30: 1090 | C30: Ցուցանիշների փոփոխությունը (նվազեցումները նշված են փակագծերում)
A31: Միջոցառման դասիչը՝ | B31: 31001 | C31: Տարի
A32: Միջոցառման անվանումը՝ | B32: Փրկարար ծառայության տեխնիկական հագեցվածության բարելավում
A33: Նկարագրությունը՝ | B33: Վարչական սարքավորումների ձեռքբերում
A34: Միջոցառման տեսակը՝ | B34: Պետական մարմինների կողմից օգտագործվող ոչ ֆինանասական ակտիվների հետ գործառնություններ
A35: Միջոցառումն իրականացնողի անվանումը` | B35: ՀՀ արտակարգ իրավիճակների նախարարություն
A36: Արդյունքի չափորոշիչներ
A37: Øß³ÏíáÕ ÝáñÙ³ïÇí Çñ³í³Ï³Ý ³Ïï»ñÇ Ý³Ë³·Í»ñÇ ù³Ý³Ï, Ñ³ï
A38: Ð³Ù³Ï³ñ·íáÕ, Çñ³Ï³Ý³óíáÕ ¨ í»ñ³ÑëÏÙ³Ý »ÝÃ³ñÏíáÕ ÙÇçáó³éáõÙÝ»ñÇ ù³Ý³Ï, Ñ³ï
A39: Միջոցառման վրա կատարվող ծախսը (հազար դրամ) | C39: ='1'!D32 -> -2232
A40: Ծրագրի դասիչը՝ | B40: 1090 | C40: Ցուցանիշների փոփոխությունները (Ավելացումները նշված են դրական նշանով)
A41: Միջոցառման դասիչը՝ | B41: 31001 | C41: Տարի
A42: Միջոցառման անվանումը՝ | B42: Փրկարար ծառայության տեխնիկական հագեցվածության բարելավում
...

Sheet 6
B1: Հավելված N 6 ՀՀ կառավարության 2022 թվականի __________-ի ____-ի N _____-Ն որոշման
A2: ՀԱՅԱՍՏԱՆԻ ՀԱՆՐԱՊԵՏՈՒԹՅԱՆ ԿԱՌԱՎԱՐՈՒԹՅԱՆ 2021ԹՎԱԿԱՆԻ ԴԵԿՏԵՄԲԵՐԻ 23-Ի N 2121-Ն ՈՐՈՇՄԱՆ N9.1 ՀԱՎԵԼՎԱԾԻ 9.1.19 ԵՎ 9.1.59 ԱՂՅՈՒՍԱԿՆԵՐՈՒՄ ԿԱՏԱՐՎՈՂ ՓՈՓՈԽՈՒԹՅՈՒՆՆԵՐԸ
A3: ՀՀ արտակարգ իրավիճակների նախարարություն
A5: ՄԱՍ 1 ՊԵՏԱԿԱՆ ՄԱՐՄՆԻ ԳԾՈՎ ԱՐԴՅՈՒՆՔԱՅԻՆ (ԿԱՏԱՐՈՂԱԿԱՆ) ՑՈՒՑԱՆԻՇՆԵՐԸ
A6: Ծրագրի դասիչը | B6: Ծրագրի անվանումը
A7: 1090 | B7: Փրկարարական ծառայություններ
A8: Ծրագրի միջոցառումները
A9: Ծրագրի դասիչը՝ | B9: 1090 | C9: Ցուցանիշների փոփոխությունը (նվազեցումները նշված են փակագծերում)
A10: Միջոցառման դասիչը՝ | B10: 11001 | C10: Տարի
A11: Միջոցառման անվանումը՝ | B11: Փրկարարական ծառայություններ
A12: Նկարագրությունը՝ | B12: Հրդեհաշիջման, հակահրդեհային քարոզչության, բնական և տեխնածին աղետների ժամանակ բնակչության և կառույցների պաշտպանություն
A13: Միջոցառման տեսակը՝ | B13: Ծառայությունների մատուցում
A14: Միջոցառումն իրականացնողի անվանումը` | B14: ՀՀ արտակարգ իրավիճակների նախարարություն
A15: Արդյունքի չափորոշիչներ
A16: Øß³ÏíáÕ ÝáñÙ³ïÇí Çñ³í³Ï³Ý ³Ïï»ñÇ Ý³Ë³·Í»ñÇ ù³Ý³Ï, Ñ³ï
A17: Ð³Ù³Ï³ñ·íáÕ, Çñ³Ï³Ý³óíáÕ ¨ í»ñ³ÑëÏÙ³Ý »ÝÃ³ñÏíáÕ ÙÇçáó³éáõÙÝ»ñÇ ù³Ý³Ï, Ñ³ï
A18: Միջոցառման վրա կատարվող ծախսը (հազար դրամ) | C18: ='1'!D18 -> -42983.176
A19: Ծրագրի դասիչը՝ | B19: 1090 | C19: Ցուցանիշների փոփոխությունը (ավելացումները նշված են դրական նշանով)
A20: Միջոցառման դասիչը՝ | B20: 11001 | C20: Տարի
A21: Միջոցառման անվանումը՝ | B21: Փրկարարական ծառայություններ
A22: Նկարագրությունը՝ | B22: Հրդեհաշիջման, հակահրդեհային քարոզչության, բնական և տեխնածին աղետների ժամանակ բնակչության և կառույցների պաշտպանություն
A23: Միջոցառման տեսակը՝ | B23: Ծառայությունների մատուցում
A24: Միջոցառումն իրականացնողի անվանումը` | B24: ՀՀ արտակարգ իրավիճակների նախարարություն
A25: Արդյունքի չափորոշիչներ
A26: Øß³ÏíáÕ ÝáñÙ³ïÇí Çñ³í³Ï³Ý ³Ïï»ñÇ Ý³Ë³·Í»ñÇ ù³Ý³Ï, Ñ³ï
A27: Ð³Ù³Ï³ñ·íáÕ, Çñ³Ï³Ý³óíáÕ ¨ í»ñ³ÑëÏÙ³Ý »ÝÃ³ñÏíáÕ ÙÇçáó³éáõÙÝ»ñÇ ù³Ý³Ï, Ñ³ï
A28: Միջոցառման վրա կատարվող ծախսը (հազար դրամ) | C28: ='1'!D25 -> 8740.4
A29: Ծրագրի դասիչը՝ | B29: 1090 | C29: Ցուցանիշների փոփոխությունը (նվազեցումները նշված են փակագծերում)
A30: Միջոցառման դասիչը՝ | B30: 31001 | C30: Տարի
A31: Միջոցառման անվանումը՝ | B31: Փրկարար ծառայության տեխնիկական հագեցվածության բարելավում
A32: Նկարագրությունը՝ | B32: Վարչական սարքավորումների ձեռքբերում
A33: Միջոցառման տեսակը՝ | B33: Պետական մարմինների կողմից օգտագործվող ոչ ֆինանասական ակտիվների հետ գործառնություններ
A34: Միջոցառումն իրականացնողի անվանումը` | B34: ՀՀ արտակարգ իրավիճակների նախարարություն
A35: Արդյունքի չափորոշիչներ
A36: Øß³ÏíáÕ ÝáñÙ³ïÇí Çñ³í³Ï³Ý ³Ïï»ñÇ Ý³Ë³·Í»ñÇ ù³Ý³Ï, Ñ³ï
A37: Ð³Ù³Ï³ñ·íáÕ, Çñ³Ï³Ý³óíáÕ ¨ í»ñ³ÑëÏÙ³Ý »ÝÃ³ñÏíáÕ ÙÇçáó³éáõÙÝ»ñÇ ù³Ý³Ï, Ñ³ï
A38: Միջոցառման վրա կատարվող ծախսը (հազար դրամ) | C38: ='1'!D32 -> -2232
A39: Ծրագրի դասիչը՝ | B39: 1090 | C39: Ցուցանիշների փոփոխությունները (Ավելացումները նշված են դրական նշանով)
A40: Միջոցառման դասիչը՝ | B40: 31001 | C40: Տարի
A41: Միջոցառման անվանումը՝ | B41: Փրկարար ծառայության տեխնիկական հագեցվածության բարելավում
...

Sheet 7 
F1: Հավելված N 7
E2: ՀՀ կառավարության 2020 թվականի
E3: ______________ ի ___Ն որոշման
A4: ՀԱՅԱՍՏԱՆԻ ՀԱՆՐԱՊԵՏՈՒԹՅԱՆ ԿԱՌԱՎԱՐՈՒԹՅԱՆ 2020 ԹՎԱԿԱՆԻ ԴԵԿՏԵՄԲԵՐԻ 30-Ի N 2215-Ն ՈՐՈՇՄԱՆ N 10 ՀԱՎԵԼՎԱԾՈՒՄ ԿԱՏԱՐՎՈՂ փոփոխությունները և ԼՐԱՑՈՒՄՆԵՐԸ
A5: Գնման առարկայի | G5: Գումարը (հազար դրամով) Ցուցանիշների փոփոխությունը (ավելացումները նշված են դրական նշանով, իսկ վազեցումները նշված են փակագծերում)
A6: Կոդը | B6: Անվանումը | C6: Գնման ձև | D6: Չափման միավորը | E6: Միավորի գինը | F6: Քանակը
A8: ՀՀ արտակարգ իրավիճակների նախարարություն | G8: =G9+G268+G300+G307 -> 0.03018 | I8: -0.01802
A9: Բաժին N 03 | B9: Խումբ N 02 | C9: Դաս N 01 | D9: Փրկարար ծառայություն | G9: =G10 -> -34242.777
A10: 1090 11001 | B10: Փրկարարական ծառայություններ | G10: =G11+G245 -> -34242.777
A11: ՄԱՍI, ԱՊՐԱՆՔՆԵՐ | G11: =SUM(G12:G244) -> -37552.177
A12: 18231600/6 | B12: սվիտերներ | C12: ԷԱՃ | D12: հատ | G12: -11000 | I12: -11000 | J12: -11000
A13: 18811210/2 | B13: ճտքավոր կոշիկներ | C13: ԷԱՃ | D13: զույգ | G13: -7000 | I13: -7000 | J13: -7000
A14: 35811180/9 | B14: հատուկ հանդերձանք ― պարագաներ | C14: ԷԱՃ | D14: հատ | G14: -3960.311 | I14: -3960.311 | J14: -3960.311
A15: 44163300/8 | B15: ռետինափողրակներ | C15: ԷԱՃ | D15: մետր | G15: -2829 | I15: -2829 | J15: -2829
A16: 18811210/4 | B16: ճտքավոր կոշիկներ | C16: ԷԱՃ | D16: զույգ | G16: -2689.6 | I16: -2689.6 | J16: -2689.6
A17: 09211100/12 | B17: շարժիչի յուղեր | C17: ԷԱՃ | D17: լիտր | G17: -1723 | I17: -1723 | J17: -1723
A18: 09211100/14 | B18: շարժիչի յուղեր | C18: ԷԱՃ | D18: լիտր | G18: -1117.121 | I18: -1117.121 | J18: -1117.121
A19: 44163300/12 | B19: ռետինափողրակներ | C19: ԷԱՃ | D19: մետր | G19: -1020 | I19: -1020 | J19: -1020
A20: 09132200/2 | B20: բենզին, ռեգուլյար | C20: ԷԱՃ | D20: լիտր | G20: -960 | I20: -960 | J20: -960
A21: 18231600/5 | B21: սվիտերներ | C21: ԷԱՃ | D21: հատ | G21: -864 | I21: -864 | J21: -864
A22: 44163300/11 | B22: ռետինափողրակներ | C22: ԷԱՃ | D22: մետր | G22: -520 | I22: -520 | J22: -520
A23: 18231600/4 | B23: սվիտերներ | C23: ԷԱՃ | D23: հատ | G23: -503.8 | I23: -503.8 | J23: -503.8
... A238: 34351200/620 | B238: ավտոմեքենաների անիվներ | C238: ԷԱՃ | D238: հատ | G238: -1 | I238: -1 | J238: -1
A239: 31531300/530 | B239: տնտեսող լամպեր | C239: ԷԱՃ | D239: հատ | E239: 8500 | F239: 194 | G239: =F239*E239/1000 -> 1649 | I239: =H239*G239/1000 -> 0 | J239: 1649
A240: 31531300/531 | B240: տնտեսող լամպեր | C240: ԷԱՃ | D240: հատ | E240: 3600 | F240: 149 | G240: =F240*E240/1000 -> 536.4 | I240: =H240*G240/1000 -> 0 | J240: 536.4
A241: 39511160/501 | B241: փետրաներքնակներ | C241: ԷԱՃ | D241: հատ | E241: 10500 | F241: 97 | G241: =F241*E241/1000 -> 1018.5 | I241: =H241*G241/1000 -> 0 | J241: 1018.5
A242: 39511190/501 | B242: բարձ` բամբակյա | C242: ԷԱՃ | D242: հատ | E242: 5000 | F242: 97 | G242: =F242*E242/1000 -> 485 | I242: =H242*G242/1000 -> 0 | J242: 485
A243: 19212600/503 | B243: անկողնային ծածկոց | C243: ԷԱՃ | D243: հատ | E243: 9000 | F243: 113 | G243: =F243*E243/1000 -> 1017 | I243: =H243*G243/1000 -> 0 | J243: 1017
A244: 39511130/503 | B244: սավաններ | C244: ԷԱՃ | D244: հատ | E244: 1500 | F244: 98 | G244: =F244*E244/1000 -> 147 | I244: =H244*G244/1000 -> 0 | J244: 147
A245: ՄԱՍII, ԾԱՌԱՅՈՒԹՅՈՒՆՆԵՐ | G245: =SUM(G246:G267) -> 3309.4
A246: 79821200/663 | B246: այլ պոլիգրաֆիական արտադրանքի տպագրման ծառայություն | C246: ԷԱՃ | D246: դրամ | G246: -162.8
A247: 79821200/700 | B247: այլ պոլիգրաֆիական արտադրանքի տպագրման ծառայություն | C247: ԷԱՃ | D247: դրամ | G247: -73.2
A248: 79821200/658 | B248: այլ պոլիգրաֆիական արտադրանքի տպագրման ծառայություն | C248: ԷԱՃ | D248: դրամ | G248: -42
A249: 79821200/709 | B249: այլ պոլիգրաֆիական արտադրանքի տպագրման ծառայություն | C249: ԷԱՃ | D249: դրամ | G249: -40
A250: 79821200/684 | B250: այլ պոլիգրաֆիական արտադրանքի տպագրման ծառայություն | C250: ԷԱՃ | D250: դրամ | G250: -40
A251: 79821200/664 | B251: այլ պոլիգրաֆիական արտադրանքի տպագրման ծառայություն | C251: ԷԱՃ | D251: դրամ | G251: -40
A252: 79821200/708 | B252: այլ պոլիգրաֆիական արտադրանքի տպագրման ծառայություն | C252: ԷԱՃ | D252: դրամ | G252: -38
A253: 79821200/683 | B253: այլ պոլիգրաֆիական արտադրանքի տպագրման ծառայություն | C253: ԷԱՃ | D253: դրամ | G253: -35
A254: 79821200/697 | B254: այլ պոլիգրաֆիական արտադրանքի տպագրման ծառայություն | C254: ԷԱՃ | D254: դրամ | G254: -25
A255: 79821200/670 | B255: այլ պոլիգրաֆիական արտադրանքի տպագրման ծառայություն | C255: ԷԱՃ | D255: դրամ | G255: -25
...
