Workbook
Name AgencyCode: #REF!
Name AgencyCode: #REF!
Name AgencyCode: #REF!
Name AgencyCode: #REF!
Name AgencyCode: #REF!
Name AgencyCode: #REF!
Name AgencyCode: #REF!
Name AgencyCode: #REF!
Name AgencyName: #REF!
Name AgencyName: #REF!
Name AgencyName: #REF!
Name AgencyName: #REF!
Name AgencyName: #REF!
Name åû: #REF!
Name åû: #REF!
Name åû: #REF!
Name davit: #REF!
Name davit: #REF!
Name davit: #REF!
Name Functional1: #REF!
Name Functional1: #REF!
Name Functional1: #REF!
Name Functional1: #REF!
Name Functional1: #REF!
Name ggg: #REF!
Name ggg: #REF!
Name ggg: #REF!
Name mas: #REF!
Name mas: #REF!
Name mas: #REF!
Name mass: #REF!
Name mass: #REF!
Name mass: #REF!
Name PANature: #REF!
Name PANature: #REF!
Name PANature: #REF!
Name PANature: #REF!
Name PANature: #REF!
Name PAType: #REF!
Name PAType: #REF!
Name PAType: #REF!
Name PAType: #REF!
Name PAType: #REF!
Name Performance2: #REF!
Name Performance2: #REF!
Name Performance2: #REF!
Name Performance2: #REF!
Name Performance2: #REF!
Name PerformanceType: #REF!
Name PerformanceType: #REF!
Name PerformanceType: #REF!
Name PerformanceType: #REF!
Name PerformanceType: #REF!
Name x: #REF!
Name x: #REF!
Name x: #REF!
Name x: #REF!
Name Հավելված: #REF!
Name Հավելված: #REF!
Name Հավելված: #REF!

Sheet 1.
B1: Հավելված N 1
B2: ՀՀ կառավարության 2022 թվականի
B3: ______________ ի ___Ն որոշման
A5: «ՀԱՅԱՍՏԱՆԻ ՀԱՆՐԱՊԵՏՈՒԹՅԱՆ 2022 ԹՎԱԿԱՆԻ ՊԵՏԱԿԱՆ ԲՅՈՒՋԵԻ ՄԱՍԻՆ» ՕՐԵՆՔԻ N 2 ՀՈԴՎԱԾԻ ԱՂՅՈՒՍԱԿՈՒՄ ԿԱՏԱՐՎՈՂ ՓՈՓՈԽՈՒԹՅՈՒՆՆԵՐԸ
B7: հազար դրամներով
B8: Ցուցանիշների փոփոխությունը (նվազեցումները նշված են փակագծերում)
A9: 1. Եկամուտների գծով | B9: =+'2.'!B12 -> -1144910.2
A10: 2. Ծախսերի գծով | B10: =+'7.'!E9 -> -4331112.9
A11: 3. Դեֆիցիտը (պակասուրդը) | B11: =-B9+B10 -> -3186202.7

Sheet 2.
B1: Հավելված N 2
B2: ՀՀ կառավարության 2022 թվականի
B3: ______________ ի ___Ն որոշման
A5: «ՀԱՅԱՍՏԱՆԻ ՀԱՆՐԱՊԵՏՈՒԹՅԱՆ 2022 ԹՎԱԿԱՆԻ ՊԵՏԱԿԱՆ ԲՅՈՒՋԵԻ ՄԱՍԻՆ» ՕՐԵՆՔԻ N 6 ՀՈԴՎԱԾԻ ԱՂՅՈՒՍԱԿՈՒՄ ԵՎ ՀԱՅԱՍՏԱՆԻ ՀԱՆՐԱՊԵՏՈՒԹՅԱՆ ԿԱՌԱՎԱՐՈՒԹՅԱՆ 2021 ԹՎԱԿԱՆԻ ԴԵԿՏԵՄԲԵՐԻ 23-Ի N 2121-Ն ՈՐՈՇՄԱՆ N 2 ՀԱՎԵԼՎԱԾՈՒՄ ԿԱՏԱՐՎՈՂ ՓՈՓՈԽՈՒԹՅՈՒՆՆԵՐԸ
B9: հազար դրամներով
A10: Եկամտատեսակ | B10: Ցուցանիշների փոփոխությունը (նվազեցումները նշված են փակագծերում)
B11: Տարի
A12: ՊԵՏԱԿԱՆ ԲՅՈՒՋԵԻ ԵԿԱՄՈՒՏՆԵՐ | B12: =+B14 -> -1144910.2
A13: այդ թվում`
A14: Պաշտոնական դրամաշնորհներ | B14: =+'10.'!F11 -> -1144910.2

Sheet 3.
B1: Հավելված N 3
B2: ՀՀ կառավարության 2022 թվականի
B3: ______________ ի ___Ն որոշման
A5: ՀԱՅԱՍՏԱՆԻ ՀԱՆՐԱՊԵՏՈՒԹՅԱՆ ԿԱՌԱՎԱՐՈՒԹՅԱՆ 2021 ԹՎԱԿԱՆԻ ԴԵԿՏԵՄԲԵՐԻ 23-Ի N 2121-Ն ՈՐՈՇՄԱՆ N 1 ՀԱՎԵԼՎԱԾԻ N 1 ԱՂՅՈՒՍԱԿՈՒՄ ԿԱՏԱՐՎՈՂ ՓՈՓՈԽՈՒԹՅՈՒՆՆԵՐԸ
B7: հազ. դրամ
A8: Պետական բյուջեի դեֆիցիտի ֆինանսավորման աղբյուրներն ու դրանց տարրերի անվանումները | B8: Ցուցանիշների փոփոխությունը (նվազեցումները նշված են փակագծերում)
B9: Տարի
A10: ԸՆԴԱՄԵՆԸ | B10: =+B12 -> -3186202.7
A11: այդ թվում՝
A12: Բ. Արտաքին աղբյուրներ - ընդամենը | B12: =+B14 -> -3186202.7
A13: այդ թվում
A14: 1. Փոխառու զուտ միջոցներ | B14: =+B16 -> -3186202.7
A15: այդ թվում՝
A16: 1.1. Վարկերի և փոխատվությունների ստացում | B16: =+B18 -> -3186202.7
A17: որից`
A18: նպատակային վարկերի գծով | B18: =+'9.'!F11 -> -3186202.7

Sheet 4.
E1: Հավելված N 4
E2: ՀՀ կառավարության 2022 թվականի
E3: ______________ ի ___Ն որոշման
B5: ՀԱՅԱՍՏԱՆԻ ՀԱՆՐԱՊԵՏՈՒԹՅԱՆ ԿԱՌԱՎԱՐՈՒԹՅԱՆ 2021 ԹՎԱԿԱՆԻ ԴԵԿՏԵՄԲԵՐԻ 23-Ի N 2121-Ն ՈՐՈՇՄԱՆ N 1 ՀԱՎԵԼՎԱԾԻ N 2 ԱՂՅՈՒՍԱԿՈՒՄ ԿԱՏԱՐՎՈՂ ՓՈՓՈԽՈՒԹՅՈՒՆՆԵՐԸ
E6: հազ. դրամ
B7: Ծրագրային դասիչ | D7: Բյուջետային գլխավոր կարգադրիչների, ծրագրերի և միջոցառումների անվանումները | E7: Ցուցանիշների փոփոխությունը (նվազեցումները նշված են փակագծերում)
B8: Ծրագիր | C8: Միջոցառում | E8: Տարի
D9: ԸՆԴԱՄԵՆԸ այդ թվում | E9: =+E10 -> 0
D10: ՀՀ տարածքային կառավարման և ենթակառուցվածքների նախարարություն | E10: =+E11+E19 -> 0
B11: 1040 | D11: Ծրագրի անվանումը՝ Կոշտ թափոնների կառավարում | E11: =E15 -> -50000
D12: Ծրագրի նպատակը՝ Կենցաղային թափոնների արդյունավետ կառավարում սոցիալական և բնապահպանական խնդիրների լուծում
D13: Վերջնական արդյունքի նկարագրությունը՝ Կենցաղային թափոնների արդյունավետ կառավարում
B14: Ֆինանսական ակտիվների կառավարման միջոցառումներ
C15: 42001 | D15: Միջոցառման անվանումը՝ Վերակառուցման և զարգացման եվրոպական բանկի աջակցությամբ իրականացվող Կոտայքի և Գեղարքունիքի մարզերի կոշտ թափոնների կառավարման ծրագրի շրջանակներում ենթավարկի տրամադրում «Կոտայքի և Գեղարքունիքի Կոշտ կենցաղային թափոնների կառավարում» ՍՊԸ-ին | E15: ='[1]5.'!D16 -> -50000
D16: Միջոցառման նկարագրությունը՝ Կոշտ թափոնների կառավարման համակարգի բարելավում և նոր աղբավայրի ստեղծում
D17: Միջոցառման տեսակը՝
D18: Վարկերի տրամադրում
B19: 1157 | D19: Ծրագրի անվանումը՝ Քաղաքային զարգացում | E19: =E23 -> 50000
D20: Ծրագրի նպատակը՝ Քաղաքային ենթակառուցվածքների զարգացում
D21: Վերջնական արդյունքի նկարագրությունը՝ Քաղաքային ենթակառուցվածքների արդիականացում և բարելավում
B22: Ֆինանսական ակտիվների կառավարման միջոցառումներ
C23: 42003 | D23: Միջոցառման անվանումը՝ Եվրոպական ներդրումային բանկի աջակցությամբ իրականացվող Երևանի մետրոպոլիտենի վերակառուցման երկրորդ ծրագրի շրջանակներում ենթավարկի տրամադրում «Երևանի մետրոպոլիտեն» ՓԲԸ-ին | E23: ='[1]5.'!D26 -> 50000
D24: Միջոցառման նկարագրությունը՝ Երևանի մետրոպոլիտենի վերակառուցում
D25: Միջոցառման տեսակը՝
D26: Վարկերի տրամադրում

Sheet 5.
F1: Հավելված N 5
F2: ՀՀ կառավարության 2022 թվականի
F3: ______________ ի ___Ն որոշման
A5: ՀԱՅԱՍՏԱՆԻ ՀԱՆՐԱՊԵՏՈՒԹՅԱՆ ԿԱՌԱՎԱՐՈՒԹՅԱՆ 2021 ԹՎԱԿԱՆԻ ԴԵԿՏԵՄԲԵՐԻ 23-Ի N 2121-Ն ՈՐՈՇՄԱՆ N 1 ՀԱՎԵԼՎԱԾԻ N 3 ԱՂՅՈՒՍԱԿՈՒՄ ԿԱՏԱՐՎՈՂ ՓՈՓՈԽՈՒԹՅՈՒՆՆԵՐԸ
F6: հազ. դրամ
A7: Ծրագրային դասիչ | C7: Բյուջետային գլխավոր կարգադրիչների, ծրագրերի և միջոցառումների անվանումները | D7: Ցուցանիշների փոփոխությունը (նվազեցումները նշված են փակագծերում)
D8: Տարի
D9: Ընդամենը | E9: այդ թվում
A10: Ծրագիր | B10: Միջոցառում | E10: Վարկային միջոցներ | F10: Համաֆինանսավորում
C11: ԸՆԴԱՄԵՆԸ | D11: =D13 -> 0 | E11: =E13 -> 0 | F11: =F13 -> 0
C12: այդ թվում՝
C13: ՀՀ ՏԱՐԱԾՔԱՅԻՆ ԿԱՌԱՎԱՐՄԱՆ ԵՎ ԵՆԹԱԿԱՌՈՒՑՎԱԾՔՆԵՐԻ ՆԱԽԱՐԱՐՈՒԹՅՈՒՆ | D13: =E13+F13 -> 0 | E13: =E14+E24 -> 0 | F13: =F14+F24 -> 0
A14: 1040 | C14: Կոշտ թափոնների կառավարում | D14: =E14+F14 -> -50000 | E14: =E16 -> 0 | F14: =F16 -> -50000
C15: այդ թվում`
B16: 42001 | C16: Վերակառուցման և զարգացման եվրոպական բանկի աջակցությամբ իրականացվող Կոտայքի և Գեղարքունիքի մարզերի կոշտ թափոնների կառավարման ծրագրի շրջանակներում ենթավարկի տրամադրում «Կոտայքի և Գեղարքունիքի Կոշտ կենցաղային թափոնների կառավարում» ՍՊԸ-ին | D16: =E16+F16 -> -50000 | E16: =E18 -> 0 | F16: =F18 -> -50000
C17: այդ թվում՝ ըստ կատարողների
C18: ՀՀ տարածքային կառավարման և ենթակառուցվածքների նախարարություն | D18: =E18+F18 -> -50000 | E18: =E20 -> 0 | F18: =F20 -> -50000
C19: այդ թվում՝ ըստ տնտեսագիտական դասակարգման հոդվածների՝
C20: ՀԻՄՆԱԿԱՆ ԳՈՒՄԱՐԻ ՄԱՐՄԱՆ ԵՎ ՖԻՆԱՆՍԱԿԱՆ ԱԿՏԻՎՆԵՐԻ ՁԵՌՔԲԵՐՄԱՆ ԳԾՈՎ ԾԱԽՍԵՐ, այդ թվում` | D20: =E20+F20 -> -50000 | E20: =E21 -> 0 | F20: =F21 -> -50000
C21: ՖԻՆԱՆՍԱԿԱՆ ԱԿՏԻՎՆԵՐԻ ՁԵՌՔԲԵՐՈՒՄ, այդ թվում | D21: =E21+F21 -> -50000 | E21: =E22 -> 0 | F21: =F22 -> -50000
C22: ՆԵՐՔԻՆ ՖԻՆԱՆՍԱԿԱՆ ԱԿՏԻՎՆԵՐԻ ՁԵՌՔԲԵՐՈՒՄ, այդ թվում` | D22: =E22+F22 -> -50000 | E22: =E23 -> 0 | F22: =F23 -> -50000
C23: Ներքին վարկեր և փոխատվություններ | D23: =E23+F23 -> -50000 | E23: 0 | F23: -50000
A24: 1157 | C24: Քաղաքային զարգացում | D24: =E24+F24 -> 50000 | E24: =+E26 -> 0 | F24: =+F26 -> 50000
C25: այդ թվում`
B26: 42003 | C26: Եվրոպական ներդրումային բանկի աջակցությամբ իրականացվող Երևանի մետրոպոլիտենի վերակառուցման երկրորդ ծրագրի շրջանակներում ենթավարկի տրամադրում «Երևանի մետրոպոլիտեն» ՓԲԸ-ին | D26: =E26+F26 -> 50000 | E26: =E28 -> 0 | F26: =F28 -> 50000
C27: այդ թվում՝ ըստ կատարողների
C28: ՀՀ տարածքային կառավարման և ենթակառուցվածքների նախարարություն | D28: =E28+F28 -> 50000 | E28: =E30 -> 0 | F28: =F30 -> 50000
C29: այդ թվում՝ ըստ տնտեսագիտական դասակարգման հոդվածների՝
C30: ՀԻՄՆԱԿԱՆ ԳՈՒՄԱՐԻ ՄԱՐՄԱՆ ԵՎ ՖԻՆԱՆՍԱԿԱՆ ԱԿՏԻՎՆԵՐԻ ՁԵՌՔԲԵՐՄԱՆ ԳԾՈՎ ԾԱԽՍԵՐ, այդ թվում` | D30: =E30+F30 -> 50000 | E30: =E31 -> 0 | F30: =F31 -> 50000
C31: ՖԻՆԱՆՍԱԿԱՆ ԱԿՏԻՎՆԵՐԻ ՁԵՌՔԲԵՐՈՒՄ, այդ թվում | D31: =E31+F31 -> 50000 | E31: =E32 -> 0 | F31: =F32 -> 50000
C32: ՆԵՐՔԻՆ ՖԻՆԱՆՍԱԿԱՆ ԱԿՏԻՎՆԵՐԻ ՁԵՌՔԲԵՐՈՒՄ, այդ թվում` | D32: =E32+F32 -> 50000 | E32: =E33 -> 0 | F32: =F33 -> 50000
C33: Ներքին վարկեր և փոխատվություններ | D33: =E33+F33 -> 50000 | E33: 0 | F33: 50000

Sheet 6.
C1: Հավելված N 6
C2: ՀՀ կառավարության 2022 թվականի
C3: ______________ ի ___Ն որոշման
A4: ՀԱՅԱՍՏԱՆԻ ՀԱՆՐԱՊԵՏՈՒԹՅԱՆ ԿԱՌԱՎԱՐՈՒԹՅԱՆ 2021 ԹՎԱԿԱՆԻ ԴԵԿՏԵՄԲԵՐԻ 23-Ի N 2121-Ն ՈՐՈՇՄԱՆ N 1 ՀԱՎԵԼՎԱԾԻ N 5 ԱՂՅՈՒՍԱԿՈՒՄ ԿԱՏԱՐՎՈՂ ՓՈՓՈԽՈՒԹՅՈՒՆՆԵՐԸ
A6: Ծրագրի դասիչը | B6: Ծրագրի անվանումը
A7: 1040 | B7: Կոշտ թափոնների կառավարում
A8: Ծրագրի միջոցառումները
A10: Ծրագրի դասիչը՝ | B10: 1040 | C10: Ցուցանիշների փոփոխությունը (նվազեցումները նշված են փակագծերում)
A11: Միջոցառման դասիչը՝ | B11: 42001 | C11: Տարի
A12: Միջոցառման անվանումը՝ | B12: Վերակառուցման և զարգացման եվրոպական բանկի աջակցությամբ իրականացվող «Կոտայքի և Գեղարքունիքի մարզերի կոշտ թափոնների կառավարման» ծրագիր
A13: Նկարագրությունը՝ | B13: Կոշտ թափոննրի կառավարման համակարգի բարելավում և նոր աղբավայրի ստեղծում_x000D_
A14: Միջոցառման տեսակը՝ | B14: Վարկերի տրամադրում
A15: Միջոցառումն իրականացնողի անվանումը՝ | B15: Մասնագիտացված միավոր
B16: Արդյունքի չափորոշիչներ
A17: Միջոցառման վրա կատարվող ծախսը (հազար դրամ) | C17: ='[1]5.'!D16 -> -50000
A20: Ծրագրի դասիչը | B20: Ծրագրի անվանումը
A21: 1157 | B21: Քաղաքային զարգացում
A22: Ծրագրի միջոցառումները
A24: Ծրագրի դասիչը՝ | B24: 1157 | C24: Ցուցանիշների փոփոխությունը (ավելացումները նշված են դրական նշանով)
A25: Միջոցառման դասիչը՝ | B25: 42003 | C25: Տարի
A26: Միջոցառման անվանումը՝ | B26: Եվրոպական ներդրումային բանկի աջակցությամբ իրականացվող Երևանի մետրոպոլիտենի վերակառուցման երկրորդ ծրագիր
A27: Նկարագրությունը՝ | B27: Երևանի մետրոպոլիտենի վերակառուցում
A28: Միջոցառման տեսակը՝ | B28: Վարկերի տրամադրում
A29: Միջոցառումն իրականացնողի անվանումը՝ | B29: Մասնագիտացված միավոր
B30: Արդյունքի չափորոշիչներ
A31: Միջոցառման վրա կատարվող ծախսը (հազար դրամ) | C31: ='[1]5.'!D26 -> 50000

Sheet 7.
E1: Հավելված N7
E2: ՀՀ կառավարության 2022 թվականի
E3: ______________ ի ___Ն որոշման
B5: «ՀԱՅԱUՏԱՆԻ ՀԱՆՐԱՊԵՏՈՒԹՅԱՆ 2022 ԹՎԱԿԱՆԻ ՊԵՏԱԿԱՆ ԲՅՈՒՋԵԻ ՄԱUԻՆ» OՐԵՆՔԻ N 1 ՀԱՎԵԼՎԱԾԻ N 2 ԱՂՅՈՒՍԱԿՈՒՄ ԿԱՏԱՐՎՈՂ ՎԵՐԱԲԱՇԽՈՒՄԸ ԵՎ ՀԱՅԱՍՏԱՆԻ ՀԱՆՐԱՊԵՏՈՒԹՅԱՆ ԿԱՌԱՎԱՐՈՒԹՅԱՆ 2021 ԹՎԱԿԱՆԻ ԴԵԿՏԵՄԲԵՐԻ 23-Ի N 2121-Ն ՈՐՈՇՄԱՆ N 5 ՀԱՎԵԼՎԱԾԻ N 1 ԱՂՅՈՒՍԱԿՈՒՄ ԿԱՏԱՐՎՈՂ ՓՈՓՈԽՈՒԹՅՈՒՆՆԵՐԸ ԵՎ ԼՐԱՑՈՒՄՆԵՐԸ
E6: հազ. դրամ
B7: Ծրագրային դասիչը | D7: Բյուջետային հատկացումների գլխավոր կարգադրիչների, ծրագրերի և միջոցառումների անվանումները | E7: Ցուցանիշների փոփոխությունը (ավելացումները նշված են դրական նշանով, իսկ նվազեցումները` փակագծերում)
B8: Ծրագիր | C8: Միջոցառում | E8: Տարի
B9: 1192 | D9: ԸՆԴԱՄԵՆԸ | E9: =+E11+E272 -> -4331112.9
D10: այդ թվում`
D11: ՀՀ տարածքային կառավարման և ենթակառուցվածքների նախարարություն | E11: =E12+E61+E92+E147+E190+E215+E234+E253 -> -5984679
B12: 1004 | D12: Ծրագրի անվանումը` | E12: =E31+E37+E43+E49+E55+E19+E25 -> 19379.5
D13: Ոռոգման համակարգի առողջացում
D14: Ծրագրի նպատակը`
D15: Ոռոգման ծառայությունների հասանելիության և մատչելիության ապահովում
D16: Վերջնական արդյունքի նկարագրությունը`
D17: Ոռոգման ջրի մատակարարման արդյունավետության և հասանելիության բարելավում, կորուստների կրճատում
D18: Ծրագրի միջոցառումներ
C19: 11005 | D19: Միջոցառման անվանումը` | E19: =+'9.'!E17 -> -14150 | F19: 0 | G19: =+E19-F19 -> -14150
D20: Եվրասիական զարգացման բանկի աջակցությամբ իրականացվող ոռոգման համակարգերի_x000D_ զարգացման ծրագրի խորհրդատվություն և կառավարում | G20: =+E20-F20 -> 0
D21: Միջոցառման նկարագրությունը` | G21: =+E21-F21 -> 0
D22: Եվրասիական զարգացման բանկի աջակցությամբ իրականացվող ոռոգման համակարգերի զարգացման ծրագրի համակարգում և ղեկավարում | G22: =+E22-F22 -> 0
D23: Միջոցառման տեսակը | G23: =+E23-F23 -> 0
D24: Ծառայությունների մատուցում | G24: =+E24-F24 -> 0
C25: 11006 | D25: Միջոցառման անվանումը` | E25: =+'9.'!E28 -> 65013 | F25: 0 | G25: =+E25-F25 -> 65013
D26: Ֆրանսիայի Հանրապետության կառավարության աջակցությամբ իրականացվող Վեդու ջրամբարի կառուցման ծրագրի խորհրդատվություն և կառավարում | G26: =+E26-F26 -> 0
D27: Միջոցառման նկարագրությունը` | G27: =+E27-F27 -> 0
D28: Ֆրանսիայի Հանրապետության կառավարության աջակցությամբ իրականացվող Վեդու ջրամբարի կառուցման ծրագրի համակարգում և ղեկավարում | G28: =+E28-F28 -> 0
D29: Միջոցառման տեսակը | G29: =+E29-F29 -> 0
D30: Ծառայությունների մատուցում | G30: =+E30-F30 -> 0
C31: 1007 | D31: Միջոցառման անվանումը` | E31: ='9.'!E38 -> -143045
D32: Գերմանիայի զարգացման վարկերի բանկի աջակցությամբ իրականացվող Ախուրյան գետի ջրային ռեսուրսների ինտեգրացված կառավարում ծրագրի խորհրդատվություն և կառավարում
D33: Միջոցառման նկարագրությունը`
D34: Գերմանիայի զարգացման վարկերի բանկի աջակցությամբ իրականացվող Ախուրյան գետի ջրային ռեսուրսների ինտեգրացված կառավարում ծրագրի խորհրդատվություն և կառավարում
D35: Միջոցառման տեսակը
D36: Ծառայությունների մատուցում
C37: 11010 | D37: Միջոցառման անվանումը՝ | E37: ='9.'!E46 -> -125933.7
D38: Գերմանիայի զարգացման վարկերի բանկի աջակցությամբ իրականացվող Ախուրյան գետի ջրային ռեսուրսների ինտեգրացված կառավարում փուլ 1 ծրագրով Ջրաձոր գյուղի վերաբնակեցման գործողությունների խորհրդատվություն և կառավարում
D39: Միջոցառման նկարագրությունը`
D40: Գերմանիայի զարգացման վարկերի բանկի աջակցությամբ իրականացվող Ախուրյան գետի ջրային ռեսուրսների ինտեգրացված կառավարում փուլ 1 ծրագրով Ջրաձոր գյուղի վերաբնակեցման գործողությունների համակարգում և ղեկավարում
D41: Միջոցառման տեսակը՝
...

Sheet 3-1
B1: Հավելված N3
B2: ՀՀ կառավարության 2022 թվականի
B3: ______________ ի ___Ն որոշման
B5: ՀԱՅԱՍՏԱՆԻ ՀԱՆՐԱՊԵՏՈՒԹՅԱՆ ԿԱՌԱՎԱՐՈՒԹՅԱՆ 2021 ԹՎԱԿԱՆԻ ԴԵԿՏԵՄԲԵՐԻ 23-Ի N 2121-Ն ՈՐՈՇՄԱՆ N 3 ԵՎ N 4 ՀԱՎԵԼՎԱԾՆԵՐՈՒՄ ԿԱՏԱՐՎՈՂ ՓՈՓՈԽՈՒԹՅՈՒՆՆԵՐԸ ԵՎ ԼՐԱՑՈՒՄՆԵՐԸ
H7: հազ. դրամ
B8: Գործառական դասիչը | E8: Ծրագրային դասիչը | G8: Բյուջետային ծախսերի գործառական դասակարգման բաժինների, խմբերի և դասերի, բյուջետային հատկացումների գլխավոր կարգադրիչների, ծրագրերի, միջոցառումների և միջոցառումները կատարող պետական մարմինների անվանումները | H8: Ցուցանիշների փոփոխությունը (ավելացումները նշված են դրական նշանով, իսկ նվազեցումները` փակագծերում)
B9: Բաժին | C9: Խումբ | D9: Դաս | E9: Ծրագիր | F9: Միջոցառում | H9: Ինն ամիս | I9: Տարի
G10: ԸՆԴԱՄԵՆԸ ԾԱԽՍԵՐ | H10: =+H12+H13 -> 14976.427 | I10: =+I12+I13 -> -363431.87
G11: այդ թվում`
B12: 04 | C12: 03 | D12: 05 | E12: 1167 | F12: 11006 | G12: Գերմանիայի զարգացման վարկերի բանկի (KFW)) աջակցությամբ իրականացվող «Կովկասյան էլեկտրահաղորդման ցանց I» Հայաստան-Վրաստան հաղորդիչ գիծ/ենթակայանների դրամաշնորհային ծրագիր | H12: 14976.427 | I12: -25089.77
B13: 04 | C13: 03 | D13: 05 | E13: 1167 | F13: 32006 | G13: Գերմանիայի զարգացման վարկերի բանկի (KFW) աջակցությամբ իրականացվող Կովկասյան էլեկտրահաղորդման ցանց I Հայաստան-Վրաստան հաղորդիչ գիծ/ենթակայանների դրամաշնորհային ծրագրի շրջանակներում իրականացվող ներդրումներ | H13: 0 | I13: -338342.1

Sheet 8.
B1: Հավելված N8
B2: ՀՀ կառավարության 2022 թվականի
B3: ______________ ի ___Ն որոշման
B5: ՀԱՅԱՍՏԱՆԻ ՀԱՆՐԱՊԵՏՈՒԹՅԱՆ ԿԱՌԱՎԱՐՈՒԹՅԱՆ 2021 ԹՎԱԿԱՆԻ ԴԵԿՏԵՄԲԵՐԻ 23-Ի N 2121-Ն ՈՐՈՇՄԱՆ N 3 ԵՎ N 4 ՀԱՎԵԼՎԱԾՆԵՐՈՒՄ ԿԱՏԱՐՎՈՂ ՓՈՓՈԽՈՒԹՅՈՒՆՆԵՐԸ ԵՎ ԼՐԱՑՈՒՄՆԵՐԸ
B8: Գործառական դասիչը | E8: Ծրագրային դասիչը | G8: Բյուջետային ծախսերի գործառական դասակարգման բաժինների, խմբերի և դասերի, բյուջետային հատկացումների գլխավոր կարգադրիչների, ծրագրերի, միջոցառումների և միջոցառումները կատարող պետական մարմինների անվանումները | H8: Ցուցանիշների փոփոխությունը (ավելացումները նշված են դրական նշանով, իսկ նվազեցումները` փակագծերում)
B9: Բաժին | C9: Խումբ | D9: Դաս | E9: Ծրագիր | F9: Միջոցառում | H9: Տարի
G10: ԸՆԴԱՄԵՆԸ ԾԱԽՍԵՐ | H10: =+H12+H408 -> -4331112.9
G11: այդ թվում`
G12: ՀՀ ՏԱՐԱԾՔԱՅԻՆ ԿԱՌԱՎԱՐՄԱՆ ԵՎ ԵՆԹԱԿԱՌՈՒՑՎԱԾՔՆԵՐԻ ՆԱԽԱՐԱՐՈՒԹՅՈՒՆ | H12: =+H14+H315+H381 -> -5984679
G13: այդ թվում`
B14: 04 | G14: ՏՆՏԵՍԱԿԱՆ ՀԱՐԱԲԵՐՈՒԹՅՈՒՆՆԵՐ | H14: =+H96+H150+H16+H260 -> -3328637
G15: այդ թվում`
C16: 02 | G16: Գյուղատնտեսություն, անտառային տնտեսություն, ձկնորսություն և որսորդություն | H16: =+H18 -> 19379.5
G17: այդ թվում`
D18: 04 | G18: Ոռոգում | H18: =+H22 -> 19379.5
G19: այդ թվում`
G20: ՀՀ ՏԱՐԱԾՔԱՅԻՆ ԿԱՌԱՎԱՐՄԱՆ ԵՎ ԵՆԹԱԿԱՌՈՒՑՎԱԾՔՆԵՐԻ ՆԱԽԱՐԱՐՈՒԹՅՈՒՆ | H20: =+H22 -> 19379.5
G21: այդ թվում`
E22: 1004 | G22: Ոռոգման համակարգի առողջացում | H22: =H45+H53+H64+H76+H85+H24+H35 -> 19379.5
G23: այդ թվում`
F24: 11005 | G24: Եվրասիական զարգացման բանկի աջակցությամբ իրականացվող ոռոգման համակարգերի_x000D_ զարգացման ծրագրի խորհրդատվություն և կառավարում | H24: =+H26 -> -14150
G25: այդ թվում` ըստ կատարողների
G26: ՀՀ տարածքային կառավարման և ենթակառուցվածքների նախարարության ջրային կոմիտե | H26: =+H28 -> -14150
G27: այդ թվում` բյուջետային ծախսերի տնտեսագիտական դասակարգման հոդվածներ
G28: ԸՆԴԱՄԵՆԸ ԾԱԽՍԵՐ | H28: =+H29 -> -14150
G29: ԸՆԹԱՑԻԿ ԾԱԽՍԵՐ | H29: =+H30+H32 -> -14150
G30: ԾԱՌԱՅՈՒԹՅՈՒՆՆԵՐԻ ԵՎ ԱՊՐԱՆՔՆԵՐԻ ՁԵՌՔԲԵՐՈՒՄ | H30: =+H31 -> 150
G31: -Գույքի և սարքավորումների վարձակալություն | H31: =+'9.'!E24 -> 150
G32: ԱՅԼ ԾԱԽՍԵՐ | H32: =+H33+H34 -> -14300
G33: Հարկեր, պարտադիր վճարներ և տույժեր, որոնք կառավարման տարբեր մակարդակների կողմից կիրառվում են միմյանց նկատմամբ | H33: =+'9.'!E26 -> 500
G34: Այլ ծախսեր | H34: =+'9.'!E27 -> -14800
F35: 11006 | G35: Ֆրանսիայի Հանրապետության կառավարության աջակցությամբ իրականացվող Վեդու ջրամբարի կառուցման ծրագրի խորհրդատվություն և կառավարում | H35: =+H37 -> 65013
G36: այդ թվում` ըստ կատարողների
G37: ՀՀ տարածքային կառավարման և ենթակառուցվածքների նախարարության ջրային կոմիտե | H37: =+H39 -> 65013
G38: այդ թվում` բյուջետային ծախսերի տնտեսագիտական դասակարգման հոդվածներ
G39: ԸՆԴԱՄԵՆԸ ԾԱԽՍԵՐ | H39: =+H40 -> 65013
G40: ԸՆԹԱՑԻԿ ԾԱԽՍԵՐ | H40: =+H41+H43 -> 65013
G41: ԾԱՌԱՅՈՒԹՅՈՒՆՆԵՐԻ ԵՎ ԱՊՐԱՆՔՆԵՐԻ ՁԵՌՔԲԵՐՈՒՄ | H41: =+H42 -> 100
G42: -Գույքի և սարքավորումների վարձակալություն | H42: =+'9.'!E35 -> 100
G43: ԱՅԼ ԾԱԽՍԵՐ | H43: =+H44 -> 64913
...

Sheet 9.
G1: Հավելված N9
G2: ՀՀ կառավարության 2022 թվականի
G3: ______________ ի ___Ն որոշման
B5: «ՀԱՅԱUՏԱՆԻ ՀԱՆՐԱՊԵՏՈՒԹՅԱՆ 2022 ԹՎԱԿԱՆԻ ՊԵՏԱԿԱՆ ԲՅՈՒՋԵԻ ՄԱUԻՆ» OՐԵՆՔԻ N 1 ՀԱՎԵԼՎԱԾԻ N 4 ԱՂՅՈՒՍԱԿՈՒՄ ԵՎ ՀԱՅԱՍՏԱՆԻ ՀԱՆՐԱՊԵՏՈՒԹՅԱՆ ԿԱՌԱՎԱՐՈՒԹՅԱՆ 2021 ԹՎԱԿԱՆԻ ԴԵԿՏԵՄԲԵՐԻ 23-Ի N 2121-Ն ՈՐՈՇՄԱՆ N 5 ՀԱՎԵԼՎԱԾԻ N 3 ԱՂՅՈՒՍԱԿՈՒՄ ԿԱՏԱՐՎՈՂ ՓՈՓՈԽՈՒԹՅՈՒՆՆԵՐԸ
G6: հազ. դրամ
B7: Ծրագրային դասիչը | D7: Բյուջետային գլխավոր կարգադրիչների, ծրագրերի և միջոցառումների անվանումները | E7: Ցուցանիշների փոփոխությունը (ավելացումները նշված են դրական նշանով, իսկ նվազեցումները` փակագծերում)
E8: Տարի
E9: Ընդամենը | F9: այդ թվում`
B10: Ծրագիր | C10: Միջոց առում | F10: Վարկային միջոցներ | G10: Համաֆինան սավորում
D11: ԸՆԴԱՄԵՆԸ_x000D_ այդ թվում` | E11: =F11+G11 -> -4725655 | F11: =F12+F13 -> -3186202.7 | G11: =G12+G13 -> -1539452.3 | H11: =+'[2]9.'!E11-E11 -> 170700 | I11: =+'[2]9.'!F11-F11 -> 0 | J11: =+'[2]9.'!G11-G11 -> 170700
D12: - ԸՆԹԱՑԻԿ ԾԱԽՍԵՐ | E12: =F12+G12 -> -504415.7 | F12: =F43+F51+F124+F132+F141+F149+F157+F245+F22+F33 -> -181485 | G12: =G43+G51+G124+G132+G141+G149+G157+G245+G22+G33 -> -322930.7 | H12: =+'[2]9.'!E12-E12 -> 284300 | I12: =+'[2]9.'!F12-F12 -> 101600 | J12: =+'[2]9.'!G12-G12 -> 182700
D13: - ՈՉ ՖԻՆԱՆՍԱԿԱՆ ԱԿՏԻՎՆԵՐԻ ԳԾՈՎ ԾԱԽՍԵՐ | E13: =F13+G13 -> -4221239.3 | F13: =F62+F74+F83+F96+F109+F165+F174+F183+F194+F203+F214+F223+F234+F253 -> -3004717.7 | G13: =G62+G74+G83+G96+G109+G165+G174+G183+G194+G203+G214+G223+G234+G253 -> -1216521.6 | H13: =+'[2]9.'!E13-E13 -> -113600 | I13: =+'[2]9.'!F13-F13 -> -101600 | J13: =+'[2]9.'!G13-G13 -> -12000
D14: ՀՀ ՏԱՐԱԾՔԱՅԻՆ ԿԱՌԱՎԱՐՄԱՆ ԵՎ ԵՆԹԱԿԱՌՈՒՑՎԱԾՔՆԵՐԻ ՆԱԽԱՐԱՐՈՒԹՅՈՒՆ_x000D_ այդ թվում` | E14: =F14+G14 -> -4725655 | F14: =F15+F89+F117+F187+F227+F238 -> -3186202.7 | G14: =G15+G89+G117+G187+G227+G238 -> -1539452.3 | H14: =+'[2]9.'!E14-E14 -> 170700 | I14: =+'[2]9.'!F14-F14 -> 0 | J14: =+'[2]9.'!G14-G14 -> 170700
B15: 1004 | D15: Ոռոգման համակարգի առողջացում | E15: =F15+G15 -> 19379.5 | F15: =F38+F46+F57+F69+F78+F17+F28 -> 355362.9 | G15: =G38+G46+G57+G69+G78+G17+G28 -> -335983.4 | H15: =+'[2]9.'!E15-E15 -> 0 | I15: =+'[2]9.'!F15-F15 -> 0 | J15: =+'[2]9.'!G15-G15 -> 0
D16: այդ թվում`
C17: 11005 | D17: Եվրասիական զարգացման բանկի աջակցությամբ իրականացվող ոռոգման համակարգերի_x000D_ զարգացման ծրագրի խորհրդատվություն և կառավարում | E17: =+F17+G17 -> -14150 | F17: =+F21 -> -10850 | G17: =+G21 -> -3300
D18: այդ թվում` ըստ կատարողների
D19: ՀՀ տարածքային կառավարման և ենթակառուցվածքների նախարարության ջրային կոմիտե | E19: =F19+G19 -> -14150 | F19: =F17 -> -10850 | G19: =G17 -> -3300
D20: այդ թվում` բյուջետային ծախսերի տնտեսագիտական դասակարգման հոդվածներ
D21: ԸՆԴԱՄԵՆԸ ԾԱԽՍԵՐ | E21: =F21+G21 -> -14150 | F21: =+F22 -> -10850 | G21: =+G22 -> -3300
D22: ԸՆԹԱՑԻԿ ԾԱԽՍԵՐ | E22: =F22+G22 -> -14150 | F22: =+F23+F25 -> -10850 | G22: =+G23+G25 -> -3300
D23: ԾԱՌԱՅՈՒԹՅՈՒՆՆԵՐԻ ԵՎ ԱՊՐԱՆՔՆԵՐԻ ՁԵՌՔԲԵՐՈՒՄ | E23: =+F23+G23 -> 150 | F23: =+F24 -> 150 | G23: =+G24 -> 0
D24: - Գույքի և սարքավորումների վարձակալություն | E24: =+F24+G24 -> 150 | F24: 150 | G24: 0
D25: ԱՅԼ ԾԱԽՍԵՐ | E25: =+F25+G25 -> -14300 | F25: =+F27+F26 -> -11000 | G25: =+G27+G26 -> -3300
D26: Հարկեր, պարտադիր վճարներ և տույժեր, որոնք կառավարման տարբեր մակարդակների կողմից կիրառվում են միմյանց նկատմամբ | E26: =+F26+G26 -> 500 | F26: 0 | G26: 500
D27: Այլ ծախսեր | E27: =+F27+G27 -> -14800 | F27: -11000 | G27: -3800
C28: 11006 | D28: Ֆրանսիայի Հանրապետության կառավարության աջակցությամբ իրականացվող Վեդու ջրամբարի կառուցման ծրագրի խորհրդատվություն և կառավարում | E28: =+F28+G28 -> 65013 | F28: =+F32 -> 45465 | G28: =+G32 -> 19548
D29: այդ թվում` ըստ կատարողների
D30: ՀՀ տարածքային կառավարման և ենթակառուցվածքների նախարարության ջրային կոմիտե | E30: =F30+G30 -> 65013 | F30: =F28 -> 45465 | G30: =G28 -> 19548
D31: այդ թվում` բյուջետային ծախսերի տնտեսագիտական դասակարգման հոդվածներ
D32: ԸՆԴԱՄԵՆԸ ԾԱԽՍԵՐ | E32: =F32+G32 -> 65013 | F32: =+F33 -> 45465 | G32: =+G33 -> 19548
D33: ԸՆԹԱՑԻԿ ԾԱԽՍԵՐ | E33: =F33+G33 -> 65013 | F33: =+F34+F36 -> 45465 | G33: =+G34+G36 -> 19548
D34: ԾԱՌԱՅՈՒԹՅՈՒՆՆԵՐԻ ԵՎ ԱՊՐԱՆՔՆԵՐԻ ՁԵՌՔԲԵՐՈՒՄ | E34: =+F34+G34 -> 100 | F34: =+F35 -> 100 | G34: =+G35 -> 0
D35: - Գույքի և սարքավորումների վարձակալություն | E35: =+F35+G35 -> 100 | F35: 100 | G35: 0
D36: ԱՅԼ ԾԱԽՍԵՐ | E36: =+F36+G36 -> 64913 | F36: =+F37 -> 45365 | G36: =+G37 -> 19548
D37: Այլ ծախսեր | E37: =+F37+G37 -> 64913 | F37: 45365 | G37: 19548
C38: 11007 | D38: Գերմանիայի զարգացման վարկերի բանկի աջակցությամբ իրականացվող Ախուրյան գետի ջրային ռեսուրսների ինտեգրացված կառավարում ծրագրի խորհրդատվություն և կառավարում | E38: =+F38+G38 -> -143045 | F38: =+F42 -> -114500 | G38: =+G42 -> -28545
D39: այդ թվում` ըստ կատարողների
D40: ՀՀ տարածքային կառավարման և ենթակառուցվածքների նախարարության ջրային կոմիտե | E40: =F40+G40 -> -143045 | F40: =F38 -> -114500 | G40: =G38 -> -28545
D41: այդ թվում` բյուջետային ծախսերի տնտեսագիտական դասակարգման հոդվածներ
...

Sheet 10.
G1: Հավելված N10
G2: ՀՀ կառավարության 2022 թվականի
G3: ______________ ի ___Ն որոշման
B5: «ՀԱՅԱUՏԱՆԻ ՀԱՆՐԱՊԵՏՈՒԹՅԱՆ 2022 ԹՎԱԿԱՆԻ ՊԵՏԱԿԱՆ ԲՅՈՒՋԵԻ ՄԱUԻՆ» OՐԵՆՔԻ N 1 ՀԱՎԵԼՎԱԾԻ N 5 ԱՂՅՈՒՍԱԿՈՒՄ ԵՎ ՀԱՅԱՍՏԱՆԻ ՀԱՆՐԱՊԵՏՈՒԹՅԱՆ ԿԱՌԱՎԱՐՈՒԹՅԱՆ 2021 ԹՎԱԿԱՆԻ ԴԵԿՏԵՄԲԵՐԻ 23-Ի N 2121-Ն ՈՐՈՇՄԱՆ N 5 ՀԱՎԵԼՎԱԾԻ N 4 ԱՂՅՈՒՍԱԿՈՒՄ ԿԱՏԱՐՎՈՂ ՓՈՓՈԽՈՒԹՅՈՒՆՆԵՐԸ
G6: հազ. դրամ
B7: Ծրագրային դասիչը | D7: Բյուջետային գլխավոր կարգադրիչների, ծրագրերի և միջոցառումների անվանումները | E7: Ցուցանիշների փոփոխությունը (ավելացումները նշված են դրական նշանով, իսկ նվազեցումները` փակագծերում)
E8: Տարի
E9: Ընդամենը | F9: այդ թվում`
B10: Ծրագիր | C10: Միջոց առում | F10: Դրամաշնորհային միջոցներ | G10: Համաֆինան սավորում
D11: ԸՆԴԱՄԵՆԸ | E11: =+F11+G11 -> -1259024 | F11: =F13+F14 -> -1144910.2 | G11: =G13+G14 -> -114113.8
D12: այդ թվում`
D13: ԸՆԹԱՑԻԿ ԾԱԽՍԵՐ | E13: =+F13+G13 -> -65010.5 | F13: =F23+F75+F85+F106 -> -51489.3 | G13: =G23+G75+G85+G106 -> -13521.2
D14: ՈՉ ՖԻՆԱՆՍԱԿԱՆ ԱԿՏԻՎՆԵՐԻ ԳԾՈՎ ԾԱԽՍԵՐ | E14: =+F14+G14 -> -1194013.5 | F14: =F33+F46+F55+F66+F93+F120 -> -1093420.9 | G14: =G33+G46+G55+G66+G93+G120 -> -100592.6
D15: ՀՀ ՏԱՐԱԾՔԱՅԻՆ ԿԱՌԱՎԱՐՄԱՆ ԵՎ ԵՆԹԱԿԱՌՈՒՑՎԱԾՔՆԵՐԻ ՆԱԽԱՐԱՐՈՒԹՅՈՒՆ | E15: =+F15+G15 -> -1259024 | F15: =F16+F39+F59+F78+F99 -> -1144910.2 | G15: =G16+G39+G59+G78+G99 -> -114113.8
B16: 1019 | D16: Սոցիալական ներդրումների և տեղական զարգացման ծրագիր | E16: =+F16+G16 -> 215106.3 | F16: =F18+F28 -> 215106.3 | G16: =G18+G28 -> 0
D17: այդ թվում`
C18: 11002 | D18: ԱՄՆ Միջազգային զարգացման գործակալության աջակցությամբ իրականացվող Տեղական ինքնակառավարման բարեփոխումների դրամաշնորհային ծրագիր | E18: =E20 -> -505.9 | F18: =F20 -> -505.9 | G18: =G20 -> 0
D19: այդ թվում` ըստ կատարողների
D20: ՀՀ տարածքային կառավարման և ենթակառուցվածքների նախարարություն | E20: =F20+G20 -> -505.9 | F20: =F22 -> -505.9 | G20: =G22 -> 0
D21: այդ թվում` բյուջետային ծախսերի տնտեսագիտական դասակարգման հոդվածներ
D22: ԸՆԴԱՄԵՆԸ ԾԱԽՍԵՐ | E22: =E23 -> -505.9 | F22: =F23 -> -505.9 | G22: =G23 -> 0
D23: ԸՆԹԱՑԻԿ ԾԱԽՍԵՐ | E23: =F23+G23 -> -505.9 | F23: =F24+F26 -> -505.9 | G23: =G25 -> 0
D24: ԾԱՌԱՅՈՒԹՅՈՒՆՆԵՐԻ ԵՎ ԱՊՐԱՆՔՆԵՐԻ ՁԵՌՔԲԵՐՈՒՄ | E24: =F24 -> -380 | F24: =F25 -> -380 | G24: 0
D25: - Վարչական ծառայություններ | E25: =F25+G25 -> -380 | F25: -380 | G25: 0
D26: ԱՅԼ ԾԱԽՍԵՐ | E26: =E27 -> -125.9 | F26: =F27 -> -125.9 | G26: 0
D27: - Այլ ծախսեր | E27: =F27+G27 -> -125.9 | F27: -125.9 | G27: 0
C28: 12003 | D28: ԱՄՆ ՄԶԳ աջակցությամբ իրականացվող Տեղական ինքնակառավարման բարեփոխումների դրամաշնորհային ծրագրի շրջանակներում ՀՀ խոշորացվող համայնքներում հանրային ծառայությունների բարելավում, ընդլայնում, միջհամայնքային ենթածրագրերի նախագծում, ընտրություն և իրականացում | E28: =+E30 -> 215612.2 | F28: =+F30 -> 215612.2 | G28: =+G30 -> 0
D29: այդ թվում` ըստ կատարողների
D30: ՀՀ տարածքային կառավարման և ենթակառուցվածքների նախարարություն | E30: =+E32 -> 215612.2 | F30: =+F32 -> 215612.2 | G30: =+G32 -> 0
D31: այդ թվում` բյուջետային ծախսերի տնտեսագիտական դասակարգման հոդվածներ
D32: ԸՆԴԱՄԵՆԸ ԾԱԽՍԵՐ | E32: =+F32+G32 -> 215612.2 | F32: =+F33 -> 215612.2 | G32: =+G33 -> 0
D33: ՈՉ ՖԻՆԱՆՍԱԿԱՆ ԱԿՏԻՎՆԵՐԻ ԳԾՈՎ ԾԱԽՍԵՐ | E33: =+F33+G33 -> 215612.2 | F33: =+F34 -> 215612.2 | G33: =+G34 -> 0
D34: ՀԻՄՆԱԿԱՆ ՄԻՋՈՑՆԵՐ | E34: =+F34+G34 -> 215612.2 | F34: =+F37+F35 -> 215612.2 | G34: =+G37 -> 0
D35: ՄԵՔԵՆԱՆԵՐ ԵՎ ՍԱՐՔԱՎՈՐՈՒՄՆԵՐ | E35: =+F35+G35 -> 224812.4 | F35: =+F36 -> 224812.4 | G35: =+G36 -> 0
D36: - Վարչական սարքավորումներ | E36: =+F36+G36 -> 224812.4 | F36: 224812.4 | G36: 0
D37: ԱՅԼ ՀԻՄՆԱԿԱՆ ՄԻՋՈՑՆԵՐ | E37: =+F37+G37 -> -9200.2 | F37: =+F38 -> -9200.2 | G37: =+G38 -> 0
D38: - Նախագծահետազոտական ծախսեր | E38: =+F38+G38 -> -9200.2 | F38: -9200.2 | G38: 0
B39: 1072 | D39: Ջրամատակարարաման և ջրահեռացման բարելավում | E39: =+F39+G39 -> -547208.4 | F39: =+F50+F41 -> -534828.4 | G39: =+G50+G41 -> -12380
D40: այդ թվում`
C41: 12001 | D41: Գերմանիայի զարգացման և Եվրոպական միության հարևանության ներդրումային բանկի_x000D_ աջակցությամբ իրականացվող ջրամատակարարման և ջրահեռացման ենթակառուցվածքների_x000D_ դրամաշնորհային ծրագիր` երրորդ փուլ | E41: =+E43 -> -83560 | F41: =+F43 -> -71180 | G41: =+G43 -> -12380
...

Sheet 11.
D1: Հավելված N 11
B2: ՀՀ կառավարության 2022 թվականի
B3: ______________ ի ___Ն որոշման
B5: ՀԱՅԱՍՏԱՆԻ ՀԱՆՐԱՊԵՏՈՒԹՅԱՆ ԿԱՌԱՎԱՐՈՒԹՅԱՆ 2021 ԹՎԱԿԱՆԻ ԴԵԿՏԵՄԲԵՐԻ 23-Ի N 2121-Ն ՈՐՈՇՄԱՆ N 9 ՀԱՎԵԼՎԱԾԻ N 9.7 ԵՎ N 9.14 ԱՂՅՈՒՍԱԿՆԵՐՈՒՄ ԿԱՏԱՐՎՈՂ ՓՈՓՈԽՈՒԹՅՈՒՆՆԵՐԸ ԵՎ ԼՐԱՑՈՒՄՆԵՐԸ
D6: Աղյուսակ 9.7
B7: ՀՀ ՏԱՐԱԾՔԱՅԻՆ ԿԱՌԱՎԱՐՄԱՆ ԵՎ ԵՆԹԱԿԱՌՈՒՑՎԱԾՔՆԵՐԻ ՆԱԽԱՐԱՐՈՒԹՅՈՒՆ
B8: ՄԱՍ 2. ՊԵՏԱԿԱՆ ՄԱՐՄՆԻ ԳԾՈՎ ԱՐԴՅՈՒՆՔԱՅԻՆ (ԿԱՏԱՐՈՂԱԿԱՆ) ՑՈՒՑԱՆԻՇՆԵՐԸ
B10: Ծրագրի դասիչը | C10: Ծրագրի անվանումը
B11: 1004 | C11: =+'[3]4'!D16 -> Ոռոգման համակարգի առողջացում
B13: Ծրագրի միջոցառումները
B14: Ծրագրի դասիչը` | C14: 1004 | D14: Ցուցանիշների փոփոխությունը (նվազեցումները նշված են փակագծերում)
B15: Միջոցառման դասիչը` | C15: 11005 | D15: Տարի
B16: Միջոցառման անվանումը` | C16: Եվրասիական զարգացման բանկի աջակցությամբ իրականացվող ոռոգման համակարգերի_x000D_ զարգացման ծրագրի խորհրդատվություն և կառավարում
B17: Նկարագրությունը` | C17: Եվրասիական զարգացման բանկի աջակցությամբ իրականացվող ոռոգման համակարգերի զարգացման ծրագրի համակարգում և ղեկավարում
B18: Միջոցառման տեսակը` | C18: Ծառայությունների մատուցում
B19: Միջոցառումն իրականացնողի անվանումը` | C19: Մասնագիտատացված միավոր
B20: Արդյունքի չափորոշիչներ
B21: Միջոցառման վրա կատարված ծախսը (հազար դրամ) | D21: =+'[2]9.'!E17 -> -14150
B23: Ծրագրի դասիչը` | C23: 1004 | D23: Ցուցանիշների փոփոխությունը (ավելացումները նշված են դրական նշանով)
B24: Միջոցառման դասիչը` | C24: 11006 | D24: Տարի
B25: Միջոցառման անվանումը` | C25: Ֆրանսիայի Հանրապետության կառավարության աջակցությամբ իրականացվող Վեդու ջրամբարի կառուցման ծրագրի խորհրդատվություն և կառավարում
B26: Նկարագրությունը` | C26: Ֆրանսիայի Հանրապետության կառավարության աջակցությամբ իրականացվող Վեդու ջրամբարի կառուցման ծրագրի համակարգում և ղեկավարում
B27: Միջոցառման տեսակը` | C27: Ծառայությունների մատուցում
B28: Միջոցառումն իրականացնողի անվանումը` | C28: Մասնագիտատացված միավոր
B29: Արդյունքի չափորոշիչներ
B30: Միջոցառման վրա կատարված ծախսը (հազար դրամ) | D30: =+'[2]9.'!E28 -> 65013
B32: Ծրագրի դասիչը` | C32: 1004 | D32: Ցուցանիշների փոփոխությունը (նվազեցումները նշված են փակագծերում)
B33: Միջոցառման դասիչը` | C33: 11007 | D33: Տարի
B34: Միջոցառման անվանումը` | C34: Գերմանիայի զարգացման վարկերի բանկի աջակցությամբ իրականացվող Ախուրյան գետի ջրային ռեսուրսների ինտեգրացված կառավարում ծրագրի խորհրդատվություն և կառավարում
B35: Նկարագրությունը` | C35: Գերմանիայի զարգացման վարկերի բանկի աջակցությամբ իրականացվող Ախուրյան գետի ջրային ռեսուրսների ինտեգրացված կառավարում ծրագրի խորհրդատվություն և կառավարում
B36: Միջոցառման տեսակը` | C36: Ծառայությունների մատուցում
B37: Միջոցառումն իրականացնողի անվանումը` | C37: Մասնագիտատացված միավոր
B38: Արդյունքի չափորոշիչներ
B39: Միջոցառման վրա կատարված ծախսը (հազար դրամ) | D39: ='9.'!E38 -> -143045
B41: Ծրագրի դասիչը` | C41: 1004 | D41: Ցուցանիշների փոփոխությունը (նվազեցումները նշված են փակագծերում)
B42: Միջոցառման դասիչը` | C42: 11010 | D42: Տարի
B43: Միջոցառման անվանումը` | C43: Գերմանիայի զարգացման վարկերի բանկի աջակցությամբ իրականացվող Ախուրյան գետի ջրային ռեսուրսների ինտեգրացված կառավարում փուլ 1 ծրագրով Ջրաձոր գյուղի վերաբնակեցման գործողությունների խորհրդատվություն և կառավարում
B44: Նկարագրությունը` | C44: Գերմանիայի զարգացման վարկերի բանկի աջակցությամբ իրականացվող Ախուրյան գետի ջրային ռեսուրսների ինտեգրացված կառավարում փուլ 1 ծրագրով Ջրաձոր գյուղի վերաբնակեցման գործողությունների համակարգում և ղեկավարում
B45: Միջոցառման տեսակը` | C45: Ծառայությունների մատուցում
B46: Ակտիվն օգտագործող կազմակերպության(ների) անվանում(ները)՛ | C46: Մասնագիտացված միավոր
...

Sheet 12.
D1: Հավելված N 12
B2: ՀՀ կառավարության 2022 թվականի
B3: ______________ ի ___Ն որոշման
B4: ՀԱՅԱՍՏԱՆԻ ՀԱՆՐԱՊԵՏՈՒԹՅԱՆ ԿԱՌԱՎԱՐՈՒԹՅԱՆ 2021 ԹՎԱԿԱՆԻ ԴԵԿՏԵՄԲԵՐԻ 23-Ի N 2121-Ն ՈՐՈՇՄԱՆ N 9.1 ՀԱՎԵԼՎԱԾԻ NN 9.1.8, 9.1.26 և 9.1.15 ԱՂՅՈՒՍԱԿՆԵՐՈՒՄ ԿԱՏԱՐՎՈՂ ՓՈՓՈԽՈՒԹՅՈՒՆՆԵՐԸ ԵՎ ԼՐԱՑՈՒՄՆԵՐԸ
D5: Աղյուսակ 9.1.8
B6: ՀՀ ՏԱՐԱԾՔԱՅԻՆ ԿԱՌԱՎԱՐՄԱՆ ԵՎ ԵՆԹԱԿԱՌՈՒՑՎԱԾՔՆԵՐԻ ՆԱԽԱՐԱՐՈՒԹՅՈՒՆ
B7: ՄԱՍ 1. ՊԵՏԱԿԱՆ ՄԱՐՄՆԻ ԳԾՈՎ ԱՐԴՅՈՒՆՔԱՅԻՆ (ԿԱՏԱՐՈՂԱԿԱՆ) ՑՈՒՑԱՆԻՇՆԵՐԸ
B10: Ծրագրի դասիչը | C10: Ծրագրի անվանումը
B11: 1019 | C11: Սոցիալական ներդրումների և տեղական զարգացման ծրագիր
B13: Ծրագրի միջոցառումները
B14: Ծրագրի դասիչը` | C14: 1019 | D14: Ցուցանիշների փոփոխությունը (նվազեցումները նշված են փակագծերում)
B15: Միջոցառման դասիչը` | C15: 11002 | D15: Տարի
B16: Միջոցառման անվանումը` | C16: ԱՄՆ Միջազգային զարգացման գործակալության աջակցությամբ իրականացվող Տեղական ինքնակառավարման բարեփոխումների դրամաշնորհային ծրագիր
B17: Նկարագրությունը` | C17: Օժանդակության տրամադրում տեղական և տարածքային ինքնակառավարման մարմիններին միջհամայնքային ենթածրագրերի նախագծման, ընտրության և իրականացման աշխատանքներում
B18: Միջոցառման տեսակը` | C18: Ծառայությունների մատուցում
B19: Միջոցառումն իրականացնողի անվանումը | C19: Մասնագիտացված միավոր
B20: Արդյունքի չափորոշիչներ
B21: Միջոցառման վրա կատարված ծախսը (հազար դրամ) | D21: ='10.'!E18 -> -505.9
B23: Ծրագրի դասիչը` | C23: 1019 | D23: Ցուցանիշների փոփոխությունը (նվազեցումները նշված են փակագծերում)
B24: Միջոցառման դասիչը` | C24: 12001 | D24: Տարի
B25: Միջոցառման անվանումը` | C25: Համաշխարհային բանկի աջակցությամբ իրականացվող Տարածքային զարգացման հիմնադրամի ծրագրի շրջանակներում ՀՀ տարածքներում ջրագծերի, առողջապահության, կրթության, մշակույթի, հատուկ խնամքի և ենթակառուցվածքների ոլորտի վերականգնման և շինարարության աշխատանքներ
B26: Նկարագրությունը` | C26: Տարածքային զարգացման հիմնադրամի ծրագրով նախատեսված ՀՀ տարածքներում ջրագծերի, առողջապահության, կրթության օբյեկտների, մշակույթային տների, ծերանոցների, մանկատների, հատուկ դպրոցների, մանկապարտեզների և կոյուղու օբյեկտների հիմնանորոգում և շինարարություն
B27: Միջոցառման տեսակը` | C27: Տրանսֆերտների տրամադրում
B28: Շահառուների ընտրության չափանիշները` | C28: Համաձայն ՏԶՀ Ղեկավար ձեռնարկի, որը ֆինանսավորման համաձայնագրի մաս է կազմում
B29: Արդյունքի չափորոշիչներ
B30: Ավարտման ենթակա միկրոծրագրերի թիվ, հատ | D30: -2
B31: Ծրագրի շահառուների թիվ | D31: -3500
B32: Միջոցառման վրա կատարված ծախսը (հազար դրամ) | D32: ='9.'!E91 -> -12700
B34: Ծրագրի դասիչը` | C34: 1019 | D34: Ցուցանիշների փոփոխությունը (ավելացումները նշված են դրական նշանով)
B35: Միջոցառման դասիչը` | C35: 12003 | D35: Տարի
B36: Միջոցառման անվանումը` | C36: ԱՄՆ ՄԶԳ աջակցությամբ իրականացվող Տեղական ինքնակառավարման բարեփոխումների դրամաշնորհային ծրագրի շրջանակներում ՀՀ խոշորացվող համայնքներում հանրային ծառայությունների բարելավում, ընդլայնում, միջհամայնքային ենթածրագրերի նախագծում, ընտրություն և իրականացում
B37: Նկարագրությունը` | C37: Տեղական ինքնակառավարման բարեփոխումների ծրագրով նախատեսված ՀՀ խոշորացված համայնքներին տեխնիկայի տրամադրում և ենթակառուցվածքների վերականգնում/կառուցում
B38: Միջոցառման տեսակը` | C38: Տրանսֆերտների տրամադրում
B39: Շահառուների ընտրության չափանիշները` | C39: Ծրագրի գնահատման փաստաթղթում նշված ցանկից` Կառավարման կոմիտեի որոշմամբ
B40: Արդյունքի չափորոշիչներ
B41: Միջոցառման վրա կատարված ծախսը (հազար դրամ) | D41: ='10.'!E28 -> 215612.2
B43: Ծրագրի դասիչը` | C43: 1019 | D43: Ցուցանիշների փոփոխությունը (նվազեցումները նշված են փակագծերում)
B44: Միջոցառման դասիչը` | C44: 12004 | D44: Տարի
B45: Միջոցառման անվանումը` | C45: Համաշխարհային բանկի աջակցությամբ իրականացվող Սոցիալական ներդրումների և տեղական զարգացման ծրագրի լրացուցիչ ֆինանսավորման վարկի շրջանակներում ՀՀ համայնքային և միջհամայնքային ենթակառուցվածքների որակի, օգտագործման և հասանելիության բարելավում
B46: Նկարագրությունը` | C46: Ջրագծերի, առողջապահության, կրթության օբյեկտների, մշակույթային տների, ծերանոցների, մանկատների, հատուկ դպրոցների, մանկապարտզների և կոյուղու օբյեկտնրի հիմն. և շինարարություն., գույքի և սարքավորումների տրամադրում շահառու ենթածրագրերի համար
...
