Workbook
Name AgencyCode: #REF!
Name AgencyCode: #REF!
Name AgencyCode: #REF!
Name AgencyCode: #REF!
Name AgencyCode: #REF!
Name AgencyCode: #REF!
Name AgencyCode: #REF!
Name AgencyCode: #REF!
Name AgencyName: #REF!
Name AgencyName: #REF!
Name AgencyName: #REF!
Name AgencyName: #REF!
Name AgencyName: #REF!
Name åû: #REF!
Name åû: #REF!
Name åû: #REF!
Name davit: #REF!
Name davit: #REF!
Name davit: #REF!
Name Functional1: #REF!
Name Functional1: #REF!
Name Functional1: #REF!
Name Functional1: #REF!
Name Functional1: #REF!
Name ggg: #REF!
Name ggg: #REF!
Name ggg: #REF!
Name mas: #REF!
Name mas: #REF!
Name mas: #REF!
Name mass: #REF!
Name mass: #REF!
Name mass: #REF!
Name PANature: #REF!
Name PANature: #REF!
Name PANature: #REF!
Name PANature: #REF!
Name PANature: #REF!
Name PAType: #REF!
Name PAType: #REF!
Name PAType: #REF!
Name PAType: #REF!
Name PAType: #REF!
Name Performance2: #REF!
Name Performance2: #REF!
Name Performance2: #REF!
Name Performance2: #REF!
Name Performance2: #REF!
Name PerformanceType: #REF!
Name PerformanceType: #REF!
Name PerformanceType: #REF!
Name PerformanceType: #REF!
Name PerformanceType: #REF!
Name x: #REF!
Name x: #REF!
Name x: #REF!
Name x: #REF!
Name Հավելված: #REF!
Name Հավելված: #REF!
Name Հավելված: #REF!

Sheet 1.
B1: Հավելված N 1
B2: ՀՀ կառավարության 2022 թվականի
B3: ______________ ի ___Ն որոշման
A5: «ՀԱՅԱՍՏԱՆԻ ՀԱՆՐԱՊԵՏՈՒԹՅԱՆ 2022 ԹՎԱԿԱՆԻ ՊԵՏԱԿԱՆ ԲՅՈՒՋԵԻ ՄԱՍԻՆ» ՕՐԵՆՔԻ N 2 ՀՈԴՎԱԾԻ ԱՂՅՈՒՍԱԿՈՒՄ ԿԱՏԱՐՎՈՂ ՓՈՓՈԽՈՒԹՅՈՒՆՆԵՐԸ
B7: հազար դրամներով
B8: Ցուցանիշների փոփոխությունը (նվազեցումները նշված են փակագծերում)
A9: 1. Եկամուտների գծով | B9: =+'2.'!B12 -> -1144910.2
A10: 2. Ծախսերի գծով | B10: =+'7.'!E9 -> -4331112.9
A11: 3. Դեֆիցիտը (պակասուրդը) | B11: =-B9+B10 -> -3186202.7

Sheet 2.
B1: Հավելված N 2
B2: ՀՀ կառավարության 2022 թվականի
B3: ______________ ի ___Ն որոշման
A5: «ՀԱՅԱՍՏԱՆԻ ՀԱՆՐԱՊԵՏՈՒԹՅԱՆ 2022 ԹՎԱԿԱՆԻ ՊԵՏԱԿԱՆ ԲՅՈՒՋԵԻ ՄԱՍԻՆ» ՕՐԵՆՔԻ N 6 ՀՈԴՎԱԾԻ ԱՂՅՈՒՍԱԿՈՒՄ ԵՎ ՀԱՅԱՍՏԱՆԻ ՀԱՆՐԱՊԵՏՈՒԹՅԱՆ ԿԱՌԱՎԱՐՈՒԹՅԱՆ 2021 ԹՎԱԿԱՆԻ ԴԵԿՏԵՄԲԵՐԻ 23-Ի N 2121-Ն ՈՐՈՇՄԱՆ N 2 ՀԱՎԵԼՎԱԾՈՒՄ ԿԱՏԱՐՎՈՂ ՓՈՓՈԽՈՒԹՅՈՒՆՆԵՐԸ
B9: հազար դրամներով
A10: Եկամտատեսակ | B10: Ցուցանիշների փոփոխությունը (նվազեցումները նշված են փակագծերում)
B11: Տարի
A12: ՊԵՏԱԿԱՆ ԲՅՈՒՋԵԻ ԵԿԱՄՈՒՏՆԵՐ | B12: =+B14 -> -1144910.2
A13: այդ թվում`
A14: Պաշտոնական դրամաշնորհներ | B14: =+'10.'!F11 -> -1144910.2

Sheet 3.
B1: Հավելված N 3
B2: ՀՀ կառավարության 2022 թվականի
B3: ______________ ի ___Ն որոշման
A5: ՀԱՅԱՍՏԱՆԻ ՀԱՆՐԱՊԵՏՈՒԹՅԱՆ ԿԱՌԱՎԱՐՈՒԹՅԱՆ 2021 ԹՎԱԿԱՆԻ ԴԵԿՏԵՄԲԵՐԻ 23-Ի N 2121-Ն ՈՐՈՇՄԱՆ N 1 ՀԱՎԵԼՎԱԾԻ N 1 ԱՂՅՈՒՍԱԿՈՒՄ ԿԱՏԱՐՎՈՂ ՓՈՓՈԽՈՒԹՅՈՒՆՆԵՐԸ
B7: հազ. դրամ
A8: Պետական բյուջեի դեֆիցիտի ֆինանսավորման աղբյուրներն ու դրանց տարրերի անվանումները | B8: Ցուցանիշների փոփոխությունը (նվազեցումները նշված են փակագծերում)
B9: Տարի
A10: ԸՆԴԱՄԵՆԸ | B10: =+B12 -> -3186202.7
A11: այդ թվում՝
A12: Բ. Արտաքին աղբյուրներ - ընդամենը | B12: =+B14 -> -3186202.7
A13: այդ թվում
A14: 1. Փոխառու զուտ միջոցներ | B14: =+B16 -> -3186202.7
A15: այդ թվում՝
A16: 1.1. Վարկերի և փոխատվությունների ստացում | B16: =+B18 -> -3186202.7
A17: որից`
A18: նպատակային վարկերի գծով | B18: =+'9.'!F11 -> -3186202.7

Sheet 4.
E1: Հավելված N 4
E2: ՀՀ կառավարության 2022 թվականի
E3: ______________ ի ___Ն որոշման
B5: ՀԱՅԱՍՏԱՆԻ ՀԱՆՐԱՊԵՏՈՒԹՅԱՆ ԿԱՌԱՎԱՐՈՒԹՅԱՆ 2021 ԹՎԱԿԱՆԻ ԴԵԿՏԵՄԲԵՐԻ 23-Ի N 2121-Ն ՈՐՈՇՄԱՆ N 1 ՀԱՎԵԼՎԱԾԻ N 2 ԱՂՅՈՒՍԱԿՈՒՄ ԿԱՏԱՐՎՈՂ ՓՈՓՈԽՈՒԹՅՈՒՆՆԵՐԸ
E6: հազ. դրամ
B7: Ծրագրային դասիչ | D7: Բյուջետային գլխավոր կարգադրիչների, ծրագրերի և միջոցառումների անվանումները | E7: Ցուցանիշների փոփոխությունը (նվազեցումները նշված են փակագծերում)
B8: Ծրագիր | C8: Միջոցառում | E8: Տարի
D9: ԸՆԴԱՄԵՆԸ այդ թվում | E9: =+E10 -> 0
D10: ՀՀ տարածքային կառավարման և ենթակառուցվածքների նախարարություն | E10: =+E11+E19 -> 0
B11: 1040 | D11: Ծրագրի անվանումը՝ Կոշտ թափոնների կառավարում | E11: =E15 -> -50000
D12: Ծրագրի նպատակը՝ Կենցաղային թափոնների արդյունավետ կառավարում սոցիալական և բնապահպանական խնդիրների լուծում
D13: Վերջնական արդյունքի նկարագրությունը՝ Կենցաղային թափոնների արդյունավետ կառավարում
B14: Ֆինանսական ակտիվների կառավարման միջոցառումներ
C15: 42001 | D15: Միջոցառման անվանումը՝ Վերակառուցման և զարգացման եվրոպական բանկի աջակցությամբ իրականացվող Կոտայքի և Գեղարքունիքի մարզերի կոշտ թափոնների կառավարման ծրագրի շրջանակներում ենթավարկի տրամադրում «Կոտայքի և Գեղարքունիքի Կոշտ կենցաղային թափոնների կառավարում» ՍՊԸ-ին | E15: ='[1]5.'!D16 -> -50000
D16: Միջոցառման նկարագրությունը՝ Կոշտ թափոնների կառավարման համակարգի բարելավում և նոր աղբավայրի ստեղծում
D17: Միջոցառման տեսակը՝
D18: Վարկերի տրամադրում
B19: 1157 | D19: Ծրագրի անվանումը՝ Քաղաքային զարգացում | E19: =E23 -> 50000
D20: Ծրագրի նպատակը՝ Քաղաքային ենթակառուցվածքների զարգացում
D21: Վերջնական արդյունքի նկարագրությունը՝ Քաղաքային ենթակառուցվածքների արդիականացում և բարելավում
B22: Ֆինանսական ակտիվների կառավարման միջոցառումներ
C23: 42003 | D23: Միջոցառման անվանումը՝ Եվրոպական ներդրումային բանկի աջակցությամբ իրականացվող Երևանի մետրոպոլիտենի վերակառուցման երկրորդ ծրագրի շրջանակներում ենթավարկի տրամադրում «Երևանի մետրոպոլիտեն» ՓԲԸ-ին | E23: ='[1]5.'!D26 -> 50000
D24: Միջոցառման նկարագրությունը՝ Երևանի մետրոպոլիտենի վերակառուցում
D25: Միջոցառման տեսակը՝
D26: Վարկերի տրամադրում

Sheet 5.
F1: Հավելված N 5
F2: ՀՀ կառավարության 2022 թվականի
F3: ______________ ի ___Ն որոշման
A5: ՀԱՅԱՍՏԱՆԻ ՀԱՆՐԱՊԵՏՈՒԹՅԱՆ ԿԱՌԱՎԱՐՈՒԹՅԱՆ 2021 ԹՎԱԿԱՆԻ ԴԵԿՏԵՄԲԵՐԻ 23-Ի N 2121-Ն ՈՐՈՇՄԱՆ N 1 ՀԱՎԵԼՎԱԾԻ N 3 ԱՂՅՈՒՍԱԿՈՒՄ ԿԱՏԱՐՎՈՂ ՓՈՓՈԽՈՒԹՅՈՒՆՆԵՐԸ
F6: հազ. դրամ
A7: Ծրագրային դասիչ | C7: Բյուջետային գլխավոր կարգադրիչների, ծրագրերի և միջոցառումների անվանումները | D7: Ցուցանիշների փոփոխությունը (նվազեցումները նշված են փակագծերում)
D8: Տարի
D9: Ընդամենը | E9: այդ թվում
A10: Ծրագիր | B10: Միջոցառում | E10: Վարկային միջոցներ | F10: Համաֆինանսավորում
C11: ԸՆԴԱՄԵՆԸ | D11: =D13 -> 0 | E11: =E13 -> 0 | F11: =F13 -> 0
C12: այդ թվում՝
C13: ՀՀ ՏԱՐԱԾՔԱՅԻՆ ԿԱՌԱՎԱՐՄԱՆ ԵՎ ԵՆԹԱԿԱՌՈՒՑՎԱԾՔՆԵՐԻ ՆԱԽԱՐԱՐՈՒԹՅՈՒՆ | D13: =E13+F13 -> 0 | E13: =E14+E24 -> 0 | F13: =F14+F24 -> 0
A14: 1040 | C14: Կոշտ թափոնների կառավարում | D14: =E14+F14 -> -50000 | E14: =E16 -> 0 | F14: =F16 -> -50000
C15: այդ թվում`
B16: 42001 | C16: Վերակառուցման և զարգացման եվրոպական բանկի աջակցությամբ իրականացվող Կոտայքի և Գեղարքունիքի մարզերի կոշտ թափոնների կառավարման ծրագրի շրջանակներում ենթավարկի տրամադրում «Կոտայքի և Գեղարքունիքի Կոշտ կենցաղային թափոնների կառավարում» ՍՊԸ-ին | D16: =E16+F16 -> -50000 | E16: =E18 -> 0 | F16: =F18 -> -50000
C17: այդ թվում՝ ըստ կատարողների
C18: ՀՀ տարածքային կառավարման և ենթակառուցվածքների նախարարություն | D18: =E18+F18 -> -50000 | E18: =E20 -> 0 | F18: =F20 -> -50000
C19: այդ թվում՝ ըստ տնտեսագիտական դասակարգման հոդվածների՝
C20: ՀԻՄՆԱԿԱՆ ԳՈՒՄԱՐԻ ՄԱՐՄԱՆ ԵՎ ՖԻՆԱՆՍԱԿԱՆ ԱԿՏԻՎՆԵՐԻ ՁԵՌՔԲԵՐՄԱՆ ԳԾՈՎ ԾԱԽՍԵՐ, այդ թվում` | D20: =E20+F20 -> -50000 | E20: =E21 -> 0 | F20: =F21 -> -50000
C21: ՖԻՆԱՆՍԱԿԱՆ ԱԿՏԻՎՆԵՐԻ ՁԵՌՔԲԵՐՈՒՄ, այդ թվում | D21: =E21+F21 -> -50000 | E21: =E22 -> 0 | F21: =F22 -> -50000
C22: ՆԵՐՔԻՆ ՖԻՆԱՆՍԱԿԱՆ ԱԿՏԻՎՆԵՐԻ ՁԵՌՔԲԵՐՈՒՄ, այդ թվում` | D22: =E22+F22 -> -50000 | E22: =E23 -> 0 | F22: =F23 -> -50000
C23: Ներքին վարկեր և փոխատվություններ | D23: =E23+F23 -> -50000 | E23: 0 | F23: -50000
A24: 1157 | C24: Քաղաքային զարգացում | D24: =E24+F24 -> 50000 | E24: =+E26 -> 0 | F24: =+F26 -> 50000
C25: այդ թվում`
B26: 42003 | C26: Եվրոպական ներդրումային բանկի աջակցությամբ իրականացվող Երևանի մետրոպոլիտենի վերակառուցման երկրորդ ծրագրի շրջանակներում ենթավարկի տրամադրում «Երևանի մետրոպոլիտեն» ՓԲԸ-ին | D26: =E26+F26 -> 50000 | E26: =E28 -> 0 | F26: =F28 -> 50000
C27: այդ թվում՝ ըստ կատարողների
C28: ՀՀ տարածքային կառավարման և ենթակառուցվածքների նախարարություն | D28: =E28+F28 -> 50000 | E28: =E30 -> 0 | F28: =F30 -> 50000
C29: այդ թվում՝ ըստ տնտեսագիտական դասակարգման հոդվածների՝
C30: ՀԻՄՆԱԿԱՆ ԳՈՒՄԱՐԻ ՄԱՐՄԱՆ ԵՎ ՖԻՆԱՆՍԱԿԱՆ ԱԿՏԻՎՆԵՐԻ ՁԵՌՔԲԵՐՄԱՆ ԳԾՈՎ ԾԱԽՍԵՐ, այդ թվում` | D30: =E30+F30 -> 50000 | E30: =E31 -> 0 | F30: =F31 -> 50000
C31: ՖԻՆԱՆՍԱԿԱՆ ԱԿՏԻՎՆԵՐԻ ՁԵՌՔԲԵՐՈՒՄ, այդ թվում | D31: =E31+F31 -> 50000 | E31: =E32 -> 0 | F31: =F32 -> 50000
C32: ՆԵՐՔԻՆ ՖԻՆԱՆՍԱԿԱՆ ԱԿՏԻՎՆԵՐԻ ՁԵՌՔԲԵՐՈՒՄ, այդ թվում` | D32: =E32+F32 -> 50000 | E32: =E33 -> 0 | F32: =F33 -> 50000
C33: Ներքին վարկեր և փոխատվություններ | D33: =E33+F33 -> 50000 | E33: 0 | F33: 50000

Sheet 6.
C1: Հավելված N 6
C2: ՀՀ կառավարության 2022 թվականի
C3: ______________ ի ___Ն որոշման
A4: ՀԱՅԱՍՏԱՆԻ ՀԱՆՐԱՊԵՏՈՒԹՅԱՆ ԿԱՌԱՎԱՐՈՒԹՅԱՆ 2021 ԹՎԱԿԱՆԻ ԴԵԿՏԵՄԲԵՐԻ 23-Ի N 2121-Ն ՈՐՈՇՄԱՆ N 1 ՀԱՎԵԼՎԱԾԻ N 5 ԱՂՅՈՒՍԱԿՈՒՄ ԿԱՏԱՐՎՈՂ ՓՈՓՈԽՈՒԹՅՈՒՆՆԵՐԸ
A6: Ծրագրի դասիչը | B6: Ծրագրի անվանումը
A7: 1040 | B7: Կոշտ թափոնների կառավարում
A8: Ծրագրի միջոցառումները
A10: Ծրագրի դասիչը՝ | B10: 1040 | C10: Ցուցանիշների փոփոխությունը (նվազեցումները նշված են փակագծերում)
A11: Միջոցառման դասիչը՝ | B11: 42001 | C11: Տարի
A12: Միջոցառման անվանումը՝ | B12: Վերակառուցման և զարգացման եվրոպական բանկի աջակցությամբ իրականացվող «Կոտայքի և Գեղարքունիքի մարզերի կոշտ թափոնների կառավարման» ծրագիր
A13: Նկարագրությունը՝ | B13: Կոշտ թափոննրի կառավարման համակարգի բարելավում և նոր աղբավայրի ստեղծում_x000D_
A14: Միջոցառման տեսակը՝ | B14: Վարկերի տրամադրում
A15: Միջոցառումն իրականացնողի անվանումը՝ | B15: Մասնագիտացված միավոր
B16: Արդյունքի չափորոշիչներ
A17: Միջոցառման վրա կատարվող ծախսը (հազար դրամ) | C17: ='[1]5.'!D16 -> -50000
A20: Ծրագրի դասիչը | B20: Ծրագրի անվանումը
A21: 1157 | B21: Քաղաքային զարգացում
A22: Ծրագրի միջոցառումները
A24: Ծրագրի դասիչը՝ | B24: 1157 | C24: Ցուցանիշների փոփոխությունը (ավելացումները նշված են դրական նշանով)
A25: Միջոցառման դասիչը՝ | B25: 42003 | C25: Տարի
A26: Միջոցառման անվանումը՝ | B26: Եվրոպական ներդրումային բանկի աջակցությամբ իրականացվող Երևանի մետրոպոլիտենի վերակառուցման երկրորդ ծրագիր
A27: Նկարագրությունը՝ | B27: Երևանի մետրոպոլիտենի վերակառուցում
A28: Միջոցառման տեսակը՝ | B28: Վարկերի տրամադրում
A29: Միջոցառումն իրականացնողի անվանումը՝ | B29: Մասնագիտացված միավոր
B30: Արդյունքի չափորոշիչներ
A31: Միջոցառման վրա կատարվող ծախսը (հազար դրամ) | C31: ='[1]5.'!D26 -> 50000

Sheet 7.
E1: Հավելված N7
E2: ՀՀ կառավարության 2022 թվականի
E3: ______________ ի ___Ն որոշման
B5: «ՀԱՅԱUՏԱՆԻ ՀԱՆՐԱՊԵՏՈՒԹՅԱՆ 2022 ԹՎԱԿԱՆԻ ՊԵՏԱԿԱՆ ԲՅՈՒՋԵԻ ՄԱUԻՆ» OՐԵՆՔԻ N 1 ՀԱՎԵԼՎԱԾԻ N 2 ԱՂՅՈՒՍԱԿՈՒՄ ԿԱՏԱՐՎՈՂ ՎԵՐԱԲԱՇԽՈՒՄԸ ԵՎ ՀԱՅԱՍՏԱՆԻ ՀԱՆՐԱՊԵՏՈՒԹՅԱՆ ԿԱՌԱՎԱՐՈՒԹՅԱՆ 2021 ԹՎԱԿԱՆԻ ԴԵԿՏԵՄԲԵՐԻ 23-Ի N 2121-Ն ՈՐՈՇՄԱՆ N 5 ՀԱՎԵԼՎԱԾԻ N 1 ԱՂՅՈՒՍԱԿՈՒՄ ԿԱՏԱՐՎՈՂ ՓՈՓՈԽՈՒԹՅՈՒՆՆԵՐԸ ԵՎ ԼՐԱՑՈՒՄՆԵՐԸ
E6: հազ. դրամ
B7: Ծրագրային դասիչը | D7: Բյուջետային հատկացումների գլխավոր կարգադրիչների, ծրագրերի և միջոցառումների անվանումները | E7: Ցուցանիշների փոփոխությունը (ավելացումները նշված են դրական նշանով, իսկ նվազեցումները` փակագծերում)
B8: Ծրագիր | C8: Միջոցառում | E8: Տարի
B9: 1192 | D9: ԸՆԴԱՄԵՆԸ | E9: =+E11+E272 -> -4331112.9
D10: այդ թվում`
D11: ՀՀ տարածքային կառավարման և ենթակառուցվածքների նախարարություն | E11: =E12+E61+E92+E147+E190+E215+E234+E253 -> -5984679
B12: 1004 | D12: Ծրագրի անվանումը` | E12: =E31+E37+E43+E49+E55+E19+E25 -> 19379.5
D13: Ոռոգման համակարգի առողջացում
D14: Ծրագրի նպատակը`
D15: Ոռոգման ծառայությունների հասանելիության և մատչելիության ապահովում
D16: Վերջնական արդյունքի նկարագրությունը`
D17: Ոռոգման ջրի մատակարարման արդյունավետության և հասանելիության բարելավում, կորուստների կրճատում
D18: Ծրագրի միջոցառումներ
C19: 11005 | D19: Միջոցառման անվանումը` | E19: =+'9.'!E17 -> -14150 | F19: 0 | G19: =+E19-F19 -> -14150
D20: Եվրասիական զարգացման բանկի աջակցությամբ իրականացվող ոռոգման համակարգերի_x000D_ զարգացման ծրագրի խորհրդատվություն և կառավարում | G20: =+E20-F20 -> 0
D21: Միջոցառման նկարագրությունը` | G21: =+E21-F21 -> 0
D22: Եվրասիական զարգացման բանկի աջակցությամբ իրականացվող ոռոգման համակարգերի զարգացման ծրագրի համակարգում և ղեկավարում | G22: =+E22-F22 -> 0
D23: Միջոցառման տեսակը | G23: =+E23-F23 -> 0
D24: Ծառայությունների մատուցում | G24: =+E24-F24 -> 0
C25: 11006 | D25: Միջոցառման անվանումը` | E25: =+'9.'!E28 -> 65013 | F25: 0 | G25: =+E25-F25 -> 65013
D26: Ֆրանսիայի Հանրապետության կառավարության աջակցությամբ իրականացվող Վեդու ջրամբարի կառուցման ծրագրի խորհրդատվություն և կառավարում | G26: =+E26-F26 -> 0
D27: Միջոցառման նկարագրությունը` | G27: =+E27-F27 -> 0
D28: Ֆրանսիայի Հանրապետության կառավարության աջակցությամբ իրականացվող Վեդու ջրամբարի կառուցման ծրագրի համակարգում և ղեկավարում | G28: =+E28-F28 -> 0
D29: Միջոցառման տեսակը | G29: =+E29-F29 -> 0
D30: Ծառայությունների մատուցում | G30: =+E30-F30 -> 0
C31: 1007 | D31: Միջոցառման անվանումը` | E31: ='9.'!E38 -> -143045
D32: Գերմանիայի զարգացման վարկերի բանկի աջակցությամբ իրականացվող Ախուրյան գետի ջրային ռեսուրսների ինտեգրացված կառավարում ծրագրի խորհրդատվություն և կառավարում
D33: Միջոցառման նկարագրությունը`
D34: Գերմանիայի զարգացման վարկերի բանկի աջակցությամբ իրականացվող Ախուրյան գետի ջրային ռեսուրսների ինտեգրացված կառավարում ծրագրի խորհրդատվություն և կառավարում
D35: Միջոցառման տեսակը
D36: Ծառայությունների մատուցում
C37: 11010 | D37: Միջոցառման անվանումը՝ | E37: ='9.'!E46 -> -125933.7
D38: Գերմանիայի զարգացման վարկերի բանկի աջակցությամբ իրականացվող Ախուրյան գետի ջրային ռեսուրսների ինտեգրացված կառավարում փուլ 1 ծրագրով Ջրաձոր գյուղի վերաբնակեցման գործողությունների խորհրդատվություն և կառավարում
D39: Միջոցառման նկարագրությունը`
D40: Գերմանիայի զարգացման վարկերի բանկի աջակցությամբ իրականացվող Ախուրյան գետի ջրային ռեսուրսների ինտեգրացված կառավարում փուլ 1 ծրագրով Ջրաձոր գյուղի վերաբնակեցման գործողությունների համակարգում և ղեկավարում
D41: Միջոցառման տեսակը՝
D42: Ծառայությունների մատուցում
C43: 31001 | D43: Միջոցառման անվանումը՝ | E43: ='9.'!E57 -> -174849
D44: Ֆրանսիայի Հանրապետության կառավարության աջակցությամբ իրականացվող Վեդու ջրամբարի կառուցում
D45: Միջոցառման նկարագրությունը`
D46: Ֆրանսիայի Հանրապետության կառավարության աջակցությամբ իրականացվող Վեդու ջրամբարի կառուցման ծրագիր
D47: Միջոցառման տեսակը՝
D48: Պետական մարմինների կողմից օգտագործվող ոչ ֆինանսական ակտիվների հետ գործառնություններ
C49: 31004 | D49: Միջոցառման անվանումը` | E49: ='9.'!E69 -> -0.8
D50: Գերմանիայի զարգացման վարկերի բանկի աջակցությամբ իրականացվող Ախուրյան գետի ջրային ռեսուրսների ինտեգրված կառավարման ծրագրի շրջանակներում ջրային տնտեսության ենթակառուցվածքների հիմնանորոգում
D51: Միջոցառման նկարագրությունը`
D52: Գերմանիայի զարգացման վարկերի բանկի աջակցությամբ իրականացվող Ախուրյան գետի ջրային ռեսուրսների ինտեգրված կառավարման ծրագիր
D53: Միջոցառման տեսակը
D54: Պետական մարմինների կողմից օգտագործվող ոչ ֆինանսական ակտիվների հետ գործառնություններ
C55: 31005 | D55: Միջոցառման անվանումը՝ | E55: ='9.'!E78 -> 412345
D56: Եվրասիական զարգացման բանկի աջակցությամբ իրականացվող ոռոգման համակարգերի զարգացման ծրագրի շրջանակներում ջրային տնտեսության ենթակառուցվածքների հիմնանորոգում
D57: Միջոցառման նկարագրությունը`
D58: Եվրասիական զարգացման բանկի աջակցությամբ իրականացվող ոռոգման համակարգերի զարգացման ծրագիր
D59: Միջոցառման տեսակը՝
D60: Պետական մարմինների կողմից օգտագործվող ոչ ֆինանսական ակտիվների հետ գործառնություններ
B61: 1019 | D61: Ծրագրի անվանումը` | E61: =E68+E74+E80+E86 -> -650394.6
D62: Սոցիալական ներդրումների և տեղական զարգացման ծրագիր
D63: Ծրագրի նպատակը`
D64: Նպաստել տարածքներում բնակչության նյութական և ոչ նյութական բարեկեցության աճին
D65: Վերջնական արդյունքի նկարագրությունը`
D66: Համայնքային և միջհամայնքային ենթակառուցվածքների և որակի հասանելիության բարելավում, ինստիտուցիոնալ և ֆինանասական կարողությունների հզորացում
B67: Ծրագրի միջոցառումներ
C68: 11002 | D68: Միջոցառման անվանումը` | E68: ='10.'!E18 -> -505.9
D69: ԱՄՆ Միջազգային զարգացման գործակալության աջակցությամբ իրականացվող Տեղական ինքնակառավարման բարեփոխումների դրամաշնորհային ծրագիր
D70: Միջոցառման նկարագրությունը`
D71: Օժանդակության տրամադրում տեղական և տարածքային ինքնակառավարման մարմիններին միջհամայնքային ենթածրագրերի նախագծման, ընտրության և իրականացման աշխատանքներում:
D72: Միջոցառման տեսակը
D73: Ծառայությունների մատուցում
C74: 12001 | D74: Միջոցառման անվանումը` | E74: ='9.'!E91 -> -12700
D75: Համաշխարհային բանկի աջակցությամբ իրականացվող Տարածքային զարգացման հիմնադրամի ծրագրի շրջանակներում ՀՀ տարածքներում ջրագծերի, առողջապահության, կրթության, մշակույթի, հատուկ խնամքի և ենթակառուցվածքների ոլորտի վերականգնման և շինարարության աշխատանքներ
D76: Միջոցառման նկարագրությունը`
D77: Տարածքային զարգացման հիմնադրամի ծրագրով նախատեսված ՀՀ տարածքներում ջրագծերի, առողջապահության, կրթության օբյեկտների, մշակույթային տների, ծերանոցների, մանկատների, հատուկ դպրոցների, մանկապարտեզների և կոյուղու օբյեկտների հիմնանորոգում և շինարարություն
D78: Միջոցառման տեսակը`
D79: Տրանսֆերտների տրամադրում
C80: 12003 | D80: Միջոցառման անվանումը` | E80: ='10.'!E28 -> 215612.2
D81: ԱՄՆ ՄԶԳ աջակցությամբ իրականացվող Տեղական ինքնակառավարման բարեփոխումների դրամաշնորհային ծրագրի շրջանակներում ՀՀ խոշորացվող համայնքներում հանրային ծառայությունների բարելավում, ընդլայնում, միջհամայնքային ենթածրագրերի նախագծում, ընտրություն և իրականացում
D82: Միջոցառման նկարագրությունը`
D83: Տեղական ինքնակառավարման բարեփոխումների ծրագրով նախատեսված ՀՀ խոշորացված համայնքներին տեխնիկայի տրամադրում և ենթակառուցվածքների վերականգնում/կառուցում
D84: Միջոցառման տեսակը`
D85: Տրանսֆերտների տրամադրում
C86: 12004 | D86: Միջոցառման անվանումը` | E86: ='9.'!E104 -> -852800.9
D87: Համաշխարհային բանկի աջակցությամբ իրականացվող Սոցիալական ներդրումների և տեղական զարգացման ծրագրի լրացուցիչ ֆինանսավորման վարկի շրջանակներում ՀՀ համայնքային և միջհամայնքային ենթակառուցվածքների որակի, օգտագործման և հասանելիության բարելավում
D88: Միջոցառման նկարագրությունը`
D89: Ջրագծերի, առողջապահության, կրթության օբյեկտների, մշակույթային տների, ծերանոցների, մանկատների, հատուկ դպրոցների, մանկապարտզների և կոյուղու օբյեկտների հիմն. և շինարարություն, գույքի և սարքավորումների տրամադրում շահառու ենթածրագրերի համար
D90: Միջոցառման տեսակը`
D91: Տրանսֆերտների տրամադրում
B92: 1049 | D92: Ծրագրի անվանումը` | E92: =E99+E105+E111+E117+E123+E129+E135+E141 -> -170700
D93: Ճանապարհային ցանցի բարելավում
D94: Ծրագրի նպատակը`
D95: Ճանապարհային ցանցի բարելավում և անվտանգ երթևեկության ապահովում
D96: Վերջնական արդյունքի նկարագրությունը`
D97: Ճանապարհների ծածկի որակի և փոխադրումների արդյունավետության բարելավում, ճանապարհների վիճակով պայմանավորված պատահարների նվազում
B98: Ծրագրի միջոցառումներ
C99: 11005 | D99: Միջոցառման անվանումը` | E99: ='9.'!E119 -> 125000
D100: Համաշխարհային բանկի աջակցությամբ իրականացվող Կենսական նշանակության ճանապարհային ցանցի բարելավման ծրագրի շրջանակներում համակարգում և կառավարում
D101: Միջոցառման նկարագրությունը`
...

Sheet 3-1
B1: Հավելված N3
B2: ՀՀ կառավարության 2022 թվականի
B3: ______________ ի ___Ն որոշման
B5: ՀԱՅԱՍՏԱՆԻ ՀԱՆՐԱՊԵՏՈՒԹՅԱՆ ԿԱՌԱՎԱՐՈՒԹՅԱՆ 2021 ԹՎԱԿԱՆԻ ԴԵԿՏԵՄԲԵՐԻ 23-Ի N 2121-Ն ՈՐՈՇՄԱՆ N 3 ԵՎ N 4 ՀԱՎԵԼՎԱԾՆԵՐՈՒՄ ԿԱՏԱՐՎՈՂ ՓՈՓՈԽՈՒԹՅՈՒՆՆԵՐԸ ԵՎ ԼՐԱՑՈՒՄՆԵՐԸ
H7: հազ. դրամ
B8: Գործառական դասիչը | E8: Ծրագրային դասիչը | G8: Բյուջետային ծախսերի գործառական դասակարգման բաժինների, խմբերի և դասերի, բյուջետային հատկացումների գլխավոր կարգադրիչների, ծրագրերի, միջոցառումների և միջոցառումները կատարող պետական մարմինների անվանումները | H8: Ցուցանիշների փոփոխությունը (ավելացումները նշված են դրական նշանով, իսկ նվազեցումները` փակագծերում)
B9: Բաժին | C9: Խումբ | D9: Դաս | E9: Ծրագիր | F9: Միջոցառում | H9: Ինն ամիս | I9: Տարի
G10: ԸՆԴԱՄԵՆԸ ԾԱԽՍԵՐ | H10: =+H12+H13 -> 14976.427 | I10: =+I12+I13 -> -363431.87
G11: այդ թվում`
B12: 04 | C12: 03 | D12: 05 | E12: 1167 | F12: 11006 | G12: Գերմանիայի զարգացման վարկերի բանկի (KFW)) աջակցությամբ իրականացվող «Կովկասյան էլեկտրահաղորդման ցանց I» Հայաստան-Վրաստան հաղորդիչ գիծ/ենթակայանների դրամաշնորհային ծրագիր | H12: 14976.427 | I12: -25089.77
B13: 04 | C13: 03 | D13: 05 | E13: 1167 | F13: 32006 | G13: Գերմանիայի զարգացման վարկերի բանկի (KFW) աջակցությամբ իրականացվող Կովկասյան էլեկտրահաղորդման ցանց I Հայաստան-Վրաստան հաղորդիչ գիծ/ենթակայանների դրամաշնորհային ծրագրի շրջանակներում իրականացվող ներդրումներ | H13: 0 | I13: -338342.1

Sheet 8.
B1: Հավելված N8
B2: ՀՀ կառավարության 2022 թվականի
B3: ______________ ի ___Ն որոշման
B5: ՀԱՅԱՍՏԱՆԻ ՀԱՆՐԱՊԵՏՈՒԹՅԱՆ ԿԱՌԱՎԱՐՈՒԹՅԱՆ 2021 ԹՎԱԿԱՆԻ ԴԵԿՏԵՄԲԵՐԻ 23-Ի N 2121-Ն ՈՐՈՇՄԱՆ N 3 ԵՎ N 4 ՀԱՎԵԼՎԱԾՆԵՐՈՒՄ ԿԱՏԱՐՎՈՂ ՓՈՓՈԽՈՒԹՅՈՒՆՆԵՐԸ ԵՎ ԼՐԱՑՈՒՄՆԵՐԸ
B8: Գործառական դասիչը | E8: Ծրագրային դասիչը | G8: Բյուջետային ծախսերի գործառական դասակարգման բաժինների, խմբերի և դասերի, բյուջետային հատկացումների գլխավոր կարգադրիչների, ծրագրերի, միջոցառումների և միջոցառումները կատարող պետական մարմինների անվանումները | H8: Ցուցանիշների փոփոխությունը (ավելացումները նշված են դրական նշանով, իսկ նվազեցումները` փակագծերում)
B9: Բաժին | C9: Խումբ | D9: Դաս | E9: Ծրագիր | F9: Միջոցառում | H9: Տարի
G10: ԸՆԴԱՄԵՆԸ ԾԱԽՍԵՐ | H10: =+H12+H408 -> -4331112.9
G11: այդ թվում`
G12: ՀՀ ՏԱՐԱԾՔԱՅԻՆ ԿԱՌԱՎԱՐՄԱՆ ԵՎ ԵՆԹԱԿԱՌՈՒՑՎԱԾՔՆԵՐԻ ՆԱԽԱՐԱՐՈՒԹՅՈՒՆ | H12: =+H14+H315+H381 -> -5984679
G13: այդ թվում`
B14: 04 | G14: ՏՆՏԵՍԱԿԱՆ ՀԱՐԱԲԵՐՈՒԹՅՈՒՆՆԵՐ | H14: =+H96+H150+H16+H260 -> -3328637
G15: այդ թվում`
C16: 02 | G16: Գյուղատնտեսություն, անտառային տնտեսություն, ձկնորսություն և որսորդություն | H16: =+H18 -> 19379.5
G17: այդ թվում`
D18: 04 | G18: Ոռոգում | H18: =+H22 -> 19379.5
G19: այդ թվում`
G20: ՀՀ ՏԱՐԱԾՔԱՅԻՆ ԿԱՌԱՎԱՐՄԱՆ ԵՎ ԵՆԹԱԿԱՌՈՒՑՎԱԾՔՆԵՐԻ ՆԱԽԱՐԱՐՈՒԹՅՈՒՆ | H20: =+H22 -> 19379.5
G21: այդ թվում`
E22: 1004 | G22: Ոռոգման համակարգի առողջացում | H22: =H45+H53+H64+H76+H85+H24+H35 -> 19379.5
G23: այդ թվում`
F24: 11005 | G24: Եվրասիական զարգացման բանկի աջակցությամբ իրականացվող ոռոգման համակարգերի_x000D_ զարգացման ծրագրի խորհրդատվություն և կառավարում | H24: =+H26 -> -14150
G25: այդ թվում` ըստ կատարողների
G26: ՀՀ տարածքային կառավարման և ենթակառուցվածքների նախարարության ջրային կոմիտե | H26: =+H28 -> -14150
G27: այդ թվում` բյուջետային ծախսերի տնտեսագիտական դասակարգման հոդվածներ
G28: ԸՆԴԱՄԵՆԸ ԾԱԽՍԵՐ | H28: =+H29 -> -14150
G29: ԸՆԹԱՑԻԿ ԾԱԽՍԵՐ | H29: =+H30+H32 -> -14150
G30: ԾԱՌԱՅՈՒԹՅՈՒՆՆԵՐԻ ԵՎ ԱՊՐԱՆՔՆԵՐԻ ՁԵՌՔԲԵՐՈՒՄ | H30: =+H31 -> 150
G31: -Գույքի և սարքավորումների վարձակալություն | H31: =+'9.'!E24 -> 150
G32: ԱՅԼ ԾԱԽՍԵՐ | H32: =+H33+H34 -> -14300
G33: Հարկեր, պարտադիր վճարներ և տույժեր, որոնք կառավարման տարբեր մակարդակների կողմից կիրառվում են միմյանց նկատմամբ | H33: =+'9.'!E26 -> 500
G34: Այլ ծախսեր | H34: =+'9.'!E27 -> -14800
F35: 11006 | G35: Ֆրանսիայի Հանրապետության կառավարության աջակցությամբ իրականացվող Վեդու ջրամբարի կառուցման ծրագրի խորհրդատվություն և կառավարում | H35: =+H37 -> 65013
G36: այդ թվում` ըստ կատարողների
G37: ՀՀ տարածքային կառավարման և ենթակառուցվածքների նախարարության ջրային կոմիտե | H37: =+H39 -> 65013
G38: այդ թվում` բյուջետային ծախսերի տնտեսագիտական դասակարգման հոդվածներ
G39: ԸՆԴԱՄԵՆԸ ԾԱԽՍԵՐ | H39: =+H40 -> 65013
G40: ԸՆԹԱՑԻԿ ԾԱԽՍԵՐ | H40: =+H41+H43 -> 65013
G41: ԾԱՌԱՅՈՒԹՅՈՒՆՆԵՐԻ ԵՎ ԱՊՐԱՆՔՆԵՐԻ ՁԵՌՔԲԵՐՈՒՄ | H41: =+H42 -> 100
G42: -Գույքի և սարքավորումների վարձակալություն | H42: =+'9.'!E35 -> 100
G43: ԱՅԼ ԾԱԽՍԵՐ | H43: =+H44 -> 64913
G44: Այլ ծախսեր | H44: =+'9.'!E37 -> 64913
F45: 11007 | G45: Գերմանիայի զարգացման վարկերի բանկի աջակցությամբ իրականացվող Ախուրյան գետի ջրային ռեսուրսների ինտեգրացված կառավարում ծրագրի խորհրդատվություն և կառավարում | H45: =+H47 -> -143045
G46: այդ թվում` ըստ կատարողների
G47: ՀՀ տարածքային կառավարման և ենթակառուցվածքների նախարարության ջրային կոմիտե | H47: =+H49 -> -143045
G48: այդ թվում` բյուջետային ծախսերի տնտեսագիտական դասակարգման հոդվածներ
G49: ԸՆԴԱՄԵՆԸ ԾԱԽՍԵՐ | H49: =+H50 -> -143045
G50: ԸՆԹԱՑԻԿ ԾԱԽՍԵՐ | H50: =+H51 -> -143045
G51: ԱՅԼ ԾԱԽՍԵՐ | H51: =+H52 -> -143045
G52: Այլ ծախսեր | H52: ='9.'!E45 -> -143045
F53: 11010 | G53: Գերմանիայի զարգացման վարկերի բանկի աջակցությամբ իրականացվող Ախուրյան գետի ջրային ռեսուրսների ինտեգրացված կառավարում փուլ 1 ծրագրով Ջրաձոր գյուղի վերաբնակեցման գործողությունների խորհրդատվություն և կառավարում | H53: =H55 -> -125933.7
G54: այդ թվում` ըստ կատարողների
G55: ՀՀ տարածքային կառավարման և ենթակառուցվածքների նախարարության ջրային կոմիտե | H55: =+H58 -> -125933.7
G56: այդ թվում` բյուջետային ծախսերի տնտեսագիտական դասակարգման հոդվածներ
G57: ԸՆԴԱՄԵՆԸ ԾԱԽՍԵՐ
G58: ԸՆԹԱՑԻԿ ԾԱԽՍԵՐ | H58: =+H59+H61 -> -125933.7
G59: ԴՐԱՄԱՇՆՈՐՀՆԵՐ | H59: =+H60 -> -27976.7
G60: - Այլ ընթացիկ դրամաշնորհներ | H60: ='9.'!E53 -> -27976.7
G61: ԱՅԼ ԾԱԽՍԵՐ | H61: =+H62+H63 -> -97957
G62: Հարկեր, պարտադիր վճարներ և տույժեր, որոնք կառավարման տարբեր մակարդակների կողմից կիրառվում են միմյանց նկատմամբ | H62: =+'9.'!G55 -> -8423
G63: - Այլ ծախսեր | H63: ='9.'!E56 -> -89534
F64: 31001 | G64: Ֆրանսիայի Հանրապետության կառավարության աջակցությամբ իրականացվող Վեդու ջրամբարի կառուցում | H64: =H66 -> -174849
G65: այդ թվում` ըստ կատարողների
G66: ՀՀ տարածքային կառավարման և ենթակառուցվածքների նախարարության ջրային կոմիտե | H66: =+H68 -> -174849
G67: այդ թվում` բյուջետային ծախսերի տնտեսագիտական դասակարգման հոդվածներ
G68: ԸՆԴԱՄԵՆԸ ԾԱԽՍԵՐ | H68: =+H69 -> -174849
G69: ՈՉ ՖԻՆԱՆՍԱԿԱՆ ԱԿՏԻՎՆԵՐԻ ԳԾՈՎ ԾԱԽՍԵՐ | H69: =+H70 -> -174849
G70: ՀԻՄՆԱԿԱՆ ՄԻՋՈՑՆԵՐ | H70: =+H71+H73 -> -174849
G71: ՇԵՆՔԵՐ ԵՎ ՇԻՆՈՒԹՅՈՒՆՆԵՐ | H71: =H72 -> -160454
G72: - Շենքերի և շինությունների շինարարություն | H72: ='9.'!E65 -> -160454
G73: ՄԵՔԵՆԱՆԵՐ ԵՎ ՍԱՐՔԱՎՈՐՈՒՄՆԵՐ | H73: =+H74+H75 -> -14395
G74: - Վարչական սարքավորումներ | H74: ='9.'!E67 -> -1395
G75: - Այլ մեքենաներ և սարքավորումներ | H75: ='9.'!E68 -> -13000
F76: 31004 | G76: Գերմանիայի զարգացման վարկերի բանկի աջակցությամբ իրականացվող Ախուրյան գետի ջրային ռեսուրսների ինտեգրված կառավարման ծրագրի շրջանակներում ջրային տնտեսության ենթակառուցվածքների հիմնանորոգում | H76: =+H78 -> -0.8
G77: այդ թվում` ըստ կատարողների
G78: ՀՀ տարածքային կառավարման և ենթակառուցվածքների նախարարության ջրային կոմիտե | H78: =+H80 -> -0.8
G79: այդ թվում` բյուջետային ծախսերի տնտեսագիտական դասակարգման հոդվածներ
G80: ԸՆԴԱՄԵՆԸ ԾԱԽՍԵՐ | H80: =+H81 -> -0.8
G81: ՈՉ ՖԻՆԱՆՍԱԿԱՆ ԱԿՏԻՎՆԵՐԻ ԳԾՈՎ ԾԱԽՍԵՐ | H81: =+H82 -> -0.8
G82: ՀԻՄՆԱԿԱՆ ՄԻՋՈՑՆԵՐ | H82: =+H83 -> -0.8
G83: ՇԵՆՔԵՐ ԵՎ ՇԻՆՈՒԹՅՈՒՆՆԵՐ | H83: =+H84 -> -0.8
G84: - Շենքերի և շինությունների շինարարություն | H84: ='9.'!E77 -> -0.8
F85: 31005 | G85: Եվրասիական զարգացման բանկի աջակցությամբ իրականացվող ոռոգման համակարգերի զարգացման ծրագրի շրջանակներում ջրային տնտեսության ենթակառուցվածքների հիմնանորոգում | H85: =H87 -> 412345
G86: այդ թվում` ըստ կատարողների
G87: ՀՀ տարածքային կառավարման և ենթակառուցվածքների նախարարության ջրային կոմիտե | H87: =+H90 -> 412345
G88: այդ թվում` բյուջետային ծախսերի տնտեսագիտական դասակարգման հոդվածներ
G89: ԸՆԴԱՄԵՆԸ ԾԱԽՍԵՐ | H89: =+H90 -> 412345
G90: ՈՉ ՖԻՆԱՆՍԱԿԱՆ ԱԿՏԻՎՆԵՐԻ ԳԾՈՎ ԾԱԽՍԵՐ | H90: =+H91 -> 412345
G91: ՀԻՄՆԱԿԱՆ ՄԻՋՈՑՆԵՐ | H91: =+H92+H94 -> 412345
G92: ՇԵՆՔԵՐ ԵՎ ՇԻՆՈՒԹՅՈՒՆՆԵՐ | H92: =+H93 -> 457635
G93: - Շենքերի և շինությունների շինարարություն | H93: ='9.'!E86 -> 457635
G94: ՄԵՔԵՆԱՆԵՐ ԵՎ ՍԱՐՔԱՎՈՐՈՒՄՆԵՐ | H94: =+H95 -> -45290
G95: - Այլ մեքենաներ և սարքավորումներ | H95: ='9.'!E88 -> -45290
C96: 03 | G96: Վառելիք և էներգետիկա | H96: =+H98 -> -406252.7
G97: այդ թվում`
D98: 05 | G98: Էլեկտրաէներգիա | H98: =+H100 -> -406252.7
G99: այդ թվում`
G100: ՀՀ ՏԱՐԱԾՔԱՅԻՆ ԿԱՌԱՎԱՐՄԱՆ ԵՎ ԵՆԹԱԿԱՌՈՒՑՎԱԾՔՆԵՐԻ ՆԱԽԱՐԱՐՈՒԹՅՈՒՆ | H100: =H102+H123 -> -406252.7
G101: այդ թվում`
E102: 1167 | G102: Էլեկտրաէներգետիկ համակարգի զարգացման ծրագիր | H102: =H104+H112 -> -259148.7
G103: այդ թվում`
...

Sheet 9.
G1: Հավելված N9
G2: ՀՀ կառավարության 2022 թվականի
G3: ______________ ի ___Ն որոշման
B5: «ՀԱՅԱUՏԱՆԻ ՀԱՆՐԱՊԵՏՈՒԹՅԱՆ 2022 ԹՎԱԿԱՆԻ ՊԵՏԱԿԱՆ ԲՅՈՒՋԵԻ ՄԱUԻՆ» OՐԵՆՔԻ N 1 ՀԱՎԵԼՎԱԾԻ N 4 ԱՂՅՈՒՍԱԿՈՒՄ ԵՎ ՀԱՅԱՍՏԱՆԻ ՀԱՆՐԱՊԵՏՈՒԹՅԱՆ ԿԱՌԱՎԱՐՈՒԹՅԱՆ 2021 ԹՎԱԿԱՆԻ ԴԵԿՏԵՄԲԵՐԻ 23-Ի N 2121-Ն ՈՐՈՇՄԱՆ N 5 ՀԱՎԵԼՎԱԾԻ N 3 ԱՂՅՈՒՍԱԿՈՒՄ ԿԱՏԱՐՎՈՂ ՓՈՓՈԽՈՒԹՅՈՒՆՆԵՐԸ
G6: հազ. դրամ
B7: Ծրագրային դասիչը | D7: Բյուջետային գլխավոր կարգադրիչների, ծրագրերի և միջոցառումների անվանումները | E7: Ցուցանիշների փոփոխությունը (ավելացումները նշված են դրական նշանով, իսկ նվազեցումները` փակագծերում)
E8: Տարի
E9: Ընդամենը | F9: այդ թվում`
B10: Ծրագիր | C10: Միջոց առում | F10: Վարկային միջոցներ | G10: Համաֆինան սավորում
D11: ԸՆԴԱՄԵՆԸ_x000D_ այդ թվում` | E11: =F11+G11 -> -4725655 | F11: =F12+F13 -> -3186202.7 | G11: =G12+G13 -> -1539452.3 | H11: =+'[2]9.'!E11-E11 -> 170700 | I11: =+'[2]9.'!F11-F11 -> 0 | J11: =+'[2]9.'!G11-G11 -> 170700
D12: - ԸՆԹԱՑԻԿ ԾԱԽՍԵՐ | E12: =F12+G12 -> -504415.7 | F12: =F43+F51+F124+F132+F141+F149+F157+F245+F22+F33 -> -181485 | G12: =G43+G51+G124+G132+G141+G149+G157+G245+G22+G33 -> -322930.7 | H12: =+'[2]9.'!E12-E12 -> 284300 | I12: =+'[2]9.'!F12-F12 -> 101600 | J12: =+'[2]9.'!G12-G12 -> 182700
D13: - ՈՉ ՖԻՆԱՆՍԱԿԱՆ ԱԿՏԻՎՆԵՐԻ ԳԾՈՎ ԾԱԽՍԵՐ | E13: =F13+G13 -> -4221239.3 | F13: =F62+F74+F83+F96+F109+F165+F174+F183+F194+F203+F214+F223+F234+F253 -> -3004717.7 | G13: =G62+G74+G83+G96+G109+G165+G174+G183+G194+G203+G214+G223+G234+G253 -> -1216521.6 | H13: =+'[2]9.'!E13-E13 -> -113600 | I13: =+'[2]9.'!F13-F13 -> -101600 | J13: =+'[2]9.'!G13-G13 -> -12000
D14: ՀՀ ՏԱՐԱԾՔԱՅԻՆ ԿԱՌԱՎԱՐՄԱՆ ԵՎ ԵՆԹԱԿԱՌՈՒՑՎԱԾՔՆԵՐԻ ՆԱԽԱՐԱՐՈՒԹՅՈՒՆ_x000D_ այդ թվում` | E14: =F14+G14 -> -4725655 | F14: =F15+F89+F117+F187+F227+F238 -> -3186202.7 | G14: =G15+G89+G117+G187+G227+G238 -> -1539452.3 | H14: =+'[2]9.'!E14-E14 -> 170700 | I14: =+'[2]9.'!F14-F14 -> 0 | J14: =+'[2]9.'!G14-G14 -> 170700
B15: 1004 | D15: Ոռոգման համակարգի առողջացում | E15: =F15+G15 -> 19379.5 | F15: =F38+F46+F57+F69+F78+F17+F28 -> 355362.9 | G15: =G38+G46+G57+G69+G78+G17+G28 -> -335983.4 | H15: =+'[2]9.'!E15-E15 -> 0 | I15: =+'[2]9.'!F15-F15 -> 0 | J15: =+'[2]9.'!G15-G15 -> 0
D16: այդ թվում`
C17: 11005 | D17: Եվրասիական զարգացման բանկի աջակցությամբ իրականացվող ոռոգման համակարգերի_x000D_ զարգացման ծրագրի խորհրդատվություն և կառավարում | E17: =+F17+G17 -> -14150 | F17: =+F21 -> -10850 | G17: =+G21 -> -3300
D18: այդ թվում` ըստ կատարողների
D19: ՀՀ տարածքային կառավարման և ենթակառուցվածքների նախարարության ջրային կոմիտե | E19: =F19+G19 -> -14150 | F19: =F17 -> -10850 | G19: =G17 -> -3300
D20: այդ թվում` բյուջետային ծախսերի տնտեսագիտական դասակարգման հոդվածներ
D21: ԸՆԴԱՄԵՆԸ ԾԱԽՍԵՐ | E21: =F21+G21 -> -14150 | F21: =+F22 -> -10850 | G21: =+G22 -> -3300
D22: ԸՆԹԱՑԻԿ ԾԱԽՍԵՐ | E22: =F22+G22 -> -14150 | F22: =+F23+F25 -> -10850 | G22: =+G23+G25 -> -3300
D23: ԾԱՌԱՅՈՒԹՅՈՒՆՆԵՐԻ ԵՎ ԱՊՐԱՆՔՆԵՐԻ ՁԵՌՔԲԵՐՈՒՄ | E23: =+F23+G23 -> 150 | F23: =+F24 -> 150 | G23: =+G24 -> 0
D24: - Գույքի և սարքավորումների վարձակալություն | E24: =+F24+G24 -> 150 | F24: 150 | G24: 0
D25: ԱՅԼ ԾԱԽՍԵՐ | E25: =+F25+G25 -> -14300 | F25: =+F27+F26 -> -11000 | G25: =+G27+G26 -> -3300
D26: Հարկեր, պարտադիր վճարներ և տույժեր, որոնք կառավարման տարբեր մակարդակների կողմից կիրառվում են միմյանց նկատմամբ | E26: =+F26+G26 -> 500 | F26: 0 | G26: 500
D27: Այլ ծախսեր | E27: =+F27+G27 -> -14800 | F27: -11000 | G27: -3800
C28: 11006 | D28: Ֆրանսիայի Հանրապետության կառավարության աջակցությամբ իրականացվող Վեդու ջրամբարի կառուցման ծրագրի խորհրդատվություն և կառավարում | E28: =+F28+G28 -> 65013 | F28: =+F32 -> 45465 | G28: =+G32 -> 19548
D29: այդ թվում` ըստ կատարողների
D30: ՀՀ տարածքային կառավարման և ենթակառուցվածքների նախարարության ջրային կոմիտե | E30: =F30+G30 -> 65013 | F30: =F28 -> 45465 | G30: =G28 -> 19548
D31: այդ թվում` բյուջետային ծախսերի տնտեսագիտական դասակարգման հոդվածներ
D32: ԸՆԴԱՄԵՆԸ ԾԱԽՍԵՐ | E32: =F32+G32 -> 65013 | F32: =+F33 -> 45465 | G32: =+G33 -> 19548
D33: ԸՆԹԱՑԻԿ ԾԱԽՍԵՐ | E33: =F33+G33 -> 65013 | F33: =+F34+F36 -> 45465 | G33: =+G34+G36 -> 19548
D34: ԾԱՌԱՅՈՒԹՅՈՒՆՆԵՐԻ ԵՎ ԱՊՐԱՆՔՆԵՐԻ ՁԵՌՔԲԵՐՈՒՄ | E34: =+F34+G34 -> 100 | F34: =+F35 -> 100 | G34: =+G35 -> 0
D35: - Գույքի և սարքավորումների վարձակալություն | E35: =+F35+G35 -> 100 | F35: 100 | G35: 0
D36: ԱՅԼ ԾԱԽՍԵՐ | E36: =+F36+G36 -> 64913 | F36: =+F37 -> 45365 | G36: =+G37 -> 19548
D37: Այլ ծախսեր | E37: =+F37+G37 -> 64913 | F37: 45365 | G37: 19548
C38: 11007 | D38: Գերմանիայի զարգացման վարկերի բանկի աջակցությամբ իրականացվող Ախուրյան գետի ջրային ռեսուրսների ինտեգրացված կառավարում ծրագրի խորհրդատվություն և կառավարում | E38: =+F38+G38 -> -143045 | F38: =+F42 -> -114500 | G38: =+G42 -> -28545
D39: այդ թվում` ըստ կատարողների
D40: ՀՀ տարածքային կառավարման և ենթակառուցվածքների նախարարության ջրային կոմիտե | E40: =F40+G40 -> -143045 | F40: =F38 -> -114500 | G40: =G38 -> -28545
D41: այդ թվում` բյուջետային ծախսերի տնտեսագիտական դասակարգման հոդվածներ
D42: ԸՆԴԱՄԵՆԸ ԾԱԽՍԵՐ | E42: =F42+G42 -> -143045 | F42: =+F43 -> -114500 | G42: =+G43 -> -28545
D43: ԸՆԹԱՑԻԿ ԾԱԽՍԵՐ | E43: =+F43+G43 -> -143045 | F43: =+F44 -> -114500 | G43: =+G44 -> -28545
D44: ԱՅԼ ԾԱԽՍԵՐ | E44: =+F44+G44 -> -143045 | F44: =+F45 -> -114500 | G44: =+G45 -> -28545
D45: Այլ ծախսեր | E45: =+F45+G45 -> -143045 | F45: -114500 | G45: -28545
C46: 11010 | D46: Գերմանիայի զարգացման վարկերի բանկի աջակցությամբ իրականացվող Ախուրյան գետի ջրային ռեսուրսների ինտեգրացված կառավարում փուլ 1 ծրագրով Ջրաձոր գյուղի վերաբնակեցման գործողությունների խորհրդատվություն և կառավարում | E46: =+F46+G46 -> -125933.7 | F46: =+F50 -> 0 | G46: =+G50 -> -125933.7
D47: այդ թվում` ըստ կատարողների
D48: ՀՀ տարածքային կառավարման և ենթակառուցվածքների նախարարության ջրային կոմիտե | E48: =F48+G48 -> -125933.7 | F48: =F46 -> 0 | G48: =G46 -> -125933.7
D49: այդ թվում` բյուջետային ծախսերի տնտեսագիտական դասակարգման հոդվածներ
D50: ԸՆԴԱՄԵՆԸ ԾԱԽՍԵՐ | E50: =F50+G50 -> -125933.7 | F50: =+F51 -> 0 | G50: =+G51 -> -125933.7
D51: ԸՆԹԱՑԻԿ ԾԱԽՍԵՐ | E51: =+F51+G51 -> -125933.7 | F51: =+F54+F52 -> 0 | G51: =+G54+G52 -> -125933.7
D52: ԴՐԱՄԱՇՆՈՐՀՆԵՐ | E52: =+F52+G52 -> -27976.7 | F52: =+F53 -> 0 | G52: =+G53 -> -27976.7
D53: - Այլ ընթացիկ դրամաշնորհներ | E53: =+F53+G53 -> -27976.7 | G53: -27976.7
D54: ԱՅԼ ԾԱԽՍԵՐ | E54: =+F54+G54 -> -97957 | F54: =+F56 -> 0 | G54: =+G55+G56 -> -97957
D55: Հարկեր, պարտադիր վճարներ և տույժեր, որոնք կառավարման տարբեր մակարդակների կողմից կիրառվում են միմյանց նկատմամբ | E55: =+F55+G55 -> -8423 | G55: -8423
D56: Այլ ծախսեր | E56: =+F56+G56 -> -89534 | G56: -89534
C57: 31001 | D57: Ֆրանսիայի Հանրապետության կառավարության աջակցությամբ իրականացվող Վեդու ջրամբարի կառուցում | E57: =+F57+G57 -> -174849 | F57: =+F59 -> -100386.3 | G57: =+G59 -> -74462.7
D58: այդ թվում` ըստ կատարողների
D59: ՀՀ տարածքային կառավարման և ենթակառուցվածքների նախարարության ջրային կոմիտե | E59: =F59+G59 -> -174849 | F59: =+F61 -> -100386.3 | G59: =+G61 -> -74462.7
D60: այդ թվում` բյուջետային ծախսերի տնտեսագիտական դասակարգման հոդվածներ
D61: ԸՆԴԱՄԵՆԸ ԾԱԽՍԵՐ | E61: =+E62 -> -174849 | F61: =+F62 -> -100386.3 | G61: =+G62 -> -74462.7
D62: ՈՉ ՖԻՆԱՆՍԱԿԱՆ ԱԿՏԻՎՆԵՐԻ ԳԾՈՎ ԾԱԽՍԵՐ | E62: =F62+G62 -> -174849 | F62: =+F63 -> -100386.3 | G62: =+G63 -> -74462.7
D63: ՀԻՄՆԱԿԱՆ ՄԻՋՈՑՆԵՐ | E63: =+F63+G63 -> -174849 | F63: =+F64+F66 -> -100386.3 | G63: =+G64+G66 -> -74462.7
D64: ՇԵՆՔԵՐ ԵՎ ՇԻՆՈՒԹՅՈՒՆՆԵՐ | E64: =+F64+G64 -> -160454 | F64: =+F65 -> -88423 | G64: =+G65 -> -72031
D65: - Շենքերի և շինությունների շինարարություն | E65: =+F65+G65 -> -160454 | F65: -88423 | G65: -72031
D66: ՄԵՔԵՆԱՆԵՐ ԵՎ ՍԱՐՔԱՎՈՐՈՒՄՆԵՐ | E66: =+F66+G66 -> -14395 | F66: =+F67+F68 -> -11963.3 | G66: =+G67+G68 -> -2431.7
D67: - Վարչական սարքավորումներ | E67: =+F67+G67 -> -1395 | F67: -1130 | G67: -265
D68: - Այլ մեքենաներ և սարքավորումներ | E68: =+F68+G68 -> -13000 | F68: -10833.3 | G68: -2166.7
C69: 31004 | D69: Գերմանիայի զարգացման վարկերի բանկի աջակցությամբ իրականացվող Ախուրյան գետի ջրային ռեսուրսների ինտեգրված կառավարման ծրագրի շրջանակներում ջրային տնտեսության ենթակառուցվածքների հիմնանորոգում | E69: =E71 -> -0.8 | F69: =F71 -> -0.8 | G69: =G71 -> 0
D70: այդ թվում` ըստ կատարողների
D71: ՀՀ տարածքային կառավարման և ենթակառուցվածքների նախարարության ջրային կոմիտե | E71: =E76 -> -0.8 | F71: =F76 -> -0.8 | G71: =G76 -> 0
D72: այդ թվում` բյուջետային ծախսերի տնտեսագիտական դասակարգման հոդվածներ
D73: ԸՆԴԱՄԵՆԸ ԾԱԽՍԵՐ | E73: =E74 -> -0.8 | F73: =F74 -> -0.8 | G73: =G74 -> 0
D74: ՈՉ ՖԻՆԱՆՍԱԿԱՆ ԱԿՏԻՎՆԵՐԻ ԳԾՈՎ ԾԱԽՍԵՐ | E74: =E75 -> -0.8 | F74: =F75 -> -0.8 | G74: =G75 -> 0
D75: ՀԻՄՆԱԿԱՆ ՄԻՋՈՑՆԵՐ | E75: =E76 -> -0.8 | F75: =F76 -> -0.8 | G75: =G76 -> 0
D76: ՇԵՆՔԵՐ ԵՎ ՇԻՆՈՒԹՅՈՒՆՆԵՐ | E76: =E77 -> -0.8 | F76: =F77 -> -0.8 | G76: =G77 -> 0
D77: - Շենքերի և շինությունների շինարարություն | E77: =F77+G77 -> -0.8 | F77: -0.8 | G77: 0
C78: 31005 | D78: Եվրասիական զարգացման բանկի աջակցությամբ իրականացվող ոռոգման համակարգերի զարգացման ծրագրի շրջանակներում ջրային տնտեսության ենթակառուցվածքների հիմնանորոգում | E78: =+F78+G78 -> 412345 | F78: =+F83 -> 535635 | G78: =+G83 -> -123290
D79: այդ թվում` ըստ կատարողների
D80: ՀՀ տարածքային կառավարման և ենթակառուցվածքների նախարարության ջրային կոմիտե | E80: =F80+G80 -> 412345 | F80: =F78 -> 535635 | G80: =G78 -> -123290
D81: այդ թվում` բյուջետային ծախսերի տնտեսագիտական դասակարգման հոդվածներ
D82: ԸՆԴԱՄԵՆԸ ԾԱԽՍԵՐ | E82: =+F82+G82 -> 412345 | F82: =+F83 -> 535635 | G82: =+G83 -> -123290
D83: ՈՉ ՖԻՆԱՆՍԱԿԱՆ ԱԿՏԻՎՆԵՐԻ ԳԾՈՎ ԾԱԽՍԵՐ | E83: =+F83+G83 -> 412345 | F83: =+F84 -> 535635 | G83: =+G84 -> -123290
D84: ՀԻՄՆԱԿԱՆ ՄԻՋՈՑՆԵՐ | E84: =+E85 -> 457635 | F84: =+F85+F87 -> 535635 | G84: =+G85+G87 -> -123290
D85: ՇԵՆՔԵՐ ԵՎ ՇԻՆՈՒԹՅՈՒՆՆԵՐ | E85: =+F85+G85 -> 457635 | F85: =+F86 -> 567635 | G85: =+G86 -> -110000
D86: - Շենքերի և շինությունների շինարարություն | E86: =+F86+G86 -> 457635 | F86: 567635 | G86: -110000
D87: ՄԵՔԵՆԱՆԵՐ ԵՎ ՍԱՐՔԱՎՈՐՈՒՄՆԵՐ | E87: =+F87+G87 -> -45290 | F87: =+F88 -> -32000 | G87: =+G88 -> -13290
D88: - Այլ մեքենաներ և սարքավորումներ | E88: =+F88+G88 -> -45290 | F88: -32000 | G88: -13290
B89: 1019 | D89: Սոցիալական ներդրումների և տեղական զարգացման ծրագիր | E89: =E91+E104 -> -865500.9 | F89: =F91+F104 -> -609537.5 | G89: =G91+G104 -> -255963.4
D90: այդ թվում`
C91: 12001 | D91: Համաշխարհային բանկի աջակցությամբ իրականացվող Տարածքային զարգացման հիմնադրամի ծրագրի շրջանակներում ՀՀ տարածքներում ջրագծերի, առողջապահության, կրթության, մշակույթի, հատուկ խնամքի և ենթակառուցվածքների ոլորտի վերականգնման և շինարարության աշխատանքներ | E91: =E93 -> -12700 | F91: =F93 -> 41000 | G91: =G93 -> -53700
D92: այդ թվում` ըստ կատարողների
D93: ՀՀ տարածքային կառավարման և ենթակառուցվածքների նախարարություն | E93: =E95 -> -12700 | F93: =F95 -> 41000 | G93: =G95 -> -53700
D94: այդ թվում` բյուջետային ծախսերի տնտեսագիտական դասակարգման հոդվածներ
D95: ԸՆԴԱՄԵՆԸ ԾԱԽՍԵՐ | E95: =E96 -> -12700 | F95: =F96 -> 41000 | G95: =G96 -> -53700
D96: ՈՉ ՖԻՆԱՆՍԱԿԱՆ ԱԿՏԻՎՆԵՐԻ ԳԾՈՎ ԾԱԽՍԵՐ | E96: =E97 -> -12700 | F96: =F97 -> 41000 | G96: =G97 -> -53700
D97: ՀԻՄՆԱԿԱՆ ՄԻՋՈՑՆԵՐ | E97: =F97+G97 -> -12700 | F97: =F98+F100+F102 -> 41000 | G97: =G98+G100+G102 -> -53700
D98: ՇԵՆՔԵՐ ԵՎ ՇԻՆՈՒԹՅՈՒՆՆԵՐ | E98: =E99 -> -92400 | F98: =F99 -> -55000 | G98: =G99 -> -37400
D99: - Շենքերի և շինությունների շինարարություն | E99: =F99+G99 -> -92400 | F99: -55000 | G99: -37400
D100: ՄԵՔԵՆԱՆԵՐ ԵՎ ՍԱՐՔԱՎՈՐՈՒՄՆԵՐ | E100: =E101 -> 81300 | F100: =F101 -> 96000 | G100: =G101 -> -14700
D101: - Վարչական սարքավորումներ | E101: =F101+G101 -> 81300 | F101: 96000 | G101: -14700
...

Sheet 10.
G1: Հավելված N10
G2: ՀՀ կառավարության 2022 թվականի
G3: ______________ ի ___Ն որոշման
B5: «ՀԱՅԱUՏԱՆԻ ՀԱՆՐԱՊԵՏՈՒԹՅԱՆ 2022 ԹՎԱԿԱՆԻ ՊԵՏԱԿԱՆ ԲՅՈՒՋԵԻ ՄԱUԻՆ» OՐԵՆՔԻ N 1 ՀԱՎԵԼՎԱԾԻ N 5 ԱՂՅՈՒՍԱԿՈՒՄ ԵՎ ՀԱՅԱՍՏԱՆԻ ՀԱՆՐԱՊԵՏՈՒԹՅԱՆ ԿԱՌԱՎԱՐՈՒԹՅԱՆ 2021 ԹՎԱԿԱՆԻ ԴԵԿՏԵՄԲԵՐԻ 23-Ի N 2121-Ն ՈՐՈՇՄԱՆ N 5 ՀԱՎԵԼՎԱԾԻ N 4 ԱՂՅՈՒՍԱԿՈՒՄ ԿԱՏԱՐՎՈՂ ՓՈՓՈԽՈՒԹՅՈՒՆՆԵՐԸ
G6: հազ. դրամ
B7: Ծրագրային դասիչը | D7: Բյուջետային գլխավոր կարգադրիչների, ծրագրերի և միջոցառումների անվանումները | E7: Ցուցանիշների փոփոխությունը (ավելացումները նշված են դրական նշանով, իսկ նվազեցումները` փակագծերում)
E8: Տարի
E9: Ընդամենը | F9: այդ թվում`
B10: Ծրագիր | C10: Միջոց առում | F10: Դրամաշնորհային միջոցներ | G10: Համաֆինան սավորում
D11: ԸՆԴԱՄԵՆԸ | E11: =+F11+G11 -> -1259024 | F11: =F13+F14 -> -1144910.2 | G11: =G13+G14 -> -114113.8
D12: այդ թվում`
D13: ԸՆԹԱՑԻԿ ԾԱԽՍԵՐ | E13: =+F13+G13 -> -65010.5 | F13: =F23+F75+F85+F106 -> -51489.3 | G13: =G23+G75+G85+G106 -> -13521.2
D14: ՈՉ ՖԻՆԱՆՍԱԿԱՆ ԱԿՏԻՎՆԵՐԻ ԳԾՈՎ ԾԱԽՍԵՐ | E14: =+F14+G14 -> -1194013.5 | F14: =F33+F46+F55+F66+F93+F120 -> -1093420.9 | G14: =G33+G46+G55+G66+G93+G120 -> -100592.6
D15: ՀՀ ՏԱՐԱԾՔԱՅԻՆ ԿԱՌԱՎԱՐՄԱՆ ԵՎ ԵՆԹԱԿԱՌՈՒՑՎԱԾՔՆԵՐԻ ՆԱԽԱՐԱՐՈՒԹՅՈՒՆ | E15: =+F15+G15 -> -1259024 | F15: =F16+F39+F59+F78+F99 -> -1144910.2 | G15: =G16+G39+G59+G78+G99 -> -114113.8
B16: 1019 | D16: Սոցիալական ներդրումների և տեղական զարգացման ծրագիր | E16: =+F16+G16 -> 215106.3 | F16: =F18+F28 -> 215106.3 | G16: =G18+G28 -> 0
D17: այդ թվում`
C18: 11002 | D18: ԱՄՆ Միջազգային զարգացման գործակալության աջակցությամբ իրականացվող Տեղական ինքնակառավարման բարեփոխումների դրամաշնորհային ծրագիր | E18: =E20 -> -505.9 | F18: =F20 -> -505.9 | G18: =G20 -> 0
D19: այդ թվում` ըստ կատարողների
D20: ՀՀ տարածքային կառավարման և ենթակառուցվածքների նախարարություն | E20: =F20+G20 -> -505.9 | F20: =F22 -> -505.9 | G20: =G22 -> 0
D21: այդ թվում` բյուջետային ծախսերի տնտեսագիտական դասակարգման հոդվածներ
D22: ԸՆԴԱՄԵՆԸ ԾԱԽՍԵՐ | E22: =E23 -> -505.9 | F22: =F23 -> -505.9 | G22: =G23 -> 0
D23: ԸՆԹԱՑԻԿ ԾԱԽՍԵՐ | E23: =F23+G23 -> -505.9 | F23: =F24+F26 -> -505.9 | G23: =G25 -> 0
D24: ԾԱՌԱՅՈՒԹՅՈՒՆՆԵՐԻ ԵՎ ԱՊՐԱՆՔՆԵՐԻ ՁԵՌՔԲԵՐՈՒՄ | E24: =F24 -> -380 | F24: =F25 -> -380 | G24: 0
D25: - Վարչական ծառայություններ | E25: =F25+G25 -> -380 | F25: -380 | G25: 0
D26: ԱՅԼ ԾԱԽՍԵՐ | E26: =E27 -> -125.9 | F26: =F27 -> -125.9 | G26: 0
D27: - Այլ ծախսեր | E27: =F27+G27 -> -125.9 | F27: -125.9 | G27: 0
C28: 12003 | D28: ԱՄՆ ՄԶԳ աջակցությամբ իրականացվող Տեղական ինքնակառավարման բարեփոխումների դրամաշնորհային ծրագրի շրջանակներում ՀՀ խոշորացվող համայնքներում հանրային ծառայությունների բարելավում, ընդլայնում, միջհամայնքային ենթածրագրերի նախագծում, ընտրություն և իրականացում | E28: =+E30 -> 215612.2 | F28: =+F30 -> 215612.2 | G28: =+G30 -> 0
D29: այդ թվում` ըստ կատարողների
D30: ՀՀ տարածքային կառավարման և ենթակառուցվածքների նախարարություն | E30: =+E32 -> 215612.2 | F30: =+F32 -> 215612.2 | G30: =+G32 -> 0
D31: այդ թվում` բյուջետային ծախսերի տնտեսագիտական դասակարգման հոդվածներ
D32: ԸՆԴԱՄԵՆԸ ԾԱԽՍԵՐ | E32: =+F32+G32 -> 215612.2 | F32: =+F33 -> 215612.2 | G32: =+G33 -> 0
D33: ՈՉ ՖԻՆԱՆՍԱԿԱՆ ԱԿՏԻՎՆԵՐԻ ԳԾՈՎ ԾԱԽՍԵՐ | E33: =+F33+G33 -> 215612.2 | F33: =+F34 -> 215612.2 | G33: =+G34 -> 0
D34: ՀԻՄՆԱԿԱՆ ՄԻՋՈՑՆԵՐ | E34: =+F34+G34 -> 215612.2 | F34: =+F37+F35 -> 215612.2 | G34: =+G37 -> 0
D35: ՄԵՔԵՆԱՆԵՐ ԵՎ ՍԱՐՔԱՎՈՐՈՒՄՆԵՐ | E35: =+F35+G35 -> 224812.4 | F35: =+F36 -> 224812.4 | G35: =+G36 -> 0
D36: - Վարչական սարքավորումներ | E36: =+F36+G36 -> 224812.4 | F36: 224812.4 | G36: 0
D37: ԱՅԼ ՀԻՄՆԱԿԱՆ ՄԻՋՈՑՆԵՐ | E37: =+F37+G37 -> -9200.2 | F37: =+F38 -> -9200.2 | G37: =+G38 -> 0
D38: - Նախագծահետազոտական ծախսեր | E38: =+F38+G38 -> -9200.2 | F38: -9200.2 | G38: 0
B39: 1072 | D39: Ջրամատակարարաման և ջրահեռացման բարելավում | E39: =+F39+G39 -> -547208.4 | F39: =+F50+F41 -> -534828.4 | G39: =+G50+G41 -> -12380
D40: այդ թվում`
C41: 12001 | D41: Գերմանիայի զարգացման և Եվրոպական միության հարևանության ներդրումային բանկի_x000D_ աջակցությամբ իրականացվող ջրամատակարարման և ջրահեռացման ենթակառուցվածքների_x000D_ դրամաշնորհային ծրագիր` երրորդ փուլ | E41: =+E43 -> -83560 | F41: =+F43 -> -71180 | G41: =+G43 -> -12380
D42: այդ թվում` ըստ կատարողների
D43: ՀՀ տարածքային կառավարման և ենթակառուցվածքների նախարարության ջրային կոմիտե | E43: =+E45 -> -83560 | F43: =+F45 -> -71180 | G43: =+G45 -> -12380
D44: այդ թվում` բյուջետային ծախսերի տնտեսագիտական դասակարգման հոդվածներ
D45: ԸՆԴԱՄԵՆԸ ԾԱԽՍԵՐ | E45: =+F45+G45 -> -83560 | F45: =+F46 -> -71180 | G45: =+G46 -> -12380
D46: ՈՉ ՖԻՆԱՆՍԱԿԱՆ ԱԿՏԻՎՆԵՐԻ ԳԾՈՎ ԾԱԽՍԵՐ | E46: =+F46+G46 -> -83560 | F46: =+F47 -> -71180 | G46: =+G47 -> -12380
D47: ՀԻՄՆԱԿԱՆ ՄԻՋՈՑՆԵՐ | E47: =+F47+G47 -> -83560 | F47: =+F48 -> -71180 | G47: =+G48 -> -12380
D48: ԱՅԼ ՀԻՄՆԱԿԱՆ ՄԻՋՈՑՆԵՐ | E48: =+F48+G48 -> -83560 | F48: =+F49 -> -71180 | G48: =+G49 -> -12380
D49: - Նախագծահետազոտական ծախսեր | E49: =+F49+G49 -> -83560 | F49: -71180 | G49: -12380
C50: 31004 | D50: Եվրոպական միության հարևանության ներդրումային ծրագրի աջակցությամբ իրականացվող_x000D_ Երևանի ջրամատակարարման բարելավման դրամաշնորհային ծրագրի շրջանակներում Ջրամատակարարման և ջրահեռացման ենթակառուցվածքների հիմնանորոգում | E50: =+E52 -> -463648.4 | F50: =+F52 -> -463648.4 | G50: =+G52 -> 0
D51: այդ թվում` ըստ կատարողների
D52: ՀՀ տարածքային կառավարման և ենթակառուցվածքների նախարարության ջրային կոմիտե | E52: =+E54 -> -463648.4 | F52: =+F54 -> -463648.4 | G52: =+G54 -> 0
D53: այդ թվում` բյուջետային ծախսերի տնտեսագիտական դասակարգման հոդվածներ
D54: ԸՆԴԱՄԵՆԸ ԾԱԽՍԵՐ | E54: =+F54+G54 -> -463648.4 | F54: =+F55 -> -463648.4 | G54: =+G55 -> 0
D55: ՈՉ ՖԻՆԱՆՍԱԿԱՆ ԱԿՏԻՎՆԵՐԻ ԳԾՈՎ ԾԱԽՍԵՐ | E55: =+F55+G55 -> -463648.4 | F55: =+F56 -> -463648.4 | G55: =+G56 -> 0
D56: ՀԻՄՆԱԿԱՆ ՄԻՋՈՑՆԵՐ | E56: =+F56+G56 -> -463648.4 | F56: =+F57 -> -463648.4 | G56: =+G57 -> 0
D57: ՇԵՆՔԵՐ ԵՎ ՇԻՆՈՒԹՅՈՒՆՆԵՐ | E57: =+F57+G57 -> -463648.4 | F57: =+F58 -> -463648.4 | G57: =+G58 -> 0
D58: - Շենքերի և շինությունների կապիտալ վերանորոգում | E58: =+F58+G58 -> -463648.4 | F58: -463648.4 | G58: 0
B59: 1157 | D59: Քաղաքային զարգացում | E59: =+F59+G59 -> -520669.2 | F59: =+F61+F70 -> -448584.4 | G59: =+G61+G70 -> -72084.8
D60: այդ թվում`
C61: 12014 | D61: Եվրոպական միության հարևանության ներդրումային բանկի աջակցությամբ իրականացվող Երևանի մետրոպոլիտենի վերակառուցման երկրորդ դրամաշնորհային ծրագիր | E61: =+E63 -> -508079.8 | F61: =+F63 -> -438093.2 | G61: =+G63 -> -69986.6
D62: այդ թվում` ըստ կատարողների
D63: ՀՀ տարածքային կառավարման և ենթակառուցվածքների նախարարություն | E63: =+E65 -> -508079.8 | F63: =+F65 -> -438093.2 | G63: =+G65 -> -69986.6
D64: այդ թվում` բյուջետային ծախսերի տնտեսագիտական դասակարգման հոդվածներ
D65: ԸՆԴԱՄԵՆԸ ԾԱԽՍԵՐ | E65: =+F65+G65 -> -508079.8 | F65: =+F66 -> -438093.2 | G65: =+G66 -> -69986.6
D66: ՈՉ ՖԻՆԱՆՍԱԿԱՆ ԱԿՏԻՎՆԵՐԻ ԳԾՈՎ ԾԱԽՍԵՐ | E66: =+F66+G66 -> -508079.8 | F66: =+F67 -> -438093.2 | G66: =+G67 -> -69986.6
D67: ՀԻՄՆԱԿԱՆ ՄԻՋՈՑՆԵՐ | E67: =+F67+G67 -> -508079.8 | F67: =+F68 -> -438093.2 | G67: =+G68 -> -69986.6
D68: ՇԵՆՔԵՐ ԵՎ ՇԻՆՈՒԹՅՈՒՆՆԵՐ | E68: =+F68+G68 -> -508079.8 | F68: =+F69 -> -438093.2 | G68: =+G69 -> -69986.6
D69: - Շենքերի և շինությունների շինարարություն | E69: =+F69+G69 -> -508079.8 | F69: -438093.2 | G69: -69986.6
C70: 12016 | D70: Վերակառուցման և զարգացման եվրոպական բանկի աջակցությամբ իրականացվող Գյումրու քաղաքային ճանապարհների տեխնիկական համագործակցության դրամաշնորհային ծրագիր | E70: =+E72 -> -12589.4 | F70: =+F72 -> -10491.2 | G70: =+G72 -> -2098.2
D71: այդ թվում` ըստ կատարողների
D72: ՀՀ տարածքային կառավարման և ենթակառուցվածքների նախարարություն | E72: =+E74 -> -12589.4 | F72: =+F74 -> -10491.2 | G72: =+G74 -> -2098.2
D73: այդ թվում` բյուջետային ծախսերի տնտեսագիտական դասակարգման հոդվածներ
D74: ԸՆԴԱՄԵՆԸ ԾԱԽՍԵՐ | E74: =+E75 -> -12589.4 | F74: =+F75 -> -10491.2 | G74: =+G75 -> -2098.2
D75: ԸՆԹԱՑԻԿ ԾԱԽՍԵՐ | E75: =+E76 -> -12589.4 | F75: =+F76 -> -10491.2 | G75: =+G76 -> -2098.2
D76: ԱՅԼ ԾԱԽՍԵՐ | E76: =+F76+G76 -> -12589.4 | F76: =+F77 -> -10491.2 | G76: =+G77 -> -2098.2
D77: Այլ ծախսեր | E77: =+F77+G77 -> -12589.4 | F77: -10491.2 | G77: -2098.2
B78: 1167 | D78: Էլեկտրաէներգետիկ համակարգի զարգացման ծրագիր | E78: =+F78+G78 -> -259148.7 | F78: =+F80+F88 -> -255190.9 | G78: =+G80+G88 -> -3957.8
D79: այդ թվում՛
C80: 11006 | D80: Գերմանիայի զարգացման վարկերի բանկի (KFW)) աջակցությամբ իրականացվող «Կովկասյան էլեկտրահաղորդման ցանց I» Հայաստան-Վրաստան հաղորդիչ գիծ/ենթակայանների դրամաշնորհային ծրագիր | E80: =+F80+G80 -> -11169.2 | F80: =+F82 -> -7211.4 | G80: =+G82 -> -3957.8
D81: այդ թվում` ըստ կատարողների
D82: ՀՀ տարածքային կառավարման և ենթակառուցվածքների նախարարություն | E82: =+F82+G82 -> -11169.2 | F82: =+F84 -> -7211.4 | G82: =+G84 -> -3957.8
D83: այդ թվում` բյուջետային ծախսերի տնտեսագիտական դասակարգման հոդվածներ
D84: ԸՆԴԱՄԵՆԸ ԾԱԽՍԵՐ | E84: =+F84+G84 -> -11169.2 | F84: =+F85 -> -7211.4 | G84: =+G85 -> -3957.8
D85: ԸՆԹԱՑԻԿ ԾԱԽՍԵՐ | E85: =+F85+G85 -> -11169.2 | F85: =+F86 -> -7211.4 | G85: =+G86 -> -3957.8
D86: ԱՅԼ ԾԱԽՍԵՐ | E86: =+F86+G86 -> -11169.2 | F86: =+F87 -> -7211.4 | G86: =+G87 -> -3957.8
D87: Այլ ծախսեր | E87: =+F87+G87 -> -11169.2 | F87: -7211.4 | G87: -3957.8
C88: 32006 | D88: Գերմանիայի զարգացման վարկերի բանկի (KFW) աջակցությամբ իրականացվող Կովկասյան էլեկտրահաղորդման ցանց I Հայաստան-Վրաստան հաղորդիչ գիծ/ենթակայանների դրամաշնորհային ծրագրի շրջանակներում իրականացվող ներդրումներ | E88: =+F88+G88 -> -247979.5 | F88: =+F90 -> -247979.5 | G88: =+G90 -> 0
D89: այդ թվում` ըստ կատարողների
D90: ՀՀ տարածքային կառավարման և ենթակառուցվածքների նախարարություն | E90: =+F90+G90 -> -247979.5 | F90: =+F92 -> -247979.5 | G90: =+G92 -> 0
D91: այդ թվում` բյուջետային ծախսերի տնտեսագիտական դասակարգման հոդվածներ
D92: ԸՆԴԱՄԵՆԸ ԾԱԽՍԵՐ | E92: =+F92+G92 -> -247979.5 | F92: =+F93 -> -247979.5 | G92: =+G93 -> 0
D93: ՈՉ ՖԻՆԱՆՍԱԿԱՆ ԱԿՏԻՎՆԵՐԻ ԳԾՈՎ ԾԱԽՍԵՐ | E93: =+F93+G93 -> -247979.5 | F93: =F94 -> -247979.5 | G93: =+G94 -> 0
D94: ՀԻՄՆԱԿԱՆ ՄԻՋՈՑՆԵՐ | E94: =+F94+G94 -> -247979.5 | F94: =+F95+F97 -> -247979.5 | G94: =+G95+G97 -> 0
D95: ՇԵՆՔԵՐ ԵՎ ՇԻՆՈՒԹՅՈՒՆՆԵՐ | E95: =+F95+G95 -> -67281.9 | F95: =+F96 -> -67281.9 | G95: =+G96 -> 0
D96: - Շենքերի և շինությունների կապիտալ վերանորոգում | E96: =+F96+G96 -> -67281.9 | F96: -67281.9 | G96: 0
D97: ՄԵՔԵՆԱՆԵՐ ԵՎ ՍԱՐՔԱՎՈՐՈՒՄՆԵՐ | E97: =+F97+G97 -> -180697.6 | F97: =+F98 -> -180697.6 | G97: =+G98 -> 0
D98: - Այլ մեքենաներ և սարքավորումներ | E98: =+F98+G98 -> -180697.6 | F98: -180697.6 | G98: 0
B99: 1232 | D99: Էներգաարդյունավետության ծրագիր | E99: =+F99+G99 -> -147104 | F99: =+F101+F115 -> -121412.8 | G99: =+G101+G115 -> -25691.2
D100: այդ թվում՛
C101: 11001 | D101: «Հանրային շենքերում էներգախնայողության բարելավման և «կանաչ էներգիայի» զարգացմանը նպաստող մեխանիզմներ» դրամաշնորհային ծրագրի կառավարում և համակարգում | E101: =+F101+G101 -> -40746 | F101: =+F103 -> -33280.8 | G101: =+G103 -> -7465.2
...

Sheet 11.
D1: Հավելված N 11
B2: ՀՀ կառավարության 2022 թվականի
B3: ______________ ի ___Ն որոշման
B5: ՀԱՅԱՍՏԱՆԻ ՀԱՆՐԱՊԵՏՈՒԹՅԱՆ ԿԱՌԱՎԱՐՈՒԹՅԱՆ 2021 ԹՎԱԿԱՆԻ ԴԵԿՏԵՄԲԵՐԻ 23-Ի N 2121-Ն ՈՐՈՇՄԱՆ N 9 ՀԱՎԵԼՎԱԾԻ N 9.7 ԵՎ N 9.14 ԱՂՅՈՒՍԱԿՆԵՐՈՒՄ ԿԱՏԱՐՎՈՂ ՓՈՓՈԽՈՒԹՅՈՒՆՆԵՐԸ ԵՎ ԼՐԱՑՈՒՄՆԵՐԸ
D6: Աղյուսակ 9.7
B7: ՀՀ ՏԱՐԱԾՔԱՅԻՆ ԿԱՌԱՎԱՐՄԱՆ ԵՎ ԵՆԹԱԿԱՌՈՒՑՎԱԾՔՆԵՐԻ ՆԱԽԱՐԱՐՈՒԹՅՈՒՆ
B8: ՄԱՍ 2. ՊԵՏԱԿԱՆ ՄԱՐՄՆԻ ԳԾՈՎ ԱՐԴՅՈՒՆՔԱՅԻՆ (ԿԱՏԱՐՈՂԱԿԱՆ) ՑՈՒՑԱՆԻՇՆԵՐԸ
B10: Ծրագրի դասիչը | C10: Ծրագրի անվանումը
B11: 1004 | C11: =+'[3]4'!D16 -> Ոռոգման համակարգի առողջացում
B13: Ծրագրի միջոցառումները
B14: Ծրագրի դասիչը` | C14: 1004 | D14: Ցուցանիշների փոփոխությունը (նվազեցումները նշված են փակագծերում)
B15: Միջոցառման դասիչը` | C15: 11005 | D15: Տարի
B16: Միջոցառման անվանումը` | C16: Եվրասիական զարգացման բանկի աջակցությամբ իրականացվող ոռոգման համակարգերի_x000D_ զարգացման ծրագրի խորհրդատվություն և կառավարում
B17: Նկարագրությունը` | C17: Եվրասիական զարգացման բանկի աջակցությամբ իրականացվող ոռոգման համակարգերի զարգացման ծրագրի համակարգում և ղեկավարում
B18: Միջոցառման տեսակը` | C18: Ծառայությունների մատուցում
B19: Միջոցառումն իրականացնողի անվանումը` | C19: Մասնագիտատացված միավոր
B20: Արդյունքի չափորոշիչներ
B21: Միջոցառման վրա կատարված ծախսը (հազար դրամ) | D21: =+'[2]9.'!E17 -> -14150
B23: Ծրագրի դասիչը` | C23: 1004 | D23: Ցուցանիշների փոփոխությունը (ավելացումները նշված են դրական նշանով)
B24: Միջոցառման դասիչը` | C24: 11006 | D24: Տարի
B25: Միջոցառման անվանումը` | C25: Ֆրանսիայի Հանրապետության կառավարության աջակցությամբ իրականացվող Վեդու ջրամբարի կառուցման ծրագրի խորհրդատվություն և կառավարում
B26: Նկարագրությունը` | C26: Ֆրանսիայի Հանրապետության կառավարության աջակցությամբ իրականացվող Վեդու ջրամբարի կառուցման ծրագրի համակարգում և ղեկավարում
B27: Միջոցառման տեսակը` | C27: Ծառայությունների մատուցում
B28: Միջոցառումն իրականացնողի անվանումը` | C28: Մասնագիտատացված միավոր
B29: Արդյունքի չափորոշիչներ
B30: Միջոցառման վրա կատարված ծախսը (հազար դրամ) | D30: =+'[2]9.'!E28 -> 65013
B32: Ծրագրի դասիչը` | C32: 1004 | D32: Ցուցանիշների փոփոխությունը (նվազեցումները նշված են փակագծերում)
B33: Միջոցառման դասիչը` | C33: 11007 | D33: Տարի
B34: Միջոցառման անվանումը` | C34: Գերմանիայի զարգացման վարկերի բանկի աջակցությամբ իրականացվող Ախուրյան գետի ջրային ռեսուրսների ինտեգրացված կառավարում ծրագրի խորհրդատվություն և կառավարում
B35: Նկարագրությունը` | C35: Գերմանիայի զարգացման վարկերի բանկի աջակցությամբ իրականացվող Ախուրյան գետի ջրային ռեսուրսների ինտեգրացված կառավարում ծրագրի խորհրդատվություն և կառավարում
B36: Միջոցառման տեսակը` | C36: Ծառայությունների մատուցում
B37: Միջոցառումն իրականացնողի անվանումը` | C37: Մասնագիտատացված միավոր
B38: Արդյունքի չափորոշիչներ
B39: Միջոցառման վրա կատարված ծախսը (հազար դրամ) | D39: ='9.'!E38 -> -143045
B41: Ծրագրի դասիչը` | C41: 1004 | D41: Ցուցանիշների փոփոխությունը (նվազեցումները նշված են փակագծերում)
B42: Միջոցառման դասիչը` | C42: 11010 | D42: Տարի
B43: Միջոցառման անվանումը` | C43: Գերմանիայի զարգացման վարկերի բանկի աջակցությամբ իրականացվող Ախուրյան գետի ջրային ռեսուրսների ինտեգրացված կառավարում փուլ 1 ծրագրով Ջրաձոր գյուղի վերաբնակեցման գործողությունների խորհրդատվություն և կառավարում
B44: Նկարագրությունը` | C44: Գերմանիայի զարգացման վարկերի բանկի աջակցությամբ իրականացվող Ախուրյան գետի ջրային ռեսուրսների ինտեգրացված կառավարում փուլ 1 ծրագրով Ջրաձոր գյուղի վերաբնակեցման գործողությունների համակարգում և ղեկավարում
B45: Միջոցառման տեսակը` | C45: Ծառայությունների մատուցում
B46: Ակտիվն օգտագործող կազմակերպության(ների) անվանում(ները)՛ | C46: Մասնագիտացված միավոր
B47: Արդյունքի չափորոշիչներ
B48: Միջոցառման վրա կատարվող ծախսը (հազար դրամ) | D48: ='9.'!E46 -> -125933.7
B50: Ծրագրի դասիչը` | C50: 1004 | D50: Ցուցանիշների փոփոխությունը (նվազեցումները նշված են փակագծերում)
B51: Միջոցառման դասիչը` | C51: 31001 | D51: Տարի
B52: Միջոցառման անվանումը` | C52: Ֆրանսիայի Հանրապետության կառավարության աջակցությամբ իրականացվող Վեդու ջրամբարի կառուցում
B53: Նկարագրությունը` | C53: Ֆրանսիայի Հանրապետության կառավարության աջակցությամբ իրականացվող Վեդու ջրամբարի կառուցման ծրագիր
B54: Միջոցառման տեսակը` | C54: Ծառայությունների մատուցում
B55: Ակտիվն օգտագործող կազմակերպության(ների) անվանում(ները)՛ | C55: Մասնագիտացված միավոր
B56: Արդյունքի չափորոշիչներ
B57: Պատվարի կառուցում, մ | D57: -12
B58: Ոռոգման ներտնտեսային ցանցի նորոգում, կմ | D58: -5
B59: Միջոցառման վրա կատարվող ծախսը (հազար դրամ) | D59: ='9.'!E57 -> -174849
B61: Ծրագրի դասիչը` | C61: 1004 | D61: Ցուցանիշների փոփոխությունը (նվազեցումները նշված են փակագծերում)
B62: Միջոցառման դասիչը` | C62: 31004 | D62: Տարի
B63: Միջոցառման անվանումը` | C63: Գերմանիայի զարգացման վարկերի բանկի աջակցությամբ իրականացվող Ախուրյան գետի ջրային ռեսուրսների ինտեգրված կառավարման ծրագրի շրջանակներում ջրային տնտեսության ենթակառուցվածքների հիմնանորոգում
B64: Նկարագրությունը` | C64: Գերմանիայի զարգացման վարկերի բանկի աջակցությամբ իրականացվող Ախուրյան գետի ջրային ռեսուրսների ինտեգրված կառավարման ծրագիր
B65: Միջոցառման տեսակը` | C65: Պետական մարմինների կողմից օգտագործվող ոչ ֆինանսական ակտիվների հետ գործառնություններ
B66: Ակտիվն օգտագործող կազմակերպության(ների) անվանում(ները)՛ | C66: Մասնագիտացված միավոր
B67: Արդյունքի չափորոշիչներ
B68: Միջոցառման վրա կատարված ծախսը (հազար դրամ) | D68: ='9.'!E69 -> -0.8
B70: Ծրագրի դասիչը` | C70: 1004 | D70: Ցուցանիշների փոփոխությունը (ավելացումները նշված են դրական նշանով)
B71: Միջոցառման դասիչը` | C71: 31005 | D71: Տարի
B72: Միջոցառման անվանումը` | C72: Եվրասիական զարգացման բանկի աջակցությամբ իրականացվող ոռոգման համակարգերի զարգացման ծրագրի շրջանակներում ջրային տնտեսության ենթակառուցվածքների հիմնանորոգում
B73: Նկարագրությունը` | C73: Եվրասիական զարգացման բանկի աջակցությամբ իրականացվող ոռոգման համակարգերի զարգացման ծրագիր
B74: Միջոցառման տեսակը` | C74: Պետական մարմինների կողմից օգտագործվող ոչ ֆինանսական ակտիվների հետ գործառնություններ
B75: Ակտիվն օգտագործող կազմակերպության(ների) անվանում(ները)՛ | C75: Մասնագիտացված միավոր
B76: Արդյունքի չափորոշիչներ
B77: Միջոցառման վրա կատարվող ծախսը (հազար դրամ) | D77: ='9.'!E78 -> 412345
B79: Ծրագրի դասիչը | C79: Ծրագրի անվանումը
B80: 1019 | C80: Սոցիալական ներդրումների և տեղական զարգացման ծրագիր
B82: Ծրագրի միջոցառումները
B83: Ծրագրի դասիչը` | C83: 1019 | D83: Ցուցանիշների փոփոխությունը (նվազեցումները նշված են փակագծերում)
B84: Միջոցառման դասիչը` | C84: 11002 | D84: Տարի
B85: Միջոցառման անվանումը` | C85: ԱՄՆ Միջազգային զարգացման գործակալության աջակցությամբ իրականացվող Տեղական ինքնակառավարման բարեփոխումների դրամաշնորհային ծրագիր
B86: Նկարագրությունը` | C86: Օժանդակության տրամադրում տեղական և տարածքային ինքնակառավարման մարմիններին միջհամայնքային ենթածրագրերի նախագծման, ընտրության և իրականացման աշխատանքներում
B87: Միջոցառման տեսակը` | C87: Ծառայությունների մատուցում
B88: Միջոցառումն իրականացնողի անվանումը | C88: Մասնագիտացված միավոր
B89: Արդյունքի չափորոշիչներ
B90: Միջոցառման վրա կատարված ծախսը (հազար դրամ) | D90: ='10.'!E18 -> -505.9
B92: Ծրագրի դասիչը` | C92: 1019 | D92: Ցուցանիշների փոփոխությունը (նվազեցումները նշված են փակագծերում)
B93: Միջոցառման դասիչը` | C93: 12001 | D93: Տարի
B94: Միջոցառման անվանումը` | C94: Համաշխարհային բանկի աջակցությամբ իրականացվող Տարածքային զարգացման հիմնադրամի ծրագրի շրջանակներում ՀՀ տարածքներում ջրագծերի, առողջապահության, կրթության, մշակույթի, հատուկ խնամքի և ենթակառուցվածքների ոլորտի վերականգնման և շինարարության աշխատանքներ
B95: Նկարագրությունը` | C95: Տարածքային զարգացման հիմնադրամի ծրագրով նախատեսված ՀՀ տարածքներում ջրագծերի, առողջապահության, կրթության օբյեկտների, մշակույթային տների, ծերանոցների, մանկատների, հատուկ դպրոցների, մանկապարտեզների և կոյուղու օբյեկտների հիմնանորոգում և շինարարություն
B96: Միջոցառման տեսակը` | C96: Տրանսֆերտների տրամադրում
B97: Շահառուների ընտրության չափանիշները` | C97: Համաձայն ՏԶՀ Ղեկավար ձեռնարկի, որը ֆինանսավորման համաձայնագրի մաս է կազմում
B98: Արդյունքի չափորոշիչներ
B99: Ավարտման ենթակա միկրոծրագրերի թիվ, հատ | D99: -2
B100: Ծրագրի շահառուների թիվ | D100: -3500
B101: Միջոցառման վրա կատարված ծախսը (հազար դրամ) | D101: ='9.'!E91 -> -12700
B103: Ծրագրի դասիչը` | C103: 1019 | D103: Ցուցանիշների փոփոխությունը (ավելացումները նշված են դրական նշանով)
B104: Միջոցառման դասիչը` | C104: 12003 | D104: Տարի
B105: Միջոցառման անվանումը` | C105: ԱՄՆ ՄԶԳ աջակցությամբ իրականացվող Տեղական ինքնակառավարման բարեփոխումների դրամաշնորհային ծրագրի շրջանակներում ՀՀ խոշորացվող համայնքներում հանրային ծառայությունների բարելավում, ընդլայնում, միջհամայնքային ենթածրագրերի նախագծում, ընտրություն և իրականացում
B106: Նկարագրությունը` | C106: Տեղական ինքնակառավարման բարեփոխումների ծրագրով նախատեսված ՀՀ խոշորացված համայնքներին տեխնիկայի տրամադրում և ենթակառուցվածքների վերականգնում/կառուցում
B107: Միջոցառման տեսակը` | C107: Տրանսֆերտների տրամադրում
B108: Շահառուների ընտրության չափանիշները` | C108: Ծրագրի գնահատման փաստաթղթում նշված ցանկից` Կառավարման կոմիտեի որոշմամբ
B109: Արդյունքի չափորոշիչներ
B110: Միջոցառման վրա կատարված ծախսը (հազար դրամ) | D110: ='10.'!E28 -> 215612.2
B112: Ծրագրի դասիչը` | C112: 1019 | D112: Ցուցանիշների փոփոխությունը (նվազեցումները նշված են փակագծերում)
B113: Միջոցառման դասիչը` | C113: 12004 | D113: Տարի
B114: Միջոցառման անվանումը` | C114: Համաշխարհային բանկի աջակցությամբ իրականացվող Սոցիալական ներդրումների և տեղական զարգացման ծրագրի լրացուցիչ ֆինանսավորման վարկի շրջանակներում ՀՀ համայնքային և միջհամայնքային ենթակառուցվածքների որակի, օգտագործման և հասանելիության բարելավում
...

Sheet 12.
D1: Հավելված N 12
B2: ՀՀ կառավարության 2022 թվականի
B3: ______________ ի ___Ն որոշման
B4: ՀԱՅԱՍՏԱՆԻ ՀԱՆՐԱՊԵՏՈՒԹՅԱՆ ԿԱՌԱՎԱՐՈՒԹՅԱՆ 2021 ԹՎԱԿԱՆԻ ԴԵԿՏԵՄԲԵՐԻ 23-Ի N 2121-Ն ՈՐՈՇՄԱՆ N 9.1 ՀԱՎԵԼՎԱԾԻ NN 9.1.8, 9.1.26 և 9.1.15 ԱՂՅՈՒՍԱԿՆԵՐՈՒՄ ԿԱՏԱՐՎՈՂ ՓՈՓՈԽՈՒԹՅՈՒՆՆԵՐԸ ԵՎ ԼՐԱՑՈՒՄՆԵՐԸ
D5: Աղյուսակ 9.1.8
B6: ՀՀ ՏԱՐԱԾՔԱՅԻՆ ԿԱՌԱՎԱՐՄԱՆ ԵՎ ԵՆԹԱԿԱՌՈՒՑՎԱԾՔՆԵՐԻ ՆԱԽԱՐԱՐՈՒԹՅՈՒՆ
B7: ՄԱՍ 1. ՊԵՏԱԿԱՆ ՄԱՐՄՆԻ ԳԾՈՎ ԱՐԴՅՈՒՆՔԱՅԻՆ (ԿԱՏԱՐՈՂԱԿԱՆ) ՑՈՒՑԱՆԻՇՆԵՐԸ
B10: Ծրագրի դասիչը | C10: Ծրագրի անվանումը
B11: 1019 | C11: Սոցիալական ներդրումների և տեղական զարգացման ծրագիր
B13: Ծրագրի միջոցառումները
B14: Ծրագրի դասիչը` | C14: 1019 | D14: Ցուցանիշների փոփոխությունը (նվազեցումները նշված են փակագծերում)
B15: Միջոցառման դասիչը` | C15: 11002 | D15: Տարի
B16: Միջոցառման անվանումը` | C16: ԱՄՆ Միջազգային զարգացման գործակալության աջակցությամբ իրականացվող Տեղական ինքնակառավարման բարեփոխումների դրամաշնորհային ծրագիր
B17: Նկարագրությունը` | C17: Օժանդակության տրամադրում տեղական և տարածքային ինքնակառավարման մարմիններին միջհամայնքային ենթածրագրերի նախագծման, ընտրության և իրականացման աշխատանքներում
B18: Միջոցառման տեսակը` | C18: Ծառայությունների մատուցում
B19: Միջոցառումն իրականացնողի անվանումը | C19: Մասնագիտացված միավոր
B20: Արդյունքի չափորոշիչներ
B21: Միջոցառման վրա կատարված ծախսը (հազար դրամ) | D21: ='10.'!E18 -> -505.9
B23: Ծրագրի դասիչը` | C23: 1019 | D23: Ցուցանիշների փոփոխությունը (նվազեցումները նշված են փակագծերում)
B24: Միջոցառման դասիչը` | C24: 12001 | D24: Տարի
B25: Միջոցառման անվանումը` | C25: Համաշխարհային բանկի աջակցությամբ իրականացվող Տարածքային զարգացման հիմնադրամի ծրագրի շրջանակներում ՀՀ տարածքներում ջրագծերի, առողջապահության, կրթության, մշակույթի, հատուկ խնամքի և ենթակառուցվածքների ոլորտի վերականգնման և շինարարության աշխատանքներ
B26: Նկարագրությունը` | C26: Տարածքային զարգացման հիմնադրամի ծրագրով նախատեսված ՀՀ տարածքներում ջրագծերի, առողջապահության, կրթության օբյեկտների, մշակույթային տների, ծերանոցների, մանկատների, հատուկ դպրոցների, մանկապարտեզների և կոյուղու օբյեկտների հիմնանորոգում և շինարարություն
B27: Միջոցառման տեսակը` | C27: Տրանսֆերտների տրամադրում
B28: Շահառուների ընտրության չափանիշները` | C28: Համաձայն ՏԶՀ Ղեկավար ձեռնարկի, որը ֆինանսավորման համաձայնագրի մաս է կազմում
B29: Արդյունքի չափորոշիչներ
B30: Ավարտման ենթակա միկրոծրագրերի թիվ, հատ | D30: -2
B31: Ծրագրի շահառուների թիվ | D31: -3500
B32: Միջոցառման վրա կատարված ծախսը (հազար դրամ) | D32: ='9.'!E91 -> -12700
B34: Ծրագրի դասիչը` | C34: 1019 | D34: Ցուցանիշների փոփոխությունը (ավելացումները նշված են դրական նշանով)
B35: Միջոցառման դասիչը` | C35: 12003 | D35: Տարի
B36: Միջոցառման անվանումը` | C36: ԱՄՆ ՄԶԳ աջակցությամբ իրականացվող Տեղական ինքնակառավարման բարեփոխումների դրամաշնորհային ծրագրի շրջանակներում ՀՀ խոշորացվող համայնքներում հանրային ծառայությունների բարելավում, ընդլայնում, միջհամայնքային ենթածրագրերի նախագծում, ընտրություն և իրականացում
B37: Նկարագրությունը` | C37: Տեղական ինքնակառավարման բարեփոխումների ծրագրով նախատեսված ՀՀ խոշորացված համայնքներին տեխնիկայի տրամադրում և ենթակառուցվածքների վերականգնում/կառուցում
B38: Միջոցառման տեսակը` | C38: Տրանսֆերտների տրամադրում
B39: Շահառուների ընտրության չափանիշները` | C39: Ծրագրի գնահատման փաստաթղթում նշված ցանկից` Կառավարման կոմիտեի որոշմամբ
B40: Արդյունքի չափորոշիչներ
B41: Միջոցառման վրա կատարված ծախսը (հազար դրամ) | D41: ='10.'!E28 -> 215612.2
B43: Ծրագրի դասիչը` | C43: 1019 | D43: Ցուցանիշների փոփոխությունը (նվազեցումները նշված են փակագծերում)
B44: Միջոցառման դասիչը` | C44: 12004 | D44: Տարի
B45: Միջոցառման անվանումը` | C45: Համաշխարհային բանկի աջակցությամբ իրականացվող Սոցիալական ներդրումների և տեղական զարգացման ծրագրի լրացուցիչ ֆինանսավորման վարկի շրջանակներում ՀՀ համայնքային և միջհամայնքային ենթակառուցվածքների որակի, օգտագործման և հասանելիության բարելավում
B46: Նկարագրությունը` | C46: Ջրագծերի, առողջապահության, կրթության օբյեկտների, մշակույթային տների, ծերանոցների, մանկատների, հատուկ դպրոցների, մանկապարտզների և կոյուղու օբյեկտնրի հիմն. և շինարարություն., գույքի և սարքավորումների տրամադրում շահառու ենթածրագրերի համար
B47: Միջոցառման տեսակը` | C47: Տրանսֆերտների տրամադրում
B48: Շահառուների ընտրության չափանիշները` | C48: Համաձայն ՏԶՀ Ղեկավար ձեռնարկի, որը ֆինանսավորման համաձայնագրի մաս է կազմում
B49: Արդյունքի չափորոշիչներ
B50: Հիմնանորոգված և նոր կառուցված ջրագծերի, առողջապահության, կրթության, մշակույթի, հատուկ խնամքի և ենթակառուցվածքների ոլորտի օբյեկտներից օգտվող համայնքներ, համայնքների թիվ, հատ | D50: -4
B51: Ավարտման ենթակա միկրոծրագրերի թիվ, հատ | D51: -1
B52: Ծրագրի շահառուների թիվ | D52: -15550
B53: Միջոցառման վրա կատարված ծախսը (հազար դրամ) | D53: ='9.'!E104 -> -852800.9
B55: Ծրագրի դասիչը | C55: Ծրագրի անվանումը
B56: 1049 | C56: Ճանապարհային ցանցի բարելավում
B58: Ծրագրի դասիչը` | C58: 1049 | D58: Ցուցանիշների փոփոխությունը (ավելացումները նշված են դրական նշանով)
B59: Միջոցառման դասիչը` | C59: 11005 | D59: Տարի
B60: Միջոցառման անվանումը` | C60: Համաշխարհային բանկի աջակցությամբ իրականացվող Կենսական նշանակության ճանապարհային ցանցի բարելավման ծրագրի շրջանակներում համակարգում և կառավարում
B61: Նկարագրությունը` | C61: Խորհրդատվական ծառայություններ և պահպանման ծախսեր
B62: Միջոցառման տեսակը` | C62: Ծառայությունների մատուցում
B63: Միջոցառումն իրականացնողի անվանումը՛ | C63: Մասնագիտացված միավոր
B64: Արդյունքի չափորոշիչներ
B65: Խորհրդատվությունների (պայմանագրերի) քանակը, հատ | D65: 1
B66: Տեխնիկական հսկողություն | D66: 1
B67: Միջոցառման վրա կատարվող ծախսը (հազար դրամ) | D67: ='9.'!E119 -> 125000
B69: Ծրագրի դասիչը` | C69: 1049 | D69: Ցուցանիշների փոփոխությունը (նվազեցումները նշված են փակագծերում)
B70: Միջոցառման դասիչը` | C70: 11009 | D70: Տարի
B71: Միջոցառման անվանումը` | C71: Ասիական զարգացման բանկի աջակցությամբ իրականացվող Հյուսիս-հարավ միջանցքի զարգացման ծրագրի համակարգում և կառավարում ( Տրանշ 2)
B72: Նկարագրությունը` | C72: Խորհրդատվական ծառայություններ և պահպանման ծախսեր
B73: Միջոցառման տեսակը` | C73: Ծառայությունների մատուցում
B74: Միջոցառումն իրականացնողի անվանումը` | C74: Մասնագիտատացված միավոր
B75: Արդյունքի չափորոշիչներ
B76: Միջոցառման վրա կատարված ծախսը (հազար դրամ) | D76: ='9.'!E127 -> -108000
B78: Ծրագրի դասիչը` | C78: 1049 | D78: Ցուցանիշների փոփոխությունը (նվազեցումները նշված են փակագծերում)
B79: Միջոցառման դասիչը` | C79: 11011 | D79: Տարի
B80: Միջոցառման անվանումը` | C80: Ասիական զարգացման բանկի աջակցությամբ իրականացվող Հյուսիս-հարավ միջանցքի զարգացման ծրագրի համակարգում և կառավարում (Տրանշ 3)
B81: Նկարագրությունը` | C81: Խորհրդատվական ծառայություններ և պահպանման ծախսեր
B82: Միջոցառման տեսակը` | C82: Ծառայությունների մատուցում
B83: Միջոցառումն իրականացնողի անվանումը՛ | C83: Մասնագիտացված միավոր
B84: Արդյունքի չափորոշիչներ
B85: Միջոցառման վրա կատարվող ծախսը (հազար դրամ) | D85: ='9.'!E136 -> -50000
B87: Ծրագրի դասիչը` | C87: 1049 | D87: Ցուցանիշների փոփոխությունը (նվազեցումները նշված են փակագծերում)
B88: Միջոցառման դասիչը` | C88: 11012 | D88: Տարի
B89: Միջոցառման անվանումը` | C89: Եվրասիական զարգացման բանկի աջակցությամբ իրականացվող Հյուսիս-հարավ միջանցքի զարգացման ծրագրի համակարգում և կառավարում
B90: Նկարագրությունը` | C90: Խորհրդատվական ծառայություններ և պահպանման ծախսեր
B91: Միջոցառման տեսակը` | C91: Ծառայությունների մատուցում
B92: Միջոցառումն իրականացնողի անվանումը` | C92: Մասնագիտատացված միավոր
B93: Արդյունքի չափորոշիչներ
B94: Միջոցառման վրա կատարված ծախսը (հազար դրամ) | D94: ='9.'!E144 -> -126300
B96: Ծրագրի դասիչը` | C96: 1049 | D96: Ցուցանիշների փոփոխությունը (նվազեցումները նշված են փակագծերում)
B97: Միջոցառման դասիչը` | C97: 11014
B98: Միջոցառման անվանումը` | C98: Կենսական նշանակության ճանապարհային ցանցի բարելավման երկրորդ լրացուցիչ ֆինանսավորման ծրագրի համակարգում և կառավարում
B99: Նկարագրությունը` | C99: Խորհրդատվական ծառայություններ
B100: Միջոցառման տեսակը` | C100: Ծառայությունների մատուցում
B101: Միջոցառումն իրականացնողի անվանումը՛ | C101: Մասնագիտացված միավոր
B102: Արդյունքի չափորոշիչներ
B103: Խորհրդատվությունների (պայմանագրերի) քանակը, հատ | D103: -1
B104: Տեխնիկական հսկողություն, հատ | D104: -1
B105: Միջոցառման վրա կատարվող ծախսը (հազար դրամ) | D105: ='9.'!E152 -> -125000
B107: Ծրագրի դասիչը` | C107: 1049 | D107: Ցուցանիշների փոփոխությունը (նվազեցումները նշված են փակագծերում)
B108: Միջոցառման դասիչը` | C108: 21004 | D108: Տարի
B109: Միջոցառման անվանումը` | C109: Ասիական զարգացման բանկի աջակցությամբ իրականացվող Մ6 Վանաձոր-Ալավերդի-Վրաստանի սահման միջպետական նշանակության ճանապարհի ծրագրի կառուցում և հիմնանորոգում
B110: Նկարագրությունը` | C110: Ճանապարհաշինական աշխատանքներ
B111: Միջոցառման տեսակը` | C111: Հանրության կողմից անմիջականորեն օգտագործվող ակտիվների հետ կապված միջոցառումներ
B112: Միջոցառումն իրականացնողի անվանումը՛ | C112: Մասնագիտացված միավոր
B113: Արդյունքի չափորոշիչներ
...
