Workbook

Sheet 1
D1: Հավելված N 1
D2: ՀՀ կառավարության 2022 թվականի
D3: -ի N -Ն որոշման
A4: «ՀԱՅԱՍՏԱՆԻ ՀԱՆՐԱՊԵՏՈՒԹՅԱՆ 2022 ԹՎԱԿԱՆԻ ՊԵՏԱԿԱՆ ԲՅՈՒՋԵԻ ՄԱՍԻՆ» ՀԱՅԱՍՏԱՆԻ ՀԱՆՐԱՊԵՏՈՒԹՅԱՆ ՕՐԵՆՔԻ N 1 ՀԱՎԵԼՎԱԾԻ N 2 ԱՂՅՈՒՍԱԿՈՒՄ ԿԱՏԱՐՎՈՂ ՎԵՐԱԲԱՇԽՈՒՄԸ, ՓՈՓՈԽՈՒԹՅՈՒՆՆԵՐԸ, ՀԱՅԱՍՏԱՆԻ ՀԱՆՐԱՊԵՏՈՒԹՅԱՆ ԿԱՌԱՎԱՐՈՒԹՅԱՆ 2021 ԹՎԱԿԱՆԻ ԴԵԿՏԵՄԲԵՐԻ 23-Ի N 2121-Ն ՈՐՈՇՄԱՆ N 5 ՀԱՎԵԼՎԱԾԻ N 1 ԱՂՅՈՒՍԱԿՈՒՄ ԿԱՏԱՐՎՈՂ ՓՈՓՈԽՈՒԹՅՈՒՆՆԵՐԸ
D6: (հազ. դրամ)
A7: Ծրագրային դասիչը | C7: Բյուջետային գլխավոր կարգադրիչների, ծրագրերի և միջոցառումների անվանումները | D7: Ցուցանիշների փոփոխությունը (նվազեցումները նշված են փակագծերում)
A8: Ծրագիր | B8: Միջոցառում | D8: Տարի
C9: ԸՆԴԱՄԵՆԸ | D9: =D10 -> -0.042
C10: ՀՀ տարածքային կառավարման և ենթակառուցվածքների նախարարություն | D10: =D11+D55+D73+D42 -> -0.042
A11: 1004 | C11: Ծրագրի անվանումը` | D11: =D18+D24+D30+D36 -> 1153654.5
C12: Ոռոգման համակարգի առողջացում
C13: Ծրագրի նպատակը`
C14: Ոռոգման ծառայությունների հասանելիության և մատչելիության ապահովում
C15: Վերջնական արդյունքի նկարագրությունը`
C16: Ոռոգման ջրի մատակարարման արդյունավետության և հասանելիության բարելավում՝ կորուստների կրճատում
A17: Ծրագրի միջոցառումներ
B18: 11002 | C18: Միջոցառման անվանումը` | D18: ='3'!G30 -> 1253533.6
C19: Ոռոգման ծառայություններ մատուցող ընկերություններին ֆինանսական աջակցության տրամադրում
C20: Միջոցառման նկարագրությունը`
C21: Ոռոգման ոլորտի սուբսիդավորում ՋՕԸ-ների համար սահմանված ոռոգման ջրի սակագնի և նվազագույն շահավետ գնի տարբերության չափով
C22: Միջոցառման տեսակը
C23: Ծառայությունների մատուցում
B24: 31012 | C24: Միջոցառման անվանումը` | D24: ='3'!G31 -> -67030
C25: Գետերի և հեղեղատարների տեղամասերի ամրացման և մաքրման աշխատանքներ
C26: Միջոցառման նկարագրությունը`
C27: Գետերի և հեղեղատարների տեղամասերի ամրացման և մաքրման համար նախագծերի և աշխատանքների ձեռքբերում
C28: Միջոցառման տեսակը
C29: Պետական մարմինների կողմից օգտագործվող ոչ ֆինանսական ակտիվների հետ գործառնություններ
B30: 31014 | C30: Միջոցառման անվանումը` | D30: ='3'!G42 -> -31857.7
C31: Ջրամբարների վերականգնման և վերազինման աշխատանքներ
C32: Միջոցառման նկարագրությունը`
C33: Ջրամբարների վերականգնման և վերազինման համար նախագծերի և աշխատանքների ձեռքբերում
C34: Միջոցառման տեսակը
C35: Պետական մարմինների կողմից օգտագործվող ոչ ֆինանսական ակտիվների հետ գործառնություններ
B36: 31020 | C36: Միջոցառման անվանումը` | D36: ='3'!G53 -> -991.4
C37: Ոռոգման համակարգերի կառուցում
C38: Միջոցառման նկարագրությունը`
C39: Ոռոգման համակարգերի կառուցման համար նախագծերի և աշխատանքների ձեռքբերում
C40: Միջոցառման տեսակը
C41: Պետական մարմինների կողմից օգտագործվող ոչ ֆինանսական ակտիվների հետ գործառնություններ
A42: 1017 | C42: Ծրագրի անվանումը` | D42: =D49 -> -471616.4
C43: Որոտան-Արփա-Սևան թունելի ջրային համակարգի կառավարում
C44: Ծրագրի նպատակը`
C45: Որոտան-Արփա-Սևան թունելի ջրային համակարգի պահպանում և շահագործում
C46: Վերջնական արդյունքի նկարագրությունը`
C47: Որոտան-Արփա-Սևան հիդրոհամակարգի անվտանգության և հուսալիության ապահովում
A48: Ծրագրի միջոցառումներ
B49: 21001 | C49: Միջոցառման անվանումը` | D49: ='3'!G72 -> -471616.4
C50: Արփա-Սևան ջրային համակարգի տեխնիկական վիճակի բարելավում
C51: Միջոցառման նկարագրությունը`
C52: Արփա-Սևան թունելի առանձին վթարային հատվածների վերականգնման աշխատանքներ
C53: Միջոցառման տեսակը
C54: Հանրության կողմից անմիջականորեն օգտագործվող ակտիվների հետ կապված միջոցառումներ
A55: 1072 | C55: Ծրագրի անվանումը` | D55: =D62+D67 -> -681958.14
C56: Ջրամատակարարաման և ջրահեռացման բարելավում
C57: Ծրագրի նպատակը`
C58: Ջրամատակարարման ծառայությունների հասանելիության և մատչելիության ապահովում
C59: Վերջնական արդյունքի նկարագրությունը`
C60: Խմելու ջրի մատակարարման և ջրահեռացման համակարգի բարելավում, կորուստների կրճատում
A61: Ծրագրի միջոցառումներ
B62: 31009 | C62: ՀՀ տարածքում վարձակալի կողմից չսպասարկվող շոււրջ 560 բնակավայրերում ջրամատակարարման և ջրահեռացման համակարգերի կառուցում | D62: ='3'!G91 -> -2066.6
C63: Միջոցառման նկարագրությունը`
C64: ՀՀ տարածքում Վարձակալի կողմից չսպասարկվող շոււրջ 560 բնակավայրերում ջրամատակարարման և ջրահեռացման համակարգերի կառուցման ծրագիր
C65: Միջոցառման տեսակը
C66: Պետական մարմինների կողմից օգտագործվող ոչ ֆինանսական ակտիվների հետ գործառնություններ
B67: 31010 | C67: Միջոցառման անվանումը` | D67: ='3'!G99 -> -679891.54
C68: Ջրամատակարարման և ջրահեռացման համակարգերի հիմնանորոգում
C69: Միջոցառման նկարագրությունը`
C70: Ջրամատակարարման և ջրահեռացման համակարգերի հիմնանորոգման նախագծերի և աշխատանքների ձեռքբերում
C71: Միջոցառման տեսակը
C72: Պետական մարմինների կողմից օգտագործվող ոչ ֆինանսական ակտիվների հետ գործառնություններ
A73: 1109 | C73: Ծրագրի անվանումը` | D73: =D80 -> -80
C74: Ջրային տնտեսության ոլորտում ծրագրերի համակարգում և մոնիտորինգ
C75: Ծրագրի նպատակը`
C76: Ջրային տնտեսության ոլորտում պետական արդյունավետ ծրագրերի մշակման և իրականացման ապահովում
C77: Վերջնական արդյունքի նկարագրությունը`
C78: Ջրային տնտեսության ոլորտում իրականացվող ծրագրերի ազդեցության և արդյունավետության բարելավում
A79: Ծրագրի միջոցառումներ
B80: 31001 | C80: Միջոցառման անվանումը` | D80: ='3'!G110 -> -80
C81: Ջրային կոմիտեի տեխնիկական հագեցվածության բարելավում
C82: Միջոցառման նկարագրությունը`
C83: Ջրային կոմիտեի աշխատանքային պայմանների բարելավման համար վարչական սարքավորումների ձեռքբերում
C84: Միջոցառման տեսակը
C85: Պետական մարմինների կողմից օգտագործվող ոչ ֆինանսական ակտիվների հետ գործառնություններ

Sheet 2
A1: Հավելված N 2
A2: ՀՀ կառավարության 2022 թվականի
A3: -ի N -Ն որոշման
A4: «ՀԱՅԱՍՏԱՆԻ ՀԱՆՐԱՊԵՏՈՒԹՅԱՆ 2022 ԹՎԱԿԱՆԻ ՊԵՏԱԿԱՆ ԲՅՈՒՋԵԻ ՄԱՍԻՆ» ՀԱՅԱՍՏԱՆԻ ՀԱՆՐԱՊԵՏՈՒԹՅԱՆ ՕՐԵՆՔԻ N 1 ՀԱՎԵԼՎԱԾԻ N 3 ԱՂՅՈՒՍԱԿՈՒՄ ԿԱՏԱՐՎՈՂ ՓՈՓՈԽՈՒԹՅՈՒՆՆԵՐԸ
G5: (հազ. դրամ)
A6: Ծրագրային դասիչ | C6: Բյուջետային գլխավոր կարգադրիչների, ծրագրերի, միջոցառումների և ուղղությունների անվանումները | D6: Ցուցանիշների փոփոխությունը (նվազեցումները նշված են փակագծերում)
D7: Ընդամենը, | E7: այդ թվում՝
A8: Ծրագիր | B8: Միջոցառում | E8: Կառուցման աշխատանքներ | F8: Վերակառուցման, վերանորոգման և վերականգնման աշխատանքներ | G8: Նախագծահե- տազոտական, գեոդեզիա- քարտեզագրա- կան աշխա- տանքներ | H8: Ոչ ֆինանսական այլ ակտիվների ձեռքբերում
C9: ԸՆԴԱՄԵՆԸ | D9: =SUM(E9:H9) -> -1253533.6 | E9: =E11 -> -991.4 | F9: =F11 -> -1217995.6 | G9: =G11 -> -34466.6 | H9: =H11 -> -80
C10: այդ թվում՝
C11: ՀՀ ՏԱՐԱԾՔԱՅԻՆ ԿԱՌԱՎԱՐՄԱՆ ԵՎ ԵՆԹԱԿԱՌՈՒՑՎԱԾՔՆԵՐԻ ՆԱԽԱՐԱՐՈՒԹՅՈՒՆ | D11: =SUM(E11:H11) -> -1253533.6 | E11: =E31+E13+E26+E35+E53+E34+E36 -> -991.4 | F11: =F31+F13+F26+F35+F53+F34+F36 -> -1217995.6 | G11: =G31+G13+G26+G35+G53+G34+G36 -> -34466.6 | H11: =H31+H13+H26+H35+H53+H34+H36 -> -80
C12: այդ թվում`
A13: 1004 | B13: 31012 | C13: Գետերի և հեղեղատարների տեղամասերի ամրացման և մաքրման աշխատանքներ | D13: =SUM(E13:H13) -> -67030 | E13: =SUM(E15:E24) -> 0 | F13: =SUM(F15:F25) -> -64630 | G13: =SUM(G15:G25) -> -2400 | H13: =SUM(H15:H25) -> 0
C14: այդ թվում`
C15: Այգեձորի մայր ջրանցքին զուգահեռ հենապատի ամրացում մոտ 70մ երկարությամբ | D15: =SUM(E15:H15) -> -786.7 | F15: ='4'!D17 -> -786.7
C16: Գավառագետի հունի մաքրում մոտ 4200 մ | D16: =SUM(E16:H16) -> -613.4 | F16: ='4'!D18 -> -613.4
C17: Մեծամորի հեղեղատարի հունի մաքրում մոտ 1000 մ և ափապատնեշի բարձրացում մոտ 150 մ երկարությամբ | D17: =SUM(E17:H17) -> -115.8 | F17: ='4'!D19 -> -115.8
C18: ք.Ապարանի «ՔՅԱՆԴԱԼ» կոչվող սելավատարի մաքրում մոտ 2000 մ հատվածում | D18: =SUM(E18:H18) -> -9321.3 | F18: ='4'!D20 -> -9321.3
C19: Գետիկ հունի մաքրում շուրջ 1600 մ և ափերի ամրացում շուրջ 150 մ Ճամբարակ խոշորացված համայնքի Մարտունի գյուղի տարածքում | D19: =SUM(E19:H19) -> -689 | F19: ='4'!D21 -> -689
C20: Նարեկի սելավատարի հունի մաքրում 2945 մ և ափերի ամրացում 380 մ | D20: =SUM(E20:H20) -> -47856.9 | F20: ='4'!D22 -> -47856.9
C21: Մեծամոր գետի ափապատնեշի բարձրացում մոտ 800 մ երկարությամբ հատվածում | D21: =SUM(E21:H21) -> -755.8 | F21: ='4'!D23 -> -755.8
C22: Տանձուտ և Փամբակ գետերի ափապաշտպան հենապատերի վերականգնում մոտ 600 մ երկարությամբ հատվածում | D22: =SUM(E22:H22) -> -2511.5 | F22: ='4'!D24 -> -2511.5
C23: Որոտան գետի հունի մաքրում Սիսիան քաղաքի կենտրոնական կամրջից վերև և ներքև մոտ 1400 մ հատվածում | D23: =SUM(E23:H23) -> -695.4 | F23: ='4'!D25 -> -695.4
C24: Երվանդաշատ համայնքի Արաքս գետի ափապաշտպան արգելաթմբի բարձրացում | D24: =SUM(E24:H24) -> -1284.2 | F24: ='4'!D26 -> -1284.2
C25: ՀՀ Արարատի մարզի Արաքսավան և Բուրաստան համայնքների Արաքս գետի N16-ից մինչև N14 սահմանների միջակայքում Արաքս գետի նախկին հունի վերականգման և N16 սահմանանշանի մոտակայքում Արաքս գետի հայկական կողմի մոտ 130 մ երկարությամբ և 8 մ խորությամբ ողողված պատնեշի վերականգնման աշխատանքների նախագծանախահաշվային փաստաթղթերի ձեռքբերում | D25: =SUM(E25:H25) -> -2400 | G25: -2400
A26: 1004 | B26: 31014 | C26: Ջրամբարների վերականգնման և վերազինման աշխատանքներ | D26: =SUM(E26:H26) -> -31857.7 | F26: =SUM(F28:F30) -> -1857.7 | G26: =SUM(G28:G30) -> -30000
C27: այդ թվում`
C28: ՀՀ Տավուշի մարզի Տավուշ ջրամբարի պատվարի վերականգնման նախագծանախահաշվային փաստաթղթերի ձեռքբերում | D28: =SUM(E28:H28) -> -30000 | G28: ='4'!D32 -> -30000
C29: Մարմարիկի ջրամբարի ջրծեծ-ջրմարիչ հանգույցի վերանորոգում | D29: =SUM(E29:H29) -> -635.9 | F29: ='4'!D33 -> -635.9
C30: Ապարանի ջրամբարի վերանորոգում | D30: =SUM(E30:H30) -> -1221.8 | F30: ='4'!D34 -> -1221.8
A31: 1004 | B31: 31020 | C31: Ոռոգման համակարգերի կառուցում | D31: =SUM(E31:H31) -> -991.4 | E31: =E33 -> -991.4 | F31: =F33 -> 0 | G31: =G33 -> 0 | H31: =H33 -> 0
C32: այդ թվում`
C33: Երևանի Բուսաբանական այգու ոռոգման ցանցի կառուցում՝ Սարկավագի փողոցի ջրանցքից մինչև Բուսաբանական այգու պարսպի հատված | D33: =SUM(E33:H33) -> -991.4 | E33: ='4'!D39 -> -991.4
A34: 1017 | B34: 21001 | C34: Արփա-Սևան ջրային համակարգի տեխնիկական վիճակի բարելավում | D34: =SUM(E34:H34) -> -471616.4 | F34: ='4'!D42 -> -471616.4
A35: 1072 | B35: 31009 | C35: ՀՀ-ի տարածքում Վարձակալի կողմից չսպասարկվող շուրջ 560 բնակավայրերում ջրամատակարարման և ջրահեռացման համակարգերի կառուցում | D35: =SUM(E35:H35) -> -2066.6 | G35: ='4'!D45 -> -2066.6
A36: 1072 | B36: 31010 | C36: Ջրամատակարարման և ջրահեռացման համակարգերի հիմնանորոգում | D36: =SUM(E36:H36) -> -679891.54 | E36: =SUM(E38:E52) -> 0 | F36: =SUM(F38:F52) -> -679891.54 | G36: =SUM(G38:G52) -> 0 | H36: =SUM(H38:H52) -> 0
C37: այդ թվում`
C38: ՀՀ Գեղարքունիքի մարզի Ներքին Գետաշեն բնակավայրի ջրամատակարարման համակարգի վերակառուցում | F38: -38740
C39: ՀՀ Սյունիքի մարզի Մեղրի քաղաքի ջրի մաքրման կայանի ապամոնտաժում, նորի կառուցում | F39: -1995.3
C40: ՀՀ Գեղարքունիքի մարզի Կարմիրգյուղ և Սարուխան բնակավայրերի ջրամատակարարման համակարգի վերակառուցում | F40: -93928.6
C41: ՀՀ Արարատի մարզի Արալեզ համայնքի ջրամատակարարման համակարգի վերակառուցում | F41: -6718.7
C42: ՀՀ Արարատի մարզի Մխչյան համայնքի ջրամատակարարման համակարգի վերակառուցում | F42: -38000
C43: ՀՀ Արարատի մարզի Մասիս քաղաքի ջրամատակարարման համակարգի վերակառուցում | F43: -16750
C44: ՀՀ Արարատի մարզի Վ. Դվին համայնքի ջրամատակարարման համակարգի վերակառուցում | F44: ='6'!G56 -> -90000
C45: ՀՀ Արարատի մարզի Բերդիկ համայնքի ջրամատակարարման համակարգի վերակառուցում | F45: ='6'!G57 -> -54800
C46: ՀՀ Արարատի մարզի Նոր Ուղի համայնքի խմելու ջրամատակարարման համակարգի վերակառուցում | F46: ='6'!G58 -> -79758.381
C47: ՀՀ Արարատի մարզի Ազատավան համայնքի ջրամատակարարման համակարգի վերակառուցում | F47: ='6'!G59 -> -66661.111
C48: ՀՀ Արարատի մարզի Վերին Արտաշատ համայնքի խմելու ջրամատակարարման համակարգի վերակառուցում | F48: ='6'!G60 -> -88678.05
C49: ՀՀ Արարատի մարզի Ղուկասավան համայնքի խմելու ջրամատակարարման համակարգի վերակառուցում | F49: -14500
C50: ՀՀ Արարատի մարզի Դվին համայնքի ջրամատակարարման ցանցի վերակառուցում | F50: -8125
C51: ՀՀ Արարատի մարզի Շահումյան համայնքի խմելու ջրամատակարարման համակարգի վերակառուցում | F51: -30228.6
C52: ՀՀ Արարատի մարզի Արտաշատ համայնքի (վեց փողոցների) խմելու ջրամատակարարման համակարգի վերակառուցում | F52: -51007.8
A53: 1109 | B53: 31001 | C53: Ջրային կոմիտեի տեխնիկական հագեցվածության բարելավում | D53: =SUM(E53:H53) -> -80 | E53: 0 | F53: 0 | G53: 0 | H53: ='4'!D46 -> -80

Sheet 3
A1: Հավելված N 3
A2: ՀՀ կառավարության 2022 թվականի
A3: -ի N -Ն որոշման
A4: ՀԱՅԱՍՏԱՆԻ ՀԱՆՐԱՊԵՏՈՒԹՅԱՆ ԿԱՌԱՎԱՐՈՒԹՅԱՆ 2021 ԹՎԱԿԱՆԻ ԴԵԿՏԵՄԲԵՐԻ 23-Ի N 2121-Ն ՈՐՈՇՄԱՆ N 3 ԵՎ N 4 ՀԱՎԵԼՎԱԾՆԵՐՈՒՄ ԿԱՏԱՐՎՈՂ ՓՈՓՈԽՈՒԹՅՈՒՆՆԵՐԸ
G6: (հազ. դրամ)
A7: Գործառական դասիչը | D7: Ծրագրային դասիչը | F7: Բյուջետային ծախսերի գործառական դասակարգման բաժինների, խմբերի և դասերի, բյուջետային ծրագրերի միջոցառումների, բյուջետային հատկացումների գլխավոր կարգադրիչների անվանումները | G7: Ցուցանիշների փոփոխությունը (ավելացումները նշված են դրական նշանով, իսկ նվազեցումները՝ փակագծերում)
G8: Տարի
A9: Բաժին | B9: Խումբ | C9: Դաս | D9: Ծրագիր | E9: Միջոցառում
F10: ԸՆԴԱՄԵՆԸ ԾԱԽՍԵՐ | G10: =G12+G81+G62 -> -0.042
F11: այդ թվում`
A12: 04 | F12: ՏՆՏԵՍԱԿԱՆ ՀԱՐԱԲԵՐՈՒԹՅՈՒՆՆԵՐ | G12: =G14 -> 1153654.5
F13: այդ թվում`
B14: 02 | F14: Գյուղատնտեսություն, անտառային տնտեսություն, ձկնորսություն և որսորդություն | G14: =G16 -> 1153654.5
F15: այդ թվում`
C16: 04 | F16: Ոռոգում | G16: =G18 -> 1153654.5
F17: այդ թվում`
F18: ՀՀ տարածքային կառավարման և ենթակառուցվածքների նախարարություն | G18: =G20 -> 1153654.5
F19: այդ թվում`
D20: 1004 | F20: Ոռոգման համակարգի առողջացում | G20: =G22+G31+G53+G42 -> 1153654.5
F21: այդ թվում`
E22: 11002 | F22: Ոռոգման ծառայություններ մատուցող ընկերություններին ֆինանսական աջակցության տրամադրում | G22: =G26 -> 1253533.6
F23: այդ թվում` ըստ կատարողների
F24: ՀՀ տարածքային կառավարման և ենթակառուցվածքների նախարարության ջրային կոմիտե | G24: =G26 -> 1253533.6
F25: այդ թվում` բյուջետային ծախսերի տնտեսագիտական դասակարգման հոդվածներ
F26: ԸՆԴԱՄԵՆԸ ԾԱԽՍԵՐ | G26: =G27 -> 1253533.6
F27: ԸՆԹԱՑԻԿ ԾԱԽՍԵՐ | G27: =G28 -> 1253533.6
F28: ՍՈՒԲՍԻԴԻԱՆԵՐ | G28: =G29 -> 1253533.6
F29: Սուբսիդիաներ ոչ պետական կազմակերպություններին | G29: =G30 -> 1253533.6
F30: - Սուբսիդիաներ ոչ պետական ոչ ֆինանսական կազմակերպություններին | G30: 1253533.6
E31: 31012 | F31: Գետերի և հեղեղատարների տեղամասերի ամրացման և մաքրման աշխատանքներ | G31: =G33 -> -67030
F32: այդ թվում` ըստ կատարողների
F33: ՀՀ տարածքային կառավարման և ենթակառուցվածքների նախարարության ջրային կոմիտե | G33: =G35 -> -67030
F34: այդ թվում` բյուջետային ծախսերի տնտեսագիտական դասակարգման հոդվածներ
F35: ԸՆԴԱՄԵՆԸ ԾԱԽՍԵՐ | G35: =G36 -> -67030
F36: ՈՉ ՖԻՆԱՆՍԱԿԱՆ ԱԿՏԻՎՆԵՐԻ ԳԾՈՎ ԾԱԽՍԵՐ | G36: =G37 -> -67030
F37: ՀԻՄՆԱԿԱՆ ՄԻՋՈՑՆԵՐ | G37: =G38+G40 -> -67030
F38: ՇԵՆՔԵՐ ԵՎ ՇԻՆՈՒԹՅՈՒՆՆԵՐ | G38: =G39 -> -64630
F39: - Շենքերի և շինությունների կապիտալ վերանորոգում | G39: ='2'!F13 -> -64630
F40: ԱՅԼ ՀԻՄՆԱԿԱՆ ՄԻՋՈՑՆԵՐ | G40: =G41 -> -2400
F41: - Նախագծահետազոտական ծախսեր | G41: ='2'!G13 -> -2400
E42: 31014 | F42: Ջրամբարների վերականգնման և վերազինման աշխատանքներ | G42: =G44 -> -31857.7
F43: այդ թվում` ըստ կատարողների
F44: ՀՀ տարածքային կառավարման և ենթակառուցվածքների նախարարության ջրային կոմիտե | G44: =G46 -> -31857.7
F45: այդ թվում` բյուջետային ծախսերի տնտեսագիտական դասակարգման հոդվածներ
F46: ԸՆԴԱՄԵՆԸ ԾԱԽՍԵՐ | G46: =G47 -> -31857.7
F47: ՈՉ ՖԻՆԱՆՍԱԿԱՆ ԱԿՏԻՎՆԵՐԻ ԳԾՈՎ ԾԱԽՍԵՐ | G47: =G48 -> -31857.7
F48: ՀԻՄՆԱԿԱՆ ՄԻՋՈՑՆԵՐ | G48: =G49+G51 -> -31857.7
F49: ՇԵՆՔԵՐ ԵՎ ՇԻՆՈՒԹՅՈՒՆՆԵՐ | G49: =G50 -> -1857.7
F50: - Շենքերի և շինությունների կապիտալ վերանորոգում | G50: ='2'!F26 -> -1857.7
F51: ԱՅԼ ՀԻՄՆԱԿԱՆ ՄԻՋՈՑՆԵՐ | G51: =G52 -> -30000
F52: - Նախագծահետազոտական ծախսեր | G52: ='2'!G26 -> -30000
E53: 31020 | F53: Ոռոգման համակարգերի կառուցում | G53: =G55 -> -991.4
F54: այդ թվում` ըստ կատարողների
F55: ՀՀ տարածքային կառավարման և ենթակառուցվածքների նախարարության ջրային կոմիտե | G55: =G57 -> -991.4
F56: այդ թվում` բյուջետային ծախսերի տնտեսագիտական դասակարգման հոդվածներ
F57: ԸՆԴԱՄԵՆԸ ԾԱԽՍԵՐ | G57: =G58 -> -991.4
F58: ՈՉ ՖԻՆԱՆՍԱԿԱՆ ԱԿՏԻՎՆԵՐԻ ԳԾՈՎ ԾԱԽՍԵՐ | G58: =G59 -> -991.4
F59: ՀԻՄՆԱԿԱՆ ՄԻՋՈՑՆԵՐ | G59: =G60 -> -991.4
F60: ՇԵՆՔԵՐ ԵՎ ՇԻՆՈՒԹՅՈՒՆՆԵՐ | G60: =G61 -> -991.4
F61: - Շենքերի և շինությունների շինարարություն | G61: ='2'!D33 -> -991.4
A62: 05 | F62: ՇՐՋԱԿԱ ՄԻՋԱՎԱՅՐԻ ՊԱՇՏՊԱՆՈՒԹՅՈՒՆ | G62: =G64 -> -471616.4
F63: այդ թվում`
B64: 04 | F64: Կենսաբազմազանության և բնության պաշտպանություն | G64: =G66 -> -471616.4
F65: այդ թվում`
C66: 01 | F66: Կենսաբազմազանության և բնության պաշտպանություն | G66: =G68 -> -471616.4
F67: այդ թվում`
F68: ՀՀ տարածքային կառավարման և ենթակառուցվածքների նախարարություն | G68: =G70 -> -471616.4
F69: այդ թվում`
D70: 1017 | F70: Որոտան-Արփա-Սևան թունելի ջրային համակարգի կառավարում | G70: =G72 -> -471616.4
F71: այդ թվում`
E72: 21001 | F72: Արփա-Սևան ջրային համակարգի տեխնիկական վիճակի բարելավում | G72: =G74 -> -471616.4
F73: այդ թվում` ըստ կատարողների
F74: ՀՀ տարածքային կառավարման և ենթակառուցվածքների նախարարության ջրային կոմիտե | G74: =G76 -> -471616.4
F75: այդ թվում` բյուջետային ծախսերի տնտեսագիտական դասակարգման հոդվածներ
F76: ԸՆԴԱՄԵՆԸ ԾԱԽՍԵՐ | G76: =G77 -> -471616.4
F77: ՈՉ ՖԻՆԱՆՍԱԿԱՆ ԱԿՏԻՎՆԵՐԻ ԳԾՈՎ ԾԱԽՍԵՐ | G77: =G78 -> -471616.4
F78: ՀԻՄՆԱԿԱՆ ՄԻՋՈՑՆԵՐ | G78: =G79 -> -471616.4
F79: ՇԵՆՔԵՐ ԵՎ ՇԻՆՈՒԹՅՈՒՆՆԵՐ | G79: =G80 -> -471616.4
F80: - Շենքերի և շինությունների կապիտալ վերանորոգում | G80: ='4'!D40 -> -471616.4
A81: 06 | F81: ԲՆԱԿԱՐԱՆԱՅԻՆ ՇԻՆԱՐԱՐՈՒԹՅՈՒՆ ԵՎ ԿՈՄՈՒՆԱԼ ԾԱՌԱՅՈՒԹՅՈՒՆՆԵՐ | G81: =G83 -> -682038.14
F82: այդ թվում`
B83: 03 | F83: Ջրամատակարարում | G83: =G85 -> -682038.14
F84: այդ թվում`
C85: 01 | F85: Ջրամատակարարում | G85: =G87 -> -682038.14
F86: այդ թվում`
F87: ՀՀ տարածքային կառավարման և ենթակառուցվածքների նախարարություն | G87: =G89+G108 -> -682038.14
F88: այդ թվում`
D89: 1072 | F89: Ջրամատակարարաման և ջրահեռացման բարելավում | G89: =G91+G99 -> -681958.14
F90: այդ թվում`
E91: 31009 | F91: ՀՀ տարածքում վարձակալի կողմից չսպասարկվող շոււրջ 560 բնակավայրերում ջրամատակարարման և ջրահեռացման համակարգերի կառուցում | G91: =G93 -> -2066.6
F92: այդ թվում` ըստ կատարողների
F93: ՀՀ տարածքային կառավարման և ենթակառուցվածքների նախարարության ջրային կոմիտե | G93: =G95 -> -2066.6
F94: այդ թվում` բյուջետային ծախսերի տնտեսագիտական դասակարգման հոդվածներ
F95: ԸՆԴԱՄԵՆԸ ԾԱԽՍԵՐ | G95: =G96 -> -2066.6
F96: ՈՉ ՖԻՆԱՆՍԱԿԱՆ ԱԿՏԻՎՆԵՐԻ ԳԾՈՎ ԾԱԽՍԵՐ | G96: =G97 -> -2066.6
F97: ԱՅԼ ՀԻՄՆԱԿԱՆ ՄԻՋՈՑՆԵՐ | G97: =G98 -> -2066.6
F98: - Նախագծահետազոտական ծախսեր | G98: ='2'!D35 -> -2066.6
E99: 31010 | F99: Ջրամատակարարման և ջրահեռացման համակարգերի հիմնանորոգում | G99: =G101 -> -679891.54
F100: այդ թվում` ըստ կատարողների
F101: ՀՀ տարածքային կառավարման և ենթակառուցվածքների նախարարության ջրային կոմիտե | G101: =G103 -> -679891.54
...

Sheet 4
A1: Հավելված N 4
A2: ՀՀ կառավարության 2022 թվականի
A3: -ի N -Ն որոշման
A4: ՀԱՅԱՍՏԱՆԻ ՀԱՆՐԱՊԵՏՈՒԹՅԱՆ ԿԱՌԱՎԱՐՈՒԹՅԱՆ 2021 ԹՎԱԿԱՆԻ ԴԵԿՏԵՄԲԵՐԻ 23-Ի N 2121-Ն ՈՐՈՇՄԱՆ N 5 ՀԱՎԵԼՎԱԾԻ N 2 ԱՂՅՈՒՍԱԿՈՒՄ ԿԱՏԱՐՎՈՂ ՓՈՓՈԽՈՒԹՅՈՒՆՆԵՐԸ
D5: (հազ. դրամ)
A6: Ծրագրային դասիչ | C6: Բյուջետային գլխավոր կարգադրիչների, ծրագրերի, միջոցառումների, միջոցառումները կատարող պետական մարմինների և ուղղությունների անվանումները | D6: Ցուցանիշների փոփոխությունը ( նվազեցումները նշված են փակագծերում)
D7: Տարի
A8: Ծրագիր | B8: Միջոցառում
C9: ԸՆԴԱՄԵՆԸ | D9: =D11 -> -1253533.6
C10: այդ թվում՝
C11: ՀՀ ՏԱՐԱԾՔԱՅԻՆ ԿԱՌԱՎԱՐՄԱՆ ԵՎ ԵՆԹԱԿԱՌՈՒՑՎԱԾՔՆԵՐԻ ՆԱԽԱՐԱՐՈՒԹՅՈՒՆ | D11: =D35+D13+D28+D43+D46+D40+D49 -> -1253533.6
C12: այդ թվում`
A13: 1004 | B13: 31012 | C13: Գետերի և հեղեղատարների տեղամասերի ամրացման և մաքրման աշխատանքներ | D13: =D15 -> -67030
C14: այդ թվում` ըստ կատարողների
C15: ՀՀ տարածքային կառավարման և ենթակառուցվածքների նախարարության ջրային կոմիտե | D15: =SUM(D17:D27) -> -67030
C16: այդ թվում` ըստ ուղղությունների
C17: Այգեձորի մայր ջրանցքին զուգահեռ հենապատի ամրացում մոտ 70մ երկարությամբ | D17: -786.7
C18: Գավառագետի հունի մաքրում մոտ 4200 մ | D18: -613.4
C19: Մեծամորի հեղեղատարի հունի մաքրում մոտ 1000 մ և ափապատնեշի բարձրացում մոտ 150 մ երկարությամբ | D19: -115.8
C20: ք.Ապարանի «ՔՅԱՆԴԱԼ» կոչվող սելավատարի մաքրում մոտ 2000 մ հատվածում | D20: =-1218.8-8102.5 -> -9321.3
C21: Գետիկ հունի մաքրում շուրջ 1600 մ և ափերի ամրացում շուրջ 150 մ Ճամբարակ խոշորացված համայնքի Մարտունի գյուղի տարածքում | D21: -689
C22: Նարեկի սելավատարի հունի մաքրում 2945 մ և ափերի ամրացում 380 մ | D22: =-11739.3-36117.6 -> -47856.9
C23: Մեծամոր գետի ափապատնեշի բարձրացում մոտ 800 մ երկարությամբ հատվածում | D23: -755.8
C24: Տանձուտ և Փամբակ գետերի ափապաշտպան հենապատերի վերականգնում մոտ 600 մ երկարությամբ հատվածում | D24: -2511.5
C25: Որոտան գետի հունի մաքրում Սիսիան քաղաքի կենտրոնական կամրջից վերև և ներքև մոտ 1400 մ հատվածում | D25: -695.4
C26: Երվանդաշատ համայնքի Արաքս գետի ափապաշտպան արգելաթմբի բարձրացում | D26: -1284.2
C27: ՀՀ Արարատի մարզի Արաքսավան և Բուրաստան համայնքների Արաքս գետի N16-ից մինչև N14 սահմանների միջակայքում Արաքս գետի նախկին հունի վերականգման և N16 սահմանանշանի մոտակայքում Արաքս գետի հայկական կողմի մոտ 130 մ երկարությամբ և 8 մ խորությամբ ողողված պատնեշի վերականգնման աշխատանքների նախագծանախահաշվային փաստաթղթերի ձեռքբերում | D27: -2400
A28: 1004 | B28: 31014 | C28: Ջրամբարների վերականգնման և վերազինման աշխատանքներ | D28: =D30 -> -31857.7
C29: այդ թվում` ըստ կատարողների
C30: ՀՀ տարածքային կառավարման և ենթակառուցվածքների նախարարության ջրային կոմիտե | D30: =D32+D33+D34 -> -31857.7
C31: այդ թվում` ըստ ուղղությունների
C32: ՀՀ Տավուշի մարզի Տավուշ ջրամբարի պատվարի վերականգնման նախագծանախահաշվային փաստաթղթերի ձեռքբերում | D32: ='6'!G32+'6'!G31 -> -30000
C33: Մարմարիկի ջրամբարի ջրծեծ-ջրմարիչ հանգույցի վերանորոգում | D33: -635.9
C34: Ապարանի ջրամբարի վերանորոգում | D34: -1221.8
A35: 1004 | B35: 31020 | C35: ='[1]2'!C13 -> Ոռոգման համակարգերի կառուցում | D35: =D37 -> -991.4
C36: այդ թվում` ըստ կատարողների
C37: ՀՀ տարածքային կառավարման և ենթակառուցվածքների նախարարության ջրային կոմիտե | D37: =D39 -> -991.4
C38: այդ թվում` ըստ ուղղությունների
C39: ='[1]2'!C15 -> Երևանի Բուսաբանական այգու ոռոգման ցանցի կառուցում՝ Սարկավագի փողոցի ջրանցքից մինչև Բուսաբանական այգու պարսպի հատված | D39: -991.4
A40: 1017 | B40: 21001 | C40: Արփա-Սևան ջրային համակարգի տեխնիկական վիճակի բարելավում | D40: =D42 -> -471616.4
C41: այդ թվում` ըստ կատարողների
C42: ՀՀ տարածքային կառավարման և ենթակառուցվածքների նախարարության ջրային կոմիտե | D42: ='6'!G41 -> -471616.4
A43: 1072 | B43: 31009 | C43: ՀՀ-ի տարածքում Վարձակալի կողմից չսպասարկվող շուրջ 560 բնակավայրերում ջրամատակարարման և ջրահեռացման համակարգերի կառուցում | D43: =D45 -> -2066.6
C44: այդ թվում` ըստ կատարողների
C45: ՀՀ տարածքային կառավարման և ենթակառուցվածքների նախարարության ջրային կոմիտե | D45: ='6'!G35 -> -2066.6
A46: 1109 | B46: 31001 | C46: Ջրային կոմիտեի տեխնիկական հագեցվածության բարելավում | D46: =D48 -> -80
C47: այդ թվում` ըստ կատարողների
C48: ՀՀ տարածքային կառավարման և ենթակառուցվածքների նախարարության ջրային կոմիտե | D48: -80
A49: 1072 | B49: 31010 | C49: Ջրամատակարարման և ջրահեռացման համակարգերի հիմնանորոգում | D49: =D51 -> -679891.54
C50: այդ թվում` ըստ կատարողների
C51: ՀՀ տարածքային կառավարման և ենթակառուցվածքների նախարարության ջրային կոմիտե | D51: =SUM(D53:D67) -> -679891.54
C52: այդ թվում՝ ըստ ուղղությունների
C53: ='2'!C38 -> ՀՀ Գեղարքունիքի մարզի Ներքին Գետաշեն բնակավայրի ջրամատակարարման համակարգի վերակառուցում | D53: ='2'!F38 -> -38740
C54: ='2'!C39 -> ՀՀ Սյունիքի մարզի Մեղրի քաղաքի ջրի մաքրման կայանի ապամոնտաժում, նորի կառուցում | D54: ='2'!F39 -> -1995.3
C55: ='2'!C40 -> ՀՀ Գեղարքունիքի մարզի Կարմիրգյուղ և Սարուխան բնակավայրերի ջրամատակարարման համակարգի վերակառուցում | D55: ='2'!F40 -> -93928.6
C56: ='2'!C41 -> ՀՀ Արարատի մարզի Արալեզ համայնքի ջրամատակարարման համակարգի վերակառուցում | D56: ='2'!F41 -> -6718.7
C57: ='2'!C42 -> ՀՀ Արարատի մարզի Մխչյան համայնքի ջրամատակարարման համակարգի վերակառուցում | D57: ='2'!F42 -> -38000
C58: ='2'!C43 -> ՀՀ Արարատի մարզի Մասիս քաղաքի ջրամատակարարման համակարգի վերակառուցում | D58: ='2'!F43 -> -16750
C59: ='2'!C44 -> ՀՀ Արարատի մարզի Վ. Դվին համայնքի ջրամատակարարման համակարգի վերակառուցում | D59: ='2'!F44 -> -90000
C60: ='2'!C45 -> ՀՀ Արարատի մարզի Բերդիկ համայնքի ջրամատակարարման համակարգի վերակառուցում | D60: ='2'!F45 -> -54800
C61: ='2'!C46 -> ՀՀ Արարատի մարզի Նոր Ուղի համայնքի խմելու ջրամատակարարման համակարգի վերակառուցում | D61: ='2'!F46 -> -79758.381
C62: ='2'!C47 -> ՀՀ Արարատի մարզի Ազատավան համայնքի ջրամատակարարման համակարգի վերակառուցում | D62: ='2'!F47 -> -66661.111
C63: ='2'!C48 -> ՀՀ Արարատի մարզի Վերին Արտաշատ համայնքի խմելու ջրամատակարարման համակարգի վերակառուցում | D63: ='2'!F48 -> -88678.05
C64: ='2'!C49 -> ՀՀ Արարատի մարզի Ղուկասավան համայնքի խմելու ջրամատակարարման համակարգի վերակառուցում | D64: ='2'!F49 -> -14500
... C67: ='2'!C52 -> ՀՀ Արարատի մարզի Արտաշատ համայնքի (վեց փողոցների) խմելու ջրամատակարարման համակարգի վերակառուցում | D67: ='2'!F52 -> -51007.8

Sheet 5-1
C1: Հավելված N 5
C2: ՀՀ կառավարության 2022 թվականի
C3: -ի N -Ն որոշման
C4: Աղյուսակ 1
A5: ՀԱՅԱՍՏԱՆԻ ՀԱՆՐԱՊԵՏՈՒԹՅԱՆ ԿԱՌԱՎԱՐՈՒԹՅԱՆ 2021 ԹՎԱԿԱՆԻ ԴԵԿՏԵՄԲԵՐԻ 23-Ի N 2121-Ն ՈՐՈՇՄԱՆ N 9 ՀԱՎԵԼՎԱԾԻ N 9.7 ԱՂՅՈՒՍԱԿՈՒՄ ԿԱՏԱՐՎՈՂ ՓՈՓՈԽՈՒԹՅՈՒՆՆԵՐԸ
C7: Աղյուսակ 9.7
A8: ՀՀ տարածքային կառավարման և ենթակառուցվածքների նախարարություն
A9: Ծրագրի դասիչը | B9: Ծրագրի անվանումը
A10: 1004 | B10: Ոռոգման համակարգի առողջացում
A11: Ծրագրի միջոցառումները
A12: Ծրագրի դասիչը` | B12: 1004 | C12: Ցուցանիշների փոփոխությունը (ավելացումները նշված են դրական նշանով)
A14: Միջոցառման դասիչը` | B14: 11002 | C14: Տարի
A15: Միջոցառման անվանումը` | B15: Ոռոգման ծառայություններ մատուցող ընկերություններին ֆինանսական աջակցության տրամադրում
A16: Նկարագրությունը` | B16: Ոռոգման ոլորտի սուբսիդավորում ՋՕԸ-ների համար սահմանված ոռոգման ջրի սակագնի և նվազագույն շահավետ գնի տարբերության չափով
A17: Միջոցառման տեսակը` | B17: Ծառայությունների մատուցում
A18: Միջոցառումն իրականացնողի անվանումը | B18: Ջրօգտագործողների ընկերություններ
A19: Արդյունքի չափորոշիչներ
A20: Միջոցառման վրա կատարվող ծախսը (հազար դրամ) | C20: ='3'!G30 -> 1253533.6
A22: Ծրագրի դասիչը` | B22: 1004 | C22: Ցուցանիշների փոփոխությունը (նվազեցումները նշված են փակագծերում)
A24: Միջոցառման դասիչը` | B24: 31012 | C24: Տարի
A25: Միջոցառման անվանումը` | B25: Գետերի և հեղեղատարների տեղամասերի ամրացման և մաքրման աշխատանքներ
A26: Նկարագրությունը` | B26: Գետերի և հեղեղատարների տեղամասերի ամրացման և մաքրման համար նախագծերի և աշխատանքների ձեռքբերում
A27: Միջոցառման տեսակը` | B27: Պետական մարմինների կողմից օգտագործվող ոչ ֆինանսական ակտիվների հետ գործառնություններ
A28: Ակտիվն օգտագործող կազմակերպության(ների) անվանում(ները)՛ | B28: ՀՀ ՏԿԵՆ ջրային կոմիտե
A29: Արդյունքի չափորոշիչներ
A30: Գետերի ափերի ամրացում և ափապատնեշների բարձրացում, մ | C30: -152
A31: Գետերի հուների մաքրում, մ | C31: -1178
A32: Սելավատարների մաքրում, մ | C32: -174
A33: Միջոցառման վրա կատարվող ծախսը (հազար դրամ) | C33: ='1'!D24 -> -67030
A35: Ծրագրի դասիչը` | B35: 1004 | C35: Ցուցանիշների փոփոխությունը (նվազեցումները նշված են փակագծերում)
A37: Միջոցառման դասիչը` | B37: 31014 | C37: Տարի
A38: Միջոցառման անվանումը` | B38: Ջրամբարների վերականգնման և վերազինման աշխատանքներ
A39: Նկարագրությունը` | B39: Ջրամբարների վերականգնման և վերազինման համար նախագծերի և աշխատանքների ձեռքբերում
A40: Միջոցառման տեսակը` | B40: Պետական մարմինների կողմից օգտագործվող ոչ ֆինանսական ակտիվների հետ գործառնություններ
A41: Ակտիվն օգտագործող կազմակերպության(ների) անվանում(ները)՛ | B41: Ոռոգման համակարգի ընկերություններ
A42: Արդյունքի չափորոշիչներ
A43: Նախագծանախահաշվային փաստաթղթեր, հատ | C43: -1
A44: Միջոցառման վրա կատարվող ծախսը (հազար դրամ) | C44: ='1'!D30 -> -31857.7
A48: Ծրագրի դասիչը` | B48: 1004 | C48: Ցուցանիշների փոփոխությունը (նվազեցումները նշված են փակագծերում)
A50: Միջոցառման դասիչը` | B50: 31020 | C50: Տարի
A51: Միջոցառման անվանումը` | B51: Ոռոգման համակարգերի կառուցում
A52: Նկարագրությունը` | B52: Ոռոգման համակարգերի կառուցման համար նախագծերի և աշխատանքների ձեռքբերում
A53: Միջոցառման տեսակը` | B53: Պետական մարմինների կողմից օգտագործվող ոչ ֆինանսական ակտիվների հետ գործառնություններ
A54: Ակտիվն օգտագործող կազմակերպության(ների) անվանում(ները)՛ | B54: ՀՀ ՏԿԵՆ ջրային կոմիտե
A55: Արդյունքի չափորոշիչներ
A56: Միջոցառման վրա կատարվող ծախսը (հազար դրամ) | C56: ='1'!D36 -> -991.4
A58: Ծրագրի դասիչը | B58: Ծրագրի անվանումը
A59: 1017 | B59: Որոտան-Արփա-Սևան թունելի ջրային համակարգի կառավարում
A60: Ծրագրի միջոցառումները
A63: Ծրագրի դասիչը` | B63: 1017 | C63: Ցուցանիշների փոփոխությունը (նվազեցումները նշված են փակագծերում)
A64: Միջոցառման դասիչը` | B64: 21001 | C64: Տարի
A65: Միջոցառման անվանումը` | B65: Արփա-Սևան ջրային համակարգի տեխնիկական վիճակի բարելավում
A66: Նկարագրությունը` | B66: Արփա-Սևան թունելի առանձին վթարային հատվածների վերականգնման աշխատանքներ
A67: Միջոցառման տեսակը` | B67: Հանրության կողմից անմիջականորեն օգտագործվող ակտիվների հետ կապված միջոցառումներ
A68: Միջոցառումն իրականացնողի անվանումը | B68: ՀՀ ՏԿԵՆ ջրային կոմիտե
A69: Արդյունքի չափորոշիչներ
A70: Երեսարկների վերակառուցում (մեկ համալիրի ճակատով՛ թունելի ՈՒՀ 189+90-ից մինչև ՈՒՀ 360+47), գծմ | C70: -101.1
A71: Միջոցառման վրա կատարվող ծախսը (հազար դրամ) | C71: ='1'!D49 -> -471616.4
A73: Ծրագրի դասիչը | B73: Ծրագրի անվանումը
A74: 1072 | B74: Ջրամատակարարաման և ջրահեռացման բարելավում
A75: Ծրագրի միջոցառումները
A78: Ծրագրի դասիչը` | B78: 1072 | C78: Ցուցանիշների փոփոխությունը (նվազեցումները նշված են փակագծերում)
A79: Միջոցառման դասիչը` | B79: 31009 | C79: Տարի
A80: Միջոցառման անվանումը` | B80: ՀՀ տարածքում վարձակալի կողմից չսպասարկվող շոււրջ 560 բնակավայրերում ջրամատակարարման և ջրահեռացման համակարգերի կառուցում
A81: Նկարագրությունը` | B81: ՀՀ տարածքում Վարձակալի կողմից չսպասարկվող շոււրջ 560 բնակավայրերքւմ ջրամատակարարման և ջրահեռացման համակարգերի կառուցման ծրագիր
A82: Միջոցառման տեսակը` | B82: Պետական մարմինների կողմից օգտագործվող ոչ ֆինանսական ակտիվների հետ գործառնություններ
A83: Միջոցառումն իրականացնողի անվանումը | B83: Մասնագիտացված միավոր
A84: Արդյունքի չափորոշիչներ
A85: Միջոցառման վրա կատարվող ծախսը (հազար դրամ) | C85: ='1'!D62 -> -2066.6
A87: Ծրագրի դասիչը` | B87: 1072
A88: Միջոցառման դասիչը` | B88: 31010 | C88: Տարի
A89: Միջոցառման անվանումը` | B89: Ջրամատակարարման և ջրահեռացման համակարգերի հիմնանորոգում
A90: Նկարագրությունը` | B90: Ջրամատակարարման և ջրահեռացման համակարգի հիմնանորոգման նախագծերի և աշխատանքների ձեռքբերում
A91: Միջոցառման տեսակը` | B91: Պետական մարմինների կողմից օգտագործվող ոչ ֆինանսական ակտիվների հետ գործառնություններ
A92: Ակտիվն օգտագործող կազմակերպության(ների) անվանում(ները)՛ | B92: ՀՀ ՏԿԵՆ ջրային կոմիտե
A93: Արդյունքի չափորոշիչներ
A94: Միջոցառման վրա կատարվող ծախսը (հազար դրամ) | C94: ='1'!D67 -> -679891.54
A97: Ծրագրի դասիչը | B97: Ծրագրի անվանումը
A98: 1109 | B98: Ջրային տնտեսության ոլորտում ծրագրերի համակարգում և մոնիտորինգ
A99: Ծրագրի միջոցառումները
A102: Ծրագրի դասիչը` | B102: 1109 | C102: Ցուցանիշների փոփոխությունը (նվազեցումները նշված են փակագծերում)
A103: Միջոցառման դասիչը` | B103: 31001 | C103: Տարի
A104: Միջոցառման անվանումը` | B104: Ջրային կոմիտեի տեխնիկական հագեցվածության բարելավում
A105: Նկարագրությունը` | B105: Ջրային կոմիտեի համար համակարգչային տեխնիկայի և գրասենյակային գույքի ձեռքբերում
A106: Միջոցառման տեսակը` | B106: Պետական մարմինների կողմից օգտագործվող ոչ ֆինանսական ակտիվների հետ գործառնություններ
A107: Միջոցառումն իրականացնողի անվանումը | B107: ՀՀ ՏԿԵՆ Ջրային կոմիտե
A108: Արդյունքի չափորոշիչներ
A109: Միջոցառման վրա կատարվող ծախսը (հազար դրամ) | C109: ='1'!D80 -> -80

Sheet 5-2
C1: Աղյուսակ 2
A2: ՀԱՅԱՍՏԱՆԻ ՀԱՆՐԱՊԵՏՈՒԹՅԱՆ ԿԱՌԱՎԱՐՈՒԹՅԱՆ 2021 ԹՎԱԿԱՆԻ ԴԵԿՏԵՄԲԵՐԻ 23-Ի N 2121-Ն ՈՐՈՇՄԱՆ N 9.1 ՀԱՎԵԼՎԱԾԻ N 9.1.26 ԱՂՅՈՒՍԱԿՈՒՄ ԿԱՏԱՐՎՈՂ ՓՈՓՈԽՈՒԹՅՈՒՆՆԵՐԸ
C3: Աղյուսակ 9.1.26
A4: ՀՀ տարածքային կառավարման և ենթակառուցվածքների նախարարության ջրային կոմիտե
A5: Ծրագրի դասիչը | B5: Ծրագրի անվանումը
A6: 1004 | B6: Ոռոգման համակարգի առողջացում
A7: Ծրագրի միջոցառումները
A8: Ծրագրի դասիչը` | B8: 1004 | C8: Ցուցանիշների փոփոխությունը (ավելացումները նշված են դրական նշանով)
A10: Միջոցառման դասիչը` | B10: 11002 | C10: Տարի
A11: Միջոցառման անվանումը` | B11: Ոռոգման ծառայություններ մատուցող ընկերություններին ֆինանսական աջակցության տրամադրում
A12: Նկարագրությունը` | B12: Ոռոգման ոլորտի սուբսիդավորում ՋՕԸ-ների համար սահմանված ոռոգման ջրի սակագնի և նվազագույն շահավետ գնի տարբերության չափով
A13: Միջոցառման տեսակը` | B13: Ծառայությունների մատուցում
A14: Միջոցառումն իրականացնողի անվանումը | B14: Ջրօգտագործողների ընկերություններ
A15: Արդյունքի չափորոշիչներ
A16: Միջոցառման վրա կատարվող ծախսը (հազար դրամ) | C16: ='3'!G26 -> 1253533.6
A19: Ծրագրի դասիչը` | B19: 1004 | C19: Ցուցանիշների փոփոխությունը (նվազեցումները նշված են փակագծերում)
A21: Միջոցառման դասիչը` | B21: 31012 | C21: Տարի
A22: Միջոցառման անվանումը` | B22: Գետերի և հեղեղատարների տեղամասերի ամրացման և մաքրման աշխատանքներ
A23: Նկարագրությունը` | B23: Գետերի և հեղեղատարների տեղամասերի ամրացման և մաքրման համար նախագծերի և աշխատանքների ձեռքբերում
A24: Միջոցառման տեսակը` | B24: Պետական մարմինների կողմից օգտագործվող ոչ ֆինանսական ակտիվների հետ գործառնություններ
A25: Ակտիվն օգտագործող կազմակերպության(ների) անվանում(ները)՛ | B25: ՀՀ ՏԿԵՆ ջրային կոմիտե
A26: Արդյունքի չափորոշիչներ
A27: Գետերի ափերի ամրացում և ափապատնեշների բարձրացում, մ | C27: -152
A28: Գետերի հուների մաքրում, մ | C28: -1178
A29: Սելավատարների մաքրում, մ | C29: -174
A30: Միջոցառման վրա կատարվող ծախսը (հազար դրամ) | C30: ='5-1'!C33 -> -67030
A32: Ծրագրի դասիչը` | B32: 1004 | C32: Ցուցանիշների փոփոխությունը (նվազեցումները նշված են փակագծերում)
A34: Միջոցառման դասիչը` | B34: 31014 | C34: Տարի
A35: Միջոցառման անվանումը` | B35: Ջրամբարների վերականգնման և վերազինման աշխատանքներ
A36: Նկարագրությունը` | B36: Ջրամբարների վերականգնման և վերազինման համար նախագծերի և աշխատանքների ձեռքբերում
A37: Միջոցառման տեսակը` | B37: Պետական մարմինների կողմից օգտագործվող ոչ ֆինանսական ակտիվների հետ գործառնություններ
A38: Ակտիվն օգտագործող կազմակերպության(ների) անվանում(ները)՛ | B38: Ոռոգման համակարգի ընկերություններ
A39: Արդյունքի չափորոշիչներ
A40: Նախագծանախահաշվային փաստաթղթեր, հատ | C40: -1
A41: Միջոցառման վրա կատարվող ծախսը (հազար դրամ) | C41: ='5-1'!C44 -> -31857.7
A44: Ծրագրի դասիչը` | B44: 1004 | C44: Ցուցանիշների փոփոխությունը (նվազեցումները նշված են փակագծերում)
A46: Միջոցառման դասիչը` | B46: 31020 | C46: Տարի
A47: Միջոցառման անվանումը` | B47: Ոռոգման համակարգերի կառուցում
A48: Նկարագրությունը` | B48: Ոռոգման համակարգերի կառուցման համար նախագծերի և աշխատանքների ձեռքբերում
A49: Միջոցառման տեսակը` | B49: Պետական մարմինների կողմից օգտագործվող ոչ ֆինանսական ակտիվների հետ գործառնություններ
A50: Ակտիվն օգտագործող կազմակերպության(ների) անվանում(ները)՛ | B50: ՀՀ ՏԿԵՆ ջրային կոմիտե
A51: Արդյունքի չափորոշիչներ
A52: Միջոցառման վրա կատարվող ծախսը (հազար դրամ) | C52: ='5-1'!C56 -> -991.4
A54: Ծրագրի դասիչը | B54: Ծրագրի անվանումը
A55: 1017 | B55: Որոտան-Արփա-Սևան թունելի ջրային համակարգի կառավարում
A56: Ծրագրի միջոցառումները
A59: Ծրագրի դասիչը` | B59: 1017 | C59: Ցուցանիշների փոփոխությունը (նվազեցումները նշված են փակագծերում)
A60: Միջոցառման դասիչը` | B60: 21001 | C60: Տարի
A61: Միջոցառման անվանումը` | B61: Արփա-Սևան ջրային համակարգի տեխնիկական վիճակի բարելավում
A62: Նկարագրությունը` | B62: Արփա-Սևան թունելի առանձին վթարային հատվածների վերականգնման աշխատանքներ
A63: Միջոցառման տեսակը` | B63: Հանրության կողմից անմիջականորեն օգտագործվող ակտիվների հետ կապված միջոցառումներ
A64: Միջոցառումն իրականացնողի անվանումը | B64: ՀՀ ՏԿԵՆ ջրային կոմիտե
A65: Արդյունքի չափորոշիչներ
A66: Երեսարկների վերակառուցում (մեկ համալիրի ճակատով՛ թունելի ՈՒՀ 189+90-ից մինչև ՈՒՀ 360+47), գծմ | C66: ='5-1'!C70 -> -101.1
A67: Միջոցառման վրա կատարվող ծախսը (հազար դրամ) | C67: ='5-1'!C71 -> -471616.4
A69: Ծրագրի դասիչը | B69: Ծրագրի անվանումը
A70: 1072 | B70: Ջրամատակարարաման և ջրահեռացման բարելավում
A71: Ծրագրի միջոցառումները
A74: Ծրագրի դասիչը` | B74: 1072 | C74: Ցուցանիշների փոփոխությունը (նվազեցումները նշված են փակագծերում)
A75: Միջոցառման դասիչը` | B75: 31009 | C75: Տարի
A76: Միջոցառման անվանումը` | B76: ՀՀ տարածքում վարձակալի կողմից չսպասարկվող շոււրջ 560 բնակավայրերում ջրամատակարարման և ջրահեռացման համակարգերի կառուցում
A77: Նկարագրությունը` | B77: ՀՀ տարածքում Վարձակալի կողմից չսպասարկվող շոււրջ 560 բնակավայրերքւմ ջրամատակարարման և ջրահեռացման համակարգերի կառուցման ծրագիր
A78: Միջոցառման տեսակը` | B78: Պետական մարմինների կողմից օգտագործվող ոչ ֆինանսական ակտիվների հետ գործառնություններ
A79: Միջոցառումն իրականացնողի անվանումը | B79: Մասնագիտացված միավոր
A80: Արդյունքի չափորոշիչներ
A81: Միջոցառման վրա կատարվող ծախսը (հազար դրամ) | C81: ='5-1'!C85 -> -2066.6
A83: Ծրագրի դասիչը` | B83: 1072
A84: Միջոցառման դասիչը` | B84: 31010 | C84: Տարի
A85: Միջոցառման անվանումը` | B85: Ջրամատակարարման և ջրահեռացման համակարգերի հիմնանորոգում
A86: Նկարագրությունը` | B86: Ջրամատակարարման և ջրահեռացման համակարգի հիմնանորոգման նախագծերի և աշխատանքների ձեռքբերում
A87: Միջոցառման տեսակը` | B87: Պետական մարմինների կողմից օգտագործվող ոչ ֆինանսական ակտիվների հետ գործառնություններ
A88: Ակտիվն օգտագործող կազմակերպության(ների) անվանում(ները)՛ | B88: ՀՀ ՏԿԵՆ ջրային կոմիտե
A89: Արդյունքի չափորոշիչներ
A90: Միջոցառման վրա կատարվող ծախսը (հազար դրամ) | C90: ='5-1'!C94 -> -679891.54
A94: Ծրագրի դասիչը | B94: Ծրագրի անվանումը
A95: 1109 | B95: Ջրային տնտեսության ոլորտում ծրագրերի համակարգում և մոնիտորինգ
A96: Ծրագրի միջոցառումները
A99: Ծրագրի դասիչը` | B99: 1109 | C99: Ցուցանիշների փոփոխությունը (նվազեցումները նշված են փակագծերում)
A100: Միջոցառման դասիչը` | B100: 31001 | C100: Տարի
A101: Միջոցառման անվանումը` | B101: Ջրային կոմիտեի տեխնիկական հագեցվածության բարելավում
A102: Նկարագրությունը` | B102: Ջրային կոմիտեի համար համակարգչային տեխնիկայի և գրասենյակային գույքի ձեռքբերում
A103: Միջոցառման տեսակը` | B103: Պետական մարմինների կողմից օգտագործվող ոչ ֆինանսական ակտիվների հետ գործառնություններ
A104: Միջոցառումն իրականացնողի անվանումը | B104: ՀՀ ՏԿԵՆ Ջրային կոմիտե
A105: Արդյունքի չափորոշիչներ
A106: Միջոցառման վրա կատարվող ծախսը (հազար դրամ) | C106: ='5-1'!C109 -> -80

Sheet 6
A1: Հավելված N 6
A2: ՀՀ կառավարության 2022 թվականի
A3: -ի N -Ն որոշման
A5: ՀՀ ԿԱՌԱՎԱՐՈՒԹՅԱՆ 2021 ԹՎԱԿԱՆԻ ԴԵԿՏԵՄԲԵՐԻ 23-Ի N 2121-Ն ՈՐՈՇՄԱՆ N 10 ՀԱՎԵԼՎԱԾՈՒՄ ԿԱՏԱՐՎՈՂ ՓՈՓՈԽՈՒԹՅՈՒՆՆԵՐԸ
A7: Կոդը | B7: Անվանումը | C7: Գնման ձևը | D7: Չափի միավորը | E7: Ցուցանիշների փոփոխությունը (նվազեցումները նշված են փակագծերում)
E8: Միավորի գինը | F8: քանակը | G8: գումարը (հազ. դրամ)
A9: ՀՀ տարածքային կառավարման և ենթակառուցվածքների նախարարության ջրային կոմիտե | G9: =G12+G14+G26+G33+G36+G41+G49 -> -1253533.6
A10: Բաժին N 04 | B10: Խումբ N 02 | C10: Դաս N 04 | D10: Ոռոգում
A11: 1004 31020 | B11: Ոռոգման համակարգերի կառուցում
B12: ՄԱՍ III ԾԱՌԱՅՈՒԹՅՈՒՆՆԵՐ | G12: =G13 -> -991.4
A13: 71351540/517 | B13: տեխնիկական հսկողության ծառայություններ | C13: ԳՀ | D13: դրամ | G13: -991.4
A14: 1004 31012 | B14: Գետերի և հեղեղատարների տեղամասերի ամրացման և մաքրման աշխատանքներ | G14: =G15+G20 -> -67030.002
B15: ՄԱՍ II ԱՇԽԱՏԱՆՔՆԵՐ | G15: =G16+G17+G18+G19 -> -55427.292
A16: 45241133/11 | B16: գետերի ափերի պաշտպանության աշխատանքներ | C16: ՀԲՄՙ | D16: դրամ | G16: -120.9
A17: 45241133/14 | B17: գետերի ափերի պաշտպանության աշխատանքներ | C17: ՀԲՄՙ | D17: դրամ | G17: =-10779.11-35672.642 -> -46451.752
A18: 45241133/15 | B18: գետերի ափերի պաշտպանության աշխատանքներ | C18: ՀԲՄՙ | D18: դրամ | G18: =-380.34-8000 -> -8380.34
A19: 45241133/16 | B19: գետերի ափերի պաշտպանության աշխատանքներ | C19: ՀԲՄՙ | D19: դրամ | G19: -474.3
B20: ՄԱՍ III ԾԱՌԱՅՈՒԹՅՈՒՆՆԵՐ | G20: =G21+G22+G23+G24+G25 -> -11602.71
A21: 50531140/4 | B21: փորձաքննության ծառայություններ | C21: ԳՀ | D21: դրամ | G21: -2400
A22: 71351540/11 | B22: տեխնիկական հսկողության ծառայություններ | C22: ԳՀ | D22: դրամ | G22: -4479.6
A23: 71351540/12 | B23: տեխնիկական հսկողության ծառայություններ | C23: ԳՀ | D23: դրամ | G23: =-4175.61-282-70.5 -> -4528.11
A24: 98111140/4 | B24: հեղինակային հսկողության ծառայություններ | C24: ՄԱ | D24: հատ | G24: -32
A25: 98111140/6 | B25: հեղինակային հսկողության ծառայություններ | C25: ՄԱ | D25: հատ | G25: -163
A26: 1004 31014 | B26: Ջրամբարների վերականգնման և վերազինման աշխատանքներ | G26: =G28+G29+G32+G31 -> -31857.7
B27: ՄԱՍ II ԱՇԽԱՏԱՆՔՆԵՐ
A28: 45611300/7 | B28: այլ շենքերի, շինությունների հիմնանորոգում | C28: ՀԲՄՙ | D28: դրամ | G28: -635.9
A29: 45611300/8 | B29: այլ շենքերի, շինությունների հիմնանորոգում | C29: ՀԲՄՙ | D29: դրամ | G29: -1221.8
B30: ՄԱՍ III ԾԱՌԱՅՈՒԹՅՈՒՆՆԵՐ
A31: 71241200/1 | B31: նախագծերի պատրաստում, ծախսերի գնահատում | C31: ԳՀ | D31: դրամ | G31: -28301.9
A32: 50531140/2 | B32: փորձաքննության ծառայություններ | C32: ԳՀ | D32: դրամ | G32: -1698.1
A33: 1072 31009 | B33: ՀՀ տարածքում վարձակալի կողմից չսպասարկվող շոււրջ 560 բնակավայրերում ջրամատակարարման և ջրահեռացման համակարգերի կառուցում | G33: =G35 -> -2066.6
B34: ՄԱՍ III ԾԱՌԱՅՈՒԹՅՈՒՆՆԵՐ
A35: 71241200/1 | B35: նախագծերի պատրաստում, ծախսերի գնահատում | C35: ԳՀ | D35: դրամ | G35: -2066.6
A36: 1109 31001 | B36: Ջրային կոմիտեի տեխնիկական հագեցվածության բարելավում | G36: =G38+G39+G40 -> -80
B37: ՄԱՍ I ԱՊՐԱՆՔՆԵՐ
A38: 39141120/1 | B38: դարակներով պահարաններ | C38: ՄԱ | D38: հատ | G38: -30
A39: 30239170/2 | B39: բազմաֆունկցիոնալ սարք` լազերային | C39: ՄԱ | D39: հատ | G39: -30
A40: 39241300/1 | B40: թուղթ կտրող սարք | C40: ՄԱ | D40: հատ | G40: -20
A41: 1017 21001 | B41: Արփա-Սևան ջրային համակարգի տեխնիկական վիճակի բարելավում | G41: =G43+G45+G46 -> -471616.4
B42: ՄԱՍ II ԱՇԽԱՏԱՆՔՆԵՐ | G42: =G43 -> -462026.9
A43: 45611300/1 | B43: այլ շենքերի, շինությունների հիմնանորոգում | C43: ԲՄ | D43: դրամ | G43: -462026.9
B44: ՄԱՍ III ԾԱՌԱՅՈՒԹՅՈՒՆՆԵՐ
A45: 71351540/535 | B45: տեխնիկական հսկողության ծառայություններ | C45: ԳՀ | D45: դրամ | G45: -7318.2
A46: 98111140/1 | B46: հեղինակային հսկողության ծառայություններ | C46: ՄԱ | D46: հատ | G46: -2271.3
A47: Բաժին N 06 | B47: Խումբ 03 | C47: Դաս 01 | D47: Ջրամատակարարում
A48: 1072 31010 | B48: Ջրամատակարարման և ջրահեռացման համակարգերի հիմնանորոգում
B49: ՄԱՍ II ԱՇԽԱՏԱՆՔՆԵՐ | G49: =SUM(G50:G64) -> -679891.53
A50: 45231131/4 | B50: Ջրամատակարարման խողովակաշարերի հետ կապված աշխատանքներ | C50: ԲՄ | D50: դրամ | G50: -38740
A51: 45231131/5 | B51: Ջրամատակարարման խողովակաշարերի հետ կապված աշխատանքներ | C51: ԲՄ | D51: դրամ | G51: -1995.3
A52: 45231131/6 | B52: Ջրամատակարարման խողովակաշարերի հետ կապված աշխատանքներ | C52: ԲՄ | D52: դրամ | G52: -93928.571
A53: 45231131/8 | B53: Ջրամատակարարման խողովակաշարերի հետ կապված աշխատանքներ | C53: ԲՄ | D53: դրամ | G53: -6718.75
A54: 45231131/11 | B54: Ջրամատակարարման խողովակաշարերի հետ կապված աշխատանքներ | C54: ԲՄ | D54: դրամ | G54: -38000
A55: 45231131/12 | B55: Ջրամատակարարման խողովակաշարերի հետ կապված աշխատանքներ | C55: ԲՄ | D55: դրամ | G55: -16750
A56: 45231131/15 | B56: Ջրամատակարարման խողովակաշարերի հետ կապված աշխատանքներ | C56: ՀԲՄ | D56: դրամ | G56: -90000
A57: 45231131/16 | B57: Ջրամատակարարման խողովակաշարերի հետ կապված աշխատանքներ | C57: ՀԲՄ | D57: դրամ | G57: -54800
A58: 45231131/18 | B58: Ջրամատակարարման խողովակաշարերի հետ կապված աշխատանքներ | C58: ՀԲՄ | D58: դրամ | G58: -79758.381
A59: 45231131/19 | B59: Ջրամատակարարման խողովակաշարերի հետ կապված աշխատանքներ | C59: ՀԲՄ | D59: դրամ | G59: -66661.111
A60: 45231131/20 | B60: Ջրամատակարարման խողովակաշարերի հետ կապված աշխատանքներ | C60: ՀԲՄ | D60: դրամ | G60: -88678.05
A61: 45231131/21 | B61: Ջրամատակարարման խողովակաշարերի հետ կապված աշխատանքներ | C61: ՀԲՄ | D61: դրամ | G61: -14500
... A64: 45231131/26 | B64: Ջրամատակարարման խողովակաշարերի հետ կապված աշխատանքներ | C64: ՀԲՄ | D64: դրամ | G64: -51007.8
