Workbook
Name _tab10: #REF!
Name _tab10: #REF!
Name _tab11: #REF!
Name _tab11: #REF!
Name _tab12: #REF!
Name _tab12: #REF!
Name _tab13: #REF!
Name _tab13: #REF!
Name _tab14: #REF!
Name _tab14: #REF!
Name _tab15: #REF!
Name _tab15: #REF!
Name _tab16: #REF!
Name _tab16: #REF!
Name _tab17: #REF!
Name _tab17: #REF!
Name _tab18: #REF!
Name _tab18: #REF!
Name _tab19: #REF!
Name _tab19: #REF!
Name _tab20: #REF!
Name _tab20: #REF!
Name _tab21: #REF!
Name _tab21: #REF!
Name _tab22: #REF!
Name _tab22: #REF!
Name _tab23: #REF!
Name _tab23: #REF!
Name _tab24: #REF!
Name _tab24: #REF!
Name _tab5: #REF!
Name _tab5: #REF!
Name _tab6: #REF!
Name _tab6: #REF!
Name _tab7: #REF!
Name _tab7: #REF!
Name _tab8: #REF!
Name _tab8: #REF!
Name _tab9: #REF!
Name _tab9: #REF!
Name par_count: #REF!,#REF!,#REF!,#REF!,#REF!,#REF!,#REF!,#REF!,#REF!,#REF!,#REF!,#REF!,#REF!,#REF!,#REF!
Name par_count: #REF!,#REF!,#REF!,#REF!,#REF!,#REF!,#REF!,#REF!,#REF!,#REF!,#REF!,#REF!,#REF!,#REF!,#REF!
Name par_qual: #REF!,#REF!,#REF!,#REF!,#REF!
Name par_qual: #REF!,#REF!,#REF!,#REF!,#REF!
Name par_time: #REF!,#REF!,#REF!,#REF!
Name par_time: #REF!,#REF!,#REF!,#REF!
Name par2.12s: #REF!
Name par2.12s: #REF!
Name par2.4s: #REF!,#REF!,#REF!,#REF!,#REF!,#REF!,#REF!,#REF!,#REF!,#REF!,#REF!,#REF!,#REF!,#REF!,#REF!,#REF!
Name par2.4s: #REF!,#REF!,#REF!,#REF!,#REF!,#REF!,#REF!,#REF!,#REF!,#REF!,#REF!,#REF!,#REF!,#REF!,#REF!,#REF!
Name par2.5s: #REF!,#REF!
Name par2.5s: #REF!,#REF!
Name par2.6s: #REF!,#REF!,#REF!,#REF!
Name par2.6s: #REF!,#REF!,#REF!,#REF!
Name par2.7s: #REF!,#REF!
Name par2.7s: #REF!,#REF!
Name par2.9s: #REF!,#REF!,#REF!,#REF!,#REF!,#REF!,#REF!,#REF!,#REF!,#REF!,#REF!,#REF!,#REF!,#REF!,#REF!,#REF!
Name par2.9s: #REF!,#REF!,#REF!,#REF!,#REF!,#REF!,#REF!,#REF!,#REF!,#REF!,#REF!,#REF!,#REF!,#REF!,#REF!,#REF!
Name par4.10s: #REF!,#REF!
Name par4.10s: #REF!,#REF!

Sheet 1
E1: Հավելված N 1
E2: ՀՀ կառավարության 2022 թվականի
E3: ______________ ի ___Ն որոշման
B6: «ՀԱՅԱՍՏԱՆԻ ՀԱՆՐԱՊԵՏՈՒԹՅԱՆ 2022 ԹՎԱԿԱՆԻ ՊԵՏԱԿԱՆ ԲՅՈՒՋԵԻ ՄԱՍԻՆ» ՕՐԵՆՔԻ N 1 ՀԱՎԵԼՎԱԾԻ N 7 ԱՂՅՈՒՍԱԿՈՒՄ ԵՎ ՀԱՅԱՍՏԱՆԻ ՀԱՆՐԱՊԵՏՈՒԹՅԱՆ ԿԱՌԱՎԱՐՈՒԹՅԱՆ 2021 ԹՎԱԿԱՆԻ ԴԵԿՏԵՄԲԵՐԻ 23-Ի N 2121-Ն ՈՐՈՇՄԱՆ N 5 ՀԱՎԵԼՎԱԾԻ N 6 ԱՂՅՈՒՍԱԿՈՒՄ ԿԱՏԱՐՎՈՂ ՓՈՓՈԽՈՒԹՅՈՒՆՆԵՐԸ
B8: Ծրագրային դասիչը | D8: Բյուջետային հատկացումների գլխավոր կարգադրիչների, ծրագրերի, միջոցառումների և միջոցառումները կատարող պետական մարմինների անվանումները | E8: Ցուցանիշների փոփոխությունը (ավելացումները նշված են դրական նշանով, իսկ նվազեցումները` փակագծերում)
B9: Ծրագիր | C9: Միջոցառում | E9: Տարի
D10: ԸՆԴԱՄԵՆԸ | E10: =+E12 -> 0
D11: այդ թվում
D12: Կապիտալ սուբվենցիաներ համայնքներին | E12: =+E14 -> 0
D13: այդ թվում`
D14: ՀՀ տարածքային կառավարման և ենթակառուցվածքների նախարարություն | E14: =+E16 -> 0
D15: այդ թվում`
B16: 1212 | D16: Տարածքային զարգացում | E16: =+E18 -> 0
D17: այդ թվում`
C18: 12007 | D18: ՀՀ մարզերին սուբվենցիաների տրամադրում՝ ենթակառուցվածքների զարգացման նպատակով | E18: 0
D19: այդ թվում` ըստ կատարողների
D20: ՀՀ կառավարություն | E20: =-(E21+E25+E42+E51+E63+E67+E83+E70) -> 960344.27
D21: ՀՀ Արագածոտնի մարզպետարան | E21: =SUM(E23:E24) -> -64.6
D22: այդ թվում` ըստ ուղղությունների
D23: Արագածավան համայնքի Արագածավան բնակավայրի գիշերային լուսավորության համակարգի կառուցում | E23: -44
D24: Արտաշավան համայնքի ոռոգման համակարգի վերանորոգման աշխատանքներ | E24: -20.6
D25: ՀՀ Արարատի մարզպետարան | E25: =(E27+E28+E29+E30+E31+E32+E33+E34+E35+E36+E37+E38+E39+E40+E41) -> -36562.6
D26: այդ թվում` ըստ ուղղությունների
D27: Մարմարաշեն համայնքի 45, 2, 3, 4, 5, 6, 7, 8, 19, 21, 16-րդ փողոցը մասնակի և Երևան-Արտաշատ խճուղուց մինչև 20, 21, 22 և 24 փողոցների գլխամասում միացնող ճանապարհի կոպճապատման աշխատանքներ | E27: -10562.8
D28: Վարդաշեն համայնքի ոռոգման ներտնտեսային ցանցի բարելավման աշխատանքներ | E28: -64.9
D29: Արտաշատ համայնքի Օգոստոսի 23 փողոցի թիվ 23, Արազի փողոցի 39, Շահումյան փողոցի 30 բազմաբնակարան բնակելի շենքերի տանիքների հիմնանորոգում | E29: -14.6
D30: Բաղրամյան համայնքի ոռոգման ցանցի վերակառուցում | E30: -517
D31: Լանջառ համայնքի խմելու ջրի մատակարարման աշխատանքներ | E31: -36
D32: Վեդի քաղաքային համայնքի Արարատյան 36, 38, 40, 42, Գայի 5, 7, 9 և Կասյան 26/14, 26/15 ԲԲՇ-ների բակերի ասֆալտապատում և բարեկարգում | E32: -24205.5
D33: Նորաբաց համայնքի Երևանյան փողոցի ասֆալտապատման աշխատանքներ | E33: -30
D34: Ոսկետափ համայնքի Մուսա Լեռան փողոցի ասֆալտապատում | E34: -223.5
D35: Արարատ քաղաքային համայնքի զբոսայգու կապիտալ վերակառուցում | E35: -34
D36: Դալար համայնքի մանկապարտեզի 20 կՎտ հզորությամբ ֆոտովոլտային կայանի կառուցում | E36: -183.8
D37: Հովտաշատ համայնք, Հ. Բաղրամյան 57/1 հողամաս հասցեում պոլիկլինիկայի կառուցում | E37: -93.2
D38: Այնթապ համայնքի ցածր ճնշման գազատարի կառուցման աշխատանքներ | E38: -498.5
... D41: Մասիս քաղաքի նախկին մարզադպրոցի, մանկապատանեկան ստեղ ծագործական կենտրոնի, քաղաքային կենտրոնական գրադարան ՀՈԱԿ-ների մասնաշենքերի հիմնանորոգման աշխատանքներ | E41: -4.6
D42: ՀՀ Արմավիրի մարզպետարան | E42: =(E44+E45+E46+E47+E48+E49+E50) -> -4328.137
D43: այդ թվում` ըստ ուղղությունների
D44: Ծաղկունք համայնքի մշակույթի տան վերանորոգում | E44: -36.93
D45: Ամբերդ համայնքի մի շարք փողոցների գազիֆիկացում | E45: -96.919
D46: Արմավիրի համայնքի Սայաթ-Նովա փողոցի Ջիվանի-Հանրապետության,Մյասնիկյան փողոցի Ջիվանի-Չարենց հատվածների հիմնանորոգում | E46: -3821.6
D47: Ջանֆիդա համայնքի Վ.Սարգսյանի անվան մանկապարտեզի հիմնանորոգում | E47: -133.17
D48: Դալարիկ համայնքի 9,11 բազմաբնակարան շենքերի տանիքների վերակառուցում | E48: -79.28
D49: Նորավան համայնքի 5-րդ փողոցի 29/1 հասցեում գտնվող համայնքապետարանի հարակից տարածքում Արցախյան պատերազմում զոհվածներին նվիրված հուշարձանի կառուցում | E49: -125.728
D50: Լենուղի համայնքի 1-ին,3-րդ,9-րդ և 13-րդ փողոցների խմելու ջրամատակարարման ցանցի անցկացման աշխատանքներ | E50: -34.51
D51: ՀՀ Գեղարքունիքի մարզպետարան | E51: =(E53+E54+E55+E56+E57+E58+E59+E60+E61+E62) -> -99707.689
D52: այդ թվում` ըստ ուղղությունների
D53: Վաղաշեն համայնքի խմելու ջրի բաշխիչ ցանցի բարելավում և ջրաքանակի ավելացում | E53: -523.236
D54: Ծովակ համայնքի 1-ին փողոցի ասֆալտապատում | E54: -1000.8
D55: Ներքին Գետաշեն համայնքի ներհամայնքային փողոցների ասֆալտապատում | E55: -6276.735
D56: Ծովինար համայնքի մանկապարտեզի շենքի վերանորոգում /3-րդ փուլ/ | E56: -4947.872
D57: Արծվանիստ համայնքի մանկապարտեզի հիմնանորոգում | E57: -190
D58: Մեծ Մասրիկ համայնքի մշակույթի տան կառուցում /2-րդ փուլ/ | E58: -17145.2
D59: Վաղաշեն համայնքի շենքերի և մանկապարտեզի շենքի տանիքներին 127,8 կվտ/ժ և 37,8 կվտ/ժ դրվածքային հզորություններով արևային կայանների կառուցում | E59: -1032.05
D60: Նորակերտ համայնքի խմելու ջրի ջրագծի 2000մ հատվածի վերանորոգում | E60: -3138.22
D61: Մարտունի համայնքի Ծովինար բնակավայրի մշակույթի կենտրոնի վարչական շենքի կապիտալ վերանորոգում /3-րդ փուլ/ | E61: -453.576
D62: Վարդենիկ համայնքի ներհամայնքային 3,4,5,6 փողոցների ճանապարհային պատվածքի սալարկման աշխատանքներ | E62: -65000
D63: ՀՀ Լոռու մարզպետարան | E63: =SUM(E65:E66) -> -254.7
D64: այդ թվում` ըստ ուղղությունների
D65: Գյուլագարակ համայնքի Գյուլագարակ բնակավայրի գերմանական թաղամասի, Ամրակից բնակավայրի 2-րդ փողոցի մասնակի, Պուշկինո բնակավայրի 1-ին և 2-րդ փողոցների մասնակի գազիֆիկացում | E65: -181.1
D66: Տաշիր համայնքի Սարատովա և Կաթնառատ բնակավայրերի փողոցների նորոգում՝ սալարկմամբ | E66: -73.6
D67: ՀՀ Շիրակի մարզպետարան | E67: =E69 -> -16695.1
D68: այդ թվում` ըստ ուղղությունների
D69: Արփի համայնքի Աղվորիկ, Բերդաշեն, Զարիշատ, Զորակերտ գյուղական համայնքների ջրագծի կառուցում | E69: -16695.1
D70: ՀՀ Սյունիքի մարզպետարան | E70: =E72+E73+E74+E75+E76+E77+E78+E79+E80+E81+E82 -> -769492.91
D71: այդ թվում` ըստ ուղղությունների
D72: Քաջարան համայնքի «Բազմաբնակարան շենքերի էներգաարդյունավետության բարելավում» | E72: -711175.14
D73: Տեղ համայնքի Խոզնավար և Խնածախ բնակավայրերի ոռոգման ներքին ցանցի կառուցում և վերանորոգում | E73: -84.02
D74: Գորիս համայնքի Արզումանյան փողոցի Սևյան նրբանցքի և Ավանգարդ 4-րդ փողոցի հիմնանորոգման աշխատանքնե | E74: -1234.26
D75: Կապան համայնքի հասարակական շենքերի (արվեստի թանգարան, Ձորք թաղամասի ակումբ, գրադարան, ՔԿԱԳ գրասենյակ) նորոգում | E75: -19475.842
D76: Կապան համայնքի Կապան քաղաքի թիվ 8 և Դավիթ Բեկ բնակավայրի ՆՈՒՀ-երի շենքերի վերանորոգում և Վարդավանք բնակավայրում այլընտրանքային ՆՈՒՀ-ի համար նախատեսվող շենքի վերանորոգում | E76: -9101.4677
D77: Գորիս համայնքի Ակներ և Վերիշեն գյուղերի կարիքների Ակներ գյուղի Մթնաձոր և «Բաբուռի քերծ» անվանյալ տարածքներում ջրհավաքների և սնուցող ջրագծի կառուցում | E77: -1945.7194
D78: Կապան համայնքի Աճանան բնակավայրի ոռոգման համակարգի վերակառուցում | E78: -4405.996
D79: Գորիս համայնքի Արտաշեսյան փողոցի 960 մ հատվածի ասֆալտապատման աշխատանքներ | E79: -1452.5946
D80: Կապան համայնքի հասարակական շենքերի նորոգում՝ Ծավ բնակավայրի վարչական շենքի (նախկինում գյուղապետարանի) վերանորոգում, Վերին Խոտանան գյուղում հանդիսությունների սրահի (կենցաղի տան) վերանորոգում, Չափնի գյուղում հանդիսությունների սրահի (կենցաղի տան)վերանորոգում, Շիկահող բնակավայրի ակումբի շենքի տանիքի վերանորոգում, Դավիթ Բեկ գյուղի մշակույթի տան շենքի վերականգնում, Վարդավանք գյուղի ակումբի շենքի վերանորոգում, Արծվանիկ բնակավայրի բուժկետի վերանորոգում, Թիվ 3 երաժշտական դպրոց ՀՈԱԿ-ի ջեռուցման համակարգի կառուցում, Մարմնամարզության մանկապատանեկան մարզադպրոց ՀՈԱԿ-ի շենքի վերանորոգում | E80: -10883.728
D81: Գորայք համայնքի Գորայք բն․ «Ծաղկունք», «Սաիտակ տուն» ջրաղբյուրների ջրհավաք ավազանների վերանորոգում, ՕԿՋ թիվ 1-ի քլորակայանի կառուցում, բնակավայրը սնող խմելու ջրի ջրագծի մասնակի վերանորոգում | E81: -6863.675
D82: Գորայք համայնքի Սառնակունք բն․ «Սալով», «Կոստոյի» աղբյուրների ջրհավաք ավազանների հիմնանորոգում, «Սալով» աղբյուր ջրագծի մասնակի վերանորոգում, ներբնակավայրը խմելու ջրի ջրագծի մասնակի վերանորոգում | E82: -2870.465
D83: ՀՀ Վայոց ձորի մարզպետարան | E83: =(E85+E86+E87+E88+E89+E90+E91+E92+E93+E94+E95+E96+E97+E98+E99) -> -33238.531
D84: այդ թվում` ըստ ուղղությունների
D85: Արենի համայնքի Ռինդ բնակավայրում ֆուտբոլի դաշտի կառուցում | E85: -5225.6
D86: Արենի համայնքի Աղավնաձոր բնակավայրի գազատարների ներքին ցանցի կառուցում | E86: -578.4
D87: Արենի համայնքի Արենի բնակավայրում Սուրբ Հովհաննես աղբյուրի 4 կապտաժների և ջրհավաք ավազանի կառուցում, Չիվա բնակավայրի խմելու ջրագծերի վերակառուցում , Խաչիկ բնակավայրում «Քառասուն աղբյուրներ» տարածքում խմելու ջրի 2 կապտաժների կառուցում և 3 կապտաժների մասնակի նորոգում | E87: -8045.2
D88: Արենի համայնքի Աղավնաձոր բնակավայրում 1000 գծմ ճանապարհի ասֆալտապատում | E88: -1104.4
D89: Արենի համայնքի` 1. Արենի բնակավայրում «Շեղ առու» (Դոլայի առու) ոռոգման գծի 1,4 կմ երկարությամբ կիսախողովակների հատվածում պոլիէթիլենայինD=315մմ խողովակներով ջրագծի կառուցում,2. Ելփին բնակավայրում «Տանձիկի առու» տարածքում ոռոգման ջրատարի արտաքին ցանցի կառուցում,3. Ելփին բնակավայրի ոռոգման համակարգի վերանորոգում, 4. Խաչիկ բնակավայրում «Կաղ առու» ոռոգման արտաքին ցանցի կառուցում, 5. Խաչիկ բնակավայրում Հիվանդանոցի թաղամասում ոռոգման ջրագծի կառուցում, 6. Չիվա բնակավայրում «Քարուտ» կոչվող տարածքում ոռոգման ջրագծի կառուցում | E89: -196
D90: Արենի համայնքի Արենի բնակավայրում մեքենատրակտորային պարկի կառուցում, Աղավնաձոր բն․ 1 հենապատի կառուցում | E90: -5238.5
D91: Գլաձոր համայնքի Գետափ բնակավայրի ներհամայնքային ճանապարհի ասֆալտապատում (մինչև հին գերեզմաններ) | E91: -108
D92: Գլաձոր համայնքի Վերնաշեն բնակավայրի գազիֆիկացում | E92: -58.2
D93: Եղեգնաձոր համայնքի Միկոյան 22 բազմաբնակարան բնակելի շենքի տանիքի հիմնանորոգում | E93: -824.769
D94: Եղեգնաձոր համայնքի Ալավերդյան փողոցի 430մ,Անդրանիկի փողոցի 570մ, Արսենյան 210մ փողոցի հատվածների լուսավորության ցանցի անցկացում | E94: -2416.096
D95: Եղեգնաձոր համայնքի Կամո փողոցի/Երևանյան խճուղուց մինչև Անդրանիկի փողոց/ Ալավերդյան փողոցի նորոգում | E95: -127.403
D96: Եղեգնաձոր համայնքի հրապարակի նորոգում | E96: -538.84
... D99: Զառիթափ համայնքի Սարավան բնակավայրի խմելու ջրագծի և գլխամասային կառույցների կառուցում | E99: -1602.02

Sheet 2
H1: Հավելված N 2
H2: ՀՀ կառավարության 2022 թվականի
H3: ______________ ի ___Ն որոշման
B6: ՀԱՅԱՍՏԱՆԻ ՀԱՆՐԱՊԵՏՈՒԹՅԱՆ ԿԱՌԱՎԱՐՈՒԹՅԱՆ 2021 ԹՎԱԿԱՆԻ ԴԵԿՏԵՄԲԵՐԻ 23-Ի № 2121-Ն ՈՐՈՇՄԱՆ №№ 3 և 4 ՀԱՎԵԼՎԱԾՆԵՐՈՒՄ ԿԱՏԱՐՎՈՂ ՓՈՓՈԽՈՒԹՅՈՒՆՆԵՐԸ
B8: Գործառական դասիչը | E8: Ծրագրային դասիչը | G8: Բյուջետային հատկացումների գլխավոր կարգադրիչների, ծրագրերի, միջոցառումների և միջոցառումները կատարող պետական մարմինների անվանումները | H8: Ցուցանիշների փոփոխությունը (ավելացումները նշված են դրական նշանով, իսկ նվազեցումները` փակագծերում)
B9: բաժին | C9: խումբ | D9: դաս | E9: Ծրագիր | F9: Միջոցառում | H9: Տարի
B10: ԸՆԴԱՄԵՆԸ ԾԱԽՍԵՐ | H10: =+H11 -> 0
B11: 01 | G11: ԸՆԴՀԱՆՈՒՐ ԲՆՈՒՅԹԻ ՀԱՆՐԱՅԻՆ ԾԱՌԱՅՈՒԹՅՈՒՆՆԵՐ | H11: =+H13 -> 0
G12: այդ թվում՝
C13: 08 | G13: Կառավարության տարբեր մակարդակների միջև իրականացվող ընդհանուր բնույթի տրանսֆերտներ | H13: =+H15 -> 0
G14: այդ թվում՝
D15: 01 | G15: Կառավարության տարբեր մակարդակների միջև իրականացվող ընդհանուր բնույթի տրանսֆերտներ | H15: =+H17 -> 0
G16: այդ թվում՝
G17: ՀՀ տարածքային կառավարման և ենթակառուցվածքների նախարարություն | H17: =+H19 -> 0
G18: այդ թվում՝
E19: 1212 | G19: Տարածքային զարգացում | H19: =+H21 -> 0
G20: այդ թվում`
F21: 12007 | G21: ՀՀ մարզերին սուբվենցիաների տրամադրում՛ ենթակառուցվածքների զարգացման նպատակով_x000D_ | H21: 0
G22: այդ թվում` ըստ կատարողների
G23: ՀՀ կառավարություն | H23: ='1'!E20 -> 960344.27
G24: այդ թվում` բյուջետային ծախսերի տնտեսագիտական դասակարգման հոդվածներ
G25: ԸՆԴԱՄԵՆԸ ԾԱԽՍԵՐ | H25: ='1'!E20 -> 960344.27
G26: ԸՆԹԱՑԻԿ ԾԱԽՍԵՐ | H26: =H25 -> 960344.27
G27: ԴՐԱՄԱՇՆՈՐՀՆԵՐ | H27: =H26 -> 960344.27
G28: Կապիտալ դրամաշնորհներ պետական հատվածի այլ մակարդակներին
G29: - Կապիտալ սուբվենցիաներ համայնքներին | H29: ='1'!E20 -> 960344.27
G30: ՀՀ Արագածոտնի մարզպետարան | H30: =H36 -> -64.6
G31: այդ թվում` բյուջետային ծախսերի տնտեսագիտական դասակարգման հոդվածներ
G32: ԸՆԴԱՄԵՆԸ ԾԱԽՍԵՐ | H32: ='1'!E21 -> -64.6
G33: ԸՆԹԱՑԻԿ ԾԱԽՍԵՐ | H33: =H32 -> -64.6
G34: ԴՐԱՄԱՇՆՈՐՀՆԵՐ | H34: =H33 -> -64.6
G35: Կապիտալ դրամաշնորհներ պետական հատվածի այլ մակարդակներին | H35: =H34 -> -64.6
G36: - Կապիտալ սուբվենցիաներ համայնքներին | H36: =H35 -> -64.6
G37: ՀՀ Արարատի մարզպետարան | H37: =H43 -> -36562.6
G38: այդ թվում` բյուջետային ծախսերի տնտեսագիտական դասակարգման հոդվածներ
G39: ԸՆԴԱՄԵՆԸ ԾԱԽՍԵՐ | H39: =H41 -> -36562.6
G40: ԸՆԹԱՑԻԿ ԾԱԽՍԵՐ | H40: =H41 -> -36562.6
G41: ԴՐԱՄԱՇՆՈՐՀՆԵՐ | H41: =H42 -> -36562.6
G42: Կապիտալ դրամաշնորհներ պետական հատվածի այլ մակարդակներին | H42: =+H43 -> -36562.6
G43: - Կապիտալ սուբվենցիաներ համայնքներին | H43: ='1'!E25 -> -36562.6
G44: ՀՀ Արմավիրի մարզպետարան | H44: ='1'!E42 -> -4328.137
G45: այդ թվում` բյուջետային ծախսերի տնտեսագիտական դասակարգման հոդվածներ
G46: ԸՆԴԱՄԵՆԸ ԾԱԽՍԵՐ | H46: =H44 -> -4328.137
G47: ԸՆԹԱՑԻԿ ԾԱԽՍԵՐ | H47: =H46 -> -4328.137
G48: ԴՐԱՄԱՇՆՈՐՀՆԵՐ | H48: =H47 -> -4328.137
G49: Կապիտալ դրամաշնորհներ պետական հատվածի այլ մակարդակներին | H49: =H48 -> -4328.137
G50: - Կապիտալ սուբվենցիաներ համայնքներին | H50: =H49 -> -4328.137
G51: ՀՀ Գեղարքունիքի մարզպետարան | H51: ='1'!E51 -> -99707.689
G52: այդ թվում` բյուջետային ծախսերի տնտեսագիտական դասակարգման հոդվածներ
G53: ԸՆԴԱՄԵՆԸ ԾԱԽՍԵՐ | H53: =H55 -> -99707.689
G54: ԸՆԹԱՑԻԿ ԾԱԽՍԵՐ | H54: =H55 -> -99707.689
G55: ԴՐԱՄԱՇՆՈՐՀՆԵՐ | H55: =H56 -> -99707.689
G56: Կապիտալ դրամաշնորհներ պետական հատվածի այլ մակարդակներին | H56: =+H57 -> -99707.689
G57: - Կապիտալ սուբվենցիաներ համայնքներին | H57: ='1'!E51 -> -99707.689
G58: ՀՀ Լոռու մարզպետարան | H58: ='1'!E63 -> -254.7
G59: այդ թվում` բյուջետային ծախսերի տնտեսագիտական դասակարգման հոդվածներ
G60: ԸՆԴԱՄԵՆԸ ԾԱԽՍԵՐ | H60: =H58 -> -254.7
G61: ԸՆԹԱՑԻԿ ԾԱԽՍԵՐ | H61: =H60 -> -254.7
G62: ԴՐԱՄԱՇՆՈՐՀՆԵՐ | H62: =H61 -> -254.7
G63: Կապիտալ դրամաշնորհներ պետական հատվածի այլ մակարդակներին | H63: =H62 -> -254.7
G64: - Կապիտալ սուբվենցիաներ համայնքներին | H64: =H63 -> -254.7
G65: ՀՀ Շիրակի մարզպետարան | H65: ='1'!E67 -> -16695.1
G66: այդ թվում` բյուջետային ծախսերի տնտեսագիտական դասակարգման հոդվածներ
G67: ԸՆԴԱՄԵՆԸ ԾԱԽՍԵՐ | H67: =H65 -> -16695.1
G68: ԸՆԹԱՑԻԿ ԾԱԽՍԵՐ | H68: =H67 -> -16695.1
G69: ԴՐԱՄԱՇՆՈՐՀՆԵՐ | H69: =H68 -> -16695.1
G70: Կապիտալ դրամաշնորհներ պետական հատվածի այլ մակարդակներին | H70: =H69 -> -16695.1
G71: - Կապիտալ սուբվենցիաներ համայնքներին | H71: =H70 -> -16695.1
G72: ՀՀ Սյունիքի մարզպետարան | H72: ='1'!E70 -> -769492.91
G73: այդ թվում` բյուջետային ծախսերի տնտեսագիտական դասակարգման հոդվածներ
G74: ԸՆԴԱՄԵՆԸ ԾԱԽՍԵՐ | H74: =H72 -> -769492.91
G75: ԸՆԹԱՑԻԿ ԾԱԽՍԵՐ | H75: =H74 -> -769492.91
G76: ԴՐԱՄԱՇՆՈՐՀՆԵՐ | H76: =H75 -> -769492.91
G77: Կապիտալ դրամաշնորհներ պետական հատվածի այլ մակարդակներին | H77: =H76 -> -769492.91
G78: - Կապիտալ սուբվենցիաներ համայնքներին | H78: =H77 -> -769492.91
G79: ՀՀ Վայոց ձորի մարզպետարան | H79: ='1'!E83 -> -33238.531
G80: այդ թվում` բյուջետային ծախսերի տնտեսագիտական դասակարգման հոդվածներ
G81: ԸՆԴԱՄԵՆԸ ԾԱԽՍԵՐ | H81: =H79 -> -33238.531
G82: ԸՆԹԱՑԻԿ ԾԱԽՍԵՐ | H82: =H81 -> -33238.531
G83: ԴՐԱՄԱՇՆՈՐՀՆԵՐ | H83: =H82 -> -33238.531
G84: Կապիտալ դրամաշնորհներ պետական հատվածի այլ մակարդակներին | H84: =H83 -> -33238.531
G85: - Կապիտալ սուբվենցիաներ համայնքներին | H85: =H84 -> -33238.531

Sheet 3
D1: Հավելված N 3
D2: ՀՀ կառավարության 2022 թվականի
D3: ______________ ի ___Ն որոշման
B6: ՀԱՅԱՍՏԱՆԻ ՀԱՆՐԱՊԵՏՈՒԹՅԱՆ ԿԱՌԱՎԱՐՈՒԹՅԱՆ 2021 ԹՎԱԿԱՆԻ ԴԵԿՏԵՄԲԵՐԻ 23-Ի № 2121-Ն ՈՐՈՇՄԱՆ № 9 ՀԱՎԵԼՎԱԾԻ № 9.7 ԱՂՅՈՒՍԱԿՈՒՄ ԿԱՏԱՐՎՈՂ ՓՈՓՈԽՈՒԹՅՈՒՆԸ
B7: ՀՀ տարածքային կառավարման և ենթակառուցվածքների նախարարություն
B9: Ծրագրի դասիչը | C9: Ծրագրի անվանումը
B10: 1212 | C10: Տարածքային զարգացում
B11: Ծրագրի միջոցառումները
B13: Ծրագրի դասիչը` | C13: 1212 | D13: Ցուցանիշների փոփոխությունը (ավելացումները նշված են դրական նշանով)
B14: Միջոցառման դասիչը` | C14: 12007 | D14: Տարի
B15: Միջոցառման անվանումը` | C15: ՀՀ մարզերին սուբվենցիաների տրամադրում` ենթակառուցվածքների զարգացման նպատակով_x000D_
B16: Նկարագրությունը` | C16: ՀՀ մարզերին սուբվենցիաների տրամադրում` ենթակառուցվածքների զարգացման նպատակով
B17: Միջոցառման տեսակը` | C17: Տրանսֆերտների տրամադրում
B18: Միջոցառումն իրականացնողի անվանումը | C18: ՀՀ համայնքներ
B19: Արդյունքի չափորոշիչներ
B20: ՀՀ համայնքների թիվ, հատ | D20: ='4'!D25+'4'!D45+'4'!D65+'4'!D86+'4'!D106+'4'!D127+'4'!D148+'4'!D168 -> -4
B21: Միջոցառման վրա կատարվող ծախսը (հազար դրամ) | D21: 0

Sheet 4
D1: Հավելված N 4
D2: ՀՀ կառավարության 2022 թվականի
D3: ______________ ի ___Ն որոշման
B6: ՀԱՅԱՍՏԱՆԻ ՀԱՆՐԱՊԵՏՈՒԹՅԱՆ ԿԱՌԱՎԱՐՈՒԹՅԱՆ 2021 ԹՎԱԿԱՆԻ ԴԵԿՏԵՄԲԵՐԻ 23-Ի № 2121-Ն ՈՐՈՇՄԱՆ № 9.1 ՀԱՎԵԼՎԱԾԻ № 9.1.49, 9.1.50, 9.1 51, 9.1.52, 9.1.53, 9.1.55, 9.1.56, 9.1.57 ԵՎ 9.1.59 ԱՂՅՈՒՍԱԿՆԵՐՈՒՄ ԿԱՏԱՐՎՈՂ ՓՈՓՈԽՈՒԹՅՈՒՆՆԵՐԸ
D8: Աղյուսակ 9.1.49
B9: ՀՀ Արագածոտնի մարզպետարան
B11: ՄԱՍ 1. ՊԵՏԱԿԱՆ ՄԱՐՄՆԻ ԳԾՈՎ ԱՐԴՅՈՒՆՔԱՅԻՆ (ԿԱՏԱՐՈՂԱԿԱՆ) ՑՈՒՑԱՆԻՇՆԵՐԸ
B13: Ծրագրի դասիչը | C13: Ծրագրի անվանումը
B14: 1212 | C14: Տարածքային զարգացում
B16: Ծրագրի միջոցառումները
B18: Ծրագրի դասիչը` | C18: 1212 | D18: Ցուցանիշների փոփոխությունը (նվազեցումները նշված են փակագծերում)
B19: Միջոցառման դասիչը` | C19: 12007 | D19: Տարի
B20: Միջոցառման անվանումը` | C20: ՀՀ մարզերին սուբվենցիաների տրամադրում` ենթակառուցվածքների զարգացման նպատակով_x000D_
B21: Նկարագրությունը` | C21: ՀՀ մարզերին սուբվենցիաների տրամադրում` ենթակառուցվածքների զարգացման նպատակով
B22: Միջոցառման տեսակը` | C22: Տրանսֆերտների տրամադրում
B23: Միջոցառումն իրականացնողի անվանումը | C23: ՀՀ համայնքներ
B24: Արդյունքի չափորոշիչներ
B25: ՀՀ համայնքների թիվ, հատ
B26: Միջոցառման վրա կատարվող ծախսը (հազար դրամ) | D26: ='1'!E21 -> -64.6
D28: Աղյուսակ 9.1.50
B29: ՀՀ Արարատի մարզպետարան
B31: ՄԱՍ 1. ՊԵՏԱԿԱՆ ՄԱՐՄՆԻ ԳԾՈՎ ԱՐԴՅՈՒՆՔԱՅԻՆ (ԿԱՏԱՐՈՂԱԿԱՆ) ՑՈՒՑԱՆԻՇՆԵՐԸ
B33: Ծրագրի դասիչը | C33: Ծրագրի անվանումը
B34: 1212 | C34: Տարածքային զարգացում
B36: Ծրագրի միջոցառումները
B38: Ծրագրի դասիչը` | C38: 1212 | D38: Ցուցանիշների փոփոխությունը (նվազեցումները նշված են փակագծերում)
B39: Միջոցառման դասիչը` | C39: 12007 | D39: Տարի
B40: Միջոցառման անվանումը` | C40: ՀՀ մարզերին սուբվենցիաների տրամադրում` ենթակառուցվածքների զարգացման նպատակով_x000D_
B41: Նկարագրությունը` | C41: ՀՀ մարզերին սուբվենցիաների տրամադրում` ենթակառուցվածքների զարգացման նպատակով
B42: Միջոցառման տեսակը` | C42: Տրանսֆերտների տրամադրում
B43: Միջոցառումն իրականացնողի անվանումը | C43: ՀՀ համայնքներ
B44: Արդյունքի չափորոշիչներ
B45: ՀՀ համայնքների թիվ, հատ | D45: -2
B46: Միջոցառման վրա կատարվող ծախսը (հազար դրամ) | D46: ='2'!H37 -> -36562.6
D48: Աղյուսակ 9.1.51
B49: ՀՀ Արմավիրի մարզպետարան
B51: ՄԱՍ 1. ՊԵՏԱԿԱՆ ՄԱՐՄՆԻ ԳԾՈՎ ԱՐԴՅՈՒՆՔԱՅԻՆ (ԿԱՏԱՐՈՂԱԿԱՆ) ՑՈՒՑԱՆԻՇՆԵՐԸ
B53: Ծրագրի դասիչը | C53: Ծրագրի անվանումը
B54: 1212 | C54: Տարածքային զարգացում
B56: Ծրագրի միջոցառումները
B58: Ծրագրի դասիչը` | C58: 1212 | D58: Ցուցանիշների փոփոխությունը (նվազեցումները նշված են փակագծերում)
B59: Միջոցառման դասիչը` | C59: 12007 | D59: Տարի
B60: Միջոցառման անվանումը` | C60: ՀՀ մարզերին սուբվենցիաների տրամադրում` ենթակառուցվածքների զարգացման նպատակով_x000D_
B61: Նկարագրությունը` | C61: ՀՀ մարզերին սուբվենցիաների տրամադրում` ենթակառուցվածքների զարգացման նպատակով
B62: Միջոցառման տեսակը` | C62: Տրանսֆերտների տրամադրում
B63: Միջոցառումն իրականացնողի անվանումը | C63: ՀՀ համայնքներ
B64: Արդյունքի չափորոշիչներ
B65: ՀՀ համայնքների թիվ, հատ
B66: Միջոցառման վրա կատարվող ծախսը (հազար դրամ) | D66: ='1'!E42 -> -4328.137
D69: Աղյուսակ 9.1.52
B70: ՀՀ Գեղարքունիքի մարզպետարան
B72: ՄԱՍ 1. ՊԵՏԱԿԱՆ ՄԱՐՄՆԻ ԳԾՈՎ ԱՐԴՅՈՒՆՔԱՅԻՆ (ԿԱՏԱՐՈՂԱԿԱՆ) ՑՈՒՑԱՆԻՇՆԵՐԸ
B74: Ծրագրի դասիչը | C74: Ծրագրի անվանումը
B75: 1212 | C75: Տարածքային զարգացում
B77: Ծրագրի միջոցառումները
B79: Ծրագրի դասիչը` | C79: 1212 | D79: Ցուցանիշների փոփոխությունը (նվազեցումները նշված են փակագծերում)
B80: Միջոցառման դասիչը` | C80: 12007 | D80: Տարի
B81: Միջոցառման անվանումը` | C81: ՀՀ մարզերին սուբվենցիաների տրամադրում` ենթակառուցվածքների զարգացման նպատակով_x000D_
B82: Նկարագրությունը` | C82: ՀՀ մարզերին սուբվենցիաների տրամադրում` ենթակառուցվածքների զարգացման նպատակով
B83: Միջոցառման տեսակը` | C83: Տրանսֆերտների տրամադրում
B84: Միջոցառումն իրականացնողի անվանումը | C84: ՀՀ համայնքներ
B85: Արդյունքի չափորոշիչներ
B86: ՀՀ համայնքների թիվ, հատ | D86: -1
B87: Միջոցառման վրա կատարվող ծախսը (հազար դրամ) | D87: ='2'!H51 -> -99707.689
D89: Աղյուսակ 9.1.53
B90: ՀՀ Լոռու մարզպետարան
B92: ՄԱՍ 1. ՊԵՏԱԿԱՆ ՄԱՐՄՆԻ ԳԾՈՎ ԱՐԴՅՈՒՆՔԱՅԻՆ (ԿԱՏԱՐՈՂԱԿԱՆ) ՑՈՒՑԱՆԻՇՆԵՐԸ
B94: Ծրագրի դասիչը | C94: Ծրագրի անվանումը
B95: 1212 | C95: Տարածքային զարգացում
B97: Ծրագրի միջոցառումները
B99: Ծրագրի դասիչը` | C99: 1212 | D99: Ցուցանիշների փոփոխությունը (նվազեցումները նշված են փակագծերում)
B100: Միջոցառման դասիչը` | C100: 12007 | D100: Տարի
B101: Միջոցառման անվանումը` | C101: ՀՀ մարզերին սուբվենցիաների տրամադրում` ենթակառուցվածքների զարգացման նպատակով_x000D_
B102: Նկարագրությունը` | C102: ՀՀ մարզերին սուբվենցիաների տրամադրում` ենթակառուցվածքների զարգացման նպատակով
B103: Միջոցառման տեսակը` | C103: Տրանսֆերտների տրամադրում
B104: Միջոցառումն իրականացնողի անվանումը | C104: ՀՀ համայնքներ
B105: Արդյունքի չափորոշիչներ
B106: ՀՀ համայնքների թիվ, հատ
B107: Միջոցառման վրա կատարվող ծախսը (հազար դրամ) | D107: ='1'!E63 -> -254.7
D110: Աղյուսակ 9.1.55
B111: ՀՀ Շիրակի մարզպետարան
B113: ՄԱՍ 1. ՊԵՏԱԿԱՆ ՄԱՐՄՆԻ ԳԾՈՎ ԱՐԴՅՈՒՆՔԱՅԻՆ (ԿԱՏԱՐՈՂԱԿԱՆ) ՑՈՒՑԱՆԻՇՆԵՐԸ
B115: Ծրագրի դասիչը | C115: Ծրագրի անվանումը
B116: 1212 | C116: Տարածքային զարգացում
B118: Ծրագրի միջոցառումները
B120: Ծրագրի դասիչը` | C120: 1212 | D120: Ցուցանիշների փոփոխությունը (նվազեցումները նշված են փակագծերում)
B121: Միջոցառման դասիչը` | C121: 12007 | D121: Տարի
B122: Միջոցառման անվանումը` | C122: ՀՀ մարզերին սուբվենցիաների տրամադրում` ենթակառուցվածքների զարգացման նպատակով_x000D_
B123: Նկարագրությունը` | C123: ՀՀ մարզերին սուբվենցիաների տրամադրում` ենթակառուցվածքների զարգացման նպատակով
B124: Միջոցառման տեսակը` | C124: Տրանսֆերտների տրամադրում
B125: Միջոցառումն իրականացնողի անվանումը | C125: ՀՀ համայնքներ
B126: Արդյունքի չափորոշիչներ
B127: ՀՀ համայնքների թիվ, հատ | D127: -1
B128: Միջոցառման վրա կատարվող ծախսը (հազար դրամ) | D128: ='2'!H65 -> -16695.1
D131: Աղյուսակ 9.1.56
B132: ՀՀ Սյունիքի մարզպետարան
B134: ՄԱՍ 1. ՊԵՏԱԿԱՆ ՄԱՐՄՆԻ ԳԾՈՎ ԱՐԴՅՈՒՆՔԱՅԻՆ (ԿԱՏԱՐՈՂԱԿԱՆ) ՑՈՒՑԱՆԻՇՆԵՐԸ
B136: Ծրագրի դասիչը | C136: Ծրագրի անվանումը
B137: 1212 | C137: Տարածքային զարգացում
B139: Ծրագրի միջոցառումները
...
