Workbook
Name _tab10: #REF!
Name _tab10: #REF!
Name _tab11: #REF!
Name _tab11: #REF!
Name _tab12: #REF!
Name _tab12: #REF!
Name _tab13: #REF!
Name _tab13: #REF!
Name _tab14: #REF!
Name _tab14: #REF!
Name _tab15: #REF!
Name _tab15: #REF!
Name _tab16: #REF!
Name _tab16: #REF!
Name _tab17: #REF!
Name _tab17: #REF!
Name _tab18: #REF!
Name _tab18: #REF!
Name _tab19: #REF!
Name _tab19: #REF!
Name _tab20: #REF!
Name _tab20: #REF!
Name _tab21: #REF!
Name _tab21: #REF!
Name _tab22: #REF!
Name _tab22: #REF!
Name _tab23: #REF!
Name _tab23: #REF!
Name _tab24: #REF!
Name _tab24: #REF!
Name _tab5: #REF!
Name _tab5: #REF!
Name _tab6: #REF!
Name _tab6: #REF!
Name _tab7: #REF!
Name _tab7: #REF!
Name _tab8: #REF!
Name _tab8: #REF!
Name _tab9: #REF!
Name _tab9: #REF!
Name par_count: #REF!,#REF!,#REF!,#REF!,#REF!,#REF!,#REF!,#REF!,#REF!,#REF!,#REF!,#REF!,#REF!,#REF!,#REF!
Name par_count: #REF!,#REF!,#REF!,#REF!,#REF!,#REF!,#REF!,#REF!,#REF!,#REF!,#REF!,#REF!,#REF!,#REF!,#REF!
Name par_qual: #REF!,#REF!,#REF!,#REF!,#REF!
Name par_qual: #REF!,#REF!,#REF!,#REF!,#REF!
Name par_time: #REF!,#REF!,#REF!,#REF!
Name par_time: #REF!,#REF!,#REF!,#REF!
Name par2.12s: #REF!
Name par2.12s: #REF!
Name par2.4s: #REF!,#REF!,#REF!,#REF!,#REF!,#REF!,#REF!,#REF!,#REF!,#REF!,#REF!,#REF!,#REF!,#REF!,#REF!,#REF!
Name par2.4s: #REF!,#REF!,#REF!,#REF!,#REF!,#REF!,#REF!,#REF!,#REF!,#REF!,#REF!,#REF!,#REF!,#REF!,#REF!,#REF!
Name par2.5s: #REF!,#REF!
Name par2.5s: #REF!,#REF!
Name par2.6s: #REF!,#REF!,#REF!,#REF!
Name par2.6s: #REF!,#REF!,#REF!,#REF!
Name par2.7s: #REF!,#REF!
Name par2.7s: #REF!,#REF!
Name par2.9s: #REF!,#REF!,#REF!,#REF!,#REF!,#REF!,#REF!,#REF!,#REF!,#REF!,#REF!,#REF!,#REF!,#REF!,#REF!,#REF!
Name par2.9s: #REF!,#REF!,#REF!,#REF!,#REF!,#REF!,#REF!,#REF!,#REF!,#REF!,#REF!,#REF!,#REF!,#REF!,#REF!,#REF!
Name par4.10s: #REF!,#REF!
Name par4.10s: #REF!,#REF!

Sheet 1
E1: Հավելված N 1
E2: ՀՀ կառավարության 2022 թվականի
E3: ______________ ի ___Ն որոշման
B6: «ՀԱՅԱՍՏԱՆԻ ՀԱՆՐԱՊԵՏՈՒԹՅԱՆ 2022 ԹՎԱԿԱՆԻ ՊԵՏԱԿԱՆ ԲՅՈՒՋԵԻ ՄԱՍԻՆ» ՕՐԵՆՔԻ N 1 ՀԱՎԵԼՎԱԾԻ N 7 ԱՂՅՈՒՍԱԿՈՒՄ ԵՎ ՀԱՅԱՍՏԱՆԻ ՀԱՆՐԱՊԵՏՈՒԹՅԱՆ ԿԱՌԱՎԱՐՈՒԹՅԱՆ 2021 ԹՎԱԿԱՆԻ ԴԵԿՏԵՄԲԵՐԻ 23-Ի N 2121-Ն ՈՐՈՇՄԱՆ N 5 ՀԱՎԵԼՎԱԾԻ N 6 ԱՂՅՈՒՍԱԿՈՒՄ ԿԱՏԱՐՎՈՂ ՓՈՓՈԽՈՒԹՅՈՒՆՆԵՐԸ
B8: Ծրագրային դասիչը | D8: Բյուջետային հատկացումների գլխավոր կարգադրիչների, ծրագրերի, միջոցառումների և միջոցառումները կատարող պետական մարմինների անվանումները | E8: Ցուցանիշների փոփոխությունը (ավելացումները նշված են դրական նշանով, իսկ նվազեցումները` փակագծերում)
B9: Ծրագիր | C9: Միջոցառում | E9: Տարի
D10: ԸՆԴԱՄԵՆԸ | E10: =+E12 -> 0
D11: այդ թվում
D12: Կապիտալ սուբվենցիաներ համայնքներին | E12: =+E14 -> 0
D13: այդ թվում`
D14: ՀՀ տարածքային կառավարման և ենթակառուցվածքների նախարարություն | E14: =+E16 -> 0
D15: այդ թվում`
B16: 1212 | D16: Տարածքային զարգացում | E16: =+E18 -> 0
D17: այդ թվում`
C18: 12007 | D18: ՀՀ մարզերին սուբվենցիաների տրամադրում՝ ենթակառուցվածքների զարգացման նպատակով | E18: 0
D19: այդ թվում` ըստ կատարողների
D20: ՀՀ կառավարություն | E20: =-(E21+E25+E42+E51+E63+E67+E83+E70) -> 960344.27
D21: ՀՀ Արագածոտնի մարզպետարան | E21: =SUM(E23:E24) -> -64.6
D22: այդ թվում` ըստ ուղղությունների
D23: Արագածավան համայնքի Արագածավան բնակավայրի գիշերային լուսավորության համակարգի կառուցում | E23: -44
D24: Արտաշավան համայնքի ոռոգման համակարգի վերանորոգման աշխատանքներ | E24: -20.6
D25: ՀՀ Արարատի մարզպետարան | E25: =(E27+E28+E29+E30+E31+E32+E33+E34+E35+E36+E37+E38+E39+E40+E41) -> -36562.6
D26: այդ թվում` ըստ ուղղությունների
D27: Մարմարաշեն համայնքի 45, 2, 3, 4, 5, 6, 7, 8, 19, 21, 16-րդ փողոցը մասնակի և Երևան-Արտաշատ խճուղուց մինչև 20, 21, 22 և 24 փողոցների գլխամասում միացնող ճանապարհի կոպճապատման աշխատանքներ | E27: -10562.8
D28: Վարդաշեն համայնքի ոռոգման ներտնտեսային ցանցի բարելավման աշխատանքներ | E28: -64.9
D29: Արտաշատ համայնքի Օգոստոսի 23 փողոցի թիվ 23, Արազի փողոցի 39, Շահումյան փողոցի 30 բազմաբնակարան բնակելի շենքերի տանիքների հիմնանորոգում | E29: -14.6
D30: Բաղրամյան համայնքի ոռոգման ցանցի վերակառուցում | E30: -517
D31: Լանջառ համայնքի խմելու ջրի մատակարարման աշխատանքներ | E31: -36
D32: Վեդի քաղաքային համայնքի Արարատյան 36, 38, 40, 42, Գայի 5, 7, 9 և Կասյան 26/14, 26/15 ԲԲՇ-ների բակերի ասֆալտապատում և բարեկարգում | E32: -24205.5
D33: Նորաբաց համայնքի Երևանյան փողոցի ասֆալտապատման աշխատանքներ | E33: -30
D34: Ոսկետափ համայնքի Մուսա Լեռան փողոցի ասֆալտապատում | E34: -223.5
D35: Արարատ քաղաքային համայնքի զբոսայգու կապիտալ վերակառուցում | E35: -34
D36: Դալար համայնքի մանկապարտեզի 20 կՎտ հզորությամբ ֆոտովոլտային կայանի կառուցում | E36: -183.8
D37: Հովտաշատ համայնք, Հ. Բաղրամյան 57/1 հողամաս հասցեում պոլիկլինիկայի կառուցում | E37: -93.2
D38: Այնթապ համայնքի ցածր ճնշման գազատարի կառուցման աշխատանքներ | E38: -498.5
... D41: Մասիս քաղաքի նախկին մարզադպրոցի, մանկապատանեկան ստեղ ծագործական կենտրոնի, քաղաքային կենտրոնական գրադարան ՀՈԱԿ-ների մասնաշենքերի հիմնանորոգման աշխատանքներ | E41: -4.6
D42: ՀՀ Արմավիրի մարզպետարան | E42: =(E44+E45+E46+E47+E48+E49+E50) -> -4328.137
D43: այդ թվում` ըստ ուղղությունների
D44: Ծաղկունք համայնքի մշակույթի տան վերանորոգում | E44: -36.93
D45: Ամբերդ համայնքի մի շարք փողոցների գազիֆիկացում | E45: -96.919
...

Sheet 2
H1: Հավելված N 2
H2: ՀՀ կառավարության 2022 թվականի
H3: ______________ ի ___Ն որոշման
B6: ՀԱՅԱՍՏԱՆԻ ՀԱՆՐԱՊԵՏՈՒԹՅԱՆ ԿԱՌԱՎԱՐՈՒԹՅԱՆ 2021 ԹՎԱԿԱՆԻ ԴԵԿՏԵՄԲԵՐԻ 23-Ի № 2121-Ն ՈՐՈՇՄԱՆ №№ 3 և 4 ՀԱՎԵԼՎԱԾՆԵՐՈՒՄ ԿԱՏԱՐՎՈՂ ՓՈՓՈԽՈՒԹՅՈՒՆՆԵՐԸ
B8: Գործառական դասիչը | E8: Ծրագրային դասիչը | G8: Բյուջետային հատկացումների գլխավոր կարգադրիչների, ծրագրերի, միջոցառումների և միջոցառումները կատարող պետական մարմինների անվանումները | H8: Ցուցանիշների փոփոխությունը (ավելացումները նշված են դրական նշանով, իսկ նվազեցումները` փակագծերում)
B9: բաժին | C9: խումբ | D9: դաս | E9: Ծրագիր | F9: Միջոցառում | H9: Տարի
B10: ԸՆԴԱՄԵՆԸ ԾԱԽՍԵՐ | H10: =+H11 -> 0
B11: 01 | G11: ԸՆԴՀԱՆՈՒՐ ԲՆՈՒՅԹԻ ՀԱՆՐԱՅԻՆ ԾԱՌԱՅՈՒԹՅՈՒՆՆԵՐ | H11: =+H13 -> 0
G12: այդ թվում՝
C13: 08 | G13: Կառավարության տարբեր մակարդակների միջև իրականացվող ընդհանուր բնույթի տրանսֆերտներ | H13: =+H15 -> 0
G14: այդ թվում՝
D15: 01 | G15: Կառավարության տարբեր մակարդակների միջև իրականացվող ընդհանուր բնույթի տրանսֆերտներ | H15: =+H17 -> 0
G16: այդ թվում՝
G17: ՀՀ տարածքային կառավարման և ենթակառուցվածքների նախարարություն | H17: =+H19 -> 0
G18: այդ թվում՝
E19: 1212 | G19: Տարածքային զարգացում | H19: =+H21 -> 0
G20: այդ թվում`
F21: 12007 | G21: ՀՀ մարզերին սուբվենցիաների տրամադրում՛ ենթակառուցվածքների զարգացման նպատակով_x000D_ | H21: 0
G22: այդ թվում` ըստ կատարողների
G23: ՀՀ կառավարություն | H23: ='1'!E20 -> 960344.27
G24: այդ թվում` բյուջետային ծախսերի տնտեսագիտական դասակարգման հոդվածներ
G25: ԸՆԴԱՄԵՆԸ ԾԱԽՍԵՐ | H25: ='1'!E20 -> 960344.27
G26: ԸՆԹԱՑԻԿ ԾԱԽՍԵՐ | H26: =H25 -> 960344.27
G27: ԴՐԱՄԱՇՆՈՐՀՆԵՐ | H27: =H26 -> 960344.27
G28: Կապիտալ դրամաշնորհներ պետական հատվածի այլ մակարդակներին
G29: - Կապիտալ սուբվենցիաներ համայնքներին | H29: ='1'!E20 -> 960344.27
G30: ՀՀ Արագածոտնի մարզպետարան | H30: =H36 -> -64.6
G31: այդ թվում` բյուջետային ծախսերի տնտեսագիտական դասակարգման հոդվածներ
G32: ԸՆԴԱՄԵՆԸ ԾԱԽՍԵՐ | H32: ='1'!E21 -> -64.6
G33: ԸՆԹԱՑԻԿ ԾԱԽՍԵՐ | H33: =H32 -> -64.6
G34: ԴՐԱՄԱՇՆՈՐՀՆԵՐ | H34: =H33 -> -64.6
G35: Կապիտալ դրամաշնորհներ պետական հատվածի այլ մակարդակներին | H35: =H34 -> -64.6
G36: - Կապիտալ սուբվենցիաներ համայնքներին | H36: =H35 -> -64.6
G37: ՀՀ Արարատի մարզպետարան | H37: =H43 -> -36562.6
G38: այդ թվում` բյուջետային ծախսերի տնտեսագիտական դասակարգման հոդվածներ
G39: ԸՆԴԱՄԵՆԸ ԾԱԽՍԵՐ | H39: =H41 -> -36562.6
G40: ԸՆԹԱՑԻԿ ԾԱԽՍԵՐ | H40: =H41 -> -36562.6
G41: ԴՐԱՄԱՇՆՈՐՀՆԵՐ | H41: =H42 -> -36562.6
G42: Կապիտալ դրամաշնորհներ պետական հատվածի այլ մակարդակներին | H42: =+H43 -> -36562.6
G43: - Կապիտալ սուբվենցիաներ համայնքներին | H43: ='1'!E25 -> -36562.6
...

Sheet 3
D1: Հավելված N 3
D2: ՀՀ կառավարության 2022 թվականի
D3: ______________ ի ___Ն որոշման
B6: ՀԱՅԱՍՏԱՆԻ ՀԱՆՐԱՊԵՏՈՒԹՅԱՆ ԿԱՌԱՎԱՐՈՒԹՅԱՆ 2021 ԹՎԱԿԱՆԻ ԴԵԿՏԵՄԲԵՐԻ 23-Ի № 2121-Ն ՈՐՈՇՄԱՆ № 9 ՀԱՎԵԼՎԱԾԻ № 9.7 ԱՂՅՈՒՍԱԿՈՒՄ ԿԱՏԱՐՎՈՂ ՓՈՓՈԽՈՒԹՅՈՒՆԸ
B7: ՀՀ տարածքային կառավարման և ենթակառուցվածքների նախարարություն
B9: Ծրագրի դասիչը | C9: Ծրագրի անվանումը
B10: 1212 | C10: Տարածքային զարգացում
B11: Ծրագրի միջոցառումները
B13: Ծրագրի դասիչը` | C13: 1212 | D13: Ցուցանիշների փոփոխությունը (ավելացումները նշված են դրական նշանով)
B14: Միջոցառման դասիչը` | C14: 12007 | D14: Տարի
B15: Միջոցառման անվանումը` | C15: ՀՀ մարզերին սուբվենցիաների տրամադրում` ենթակառուցվածքների զարգացման նպատակով_x000D_
B16: Նկարագրությունը` | C16: ՀՀ մարզերին սուբվենցիաների տրամադրում` ենթակառուցվածքների զարգացման նպատակով
B17: Միջոցառման տեսակը` | C17: Տրանսֆերտների տրամադրում
B18: Միջոցառումն իրականացնողի անվանումը | C18: ՀՀ համայնքներ
B19: Արդյունքի չափորոշիչներ
B20: ՀՀ համայնքների թիվ, հատ | D20: ='4'!D25+'4'!D45+'4'!D65+'4'!D86+'4'!D106+'4'!D127+'4'!D148+'4'!D168 -> -4
B21: Միջոցառման վրա կատարվող ծախսը (հազար դրամ) | D21: 0

Sheet 4
D1: Հավելված N 4
D2: ՀՀ կառավարության 2022 թվականի
D3: ______________ ի ___Ն որոշման
B6: ՀԱՅԱՍՏԱՆԻ ՀԱՆՐԱՊԵՏՈՒԹՅԱՆ ԿԱՌԱՎԱՐՈՒԹՅԱՆ 2021 ԹՎԱԿԱՆԻ ԴԵԿՏԵՄԲԵՐԻ 23-Ի № 2121-Ն ՈՐՈՇՄԱՆ № 9.1 ՀԱՎԵԼՎԱԾԻ № 9.1.49, 9.1.50, 9.1 51, 9.1.52, 9.1.53, 9.1.55, 9.1.56, 9.1.57 ԵՎ 9.1.59 ԱՂՅՈՒՍԱԿՆԵՐՈՒՄ ԿԱՏԱՐՎՈՂ ՓՈՓՈԽՈՒԹՅՈՒՆՆԵՐԸ
D8: Աղյուսակ 9.1.49
B9: ՀՀ Արագածոտնի մարզպետարան
B11: ՄԱՍ 1. ՊԵՏԱԿԱՆ ՄԱՐՄՆԻ ԳԾՈՎ ԱՐԴՅՈՒՆՔԱՅԻՆ (ԿԱՏԱՐՈՂԱԿԱՆ) ՑՈՒՑԱՆԻՇՆԵՐԸ
B13: Ծրագրի դասիչը | C13: Ծրագրի անվանումը
B14: 1212 | C14: Տարածքային զարգացում
B16: Ծրագրի միջոցառումները
B18: Ծրագրի դասիչը` | C18: 1212 | D18: Ցուցանիշների փոփոխությունը (նվազեցումները նշված են փակագծերում)
B19: Միջոցառման դասիչը` | C19: 12007 | D19: Տարի
B20: Միջոցառման անվանումը` | C20: ՀՀ մարզերին սուբվենցիաների տրամադրում` ենթակառուցվածքների զարգացման նպատակով_x000D_
B21: Նկարագրությունը` | C21: ՀՀ մարզերին սուբվենցիաների տրամադրում` ենթակառուցվածքների զարգացման նպատակով
B22: Միջոցառման տեսակը` | C22: Տրանսֆերտների տրամադրում
B23: Միջոցառումն իրականացնողի անվանումը | C23: ՀՀ համայնքներ
B24: Արդյունքի չափորոշիչներ
B25: ՀՀ համայնքների թիվ, հատ
B26: Միջոցառման վրա կատարվող ծախսը (հազար դրամ) | D26: ='1'!E21 -> -64.6
D28: Աղյուսակ 9.1.50
B29: ՀՀ Արարատի մարզպետարան
B31: ՄԱՍ 1. ՊԵՏԱԿԱՆ ՄԱՐՄՆԻ ԳԾՈՎ ԱՐԴՅՈՒՆՔԱՅԻՆ (ԿԱՏԱՐՈՂԱԿԱՆ) ՑՈՒՑԱՆԻՇՆԵՐԸ
B33: Ծրագրի դասիչը | C33: Ծրագրի անվանումը
B34: 1212 | C34: Տարածքային զարգացում
B36: Ծրագրի միջոցառումները
B38: Ծրագրի դասիչը` | C38: 1212 | D38: Ցուցանիշների փոփոխությունը (նվազեցումները նշված են փակագծերում)
B39: Միջոցառման դասիչը` | C39: 12007 | D39: Տարի
B40: Միջոցառման անվանումը` | C40: ՀՀ մարզերին սուբվենցիաների տրամադրում` ենթակառուցվածքների զարգացման նպատակով_x000D_
B41: Նկարագրությունը` | C41: ՀՀ մարզերին սուբվենցիաների տրամադրում` ենթակառուցվածքների զարգացման նպատակով
B42: Միջոցառման տեսակը` | C42: Տրանսֆերտների տրամադրում
B43: Միջոցառումն իրականացնողի անվանումը | C43: ՀՀ համայնքներ
B44: Արդյունքի չափորոշիչներ
B45: ՀՀ համայնքների թիվ, հատ | D45: -2
B46: Միջոցառման վրա կատարվող ծախսը (հազար դրամ) | D46: ='2'!H37 -> -36562.6
D48: Աղյուսակ 9.1.51
B49: ՀՀ Արմավիրի մարզպետարան
B51: ՄԱՍ 1. ՊԵՏԱԿԱՆ ՄԱՐՄՆԻ ԳԾՈՎ ԱՐԴՅՈՒՆՔԱՅԻՆ (ԿԱՏԱՐՈՂԱԿԱՆ) ՑՈՒՑԱՆԻՇՆԵՐԸ
B53: Ծրագրի դասիչը | C53: Ծրագրի անվանումը
B54: 1212 | C54: Տարածքային զարգացում
B56: Ծրագրի միջոցառումները
...
