Workbook
Name a: #REF!
Name a: #REF!
Name a: #REF!
Name AgencyCode: #REF!
Name AgencyCode: #REF!
Name AgencyCode: #REF!
Name AgencyCode: #REF!
Name AgencyCode: #REF!
Name AgencyCode: #REF!
Name AgencyCode: #REF!
Name AgencyName: #REF!
Name AgencyName: #REF!
Name AgencyName: #REF!
Name AgencyName: #REF!
Name davit: #REF!
Name davit: #REF!
Name davit: #REF!
Name davit: #REF!
Name Functional1: #REF!
Name Functional1: #REF!
Name Functional1: #REF!
Name Functional1: #REF!
Name ggg: #REF!
Name ggg: #REF!
Name ggg: #REF!
Name ggg: #REF!
Name PANature: #REF!
Name PANature: #REF!
Name PANature: #REF!
Name PANature: #REF!
Name PAType: #REF!
Name PAType: #REF!
Name PAType: #REF!
Name PAType: #REF!
Name Performance2: #REF!
Name Performance2: #REF!
Name Performance2: #REF!
Name Performance2: #REF!
Name PerformanceType: #REF!
Name PerformanceType: #REF!
Name PerformanceType: #REF!
Name PerformanceType: #REF!
Name Հավելված: #REF!
Name Հավելված: #REF!
Name Հավելված: #REF!
Name Հավելված: #REF!
Name Հավելված: #REF!
Name Մաս: #REF!
Name Մաս: #REF!
Name Մաս: #REF!
Name Մաս: #REF!
Name շախմատիստ: #REF!
Name շախմատիստ: #REF!
Name շախմատիստ: #REF!
Name շախմատիստ: #REF!

Sheet Հավելված N 1
C1: Հավելված N 1
C2: ՀՀ կառավարության 2022 թվականի
C3: ______________ ի ___Ն որոշման
A6: «ՀԱՅԱUՏԱՆԻ ՀԱՆՐԱՊԵՏՈՒԹՅԱՆ 2022 ԹՎԱԿԱՆԻ ՊԵՏԱԿԱՆ ԲՅՈՒՋԵԻ ՄԱUԻՆ» ՀԱՅԱUՏԱՆԻ ՀԱՆՐԱՊԵՏՈՒԹՅԱՆ OՐԵՆՔԻ N 1 ՀԱՎԵԼՎԱԾԻ N 2 ԱՂՅՈՒՍԱԿՈՒՄ ԿԱՏԱՐՎՈՂ ՎԵՐԱԲԱՇԽՈՒՄԸ ԵՎ ՀԱՅԱՍՏԱՆԻ ՀԱՆՐԱՊԵՏՈՒԹՅԱՆ ԿԱՌԱՎԱՐՈՒԹՅԱՆ 2021 ԹՎԱԿԱՆԻ ԴԵԿՏԵՄԲԵՐԻ 23-Ի N 2121-Ն ՈՐՈՇՄԱՆ N 5 ՀԱՎԵԼՎԱԾԻ N 1 ԱՂՅՈՒՍԱԿՈՒՄ ԿԱՏԱՐՎՈՂ ՓՈՓՈԽՈՒԹՅՈՒՆՆԵՐԸ ԵՎ ԼՐԱՑՈՒՄՆԵՐԸ
D9: հազ. դրամներով
A10: Ծրագրային դասիչը | C10: Բյուջետային հատկացումների գլխավոր կարգադրիչների, ծրագրերի և միջոցառումների անվանումները | D10: Ցուցանիշների փոփոխությունը (ավելացումները նշված են դրական նշանով, իսկ նվազեցումները՝ փակագծերում)
A11: Ծրագիր | B11: Միջոցառում | D11: Տարի
A12: 1192 | C12: ԸՆԴԱՄԵՆԸ | D12: =+D14+D42 -> 0
C13: այդ թվում
C14: ՀՀ ԿՐԹՈՒԹՅԱՆ, ԳԻՏՈՒԹՅԱՆ, ՄՇԱԿՈՒՅԹԻ ԵՎ ՍՊՈՐՏԻ ՆԱԽԱՐԱՐՈՒԹՅՈՒՆ | D14: =+D16+D29 -> 0
A15: 1146 | C15: Ծրագրի անվանումը`
C16: Հանրակրթության ծրագիր | D16: =+D23 -> 154674
C17: Ծրագրի նպատակը`
C18: Ապահովել անվճար և որակյալ հանրակրթություն
C19: Վերջնական արդյունքի նկարագրությունը`
C20: Մտավոր, հոգևոր, ֆիզիկական և սոցիալական ունակությունների համակողմանի ու ներդաշնակ զարգացմամբ, հայրենասիրության, պետականության և մարդասիրության ոգով դաստիրակված, պատշաճ վարքով և վարվելակերպով անձի ձևավորում
C21: Ծրագրի միջոցառումներ
B22: 12018 | C22: Միջոցառման անվանումը`
C23: Մանկապարտեզների գույքով ապահովում | D23: =+'Հավելված N 2'!G23 -> 154674
C24: Միջոցառման նկարագրությունը`
C25: Համայնքներում մանկապարտեզների համար ժամանակակից նորմերին համապատասխանող գույքի ձեռքբերում
C26: Միջոցառման տեսակը
C27: Տրանսֆերտների տրամադրում
A28: 1183 | C28: Ծրագրի անվանումը`
C29: Ապահով դպրոց | D29: =+D36 -> -154674
C30: Ծրագրի նպատակը`
C31: Դպրոցներին սպառնացող աղետների ռիսկի կառավարման կարողությունների հզորացում, դպրոցի անձնակազմի և աշակերտների անվտանգության ապահովման մակարդակի բարձրացում՛ կիրառելով ներառական և երեխայակենտրոն մոտեցում
C32: Վերջնական արդյունքի նկարագրությունը`
C33: Դպրոցական միջավայրի բարելավում
C34: Ծրագրի միջոցառումներ
B35: 32012 | C35: Միջոցառման անվանումը`
C36: Հանրակրթական դպրոցների գույքով և տեխնիկայով ապահովում | D36: =+'Հավելված N 2'!G40 -> -154674
C37: Միջոցառման նկարագրությունը`
C38: Կրթական ժամանակակից նորմերին համապատասխանող գույքի ձեռքբերում
C39: Միջոցառման տեսակը
C40: Այլ պետական կազմակերպությունների կողմից օգտագործվող ոչ ֆինանսական ակտիվների հետ գործառնություններ
C42: ՀՀ ԿԱՌԱՎԱՐՈՒԹՅՈՒՆ | D42: =+D44 -> 0
A43: 1139 | C43: Ծրագրի անվանումը`
C44: ՀՀ կառավարության պահուստային ֆոնդ | D44: =+D50+D56 -> 0
C45: Ծրագրի նպատակը`
...

Sheet Հավելված N 2
F1: Հավելված N 2
F2: ՀՀ կառավարության 2022 թվականի
F3: ______________ ի ___Ն որոշման
A6: ՀԱՅԱՍՏԱՆԻ ՀԱՆՐԱՊԵՏՈՒԹՅԱՆ ԿԱՌԱՎԱՐՈՒԹՅԱՆ 2021 ԹՎԱԿԱՆԻ ԴԵԿՏԵՄԲԵՐԻ 23-Ի N 2121-Ն ՈՐՈՇՄԱՆ N 3 ԵՎ N 4 ՀԱՎԵԼՎԱԾՆԵՐՈՒՄ ԿԱՏԱՐՎՈՂ ՓՈՓՈԽՈՒԹՅՈՒՆՆԵՐԸ ԵՎ ԼՐԱՑՈՒՄՆԵՐԸ
G7: հազ. դրամներով
A8: Գործառական դասիչը | D8: Ծրագրային դասիչը | F8: Բյուջետային հատկացումների գլխավոր կարգադրիչների, ծրագրերի, միջոցառումների և միջոցառումները կատարող պետական մարմինների անվանումները | G8: Ցուցանիշների փոփոխությունը (ավելացումները նշված են դրական նշանով, իսկ նվազեցումները՝ փակագծերում)
A9: Բաժին | B9: Խումբ | C9: Դաս | D9: Ծրագիր | E9: Միջոցառում | G9: Տարի
F10: ԸՆԴԱՄԵՆԸ | G10: =+G12+G50 -> 0
F11: այդ թվում
F12: ՀՀ ԿՐԹՈՒԹՅԱՆ, ԳԻՏՈՒԹՅԱՆ, ՄՇԱԿՈՒՅԹԻ ԵՎ ՍՊՈՐՏԻ ՆԱԽԱՐԱՐՈՒԹՅՈՒՆ | G12: =+G13 -> 0
A13: 09 | F13: ԿՐԹՈՒԹՅՈՒՆ | G13: =+G15+G32 -> 0
F14: այդ թվում`
B15: 01 | F15: Նախադպրոցական և տարրական ընդհանուր կրթություն | G15: =+G17 -> 154674
F16: այդ թվում`
C17: 01 | F17: Նախադպրոցական կրթություն | G17: =+G19 -> 154674
F18: այդ թվում`
F19: ՀՀ կրթության, գիտության, մշակույթի և սպորտի նախարարություն | G19: =+G21 -> 154674
F20: այդ թվում`
D21: 1146 | E21: Հանրակրթության ծրագիր | G21: =+G23 -> 154674
F22: այդ թվում`
E23: 12018 | F23: Մանկապարտեզների գույքով ապահովում | G23: =+G25 -> 154674
F24: այդ թվում` ըստ կատարողների
F25: ՀՀ տարածքային կառավարման և ենթակառուցվածքների նախարարություն | G25: =+G27 -> 154674
F26: այդ թվում՝ բյուջետային ծախսերի տնտեսագիտական դասակարգման հոդվածներ
F27: ԸՆԴԱՄԵՆԸ ԾԱԽՍԵՐ | G27: =+G28 -> 154674
F28: ԸՆԹԱՑԻԿ ԾԱԽՍԵՐ | G28: =+G29 -> 154674
F29: ԴՐԱՄԱՇՆՈՐՀՆԵՐ | G29: =+G30 -> 154674
F30: ԿԱՊԻՏԱԼ ԴՐԱՄԱՇՆՈՐՀՆԵՐ ՊԵՏԱԿԱՆ ՀԱՏՎԱԾԻ ԱՅԼ ՄԱԿԱՐԴԱԿՆԵՐԻՆ | G30: =+G31 -> 154674
F31: - Այլ կապիտալ դրամաշնորհներ | G31: =+'Հավելված N 5'!G12 -> 154674
B32: 06 | F32: Կրթությանը տրամադրվող օժանդակ ծառայություններ | G32: =+G34 -> -154674
F33: այդ թվում`
C34: 01 | F34: Կրթությանը տրամադրվող օժանդակ ծառայություններ | G34: =+G36 -> -154674
F35: այդ թվում`
F36: ՀՀ կրթության, գիտության, մշակույթի և սպորտի նախարարություն | G36: =+G38 -> -154674
F37: այդ թվում`
D38: 1183 | E38: Ապահով դպրոց | G38: =+G40 -> -154674
F39: այդ թվում`
E40: 32012 | F40: Հանրակրթական դպրոցների գույքով և տեխնիկայով ապահովում | G40: =+G42 -> -154674
F41: այդ թվում` ըստ կատարողների
F42: ՀՀ կրթության, գիտության, մշակույթի և սպորտի նախարարություն | G42: =+G44 -> -154674
...

Sheet Հավելված N 3
F1: Հավելված N 3
F2: ՀՀ կառավարության 2022 թվականի
F3: ______________ ի ___Ն որոշման
A5: «ՀԱՅԱUՏԱՆԻ ՀԱՆՐԱՊԵՏՈՒԹՅԱՆ 2022 ԹՎԱԿԱՆԻ ՊԵՏԱԿԱՆ ԲՅՈՒՋԵԻ ՄԱUԻՆ» ՀԱՅԱUՏԱՆԻ ՀԱՆՐԱՊԵՏՈՒԹՅԱՆ OՐԵՆՔԻ N 1 ՀԱՎԵԼՎԱԾԻ N 3 ԱՂՅՈՒՍԱԿՈՒՄ ԿԱՏԱՐՎՈՂ ՓՈՓՈԽՈՒԹՅՈՒՆՆԵՐԸ
G8: հազ. դրամներով
A9: Ծրագրային դասիչ | C9: Բյուջետային գլխավոր կարգադրիչների, ծրագրերի, միջոցառումների, միջոցառումները կատարող պետական մարմինների և ուղղությունների անվանումները | D9: Ընդամենը | E9: Ցուցանիշների փոփոխությունը (նվազեցումները նշված են փակագծերում)
A10: Ծրագիր | B10: Միջոցառում | E10: Կառուցման աշխատանքներ | F10: Վերակառուցման, վերանորոգման և վերականգնման աշխատանքներ | G10: Նախագծահե- տազոտական, գեոդեզիա- քարտեզագրա- կան աշխա- տանքներ | H10: Ոչ ֆինանսական այլ ակտիվների ձեռքբերում
C11: ԸՆԴԱՄԵՆԸ | D11: =SUM(E11:H11) -> -154674 | E11: =+E13 -> 0 | F11: =+F13 -> 0 | G11: =+G13 -> 0 | H11: =+H13 -> -154674
C12: այդ թվում՝
C13: ՀՀ ԿՐԹՈՒԹՅԱՆ, ԳԻՏՈՒԹՅԱՆ, ՄՇԱԿՈՒՅԹԻ ԵՎ ՍՊՈՐՏԻ ՆԱԽԱՐԱՐՈՒԹՅՈՒՆ | D13: =SUM(E13:H13) -> -154674 | E13: =+E15 -> 0 | F13: =+F15 -> 0 | G13: =+G15 -> 0 | H13: =+H15 -> -154674
C14: այդ թվում`
A15: 1183 | B15: 32012 | C15: Հանրակրթական դպրոցների գույքով և տեխնիկայով ապահովում | D15: =SUM(E15:H15) -> -154674 | E15: =+E17+E19+E21+E23 -> 0 | F15: =+F17+F19+F21+F23 -> 0 | G15: =+G17+G19+G21+G23 -> 0 | H15: =+H17+H19+H21+H23 -> -154674
C16: այդ թվում`
C17: ՀՀ Լոռու մարզ | D17: =SUM(E17:H17) -> -50000 | E17: =+E18 -> 0 | F17: =+F18 -> 0 | G17: =+G18 -> 0 | H17: =+H18 -> -50000
C18: «Մեդովկայի միջնակարգ դպրոց» ՊՈԱԿ | D18: =SUM(E18:H18) -> -50000 | H18: -50000
C19: ՀՀ Շիրակի մարզ | D19: =SUM(E19:H19) -> -50000 | E19: =+E20 -> 0 | F19: =+F20 -> 0 | G19: =+G20 -> 0 | H19: =+H20 -> -50000
C20: «Բերդաշենի միջնակարգ դպրոց» ՊՈԱԿ | D20: =SUM(E20:H20) -> -50000 | H20: -50000
C21: ՀՀ Սյունիքի մարզ | D21: =SUM(E21:H21) -> -50000 | E21: =+E22 -> 0 | F21: =+F22 -> 0 | G21: =+G22 -> 0 | H21: =+H22 -> -50000
C22: «Հարժիսի Համլետ Մինասյանի անվան միջնակարգ դպրոց» ՊՈԱԿ | D22: =SUM(E22:H22) -> -50000 | H22: -50000
C23: ՀՀ Վայոց Ձորի մարզ | D23: =SUM(E23:H23) -> -4674 | E23: =+E24 -> 0 | F23: =+F24 -> 0 | G23: =+G24 -> 0 | H23: =+H24 -> -4674
C24: «Գոմքի միջնակարգ դպրոց» ՊՈԱԿ | D24: =SUM(E24:H24) -> -4674 | H24: -4674

Sheet Հավելված N 4
D1: Հավելված N 4
D2: ՀՀ կառավարության 2022 թվականի
D3: ______________ ի ___Ն որոշման
B6: ՀԱՅԱՍՏԱՆԻ ՀԱՆՐԱՊԵՏՈՒԹՅԱՆ ԿԱՌԱՎԱՐՈՒԹՅԱՆ 2021 ԹՎԱԿԱՆԻ ԴԵԿՏԵՄԲԵՐԻ 23-Ի N 2121-Ն ՈՐՈՇՄԱՆ N 5 ՀԱՎԵԼՎԱԾԻ N 2 ԱՂՅՈՒՍԱԿՈՒՄ ԿԱՏԱՐՎՈՂ ՓՈՓՈԽՈՒԹՅՈՒՆՆԵՐԸ
E8: հազ. դրամներով
B9: Ծրագրային դասիչ | D9: Բյուջետային գլխավոր կարգադրիչների, ծրագրերի, միջոցառումների, միջոցառումները կատարող պետական մարմինների և ուղղությունների անվանումները | E9: Ցուցանիշների փոփոխությունը (նվազեցումները նշված են փակագծերում)
B10: Ծրագիր | C10: Միջոցառում | E10: Տարի
D11: ՀՀ ԿՐԹՈՒԹՅԱՆ, ԳԻՏՈՒԹՅԱՆ, ՄՇԱԿՈՒՅԹԻ ԵՎ ՍՊՈՐՏԻ ՆԱԽԱՐԱՐՈՒԹՅՈՒՆ | E11: =+E13 -> -154674
D12: այդ թվում՝
B13: 1183 | C13: 32012 | D13: Հանրակրթական դպրոցների գույքով և տեխնիկայով ապահովում | E13: =+E15 -> -154674
D14: այդ թվում` ըստ կատարողների
D15: ՀՀ կրթության, գիտության, մշակույթի և սպորտի նախարարություն | E15: =+E17+E19+E21+E23 -> -154674
D16: այդ թվում`ըստ ուղղությունների
D17: ՀՀ Լոռու մարզ | E17: =+E18 -> -50000
D18: «Մեդովկայի միջնակարգ դպրոց» ՊՈԱԿ | E18: =+'Հավելված N 3'!D18 -> -50000
D19: ՀՀ Շիրակի մարզ | E19: =+E20 -> -50000
D20: «Բերդաշենի միջնակարգ դպրոց» ՊՈԱԿ | E20: =+'Հավելված N 3'!D20 -> -50000
D21: ՀՀ Սյունիքի մարզ | E21: =+E22 -> -50000
D22: «Հարժիսի Համլետ Մինասյանի անվան միջնակարգ դպրոց» ՊՈԱԿ | E22: =+'Հավելված N 3'!D22 -> -50000
D23: ՀՀ Վայոց Ձորի մարզ | E23: =+E24 -> -4674
D24: «Գոմքի միջնակարգ դպրոց» ՊՈԱԿ | E24: =+'Հավելված N 3'!D24 -> -4674

Sheet Հավելված N 5
F1: Հավելված N 5
F2: ՀՀ կառավարության 2022 թվականի
F3: ______________ ի ___Ն որոշման
A6: ՀԱՅԱՍՏԱՆԻ ՀԱՆՐԱՊԵՏՈՒԹՅԱՆ ԿԱՌԱՎԱՐՈՒԹՅԱՆ 2021 ԹՎԱԿԱՆԻ ԴԵԿՏԵՄԲԵՐԻ 23-Ի N2121-Ն ՈՐՈՇՄԱՆ N 5 ՀԱՎԵԼՎԱԾԻ N 7 ԱՂՅՈՒՍԱԿՈՒՄ ԿԱՏԱՐՎՈՂ ԼՐԱՑՈՒՄԸ
G7: հազ. դրամներով
A8: Ծրագրային դասիչը | C8: Բյուջետային հատկացումների գլխավոր կարգադրիչների, ծրագրերի, միջոցառումների և միջոցառումները կատարող պետական մարմինների անվանումները | F8: Միջոցառումները կատարող պետական մարմինների և դրամաշնորհ ստացող տնտեսվարող սուբյեկտների անվանումները | G8: Ցուցանիշների փոփոխությունը (ավելացումները նշված են դրական նշանով)
A9: Ծրագիր | B9: Միջոցառում | G9: Տարի
A10: ՀՀ կրթության, գիտության, մշակույթի և սպորտի նախարարություն | G10: =+G11 -> 154674
A11: 1146 | B11: Հանրակրթության ծրագիր | G11: =+G12 -> 154674
B12: 12018 | C12: Մանկապարտեզների գույքով ապահովում | F12: ՀՀ տարածքային կառավարման և ենթակառուցվածքների նախարարություն | G12: =+G13 -> 154674
F13: Հայաստանի տարածքային զարգացման հիմնադրամ | G13: =+'Հավելված N 9'!B17 -> 154674

Sheet Հավելված N 6
C1: Հավելված N 6
C2: ՀՀ կառավարության 2022 թվականի
C3: ______________ ի ___Ն որոշման
B5: ՀԱՅԱՍՏԱՆԻ ՀԱՆՐԱՊԵՏՈՒԹՅԱՆ ԿԱՌԱՎԱՐՈՒԹՅԱՆ 2021 ԹՎԱԿԱՆԻ ԴԵԿՏԵՄԲԵՐԻ 23-Ի N 2121-Ն ՈՐՈՇՄԱՆ N 9 ՀԱՎԵԼՎԱԾԻ N 9.13 ԵՎ 9.47 ԱՂՅՈՒՍԱԿՆԵՐՈՒՄ ԿԱՏԱՐՎՈՂ ՓՈՓՈԽՈՒԹՅՈՒՆՆԵՐԸ ԵՎ ԼՐԱՑՈՒՄՆԵՐԸ
A7: Աղյուսակ 9․13
C8: ՀՀ կրթության, գիտության, մշակույթի և սպորտի նախարարություն
B9: ՄԱՍ 2. ՊԵՏԱԿԱՆ ՄԱՐՄՆԻ ԳԾՈՎ ԱՐԴՅՈՒՆՔԱՅԻՆ (ԿԱՏԱՐՈՂԱԿԱՆ) ՑՈՒՑԱՆԻՇՆԵՐԸ
B12: Ծրագրի դասիչը | C12: Ծրագրի անվանումը
B13: 1146 | C13: Հանրակրթության ծրագիր
B15: Ծրագրի միջոցառումները
B16: Ծրագրի դասիչը` | C16: 1146 | D16: Ցուցանիշների փոփոխությունը (ավելացումները նշված են դրական նշանով)
B17: Միջոցառման դասիչը` | C17: 12018 | D17: Տարի
B18: Միջոցառման անվանումը` | C18: Մանկապարտեզների գույքով ապահովում
B19: Նկարագրությունը` | C19: Համայնքներում մանկապարտեզների համար ժամանակակից նորմերին համապատասխանող գույքի ձեռքբերում
B20: Միջոցառման տեսակը` | C20: Տրանսֆերտների տրամադրում
B21: Շահառուների ընտրության չափանիշները | C21: Նախադպրոցական կրթությույն իրականացնող ուսումնական հաստատություններ
B22: Արդյունքի չափորոշիչներ
B23: Մանկապարտեզների թիվը, որոնք ապահովվում են գույքով, հատ | D23: 8
B24: Միջոցառման վրա կատարվող ծախսը (հազար դրամ) | D24: =+'Հավելված N 1'!D23 -> 154674
B26: Ծրագրի դասիչը | C26: Ծրագրի անվանումը
B27: 1183 | C27: Ապահով դպրոց
B29: Ծրագրի միջոցառումները
B30: Ծրագրի դասիչը` | C30: 1183 | D30: Ցուցանիշների փոփոխությունը (նվազեցումները նշված են փակագծերում)
B31: Միջոցառման դասիչը` | C31: 32012 | D31: Տարի
B32: Միջոցառման անվանումը` | C32: Հանրակրթական դպրոցների գույքով և տեխնիկայով ապահովում
B33: Նկարագրությունը` | C33: Կրթական ժամանակակից նորմերին համապատասխանող գույքի ձեռքբերում
B34: Միջոցառման տեսակը` | C34: Այլ պետական կազմակերպությունների կողմից օգտագործվող ոչ ֆինանսական ակտիվների հետ գործառնություններ
B35: Ակտիվն օգտագործող կազմակերպությունների անվանումները | C35: Հանրակրթական դպրոցներ
B36: Արդյունքի չափորոշիչներ
B37: Միջոցառման վրա կատարվող ծախսը (հազար դրամ) | D37: =+'Հավելված N 1'!D36 -> -154674
A41: Աղյուսակ 9․47
C42: ՀՀ կառավարություն
B43: ՄԱՍ 2. ՊԵՏԱԿԱՆ ՄԱՐՄՆԻ ԳԾՈՎ ԱՐԴՅՈՒՆՔԱՅԻՆ (ԿԱՏԱՐՈՂԱԿԱՆ) ՑՈՒՑԱՆԻՇՆԵՐԸ
B46: Ծրագրի դասիչը | C46: Ծրագրի անվանումը
B47: 1139 | C47: ՀՀ կառավարության պահուստային ֆոնդ
B49: Ծրագրի միջոցառումները
B50: Ծրագրի դասիչը՝ | C50: 1139 | D50: Ցուցանիշների փոփոխությունը (ավելացումները նշված են դրական նշանով)
B51: Միջոցառման դասիչը՝ | C51: 11001 | D51: Տարի
B52: Միջոցառման անվանումը՝ | C52: ՀՀ կառավարության պահուստային ֆոնդ
B53: Նկարագրությունը՝ | C53: ՀՀ պետական բյուջեում նախատեսված ելքերի լրացուցիչ ֆինանսավորման՝ պետական բյուջեում չկանխատեսված ելքերի, ինչպես նաև բյուջետային երաշխիքների ապահովման ելքերի ֆինանսավորման ապահովում
...

Sheet Հավելված N 7
C1: Հավելված N 7
C2: ՀՀ կառավարության 2022 թվականի
C3: ______________ ի ___Ն որոշման
B5: ՀԱՅԱՍՏԱՆԻ ՀԱՆՐԱՊԵՏՈՒԹՅԱՆ ԿԱՌԱՎԱՐՈՒԹՅԱՆ 2021 ԹՎԱԿԱՆԻ ԴԵԿՏԵՄԲԵՐԻ 23-Ի N 2121-Ն ՈՐՈՇՄԱՆ N 9.1 ՀԱՎԵԼՎԱԾԻ NN 9.1.8, 9.1.14 ԵՎ 9.1.59 ԱՂՅՈՒՍԱԿՆԵՐՈՒՄ ԿԱՏԱՐՎՈՂ ՓՈՓՈԽՈՒԹՅՈՒՆՆԵՐԸ ԵՎ ԼՐԱՑՈՒՄՆԵՐԸ
A7: Աղյուսակ 9․1.8
C8: ՀՀ տարածքային կառավարման և ենթակառուցվածքների նախարարություն
B9: ՄԱՍ 1. ՊԵՏԱԿԱՆ ՄԱՐՄՆԻ ԳԾՈՎ ԱՐԴՅՈՒՆՔԱՅԻՆ (ԿԱՏԱՐՈՂԱԿԱՆ) ՑՈՒՑԱՆԻՇՆԵՐԸ
B12: Ծրագրի դասիչը | C12: Ծրագրի անվանումը
B13: 1146 | C13: Հանրակրթության ծրագիր
B15: Ծրագրի միջոցառումները
B16: Ծրագրի դասիչը` | C16: 1146 | D16: Ցուցանիշների փոփոխությունը (ավելացումները նշված են դրական նշանով)
B17: Միջոցառման դասիչը` | C17: 12018 | D17: Տարի
B18: Միջոցառման անվանումը` | C18: Մանկապարտեզների գույքով ապահովում
B19: Նկարագրությունը` | C19: Համայնքներում մանկապարտեզների համար ժամանակակից նորմերին համապատասխանող գույքի ձեռքբերում
B20: Միջոցառման տեսակը` | C20: Տրանսֆերտների տրամադրում
B21: Շահառուների ընտրության չափանիշները | C21: Նախադպրոցական կրթությույն իրականացնող ուսումնական հաստատություններ
B22: Արդյունքի չափորոշիչներ
B23: Մանկապարտեզների թիվը, որոնք ապահովվում են գույքով, հատ | D23: 8
B24: Միջոցառման վրա կատարվող ծախսը (հազար դրամ) | D24: =+'Հավելված N 2'!G25 -> 154674
A29: Աղյուսակ 9․1.14
C30: ՀՀ կրթության, գիտության, մշակույթի և սպորտի նախարարություն
B31: ՄԱՍ 1. ՊԵՏԱԿԱՆ ՄԱՐՄՆԻ ԳԾՈՎ ԱՐԴՅՈՒՆՔԱՅԻՆ (ԿԱՏԱՐՈՂԱԿԱՆ) ՑՈՒՑԱՆԻՇՆԵՐԸ
B34: Ծրագրի դասիչը | C34: Ծրագրի անվանումը
B35: 1183 | C35: Ապահով դպրոց
B37: Ծրագրի միջոցառումները
B38: Ծրագրի դասիչը` | C38: 1183 | D38: Ցուցանիշների փոփոխությունը (նվազեցումները նշված են փակագծերում)
B39: Միջոցառման դասիչը` | C39: 32012 | D39: Տարի
B40: Միջոցառման անվանումը` | C40: Հանրակրթական դպրոցների գույքով և տեխնիկայով ապահովում
B41: Նկարագրությունը` | C41: Կրթական ժամանակակից նորմերին համապատասխանող գույքի ձեռքբերում
B42: Միջոցառման տեսակը` | C42: Այլ պետական կազմակերպությունների կողմից օգտագործվող ոչ ֆինանսական ակտիվների հետ գործառնություններ
B43: Ակտիվն օգտագործող կազմակերպությունների անվանումները | C43: Հանրակրթական դպրոցներ
B44: Արդյունքի չափորոշիչներ
B45: Միջոցառման վրա կատարվող ծախսը (հազար դրամ) | D45: =+'Հավելված N 2'!G42 -> -154674
A49: Աղյուսակ 9․1.59
C50: ՀՀ կառավարություն
B51: ՄԱՍ 2. ՊԵՏԱԿԱՆ ՄԱՐՄՆԻ ԳԾՈՎ ԱՐԴՅՈՒՆՔԱՅԻՆ (ԿԱՏԱՐՈՂԱԿԱՆ) ՑՈՒՑԱՆԻՇՆԵՐԸ
B54: Ծրագրի դասիչը | C54: Ծրագրի անվանումը
B55: 1139 | C55: ՀՀ կառավարության պահուստային ֆոնդ
B57: Ծրագրի միջոցառումները
B58: Ծրագրի դասիչը՝ | C58: 1139 | D58: Ցուցանիշների փոփոխությունը (ավելացումները նշված են դրական նշանով)
...

Sheet Հավելված N 8
H1: Հավելված N 8
H2: ՀՀ կառավարության 2022 թվականի
H3: ______________ ի ___Ն որոշման
A6: ՀԱՅԱՍՏԱՆԻ ՀԱՆՐԱՊԵՏՈՒԹՅԱՆ ԿԱՌԱՎԱՐՈՒԹՅԱՆ 2021 ԹՎԱԿԱՆԻ ԴԵԿՏԵՄԲԵՐԻ 23-Ի N 2121-Ն N 2215-Ն ՈՐՈՇՄԱՆ N 10 ՀԱՎԵԼՎԱԾՈՒՄ ԿԱՏԱՐՎՈՂ ՓՈՓՈԽՈՒԹՅՈՒՆԸ
A8: Կոդը | B8: Անվանումը | E8: Գնման ձևը | F8: Չափման միավորը | G8: Միավորի գինը | H8: Ցուցանիշների փոփոխությունը (նվազեցումները նշված են փակագծերում)
H9: Քանակը | I9: Գումարը (հազար դրամ)
A11: 1 | B11: 2 | E11: 3 | F11: 4 | G11: 5 | H11: 6 | I11: 7
A12: ՀՀ կրթության, գիտության, մշակույթի և սպորտի նախարարություն | I12: =+I13 -> -154674
A13: Բաժին N 09 | B13: Խումբ N 06 | C13: Դաս N 01 | D13: Կրթությանը տրամադրվող օժանդակ ծառայություններ | I13: =+I14 -> -154674
A14: 1183-32012 | B14: Հանրակրթական դպրոցների գույքով և տեխնիկայով ապահովում | I14: =+I15 -> -154674
B15: ՄԱՍ I. ԱՊՐԱՆՔՆԵՐ | I15: =SUM(I16:I16) -> -154674
A16: 39121520-6 | B16: գրապահարաններ | E16: ԳՀ | F16: հատ | G16: 309348 | H16: -500 | I16: =+H16*G16/1000 -> -154674

Sheet Հավելված N 9
A1: Հավելված N 9
A2: ՀՀ կառավարության 2022 թվականի
A3: ______________ ի ___Ն որոշման
A6: ՀԱՅԱՍՏԱՆԻ ՏԱՐԱԾՔԱՅԻՆ ԶԱՐԳԱՑՄԱՆ ՀԻՄՆԱԴՐԱՄԻ ԿՈՂՄԻՑ ԳՈՒՅՔԻ ՁԵՌՔԲԵՐՄԱՆ ՀԱՄԱՐ ՆԱԽԱՏԵՍՎԱԾ ԸՆԴՀԱՆՈՒՐ ԳՈՒՄԱՐԻ ԲԱՇԽՈՒՄԸ ԸՍՏ ՄԱՆԿԱՊԱՐՏԵԶՆԵՐԻ
A8: Մանկապարտեզի անվանումը | B8: Գույքի ընդհանուր գումարը, հազ. դրամ
A9: Արարատի մարզի Դաշտավան համայնքի մանկապարտեզ | B9: =30*198.3 -> 5949
A10: Արագածոտն մարզի Արագածավան համայնքի մանկապարտեզ | B10: =180*198.3 -> 35694
A11: Կոտայքի մարզի Ջրվեժ համայնքի Զովք բնակավայրի մանկապարտեզ | B11: =60*198.3 -> 11898
A12: Կոտայքի մարզի Ջրվեժ համայնքի Ջրվեժ գյուղի մանկապարտեզ | B12: =240*198.3 -> 47592
A13: Կոտայքի մարզի Արամուս համայնքի մանկապարտեզ | B13: =150*198.3 -> 29745
A14: Շիարկի մարզի Մարմաշեն համայնքի Հացիկ բնակավայրի մանկապարտեզ | B14: =60*198.3 -> 11898
A15: Շիարկի մարզի Մարմաշեն համայնքի Ջաջուռավան բնակավայրի մանկապարտեզ | B15: =30*198.3 -> 5949
A16: Շիարկի մարզի Մարմաշեն համայնքի Լեռնուտ բնակավայրի մանկապարտեզ | B16: =30*198.3 -> 5949
A17: ԸՆԴԱՄԵՆԸ՝ | B17: =SUM(B9:B16) -> 154674
