Workbook
Name AgencyCode: #REF!
Name AgencyCode: #REF!
Name AgencyCode: #REF!
Name AgencyName: #REF!
Name AgencyName: #REF!
Name AgencyName: #REF!
Name davit: #REF!
Name Functional1: #REF!
Name Functional1: #REF!
Name Functional1: #REF!
Name ggg: #REF!
Name PANature: #REF!
Name PANature: #REF!
Name PANature: #REF!
Name PAType: #REF!
Name PAType: #REF!
Name PAType: #REF!
Name Performance2: #REF!
Name Performance2: #REF!
Name Performance2: #REF!
Name PerformanceType: #REF!
Name PerformanceType: #REF!
Name PerformanceType: #REF!
Name Հավելված: #REF!
Name Մաս: #REF!
Name շախմատիստ: #REF!

Sheet հավելված1
G1: Հավելված 1
F2: ՀՀ կառավարության 2022 թվականի
F3: ______________ ի ___Ն որոշման
A5: ՀԱՅԱՍՏԱՆԻ ՀԱՆՐԱՊԵՏՈՒԹՅԱՆ ԿԱՌԱՎԱՐՈՒԹՅԱՆ 2021 ԹՎԱԿԱՆԻ ԴԵԿՏԵՄԲԵՐԻ 23-Ի N 2121-Ն ՈՐՈՇՄԱՆ NN 3 ԵՎ 4 ՀԱՎԵԼՎԱԾՆԵՐՈՒՄ ԿԱՏԱՐՎՈՂ ՓՈՓՈԽՈՒԹՅՈՒՆՆԵՐԸ
G7: հազ. դրամներով
A8: Գործառական դասիչը | D8: Ծրագրային դասիչը | F8: Բյուջետային հատկացումների գլխավոր կարգադրիչների, ծրագրերի, միջոցառումների և միջոցառումները կատարող պետական մարմինների անվանումները | G8: Ցուցանիշների փոփոխությունը (ավելացումները նշված են դրական նշանով, իսկ նվազեցումները` փակագծերում)
A9: Բաժին | B9: Խումբ | C9: Դաս | D9: Ծրագիր | E9: Միջոցառում | G9: Տարի
E10: 11010 | F10: ԸՆԴԱՄԵՆԸ | G10: =+G12 -> 3.2741809e-11
F11: այդ թվում`
F12: ՀՀ ԿՐԹՈՒԹՅԱՆ, ԳԻՏՈՒԹՅԱՆ, ՄՇԱԿՈՒՅԹԻ ԵՎ ՍՊՈՐՏԻ ՆԱԽԱՐԱՐՈՒԹՅՈՒՆ | G12: =+G13 -> 3.2741809e-11
A13: 09 | F13: ԿՐԹՈՒԹՅՈՒՆ | G13: =+G15 -> 3.2741809e-11
F14: այդ թվում`
B15: 06 | F15: Կրթությանը տրամադրվող օժանդակ ծառայություններ | G15: =+G17 -> 3.2741809e-11
F16: այդ թվում`
C17: 01 | F17: Կրթությանը տրամադրվող օժանդակ ծառայություններ | G17: =+G19 -> 3.2741809e-11
F18: այդ թվում`
F19: ՀՀ կրթության, գիտության, մշակույթի և սպորտի նախարարություն | G19: =G21 -> 3.2741809e-11
F20: այդ թվում`
D21: 1192 | F21: Կրթության որակի ապահովում | G21: =G23 -> 3.2741809e-11
F22: այդ թվում`
E23: 11010 | F23: Ատեստավորման նոր համակարգի ներդրում՛ ուղղված ուսուցիչների որակի բարձրացմանը | G23: =G25+G32+G39+G46+G53+G60+G67+G74+G81+G88+G95+G102+G109 -> 3.2741809e-11
F24: այդ թվում` ըստ կատարողների
F25: ՀՀ տարածքային կառավարման և ենթակառուցվածքների նախարարություն | G25: =G27 -> 47215.63
F26: այդ թվում` բյուջետային ծախսերի տնտեսագիտական դասակարգման հոդվածներ
F27: ԸՆԴԱՄԵՆԸ ԾԱԽՍԵՐ | G27: =G28 -> 47215.63
F28: ԸՆԹԱՑԻԿ ԾԱԽՍԵՐ | G28: =G29 -> 47215.63
F29: ՍՈՑԻԱԼԱԿԱՆ ՆՊԱՍՏՆԵՐ ԵՎ ԿԵՆՍԱԹՈՇԱԿՆԵՐ | G29: =G30 -> 47215.63
F30: Սոցիալական օգնության դրամական արտահայտությամբ նպաստներ (բյուջեից) | G30: =G31 -> 47215.63
F31: - Այլ նպաստներ բյուջեից | G31: ='հավելված 2'!D24 -> 47215.63
F32: ՀՀ կրթության , գիտության, մշակույթի և սպորտի նախարարություն | G32: =G34 -> -288970.66
F33: այդ թվում` բյուջետային ծախսերի տնտեսագիտական դասակարգման հոդվածներ
F34: ԸՆԴԱՄԵՆԸ ԾԱԽՍԵՐ | G34: =+G35 -> -288970.66
F35: ԸՆԹԱՑԻԿ ԾԱԽՍԵՐ | G35: =+G36 -> -288970.66
F36: ՍՈՑԻԱԼԱԿԱՆ ՆՊԱՍՏՆԵՐ ԵՎ ԿԵՆՍԱԹՈՇԱԿՆԵՐ | G36: =+G37 -> -288970.66
F37: Սոցիալական օգնության դրամական արտահայտությամբ նպաստներ (բյուջեից) | G37: =G38 -> -288970.66
F38: - Այլ նպաստներ բյուջեից | G38: ='հավելված 2'!D41 -> -288970.66
F39: ՀՀ պաշտպանության նախարարություն | G39: =G41 -> 1655.28
F40: այդ թվում` բյուջետային ծախսերի տնտեսագիտական դասակարգման հոդվածներ
F41: ԸՆԴԱՄԵՆԸ ԾԱԽՍԵՐ | G41: =G42 -> 1655.28
F42: ԸՆԹԱՑԻԿ ԾԱԽՍԵՐ | G42: =G43 -> 1655.28
...

Sheet հավելված 2
C2: Հավելված 2
C3: ՀՀ կառավարության 2022 թվականի
C4: ______________ ի ___Ն որոշման
B7: ՀԱՅԱՍՏԱՆԻ ՀԱՆՐԱՊԵՏՈՒԹՅԱՆ ԿԱՌԱՎԱՐՈՒԹՅԱՆ 2021 ԹՎԱԿԱՆԻ ԴԵԿՏԵՄԲԵՐԻ 23-Ի N 2121-Ն ՈՐՈՇՄԱՆ N 9.1 ՀԱՎԵԼՎԱԾԻ N 9.1.8, 9.1.14, 9.1.15, 9.1.49,9.1.50, 9.1.51, 9.1.52, 9.1.53, 9.1.54, 9.1.55, 9.1.56, 9.1.57, 9.1.58 ԱՂՅՈՒՍԱԿՆԵՐՈՒՄ ԿԱՏԱՐՎՈՂ ՓՈՓՈԽՈՒԹՅՈՒՆՆԵՐԸ
B9: ՀՀ տարածքային կառավարման և ենթակառուցվածքների նախարարություն
B11: Ծրագրի դասիչը | C11: Ծրագրի անվանումը
B12: 1192 | C12: Կրթության որակի ապահովում
B14: Ծրագրի միջոցառումները
B15: Ծրագրի դասիչը՝ | C15: 1192 | D15: Ցուցանիշների փոփոխությունը (ավելացումները նշված են դրական նշանով)
B16: Միջոցառման դասիչը՝ | C16: 11010 | D16: Տարի
B17: Միջոցառման անվանումը՝ | C17: Ատեստավորման նոր համակարգի ներդրում՛ ուղղված ուսուցիչների որակի բարձրացմանը
B18: Նկարագրությունը՝ | C18: Հանրակրթական դպրոցներում դասվանդող ուսուցիչների կամավոր ատեստավորման համակարգի մշակում և ներդրում
B19: Միջոցառման տեսակը՝ | C19: Ծառայությունների մատուցում
B20: Ծառայությունը մատուցող կազմակերպության(ների) անվանում(ներ)ը՛ | C20: Մասնագիտացված կազմակերպություն
B21: Արդյունքի չափորոշիչներ
B22: Կամավոր ատեստավորմանը մասնակցած ուսուցիչների թիվը, մարդ
B23: Կամավոր ատեստավորման արդյունքում հավելավճար ստացող ուսուցիչների թվաքանակը | D23: 104
B24: Միջոցառման վրա կատարվող ծախսը (հազար դրամ) | D24: 47215.63
B26: ՀՀ կրթության, գիտության, մշակույթի և սպորտի նախարարություն
B28: Ծրագրի դասիչը | C28: Ծրագրի անվանումը
B29: 1192 | C29: Կրթության որակի ապահովում
B31: Ծրագրի միջոցառումները
B32: Ծրագրի դասիչը՝ | C32: 1192 | D32: Ցուցանիշների փոփոխությունը (նվազեցումները նշված են փակագծերում)
B33: Միջոցառման դասիչը՝ | C33: 11010 | D33: Տարի
B34: Միջոցառման անվանումը՝ | C34: Ատեստավորման նոր համակարգի ներդրում՛ ուղղված ուսուցիչների որակի բարձրացմանը
B35: Նկարագրությունը՝ | C35: Հանրակրթական դպրոցներում դասվանդող ուսուցիչների կամավոր ատեստավորման համակարգի մշակում և ներդրում
B36: Միջոցառման տեսակը՝ | C36: Ծառայությունների մատուցում
B37: Ծառայությունը մատուցող կազմակերպության(ների) անվանում(ներ)ը՛ | C37: Մասնագիտացված կազմակերպություն
B38: Արդյունքի չափորոշիչներ
B39: Կամավոր ատեստավորմանը մասնակցած ուսուցիչների թիվը, մարդ
B40: Կամավոր ատեստավորման արդյունքում հավելավճար ստացող ուսուցիչների թվաքանակը
B41: Միջոցառման վրա կատարվող ծախսը (հազար դրամ) | D41: -288970.66
B43: ՀՀ պաշտպանության նախարարություն
B45: Ծրագրի դասիչը | C45: Ծրագրի անվանումը
B46: 1192 | C46: Կրթության որակի ապահովում
B48: Ծրագրի միջոցառումները
B49: Ծրագրի դասիչը՝ | C49: 1192 | D49: Ցուցանիշների փոփոխությունը (նվազեցումները նշված են փակագծերում)
B50: Միջոցառման դասիչը՝ | C50: 11010 | D50: Տարի
B51: Միջոցառման անվանումը՝ | C51: Ատեստավորման նոր համակարգի ներդրում՛ ուղղված ուսուցիչների որակի բարձրացմանը
B52: Նկարագրությունը՝ | C52: Հանրակրթական դպրոցներում դասվանդող ուսուցիչների կամավոր ատեստավորման համակարգի մշակում և ներդրում
...
