Workbook
Name AgencyCode: #REF!
Name AgencyCode: #REF!
Name AgencyCode: #REF!
Name AgencyName: #REF!
Name AgencyName: #REF!
Name AgencyName: #REF!
Name davit: #REF!
Name Functional1: #REF!
Name Functional1: #REF!
Name Functional1: #REF!
Name ggg: #REF!
Name PANature: #REF!
Name PANature: #REF!
Name PANature: #REF!
Name PAType: #REF!
Name PAType: #REF!
Name PAType: #REF!
Name Performance2: #REF!
Name Performance2: #REF!
Name Performance2: #REF!
Name PerformanceType: #REF!
Name PerformanceType: #REF!
Name PerformanceType: #REF!
Name Հավելված: #REF!
Name Մաս: #REF!
Name շախմատիստ: #REF!

Sheet հավելված1
G1: Հավելված 1
F2: ՀՀ կառավարության 2022 թվականի
F3: ______________ ի ___Ն որոշման
A5: ՀԱՅԱՍՏԱՆԻ ՀԱՆՐԱՊԵՏՈՒԹՅԱՆ ԿԱՌԱՎԱՐՈՒԹՅԱՆ 2021 ԹՎԱԿԱՆԻ ԴԵԿՏԵՄԲԵՐԻ 23-Ի N 2121-Ն ՈՐՈՇՄԱՆ NN 3 ԵՎ 4 ՀԱՎԵԼՎԱԾՆԵՐՈՒՄ ԿԱՏԱՐՎՈՂ ՓՈՓՈԽՈՒԹՅՈՒՆՆԵՐԸ
G7: հազ. դրամներով
A8: Գործառական դասիչը | D8: Ծրագրային դասիչը | F8: Բյուջետային հատկացումների գլխավոր կարգադրիչների, ծրագրերի, միջոցառումների և միջոցառումները կատարող պետական մարմինների անվանումները | G8: Ցուցանիշների փոփոխությունը (ավելացումները նշված են դրական նշանով, իսկ նվազեցումները` փակագծերում)
A9: Բաժին | B9: Խումբ | C9: Դաս | D9: Ծրագիր | E9: Միջոցառում | G9: Տարի
E10: 11010 | F10: ԸՆԴԱՄԵՆԸ | G10: =+G12 -> 3.2741809e-11
F11: այդ թվում`
F12: ՀՀ ԿՐԹՈՒԹՅԱՆ, ԳԻՏՈՒԹՅԱՆ, ՄՇԱԿՈՒՅԹԻ ԵՎ ՍՊՈՐՏԻ ՆԱԽԱՐԱՐՈՒԹՅՈՒՆ | G12: =+G13 -> 3.2741809e-11
A13: 09 | F13: ԿՐԹՈՒԹՅՈՒՆ | G13: =+G15 -> 3.2741809e-11
F14: այդ թվում`
B15: 06 | F15: Կրթությանը տրամադրվող օժանդակ ծառայություններ | G15: =+G17 -> 3.2741809e-11
F16: այդ թվում`
C17: 01 | F17: Կրթությանը տրամադրվող օժանդակ ծառայություններ | G17: =+G19 -> 3.2741809e-11
F18: այդ թվում`
F19: ՀՀ կրթության, գիտության, մշակույթի և սպորտի նախարարություն | G19: =G21 -> 3.2741809e-11
F20: այդ թվում`
D21: 1192 | F21: Կրթության որակի ապահովում | G21: =G23 -> 3.2741809e-11
F22: այդ թվում`
E23: 11010 | F23: Ատեստավորման նոր համակարգի ներդրում՛ ուղղված ուսուցիչների որակի բարձրացմանը | G23: =G25+G32+G39+G46+G53+G60+G67+G74+G81+G88+G95+G102+G109 -> 3.2741809e-11
F24: այդ թվում` ըստ կատարողների
F25: ՀՀ տարածքային կառավարման և ենթակառուցվածքների նախարարություն | G25: =G27 -> 47215.63
F26: այդ թվում` բյուջետային ծախսերի տնտեսագիտական դասակարգման հոդվածներ
F27: ԸՆԴԱՄԵՆԸ ԾԱԽՍԵՐ | G27: =G28 -> 47215.63
F28: ԸՆԹԱՑԻԿ ԾԱԽՍԵՐ | G28: =G29 -> 47215.63
F29: ՍՈՑԻԱԼԱԿԱՆ ՆՊԱՍՏՆԵՐ ԵՎ ԿԵՆՍԱԹՈՇԱԿՆԵՐ | G29: =G30 -> 47215.63
F30: Սոցիալական օգնության դրամական արտահայտությամբ նպաստներ (բյուջեից) | G30: =G31 -> 47215.63
F31: - Այլ նպաստներ բյուջեից | G31: ='հավելված 2'!D24 -> 47215.63
F32: ՀՀ կրթության , գիտության, մշակույթի և սպորտի նախարարություն | G32: =G34 -> -288970.66
F33: այդ թվում` բյուջետային ծախսերի տնտեսագիտական դասակարգման հոդվածներ
F34: ԸՆԴԱՄԵՆԸ ԾԱԽՍԵՐ | G34: =+G35 -> -288970.66
F35: ԸՆԹԱՑԻԿ ԾԱԽՍԵՐ | G35: =+G36 -> -288970.66
F36: ՍՈՑԻԱԼԱԿԱՆ ՆՊԱՍՏՆԵՐ ԵՎ ԿԵՆՍԱԹՈՇԱԿՆԵՐ | G36: =+G37 -> -288970.66
F37: Սոցիալական օգնության դրամական արտահայտությամբ նպաստներ (բյուջեից) | G37: =G38 -> -288970.66
F38: - Այլ նպաստներ բյուջեից | G38: ='հավելված 2'!D41 -> -288970.66
F39: ՀՀ պաշտպանության նախարարություն | G39: =G41 -> 1655.28
F40: այդ թվում` բյուջետային ծախսերի տնտեսագիտական դասակարգման հոդվածներ
F41: ԸՆԴԱՄԵՆԸ ԾԱԽՍԵՐ | G41: =G42 -> 1655.28
F42: ԸՆԹԱՑԻԿ ԾԱԽՍԵՐ | G42: =G43 -> 1655.28
F43: ՍՈՑԻԱԼԱԿԱՆ ՆՊԱՍՏՆԵՐ ԵՎ ԿԵՆՍԱԹՈՇԱԿՆԵՐ | G43: =G44 -> 1655.28
F44: Սոցիալական օգնության դրամական արտահայտությամբ նպաստներ (բյուջեից) | G44: =G45 -> 1655.28
F45: - Այլ նպաստներ բյուջեից | G45: ='հավելված 2'!D58 -> 1655.28
F46: ՀՀ Արագածոտնի մարզպետարան | G46: =G48 -> 11552.09
F47: այդ թվում` բյուջետային ծախսերի տնտեսագիտական դասակարգման հոդվածներ
F48: ԸՆԴԱՄԵՆԸ ԾԱԽՍԵՐ | G48: =G49 -> 11552.09
F49: ԸՆԹԱՑԻԿ ԾԱԽՍԵՐ | G49: =G50 -> 11552.09
F50: ՍՈՑԻԱԼԱԿԱՆ ՆՊԱՍՏՆԵՐ ԵՎ ԿԵՆՍԱԹՈՇԱԿՆԵՐ | G50: =G51 -> 11552.09
F51: Սոցիալական օգնության դրամական արտահայտությամբ նպաստներ (բյուջեից) | G51: =G52 -> 11552.09
F52: - Այլ նպաստներ բյուջեից | G52: ='հավելված 2'!D75 -> 11552.09
F53: ՀՀ Արարատի մարզպետարան | G53: =G55 -> 34159.51
F54: այդ թվում` բյուջետային ծախսերի տնտեսագիտական դասակարգման հոդվածներ
F55: ԸՆԴԱՄԵՆԸ ԾԱԽՍԵՐ | G55: =G56 -> 34159.51
F56: ԸՆԹԱՑԻԿ ԾԱԽՍԵՐ | G56: =G57 -> 34159.51
F57: ՍՈՑԻԱԼԱԿԱՆ ՆՊԱՍՏՆԵՐ ԵՎ ԿԵՆՍԱԹՈՇԱԿՆԵՐ | G57: =G58 -> 34159.51
F58: Սոցիալական օգնության դրամական արտահայտությամբ նպաստներ (բյուջեից) | G58: =G59 -> 34159.51
F59: - Այլ նպաստներ բյուջեից | G59: ='հավելված 2'!D92 -> 34159.51
F60: ՀՀ Արմավիրի մարզպետարան | G60: =G62 -> 26816.57
F61: այդ թվում` բյուջետային ծախսերի տնտեսագիտական դասակարգման հոդվածներ
F62: ԸՆԴԱՄԵՆԸ ԾԱԽՍԵՐ | G62: =+G63 -> 26816.57
F63: ԸՆԹԱՑԻԿ ԾԱԽՍԵՐ | G63: =+G64 -> 26816.57
F64: ՍՈՑԻԱԼԱԿԱՆ ՆՊԱՍՏՆԵՐ ԵՎ ԿԵՆՍԱԹՈՇԱԿՆԵՐ | G64: =+G65 -> 26816.57
F65: Սոցիալական օգնության դրամական արտահայտությամբ նպաստներ (բյուջեից) | G65: =G66 -> 26816.57
F66: - Այլ նպաստներ բյուջեից | G66: ='հավելված 2'!D110 -> 26816.57
F67: ՀՀ Գեղարքունիքի մարզպետարան | G67: =G69 -> 21712.9
F68: այդ թվում` բյուջետային ծախսերի տնտեսագիտական դասակարգման հոդվածներ
F69: ԸՆԴԱՄԵՆԸ ԾԱԽՍԵՐ | G69: =G70 -> 21712.9
F70: ԸՆԹԱՑԻԿ ԾԱԽՍԵՐ | G70: =G71 -> 21712.9
F71: ՍՈՑԻԱԼԱԿԱՆ ՆՊԱՍՏՆԵՐ ԵՎ ԿԵՆՍԱԹՈՇԱԿՆԵՐ | G71: =G72 -> 21712.9
F72: Սոցիալական օգնության դրամական արտահայտությամբ նպաստներ (բյուջեից) | G72: =G73 -> 21712.9
F73: - Այլ նպաստներ բյուջեից | G73: ='հավելված 2'!D127 -> 21712.9
F74: ՀՀ Լոռու մարզպետարան | G74: =G76 -> 27740.35
F75: այդ թվում` բյուջետային ծախսերի տնտեսագիտական դասակարգման հոդվածներ
F76: ԸՆԴԱՄԵՆԸ ԾԱԽՍԵՐ | G76: =G77 -> 27740.35
F77: ԸՆԹԱՑԻԿ ԾԱԽՍԵՐ | G77: =G78 -> 27740.35
F78: ՍՈՑԻԱԼԱԿԱՆ ՆՊԱՍՏՆԵՐ ԵՎ ԿԵՆՍԱԹՈՇԱԿՆԵՐ | G78: =G79 -> 27740.35
F79: Սոցիալական օգնության դրամական արտահայտությամբ նպաստներ (բյուջեից) | G79: =G80 -> 27740.35
F80: - Այլ նպաստներ բյուջեից | G80: ='հավելված 2'!D144 -> 27740.35
F81: ՀՀ Կոտայքի մարզպետարան | G81: =G83 -> 47598.32
F82: այդ թվում` բյուջետային ծախսերի տնտեսագիտական դասակարգման հոդվածներ
F83: ԸՆԴԱՄԵՆԸ ԾԱԽՍԵՐ | G83: =+G84 -> 47598.32
F84: ԸՆԹԱՑԻԿ ԾԱԽՍԵՐ | G84: =+G85 -> 47598.32
F85: ՍՈՑԻԱԼԱԿԱՆ ՆՊԱՍՏՆԵՐ ԵՎ ԿԵՆՍԱԹՈՇԱԿՆԵՐ | G85: =+G86 -> 47598.32
F86: Սոցիալական օգնության դրամական արտահայտությամբ նպաստներ (բյուջեից) | G86: =G87 -> 47598.32
F87: - Այլ նպաստներ բյուջեից | G87: ='հավելված 2'!D161 -> 47598.32
F88: ՀՀ Շիրակի մարզպետարան | G88: =G90 -> 28985.77
F89: այդ թվում` բյուջետային ծախսերի տնտեսագիտական դասակարգման հոդվածներ
F90: ԸՆԴԱՄԵՆԸ ԾԱԽՍԵՐ | G90: =G91 -> 28985.77
F91: ԸՆԹԱՑԻԿ ԾԱԽՍԵՐ | G91: =G92 -> 28985.77
F92: ՍՈՑԻԱԼԱԿԱՆ ՆՊԱՍՏՆԵՐ ԵՎ ԿԵՆՍԱԹՈՇԱԿՆԵՐ | G92: =G93 -> 28985.77
F93: Սոցիալական օգնության դրամական արտահայտությամբ նպաստներ (բյուջեից) | G93: =G94 -> 28985.77
F94: - Այլ նպաստներ բյուջեից | G94: ='հավելված 2'!D178 -> 28985.77
F95: ՀՀ Սյունիքի մարզպետարան | G95: =G97 -> 21005.93
F96: այդ թվում` բյուջետային ծախսերի տնտեսագիտական դասակարգման հոդվածներ
F97: ԸՆԴԱՄԵՆԸ ԾԱԽՍԵՐ | G97: =+G98 -> 21005.93
F98: ԸՆԹԱՑԻԿ ԾԱԽՍԵՐ | G98: =+G99 -> 21005.93
F99: ՍՈՑԻԱԼԱԿԱՆ ՆՊԱՍՏՆԵՐ ԵՎ ԿԵՆՍԱԹՈՇԱԿՆԵՐ | G99: =+G100 -> 21005.93
F100: Սոցիալական օգնության դրամական արտահայտությամբ նպաստներ (բյուջեից) | G100: =G101 -> 21005.93
F101: - Այլ նպաստներ բյուջեից | G101: ='հավելված 2'!D195 -> 21005.93
F102: ՀՀ Վայոց ձորի մարզպետարան | G102: =G104 -> 4327.51
...

Sheet հավելված 2
C2: Հավելված 2
C3: ՀՀ կառավարության 2022 թվականի
C4: ______________ ի ___Ն որոշման
B7: ՀԱՅԱՍՏԱՆԻ ՀԱՆՐԱՊԵՏՈՒԹՅԱՆ ԿԱՌԱՎԱՐՈՒԹՅԱՆ 2021 ԹՎԱԿԱՆԻ ԴԵԿՏԵՄԲԵՐԻ 23-Ի N 2121-Ն ՈՐՈՇՄԱՆ N 9.1 ՀԱՎԵԼՎԱԾԻ N 9.1.8, 9.1.14, 9.1.15, 9.1.49,9.1.50, 9.1.51, 9.1.52, 9.1.53, 9.1.54, 9.1.55, 9.1.56, 9.1.57, 9.1.58 ԱՂՅՈՒՍԱԿՆԵՐՈՒՄ ԿԱՏԱՐՎՈՂ ՓՈՓՈԽՈՒԹՅՈՒՆՆԵՐԸ
B9: ՀՀ տարածքային կառավարման և ենթակառուցվածքների նախարարություն
B11: Ծրագրի դասիչը | C11: Ծրագրի անվանումը
B12: 1192 | C12: Կրթության որակի ապահովում
B14: Ծրագրի միջոցառումները
B15: Ծրագրի դասիչը՝ | C15: 1192 | D15: Ցուցանիշների փոփոխությունը (ավելացումները նշված են դրական նշանով)
B16: Միջոցառման դասիչը՝ | C16: 11010 | D16: Տարի
B17: Միջոցառման անվանումը՝ | C17: Ատեստավորման նոր համակարգի ներդրում՛ ուղղված ուսուցիչների որակի բարձրացմանը
B18: Նկարագրությունը՝ | C18: Հանրակրթական դպրոցներում դասվանդող ուսուցիչների կամավոր ատեստավորման համակարգի մշակում և ներդրում
B19: Միջոցառման տեսակը՝ | C19: Ծառայությունների մատուցում
B20: Ծառայությունը մատուցող կազմակերպության(ների) անվանում(ներ)ը՛ | C20: Մասնագիտացված կազմակերպություն
B21: Արդյունքի չափորոշիչներ
B22: Կամավոր ատեստավորմանը մասնակցած ուսուցիչների թիվը, մարդ
B23: Կամավոր ատեստավորման արդյունքում հավելավճար ստացող ուսուցիչների թվաքանակը | D23: 104
B24: Միջոցառման վրա կատարվող ծախսը (հազար դրամ) | D24: 47215.63
B26: ՀՀ կրթության, գիտության, մշակույթի և սպորտի նախարարություն
B28: Ծրագրի դասիչը | C28: Ծրագրի անվանումը
B29: 1192 | C29: Կրթության որակի ապահովում
B31: Ծրագրի միջոցառումները
B32: Ծրագրի դասիչը՝ | C32: 1192 | D32: Ցուցանիշների փոփոխությունը (նվազեցումները նշված են փակագծերում)
B33: Միջոցառման դասիչը՝ | C33: 11010 | D33: Տարի
B34: Միջոցառման անվանումը՝ | C34: Ատեստավորման նոր համակարգի ներդրում՛ ուղղված ուսուցիչների որակի բարձրացմանը
B35: Նկարագրությունը՝ | C35: Հանրակրթական դպրոցներում դասվանդող ուսուցիչների կամավոր ատեստավորման համակարգի մշակում և ներդրում
B36: Միջոցառման տեսակը՝ | C36: Ծառայությունների մատուցում
B37: Ծառայությունը մատուցող կազմակերպության(ների) անվանում(ներ)ը՛ | C37: Մասնագիտացված կազմակերպություն
B38: Արդյունքի չափորոշիչներ
B39: Կամավոր ատեստավորմանը մասնակցած ուսուցիչների թիվը, մարդ
B40: Կամավոր ատեստավորման արդյունքում հավելավճար ստացող ուսուցիչների թվաքանակը
B41: Միջոցառման վրա կատարվող ծախսը (հազար դրամ) | D41: -288970.66
B43: ՀՀ պաշտպանության նախարարություն
B45: Ծրագրի դասիչը | C45: Ծրագրի անվանումը
B46: 1192 | C46: Կրթության որակի ապահովում
B48: Ծրագրի միջոցառումները
B49: Ծրագրի դասիչը՝ | C49: 1192 | D49: Ցուցանիշների փոփոխությունը (նվազեցումները նշված են փակագծերում)
B50: Միջոցառման դասիչը՝ | C50: 11010 | D50: Տարի
B51: Միջոցառման անվանումը՝ | C51: Ատեստավորման նոր համակարգի ներդրում՛ ուղղված ուսուցիչների որակի բարձրացմանը
B52: Նկարագրությունը՝ | C52: Հանրակրթական դպրոցներում դասվանդող ուսուցիչների կամավոր ատեստավորման համակարգի մշակում և ներդրում
B53: Միջոցառման տեսակը՝ | C53: Ծառայությունների մատուցում
B54: Ծառայությունը մատուցող կազմակերպության(ների) անվանում(ներ)ը՛ | C54: Մասնագիտացված կազմակերպություն
B55: Արդյունքի չափորոշիչներ
B56: Կամավոր ատեստավորմանը մասնակցած ուսուցիչների թիվը, մարդ
B57: Կամավոր ատեստավորման արդյունքում հավելավճար ստացող ուսուցիչների թվաքանակը | D57: 4
B58: Միջոցառման վրա կատարվող ծախսը (հազար դրամ) | D58: 1655.28
B60: ՀՀ Արագածոտնի մարզպետարան
B62: Ծրագրի դասիչը | C62: Ծրագրի անվանումը
B63: 1192 | C63: Կրթության որակի ապահովում
B65: Ծրագրի միջոցառումները
B66: Ծրագրի դասիչը՝ | C66: 1192 | D66: Ցուցանիշների փոփոխությունը (ավելացումները նշված են դրական նշանով)
B67: Միջոցառման դասիչը՝ | C67: 11010 | D67: Տարի
B68: Միջոցառման անվանումը՝ | C68: Ատեստավորման նոր համակարգի ներդրում՛ ուղղված ուսուցիչների որակի բարձրացմանը
B69: Նկարագրությունը՝ | C69: Հանրակրթական դպրոցներում դասվանդող ուսուցիչների կամավոր ատեստավորման համակարգի մշակում և ներդրում
B70: Միջոցառման տեսակը՝ | C70: Ծառայությունների մատուցում
B71: Ծառայությունը մատուցող կազմակերպության(ների) անվանում(ներ)ը՛ | C71: Մասնագիտացված կազմակերպություն
B72: Արդյունքի չափորոշիչներ
B73: Կամավոր ատեստավորմանը մասնակցած ուսուցիչների թիվը, մարդ
B74: Կամավոր ատեստավորման արդյունքում հավելավճար ստացող ուսուցիչների թվաքանակը | D74: 34
B75: Միջոցառման վրա կատարվող ծախսը (հազար դրամ) | D75: 11552.09
B77: ՀՀ Արարատի մարզպետարան
B79: Ծրագրի դասիչը | C79: Ծրագրի անվանումը
B80: 1192 | C80: Կրթության որակի ապահովում
B82: Ծրագրի միջոցառումները
B83: Ծրագրի դասիչը՝ | C83: 1192 | D83: Ցուցանիշների փոփոխությունը (ավելացումները նշված են դրական նշանով)
B84: Միջոցառման դասիչը՝ | C84: 11010 | D84: Տարի
B85: Միջոցառման անվանումը՝ | C85: Ատեստավորման նոր համակարգի ներդրում՛ ուղղված ուսուցիչների որակի բարձրացմանը
B86: Նկարագրությունը՝ | C86: Հանրակրթական դպրոցներում դասվանդող ուսուցիչների կամավոր ատեստավորման համակարգի մշակում և ներդրում
B87: Միջոցառման տեսակը՝ | C87: Ծառայությունների մատուցում
B88: Ծառայությունը մատուցող կազմակերպության(ների) անվանում(ներ)ը՛ | C88: Մասնագիտացված կազմակերպություն
B89: Արդյունքի չափորոշիչներ
B90: Կամավոր ատեստավորմանը մասնակցած ուսուցիչների թիվը, մարդ
B91: Կամավոր ատեստավորման արդյունքում հավելավճար ստացող ուսուցիչների թվաքանակը | D91: 68
B92: Միջոցառման վրա կատարվող ծախսը (հազար դրամ) | D92: 34159.51
B94: ՀՀ Արմավիրի մարզպետարան
B97: Ծրագրի դասիչը | C97: Ծրագրի անվանումը
B98: 1192 | C98: Կրթության որակի ապահովում
B100: Ծրագրի միջոցառումները
B101: Ծրագրի դասիչը՝ | C101: 1192 | D101: Ցուցանիշների փոփոխությունը (ավելացումները նշված են դրական նշանով)
B102: Միջոցառման դասիչը՝ | C102: 11010 | D102: Տարի
B103: Միջոցառման անվանումը՝ | C103: Ատեստավորման նոր համակարգի ներդրում՛ ուղղված ուսուցիչների որակի բարձրացմանը
B104: Նկարագրությունը՝ | C104: Հանրակրթական դպրոցներում դասվանդող ուսուցիչների կամավոր ատեստավորման համակարգի մշակում և ներդրում
B105: Միջոցառման տեսակը՝ | C105: Ծառայությունների մատուցում
B106: Ծառայությունը մատուցող կազմակերպության(ների) անվանում(ներ)ը՛ | C106: Մասնագիտացված կազմակերպություն
B107: Արդյունքի չափորոշիչներ
B108: Կամավոր ատեստավորմանը մասնակցած ուսուցիչների թիվը, մարդ
B109: Կամավոր ատեստավորման արդյունքում հավելավճար ստացող ուսուցիչների թվաքանակը | D109: 61
B110: Միջոցառման վրա կատարվող ծախսը (հազար դրամ) | D110: 26816.57
B112: ՀՀ Գեղարքունիքի մարզպետարան
B114: Ծրագրի դասիչը | C114: Ծրագրի անվանումը
B115: 1192 | C115: Կրթության որակի ապահովում
B117: Ծրագրի միջոցառումները
B118: Ծրագրի դասիչը՝ | C118: 1192 | D118: Ցուցանիշների փոփոխությունը (ավելացումները նշված են դրական նշանով)
B119: Միջոցառման դասիչը՝ | C119: 11010 | D119: Տարի
B120: Միջոցառման անվանումը՝ | C120: Ատեստավորման նոր համակարգի ներդրում՛ ուղղված ուսուցիչների որակի բարձրացմանը
B121: Նկարագրությունը՝ | C121: Հանրակրթական դպրոցներում դասվանդող ուսուցիչների կամավոր ատեստավորման համակարգի մշակում և ներդրում
B122: Միջոցառման տեսակը՝ | C122: Ծառայությունների մատուցում
B123: Ծառայությունը մատուցող կազմակերպության(ների) անվանում(ներ)ը՛ | C123: Մասնագիտացված կազմակերպություն
B124: Արդյունքի չափորոշիչներ
B125: Կամավոր ատեստավորմանը մասնակցած ուսուցիչների թիվը, մարդ
...
