Workbook
Name a: #REF!
Name a: #REF!
Name a: #REF!
Name a: #REF!
Name AgencyCode: #REF!
Name AgencyCode: #REF!
Name AgencyCode: #REF!
Name AgencyCode: #REF!
Name AgencyName: #REF!
Name AgencyName: #REF!
Name AgencyName: #REF!
Name AgencyName: #REF!
Name davit: #REF!
Name davit: #REF!
Name davit: #REF!
Name Functional1: #REF!
Name Functional1: #REF!
Name Functional1: #REF!
Name Functional1: #REF!
Name ggg: #REF!
Name ggg: #REF!
Name ggg: #REF!
Name PANature: #REF!
Name PANature: #REF!
Name PANature: #REF!
Name PANature: #REF!
Name PAType: #REF!
Name PAType: #REF!
Name PAType: #REF!
Name PAType: #REF!
Name Performance2: #REF!
Name Performance2: #REF!
Name Performance2: #REF!
Name Performance2: #REF!
Name PerformanceType: #REF!
Name PerformanceType: #REF!
Name PerformanceType: #REF!
Name PerformanceType: #REF!
Name Հավելված: #REF!
Name Հավելված: #REF!
Name Հավելված: #REF!
Name Հավելված: #REF!
Name Մաս: #REF!
Name Մաս: #REF!
Name Մաս: #REF!
Name շախմատիստ: #REF!
Name շախմատիստ: #REF!
Name շախմատիստ: #REF!

Sheet Հավելված N 1
C1: Հավելված N 1
C2: ՀՀ կառավարության 2022 թվականի
C3: ______________ ի ___Ն որոշման
A6: «ՀԱՅԱUՏԱՆԻ ՀԱՆՐԱՊԵՏՈՒԹՅԱՆ 2022 ԹՎԱԿԱՆԻ ՊԵՏԱԿԱՆ ԲՅՈՒՋԵԻ ՄԱUԻՆ» ՀԱՅԱUՏԱՆԻ ՀԱՆՐԱՊԵՏՈՒԹՅԱՆ OՐԵՆՔԻ N 1 ՀԱՎԵԼՎԱԾԻ N 2 ԱՂՅՈՒՍԱԿՈՒՄ ԿԱՏԱՐՎՈՂ ՎԵՐԱԲԱՇԽՈՒՄԸ ԵՎ ՀԱՅԱՍՏԱՆԻ ՀԱՆՐԱՊԵՏՈՒԹՅԱՆ ԿԱՌԱՎԱՐՈՒԹՅԱՆ 2021 ԹՎԱԿԱՆԻ ԴԵԿՏԵՄԲԵՐԻ 23-Ի N 2121-Ն ՈՐՈՇՄԱՆ N 5 ՀԱՎԵԼՎԱԾԻ N 1 ԱՂՅՈՒՍԱԿՈՒՄ ԿԱՏԱՐՎՈՂ ՓՈՓՈԽՈՒԹՅՈՒՆԸ ԵՎ ԼՐԱՑՈՒՄՆԵՐԸ
D9: հազ. դրամներով
A10: Ծրագրային դասիչը | C10: Բյուջետային հատկացումների գլխավոր կարգադրիչների, ծրագրերի և միջոցառումների անվանումները | D10: Ցուցանիշների փոփոխությունը (ավելացումները նշված են դրական նշանով, իսկ նվազեցումները՝ փակագծերում)
A11: Ծրագիր | B11: Միջոցառում | D11: Տարի
A12: 1192 | C12: ԸՆԴԱՄԵՆԸ | D12: =+D14 -> 0
C13: այդ թվում
C14: ՀՀ ԿՐԹՈՒԹՅԱՆ, ԳԻՏՈՒԹՅԱՆ, ՄՇԱԿՈՒՅԹԻ ԵՎ ՍՊՈՐՏԻ ՆԱԽԱՐԱՐՈՒԹՅՈՒՆ | D14: =+D16+D29 -> 0
A15: 1146 | C15: Ծրագրի անվանումը`
C16: Հանրակրթության ծրագիր | D16: =+D23 -> -353830.7
C17: Ծրագրի նպատակը`
C18: Ապահովել անվճար և որակյալ հանրակրթություն
C19: Վերջնական արդյունքի նկարագրությունը`
C20: Մտավոր, հոգևոր, ֆիզիկական և սոցիալական ունակությունների համակողմանի ու ներդաշնակ զարգացմամբ, հայրենասիրության, պետականության և մարդասիրության ոգով դաստիրակված, պատշաճ վարքով և վարվելակերպով անձի ձևավորում
C21: Ծրագրի միջոցառումներ
B22: 11003 | C22: Միջոցառման անվանումը`
C23: Միջնակարգ ընդհանուր հանրակրթություն | D23: =+'Հավելված N 2'!G23 -> -353830.7
C24: Միջոցառման նկարագրությունը`
C25: Պարտադիր կրթության երրորդ մակարդակում սովորողների ընդգրկվածության, գրագիտության և համակողմանի զարգացման բարձր մակարդակի ապահովում
C26: Միջոցառման տեսակը
C27: Ծառայությունների մատուցում
A28: 1183 | C28: Ծրագրի անվանումը`
C29: Ապահով դպրոց | D29: =+D36 -> 353830.7
C30: Ծրագրի նպատակը`
C31: Դպրոցներին սպառնացող աղետների ռիսկի կառավարման կարողությունների հզորացում, դպրոցի անձնակազմի և աշակերտների անվտանգության ապահովման մակարդակի բարձրացում՛ կիրառելով ներառական և երեխայակենտրոն մոտեցում
C32: Վերջնական արդյունքի նկարագրությունը`
C33: Դպրոցական միջավայրի բարելավում
C34: Ծրագրի միջոցառումներ
B35: 32012 | C35: Միջոցառման անվանումը`
C36: Հանրակրթական դպրոցների գույքով և տեխնիկայով ապահովում | D36: =+'Հավելված N 2'!G40 -> 353830.7
C37: Միջոցառման նկարագրությունը`
C38: Կրթական ժամանակակից նորմերին համապատասխանող գույքի ձեռքբերում
C39: Միջոցառման տեսակը
C40: Այլ պետական կազմակերպությունների կողմից օգտագործվող ոչ ֆինանսական ակտիվների հետ գործառնություններ

Sheet Հավելված N 2
F1: Հավելված N 2
F2: ՀՀ կառավարության 2022 թվականի
F3: ______________ ի ___Ն որոշման
A5: ՀԱՅԱՍՏԱՆԻ ՀԱՆՐԱՊԵՏՈՒԹՅԱՆ ԿԱՌԱՎԱՐՈՒԹՅԱՆ 2021 ԹՎԱԿԱՆԻ ԴԵԿՏԵՄԲԵՐԻ 23-Ի N2121-Ն ՈՐՈՇՄԱՆ N 3 ԵՎ N 4 ՀԱՎԵԼՎԱԾՆԵՐՈՒՄ ԿԱՏԱՐՎՈՂ ՓՈՓՈԽՈՒԹՅՈՒՆԸ ԵՎ ԼՐԱՑՈՒՄՆԵՐԸ
G7: հազ. դրամներով
A8: Գործառական դասիչը | D8: Ծրագրային դասիչը | F8: Բյուջետային հատկացումների գլխավոր կարգադրիչների, ծրագրերի, միջոցառումների և միջոցառումները կատարող պետական մարմինների անվանումները | G8: Ցուցանիշների փոփոխությունը (ավելացումները նշված են դրական նշանով, իսկ նվազեցումները՝ փակագծերում)
A9: Բաժին | B9: Խումբ | C9: Դաս | D9: Ծրագիր | E9: Միջոցառում | G9: Տարի
F10: ԸՆԴԱՄԵՆԸ | G10: =+G12 -> 0
F11: այդ թվում
F12: ՀՀ ԿՐԹՈՒԹՅԱՆ, ԳԻՏՈՒԹՅԱՆ, ՄՇԱԿՈՒՅԹԻ ԵՎ ՍՊՈՐՏԻ ՆԱԽԱՐԱՐՈՒԹՅՈՒՆ | G12: =+G13 -> 0
A13: 09 | F13: ԿՐԹՈՒԹՅՈՒՆ | G13: =+G15+G32 -> 0
F14: այդ թվում`
B15: 02 | F15: Միջնակարգ ընդհանուր կրթություն | G15: =+G17 -> -353830.7
F16: այդ թվում`
C17: 02 | F17: Միջնակարգ (լրիվ) ընդհանուր կրթություն | G17: =+G19 -> -353830.7
F18: այդ թվում`
F19: ՀՀ կրթության, գիտության, մշակույթի և սպորտի նախարարություն | G19: =+G21 -> -353830.7
F20: այդ թվում՝
D21: 1146 | E21: Հանրակրթության ծրագիր | G21: =+G23 -> -353830.7
F22: այդ թվում`
E23: 11003 | F23: Միջնակարգ ընդհանուր հանրակրթություն | G23: =+G25 -> -353830.7
F24: այդ թվում` ըստ կատարողների
F25: ՀՀ կրթության, գիտության, մշակույթի և սպորտի նախարարություն | G25: =G27 -> -353830.7
F26: այդ թվում՝ բյուջետային ծախսերի տնտեսագիտական դասակարգման հոդվածներ
F27: ԸՆԴԱՄԵՆԸ ԾԱԽՍԵՐ | G27: =+G28 -> -353830.7
F28: ԸՆԹԱՑԻԿ ԾԱԽՍԵՐ | G28: =G29 -> -353830.7
F29: ՍՈՒԲՍԻԴԻԱՆԵՐ | G29: =+G30 -> -353830.7
F30: Սուբսիդիաներ պետական կազմակերպություններին | G30: =+G31 -> -353830.7
F31: - Սուբսիդիաներ ոչ ֆինանսական պետական կազմակերպություններին | G31: -353830.7
B32: 06 | F32: Կրթությանը տրամադրվող օժանդակ ծառայություններ | G32: =+G34 -> 353830.7
F33: այդ թվում`
C34: 01 | F34: Կրթությանը տրամադրվող օժանդակ ծառայություններ | G34: =+G36 -> 353830.7
F35: այդ թվում`
F36: ՀՀ կրթության, գիտության, մշակույթի և սպորտի նախարարություն | G36: =+G38 -> 353830.7
F37: այդ թվում՝
D38: 1183 | E38: Ապահով դպրոց | G38: =+G40 -> 353830.7
F39: այդ թվում`
E40: 32012 | F40: Հանրակրթական դպրոցների գույքով և տեխնիկայով ապահովում | G40: =+G42+G49+G56+G63+G70 -> 353830.7
F41: այդ թվում` ըստ կատարողների
F42: ՀՀ կրթության, գիտության, մշակույթի և սպորտի նախարարություն | G42: =G44 -> 173168.1
F43: այդ թվում՝ բյուջետային ծախսերի տնտեսագիտական դասակարգման հոդվածներ
F44: ԸՆԴԱՄԵՆԸ ԾԱԽՍԵՐ | G44: =G45 -> 173168.1
F45: ԸՆԹԱՑԻԿ ԾԱԽՍԵՐ | G45: =G46 -> 173168.1
F46: ԴՐԱՄԱՇՆՈՐՀՆԵՐ | G46: =+G47 -> 173168.1
F47: ԿԱՊԻՏԱԼ ԴՐԱՄԱՇՆՈՐՀՆԵՐ ՊԵՏԱԿԱՆ ՀԱՏՎԱԾԻ ԱՅԼ ՄԱԿԱՐԴԱԿՆԵՐԻՆ | G47: =+G48 -> 173168.1
F48: - Կապիտալ դրամաշնորհներ պետական և համայնքային ոչ առևտրային կազմակերպություններին | G48: =+'Հավելված N 3'!G13 -> 173168.1
F49: ՀՀ տարածքային կառավարման և ենթակառուցվածքների նախարարություն | G49: =G51 -> 58760
F50: այդ թվում՝ բյուջետային ծախսերի տնտեսագիտական դասակարգման հոդվածներ
F51: ԸՆԴԱՄԵՆԸ ԾԱԽՍԵՐ | G51: =G52 -> 58760
F52: ԸՆԹԱՑԻԿ ԾԱԽՍԵՐ | G52: =G53 -> 58760
F53: ԴՐԱՄԱՇՆՈՐՀՆԵՐ | G53: =+G54 -> 58760
F54: ԿԱՊԻՏԱԼ ԴՐԱՄԱՇՆՈՐՀՆԵՐ ՊԵՏԱԿԱՆ ՀԱՏՎԱԾԻ ԱՅԼ ՄԱԿԱՐԴԱԿՆԵՐԻՆ | G54: =+G55 -> 58760
F55: - Կապիտալ դրամաշնորհներ պետական և համայնքային ոչ առևտրային կազմակերպություններին | G55: =+'Հավելված N 3'!G21 -> 58760
F56: ՀՀ Արմավիրի մարզպետարան | G56: =G58 -> 69318.8
F57: այդ թվում՝ բյուջետային ծախսերի տնտեսագիտական դասակարգման հոդվածներ
F58: ԸՆԴԱՄԵՆԸ ԾԱԽՍԵՐ | G58: =G59 -> 69318.8
F59: ԸՆԹԱՑԻԿ ԾԱԽՍԵՐ | G59: =G60 -> 69318.8
F60: ԴՐԱՄԱՇՆՈՐՀՆԵՐ | G60: =+G61 -> 69318.8
F61: ԿԱՊԻՏԱԼ ԴՐԱՄԱՇՆՈՐՀՆԵՐ ՊԵՏԱԿԱՆ ՀԱՏՎԱԾԻ ԱՅԼ ՄԱԿԱՐԴԱԿՆԵՐԻՆ | G61: =+G62 -> 69318.8
F62: - Կապիտալ դրամաշնորհներ պետական և համայնքային ոչ առևտրային կազմակերպություններին | G62: =+'Հավելված N 3'!G23 -> 69318.8
F63: ՀՀ Գեղարքունիքի մարզպետարան | G63: =G65 -> 42761.8
F64: այդ թվում՝ բյուջետային ծախսերի տնտեսագիտական դասակարգման հոդվածներ
F65: ԸՆԴԱՄԵՆԸ ԾԱԽՍԵՐ | G65: =G66 -> 42761.8
F66: ԸՆԹԱՑԻԿ ԾԱԽՍԵՐ | G66: =G67 -> 42761.8
F67: ԴՐԱՄԱՇՆՈՐՀՆԵՐ | G67: =+G68 -> 42761.8
F68: ԿԱՊԻՏԱԼ ԴՐԱՄԱՇՆՈՐՀՆԵՐ ՊԵՏԱԿԱՆ ՀԱՏՎԱԾԻ ԱՅԼ ՄԱԿԱՐԴԱԿՆԵՐԻՆ | G68: =+G69 -> 42761.8
F69: - Կապիտալ դրամաշնորհներ պետական և համայնքային ոչ առևտրային կազմակերպություններին | G69: =+'Հավելված N 3'!G26 -> 42761.8
F70: ՀՀ Սյունիքի մարզպետարան | G70: =G72 -> 9822
F71: այդ թվում՝ բյուջետային ծախսերի տնտեսագիտական դասակարգման հոդվածներ
F72: ԸՆԴԱՄԵՆԸ ԾԱԽՍԵՐ | G72: =G73 -> 9822
F73: ԸՆԹԱՑԻԿ ԾԱԽՍԵՐ | G73: =G74 -> 9822
F74: ԴՐԱՄԱՇՆՈՐՀՆԵՐ | G74: =+G75 -> 9822
F75: ԿԱՊԻՏԱԼ ԴՐԱՄԱՇՆՈՐՀՆԵՐ ՊԵՏԱԿԱՆ ՀԱՏՎԱԾԻ ԱՅԼ ՄԱԿԱՐԴԱԿՆԵՐԻՆ | G75: =+G76 -> 9822
F76: - Կապիտալ դրամաշնորհներ պետական և համայնքային ոչ առևտրային կազմակերպություններին | G76: =+'Հավելված N 3'!G29 -> 9822

Sheet Հավելված N 3
F1: Հավելված N 3
F2: ՀՀ կառավարության 2022 թվականի
F3: ______________ ի ___Ն որոշման
A6: ՀԱՅԱՍՏԱՆԻ ՀԱՆՐԱՊԵՏՈՒԹՅԱՆ ԿԱՌԱՎԱՐՈՒԹՅԱՆ 2021 ԹՎԱԿԱՆԻ ԴԵԿՏԵՄԲԵՐԻ 23-Ի N 2121-Ն ՈՐՈՇՄԱՆ N 5 ՀԱՎԵԼՎԱԾԻ N 7 ԱՂՅՈՒՍԱԿՈՒՄ ԿԱՏԱՐՎՈՂ ԼՐԱՑՈՒՄՆԵՐԸ
G7: հազ. դրամներով
A8: Ծրագրային դասիչը | C8: Բյուջետային հատկացումների գլխավոր կարգադրիչների, ծրագրերի, միջոցառումների և միջոցառումները կատարող պետական մարմինների անվանումները | F8: Միջոցառումները կատարող պետական մարմինների և դրամաշնորհ ստացող տնտեսվարող սուբյեկտների անվանումները | G8: Ցուցանիշների փոփոխությունը (ավելացումները նշված են դրական նշանով)
A9: Ծրագիր | B9: Միջոցառում | G9: Տարի
A10: ՀՀ կրթության, գիտության, մշակույթի և սպորտի նախարարություն | G10: =+G11 -> 353830.7
A11: 1183 | B11: Ապահով դպրոց | G11: =+G12 -> 353830.7
B12: 32012 | C12: Հանրակրթական դպրոցների գույքով և տեխնիկայով ապահովում | G12: =+G13+G21+G23+G26+G29 -> 353830.7
F13: ՀՀ կրթության, գիտության, մշակույթի և սպորտի նախարարություն | G13: =+G14+G15+G16+G17+G18+G19+G20 -> 173168.1
F14: «Երևանի Տ. Շևչենկոյի անվան N 42 ավագ դպրոց» ՊՈԱԿ | G14: 66642.1
F15: «Երևանի Ա. Ղարիբյանի անվան N 142 ավագ դպրոց» ՊՈԱԿ | G15: 19675
F16: «Վաղարշապատի Մ. Գորկու անվան N 5 ավագ դպրոց ՊՈԱԿ | G16: 33175.3
F17: «Սևանի Խ. Աբովյանի անվան ավագ դպրոց» ՊՈԱԿ | G17: =13565.7+864 -> 14429.7
F18: «Տաշիրի Արտակ Խաչատրյանի անվան ավագ դպրոց» ՊՈԱԿ | G18: 18049
F19: «Արթիկ քաղաքի թիվ 3 ավագ դպրոց» ՊՈԱԿ | G19: 14242
F20: «Գյումրու Ակադեմիական վարժարան» ՊՈԱԿ | G20: 6955
F21: ՀՀ տարածքային կառավարման և ենթակառուցվածքների նախարարություն | G21: =+G22 -> 58760
F22: «Մ. Խորենացու անվան թիվ 143 հիմնական դպրոց» ՊՈԱԿ | G22: 58760
F23: ՀՀ Արմավիրի մարզպետարան | G23: =+G24+G25 -> 69318.8
F24: «Գետաշենի միջնակարգ դպրոց» ՊՈԱԿ | G24: 55639
F25: «Աղավնատան Ղ. Աբգարյանի անվան միջնակարգ դպրոց» ՊՈԱԿ | G25: 13679.8
F26: ՀՀ Գեղարքունիքի մարզպետարան | G26: =+G27+G28 -> 42761.8
F27: «Ախպրաձոր գյուղի միջնակարգ դպրոց» ՊՈԱԿ | G27: 28968.8
F28: «Մեծ Մասրիկ գյուղի միջնակարգ դպրոց» ՊՈԱԿ | G28: 13793
F29: ՀՀ Սյունիքի մարզպետարան | G29: =+G30 -> 9822
F30: «Սիսիանի թիվ 1 հիմնական դպրոց » ՊՈԱԿ | G30: 9822

Sheet Հավելված N 4
F1: Հավելված N 4
F2: ՀՀ կառավարության 2022 թվականի
F3: ______________ ի ___Ն որոշման
A6: ՀԱՅԱՍՏԱՆԻ ՀԱՆՐԱՊԵՏՈՒԹՅԱՆ ԿԱՌԱՎԱՐՈՒԹՅԱՆ 2021 ԹՎԱԿԱՆԻ ԴԵԿՏԵՄԲԵՐԻ 23-Ի N 2121-Ն ՈՐՈՇՄԱՆ N 8 ՀԱՎԵԼՎԱԾԻ ՑԱՆԿՈՒՄ ԿԱՏԱՐՎՈՂ ԼՐԱՑՈՒՄԸ
A8: ՑԱՆԿ
A10: Գործառական դասիչ | D10: Ծրագրային դասիչը | F10: Բյուջետային հատակացումների գլխավոր կարգադրիչներ, ծրագրերի, միջոցառումների և միջոցառումներն իրականացնող պետական մարմինների անվանումները
A11: Բաժին | B11: Խումբ | C11: Դաս | D11: Ծրագիր | E11: Միջոցառում
A12: 09 | F12: ԿՐԹՈՒԹՅՈՒՆ
B13: 06 | F13: Կրթությանը տրամադրվող օժանդակ ծառայություններ
C14: 01 | F14: Կրթությանը տրամադրվող օժանդակ ծառայություններ
D15: 1183 | F15: Ապահով դպրոց
E16: 32012 | F16: Հանրակրթական դպրոցների գույքով և տեխնիկայով ապահովում

Sheet Հավելված N 5
C1: Հավելված N 5
C2: ՀՀ կառավարության 2022 թվականի
C3: ______________ ի ___Ն որոշման
B5: ՀԱՅԱՍՏԱՆԻ ՀԱՆՐԱՊԵՏՈՒԹՅԱՆ ԿԱՌԱՎԱՐՈՒԹՅԱՆ 2021 ԹՎԱԿԱՆԻ ԴԵԿՏԵՄԲԵՐԻ 23-Ի N 2121-Ն ՈՐՈՇՄԱՆ N 9 ՀԱՎԵԼՎԱԾԻ NN 9.13 ԱՂՅՈՒՍԱԿՈՒՄ ԿԱՏԱՐՎՈՂ ՓՈՓՈԽՈՒԹՅՈՒՆՆԵՐԸ ԵՎ ԼՐԱՑՈՒՄՆԵՐԸ
A7: Աղյուսակ 9․13
C8: ՀՀ կրթության, գիտության, մշակույթի և սպորտի նախարարություն
B9: ՄԱՍ 2. ՊԵՏԱԿԱՆ ՄԱՐՄՆԻ ԳԾՈՎ ԱՐԴՅՈՒՆՔԱՅԻՆ (ԿԱՏԱՐՈՂԱԿԱՆ) ՑՈՒՑԱՆԻՇՆԵՐԸ
B12: Ծրագրի դասիչը | C12: Ծրագրի անվանումը
B13: 1146 | C13: Հանրակրթության ծրագիր
B15: Ծրագրի միջոցառումները
B16: Ծրագրի դասիչը՝ | C16: 1146 | D16: Ցուցանիշների փոփոխությունը (նվազեցումները նշված են փակագծերում)
B17: Միջոցառման դասիչը՝ | C17: 11003 | D17: Տարի
B18: Միջոցառման անվանումը` | C18: Միջնակարգ ընդհանուր հանրակրթություն
B19: Նկարագրությունը` | C19: Պարտադիր կրթության երրորդ մակարդակում սովորողների ընդգրկվածության, գրագիտության և համակողմանի զարգացման բարձր մակարդակի ապահովում
B20: Միջոցառման տեսակը` | C20: Ծառայությունների մատուցում
B21: Ծառայությունը մատուցող կազմակերպության(ների) անվանում(ներ)ը՛ | C21: ՀՀ կրթության, գիտության,մշակույթի և սպորտի նախարարության, ՀՀ մարզպետարանների, Երևանի քաղաքապետարանի ենթակայության ուսումնական հաստատություններ
B22: Արդյունքի չափորոշիչներ
B23: Միջոցառման վրա կատարվող ծախսը (հազար դրամ) | D23: =+'Հավելված N 1'!D23 -> -353830.7
B25: Ծրագրի դասիչը | C25: Ծրագրի անվանումը
B26: 1183 | C26: Ապահով դպրոց
B28: Ծրագրի միջոցառումները
B29: Ծրագրի դասիչը` | C29: 1183 | D29: Ցուցանիշների փոփոխությունը (ավելացումները նշված են դրական նշանով)
B30: Միջոցառման դասիչը` | C30: 32012 | D30: Տարի
B31: Միջոցառման անվանումը` | C31: Հանրակրթական դպրոցների գույքով և տեխնիկայով ապահովում
B32: Նկարագրությունը` | C32: Կրթական ժամանակակից նորմերին համապատասխանող գույքի ձեռքբերում
B33: Միջոցառման տեսակը` | C33: Այլ պետական կազմակերպությունների կողմից օգտագործվող ոչ ֆինանսական ակտիվների հետ գործառնություններ
B34: Ակտիվն օգտագործող կազմակերպությունների անվանումները | C34: Հանրակրթական դպրոցներ
B35: Արդյունքի չափորոշիչներ
B36: Ոչ մոդուլային դպրոցների թիվը, որոնք ապահովվում են գույքով (հատ) | D36: 12
B37: Միջոցառման վրա կատարվող ծախսը (հազար դրամ) | D37: =+'Հավելված N 1'!D36 -> 353830.7

Sheet Հավելված N 6
C1: Հավելված N 6
C2: ՀՀ կառավարության 2022 թվականի
C3: ______________ ի ___Ն որոշման
B6: ՀԱՅԱՍՏԱՆԻ ՀԱՆՐԱՊԵՏՈՒԹՅԱՆ ԿԱՌԱՎԱՐՈՒԹՅԱՆ 2021 ԹՎԱԿԱՆԻ ԴԵԿՏԵՄԲԵՐԻ 23-Ի N 2121-Ն ՈՐՈՇՄԱՆ N 9.1 ՀԱՎԵԼՎԱԾԻ NN 9.1.8, 9.1.14, 9.1.51, 9.1.52 և 9.1.56 ԱՂՅՈՒՍԱԿՆԵՐՈՒՄ ԿԱՏԱՐՎՈՂ ՓՈՓՈԽՈՒԹՅՈՒՆՆԵՐԸ ԵՎ ԼՐԱՑՈՒՄՆԵՐԸ
A8: Աղյուսակ 9․1.8
C9: ՀՀ տարածքային կառավարման և ենթակառուցվածքների նախարարություն
B10: ՄԱՍ 1. ՊԵՏԱԿԱՆ ՄԱՐՄՆԻ ԳԾՈՎ ԱՐԴՅՈՒՆՔԱՅԻՆ (ԿԱՏԱՐՈՂԱԿԱՆ) ՑՈՒՑԱՆԻՇՆԵՐԸ
B13: Ծրագրի դասիչը | C13: Ծրագրի անվանումը
B14: 1183 | C14: Ապահով դպրոց
B16: Ծրագրի միջոցառումները
B17: Ծրագրի դասիչը` | C17: 1183 | D17: Ցուցանիշների փոփոխությունը (ավելացումները նշված են դրական նշանով)
B18: Միջոցառման դասիչը` | C18: 32012 | D18: Տարի
B19: Միջոցառման անվանումը` | C19: Հանրակրթական դպրոցների գույքով և տեխնիկայով ապահովում
B20: Նկարագրությունը` | C20: Կրթական ժամանակակից նորմերին համապատասխանող գույքի ձեռքբերում
B21: Միջոցառման տեսակը` | C21: Այլ պետական կազմակերպությունների կողմից օգտագործվող ոչ ֆինանսական ակտիվների հետ գործառնություններ
B22: Ակտիվն օգտագործող կազմակերպությունների անվանումները | C22: Հանրակրթական դպրոցներ
B23: Արդյունքի չափորոշիչներ
B24: Միջոցառման վրա կատարվող ծախսը (հազար դրամ) | D24: =+'Հավելված N 2'!G49 -> 58760
A29: Աղյուսակ 9․1.14
C30: ՀՀ կրթության, գիտության, մշակույթի և սպորտի նախարարություն
B31: ՄԱՍ 1. ՊԵՏԱԿԱՆ ՄԱՐՄՆԻ ԳԾՈՎ ԱՐԴՅՈՒՆՔԱՅԻՆ (ԿԱՏԱՐՈՂԱԿԱՆ) ՑՈՒՑԱՆԻՇՆԵՐԸ
B34: Ծրագրի դասիչը | C34: Ծրագրի անվանումը
B35: 1146 | C35: Հանրակրթության ծրագիր
B37: Ծրագրի միջոցառումները
B38: Ծրագրի դասիչը՝ | C38: 1146 | D38: Ցուցանիշների փոփոխությունը (նվազեցումները նշված են փակագծերում)
B39: Միջոցառման դասիչը՝ | C39: 11003 | D39: Տարի
B40: Միջոցառման անվանումը` | C40: Միջնակարգ ընդհանուր հանրակրթություն
B41: Նկարագրությունը` | C41: Պարտադիր կրթության երրորդ մակարդակում սովորողների ընդգրկվածության, գրագիտության և համակողմանի զարգացման բարձր մակարդակի ապահովում
B42: Միջոցառման տեսակը` | C42: Ծառայությունների մատուցում
B43: Ծառայությունը մատուցող կազմակերպության(ների) անվանում(ներ)ը՛ | C43: ՀՀ ԿԳՄՍՆ ենթակայության հանրակրթական ուսումնական հաստատություններ
B44: Արդյունքի չափորոշիչներ
B45: Միջոցառման վրա կատարվող ծախսը (հազար դրամ) | D45: =+'Հավելված N 2'!G25 -> -353830.7
B47: Ծրագրի դասիչը | C47: Ծրագրի անվանումը
B48: 1183 | C48: Ապահով դպրոց
B50: Ծրագրի միջոցառումները
B51: Ծրագրի դասիչը` | C51: 1183 | D51: Ցուցանիշների փոփոխությունը (ավելացումները նշված են դրական նշանով)
B52: Միջոցառման դասիչը` | C52: 32012 | D52: Տարի
B53: Միջոցառման անվանումը` | C53: Հանրակրթական դպրոցների գույքով և տեխնիկայով ապահովում
B54: Նկարագրությունը` | C54: Կրթական ժամանակակից նորմերին համապատասխանող գույքի ձեռքբերում
B55: Միջոցառման տեսակը` | C55: Այլ պետական կազմակերպությունների կողմից օգտագործվող ոչ ֆինանսական ակտիվների հետ գործառնություններ
B56: Ակտիվն օգտագործող կազմակերպությունների անվանումները | C56: Հանրակրթական դպրոցներ
B57: Արդյունքի չափորոշիչներ
B58: Ոչ մոդուլային դպրոցների թիվը, որոնք ապահովվում են գույքով (հատ) | D58: 7
B59: Միջոցառման վրա կատարվող ծախսը (հազար դրամ) | D59: =+'Հավելված N 2'!G42 -> 173168.1
A64: Աղյուսակ 9․1.51
C65: ՀՀ Արմավիրի մարզպետարան
B66: ՄԱՍ 1. ՊԵՏԱԿԱՆ ՄԱՐՄՆԻ ԳԾՈՎ ԱՐԴՅՈՒՆՔԱՅԻՆ (ԿԱՏԱՐՈՂԱԿԱՆ) ՑՈՒՑԱՆԻՇՆԵՐԸ
B69: Ծրագրի դասիչը | C69: Ծրագրի անվանումը
B70: 1183 | C70: Ապահով դպրոց
B72: Ծրագրի միջոցառումները
B73: Ծրագրի դասիչը` | C73: 1183 | D73: Ցուցանիշների փոփոխությունը (ավելացումները նշված են դրական նշանով)
B74: Միջոցառման դասիչը` | C74: 32012 | D74: Տարի
B75: Միջոցառման անվանումը` | C75: Հանրակրթական դպրոցների գույքով և տեխնիկայով ապահովում
B76: Նկարագրությունը` | C76: Կրթական ժամանակակից նորմերին համապատասխանող գույքի ձեռքբերում
B77: Միջոցառման տեսակը` | C77: Այլ պետական կազմակերպությունների կողմից օգտագործվող ոչ ֆինանսական ակտիվների հետ գործառնություններ
B78: Ակտիվն օգտագործող կազմակերպությունների անվանումները | C78: Հանրակրթական դպրոցներ
B79: Արդյունքի չափորոշիչներ
B80: Ոչ մոդուլային դպրոցների թիվը, որոնք ապահովվում են գույքով (հատ) | D80: 2
B81: Միջոցառման վրա կատարվող ծախսը (հազար դրամ) | D81: =+'Հավելված N 2'!G56 -> 69318.8
A86: Աղյուսակ 9․1.52
C87: ՀՀ Գեղարքունիքի մարզպետարան
B88: ՄԱՍ 1. ՊԵՏԱԿԱՆ ՄԱՐՄՆԻ ԳԾՈՎ ԱՐԴՅՈՒՆՔԱՅԻՆ (ԿԱՏԱՐՈՂԱԿԱՆ) ՑՈՒՑԱՆԻՇՆԵՐԸ
B91: Ծրագրի դասիչը | C91: Ծրագրի անվանումը
B92: 1183 | C92: Ապահով դպրոց
B94: Ծրագրի միջոցառումները
B95: Ծրագրի դասիչը` | C95: 1183 | D95: Ցուցանիշների փոփոխությունը (ավելացումները նշված են դրական նշանով)
B96: Միջոցառման դասիչը` | C96: 32012 | D96: Տարի
B97: Միջոցառման անվանումը` | C97: Հանրակրթական դպրոցների գույքով և տեխնիկայով ապահովում
B98: Նկարագրությունը` | C98: Կրթական ժամանակակից նորմերին համապատասխանող գույքի ձեռքբերում
B99: Միջոցառման տեսակը` | C99: Այլ պետական կազմակերպությունների կողմից օգտագործվող ոչ ֆինանսական ակտիվների հետ գործառնություններ
B100: Ակտիվն օգտագործող կազմակերպությունների անվանումները | C100: Հանրակրթական դպրոցներ
B101: Արդյունքի չափորոշիչներ
B102: Ոչ մոդուլային դպրոցների թիվը, որոնք ապահովվում են գույքով (հատ) | D102: 2
B103: Միջոցառման վրա կատարվող ծախսը (հազար դրամ) | D103: =+'Հավելված N 2'!G63 -> 42761.8
A108: Աղյուսակ 9․1.56
C109: ՀՀ Սյունիքի մարզպետարան
B110: ՄԱՍ 1. ՊԵՏԱԿԱՆ ՄԱՐՄՆԻ ԳԾՈՎ ԱՐԴՅՈՒՆՔԱՅԻՆ (ԿԱՏԱՐՈՂԱԿԱՆ) ՑՈՒՑԱՆԻՇՆԵՐԸ
B113: Ծրագրի դասիչը | C113: Ծրագրի անվանումը
B114: 1183 | C114: Ապահով դպրոց
B116: Ծրագրի միջոցառումները
B117: Ծրագրի դասիչը` | C117: 1183 | D117: Ցուցանիշների փոփոխությունը (ավելացումները նշված են դրական նշանով)
B118: Միջոցառման դասիչը` | C118: 32012 | D118: Տարի
B119: Միջոցառման անվանումը` | C119: Հանրակրթական դպրոցների գույքով և տեխնիկայով ապահովում
B120: Նկարագրությունը` | C120: Կրթական ժամանակակից նորմերին համապատասխանող գույքի ձեռքբերում
B121: Միջոցառման տեսակը` | C121: Այլ պետական կազմակերպությունների կողմից օգտագործվող ոչ ֆինանսական ակտիվների հետ գործառնություններ
B122: Ակտիվն օգտագործող կազմակերպությունների անվանումները | C122: Հանրակրթական դպրոցներ
B123: Արդյունքի չափորոշիչներ
B124: Ոչ մոդուլային դպրոցների թիվը, որոնք ապահովվում են գույքով (հատ) | D124: 1
B125: Միջոցառման վրա կատարվող ծախսը (հազար դրամ) | D125: =+'Հավելված N 2'!G70 -> 9822
