Workbook
Name AgencyCode: #REF!
Name AgencyCode: #REF!
Name AgencyCode: #REF!
Name AgencyCode: #REF!
Name AgencyCode: #REF!
Name AgencyCode: #REF!
Name AgencyCode: #REF!
Name AgencyCode: #REF!
Name AgencyCode: #REF!
Name AgencyName: #REF!
Name AgencyName: #REF!
Name AgencyName: #REF!
Name AgencyName: #REF!
Name AgencyName: #REF!
Name AgencyName: #REF!
Name åû: #REF!
Name åû: #REF!
Name åû: #REF!
Name åû: #REF!
Name davit: #REF!
Name davit: #REF!
Name davit: #REF!
Name davit: #REF!
Name Functional1: #REF!
Name Functional1: #REF!
Name Functional1: #REF!
Name Functional1: #REF!
Name Functional1: #REF!
Name Functional1: #REF!
Name ggg: #REF!
Name ggg: #REF!
Name ggg: #REF!
Name ggg: #REF!
Name mas: #REF!
Name mas: #REF!
Name mas: #REF!
Name mas: #REF!
Name mass: #REF!
Name mass: #REF!
Name mass: #REF!
Name mass: #REF!
Name PANature: #REF!
Name PANature: #REF!
Name PANature: #REF!
Name PANature: #REF!
Name PANature: #REF!
Name PANature: #REF!
Name PAType: #REF!
Name PAType: #REF!
Name PAType: #REF!
Name PAType: #REF!
Name PAType: #REF!
Name PAType: #REF!
Name Performance2: #REF!
Name Performance2: #REF!
Name Performance2: #REF!
Name Performance2: #REF!
Name Performance2: #REF!
Name Performance2: #REF!
Name PerformanceType: #REF!

Sheet 1.
B1: Հավելված N 1
B2: ՀՀ կառավարության 2022 թվականի
B3: ______________ ի ___Ն որոշման
A5: «ՀԱՅԱՍՏԱՆԻ ՀԱՆՐԱՊԵՏՈՒԹՅԱՆ 2022 ԹՎԱԿԱՆԻ ՊԵՏԱԿԱՆ ԲՅՈՒՋԵԻ ՄԱՍԻՆ» ՕՐԵՆՔԻ N 2 ՀՈԴՎԱԾԻ ԱՂՅՈՒՍԱԿՈՒՄ ԿԱՏԱՐՎՈՂ ՓՈՓՈԽՈՒԹՅՈՒՆՆԵՐԸ
B7: հազար դրամներով
B8: Ցուցանիշների փոփոխությունը (նվազեցումները նշված են փակագծերում)
A9: 1. Եկամուտների գծով | B9: =+'2.'!C12 -> -7249492.9
A10: 2. Ծախսերի գծով | B10: =+'8.'!F11 -> -18750808
A11: 3. Դեֆիցիտը (պակասուրդը) | B11: =-B9+B10 -> -11501315

Sheet 2.
C1: Հավելված N 2
C2: ՀՀ կառավարության 2022 թվականի
C3: ______________ ի ___Ն որոշման
A5: «ՀԱՅԱՍՏԱՆԻ ՀԱՆՐԱՊԵՏՈՒԹՅԱՆ 2022 ԹՎԱԿԱՆԻ ՊԵՏԱԿԱՆ ԲՅՈՒՋԵԻ ՄԱՍԻՆ» ՕՐԵՆՔԻ N 6 ՀՈԴՎԱԾԻ ԱՂՅՈՒՍԱԿՈՒՄ ԵՎ ՀԱՅԱՍՏԱՆԻ ՀԱՆՐԱՊԵՏՈՒԹՅԱՆ ԿԱՌԱՎԱՐՈՒԹՅԱՆ 2021 ԹՎԱԿԱՆԻ ԴԵԿՏԵՄԲԵՐԻ 23-Ի N 2121-Ն ՈՐՈՇՄԱՆ N 2 ՀԱՎԵԼՎԱԾՈՒՄ ԿԱՏԱՐՎՈՂ ՓՈՓՈԽՈՒԹՅՈՒՆՆԵՐԸ
C9: հազար դրամներով
A10: Եկամտատեսակ | B10: Ցուցանիշների փոփոխությունը (նվազեցումները նշված են փակագծերում)
B11: Ինն ամիս | C11: Տարի
A12: ՊԵՏԱԿԱՆ ԲՅՈՒՋԵԻ ԵԿԱՄՈՒՏՆԵՐ | B12: =+B14+B15 -> -5474224.1 | C12: =+C14+C15 -> -7249492.9
A13: այդ թվում`
A14: Հարկային եկամուտներ և պետական տուրքեր | B14: =+'10.'!G11+'11.'!G11 -> 0 | C14: =+'10.'!J11+'11.'!J11 -> 0
A15: Պաշտոնական դրամաշնորհներ | B15: =+'11.'!F11 -> -5474224.1 | C15: =+'11.'!I11 -> -7249492.9

Sheet 3.
C1: Հավելված N 3
C2: ՀՀ կառավարության 2022 թվականի
C3: ______________ ի ___Ն որոշման
A5: ՀԱՅԱՍՏԱՆԻ ՀԱՆՐԱՊԵՏՈՒԹՅԱՆ ԿԱՌԱՎԱՐՈՒԹՅԱՆ 2021 ԹՎԱԿԱՆԻ ԴԵԿՏԵՄԲԵՐԻ 23-Ի N 2121-Ն ՈՐՈՇՄԱՆ N 1 ՀԱՎԵԼՎԱԾԻ N 1 ԱՂՅՈՒՍԱԿՈՒՄ ԿԱՏԱՐՎՈՂ ՓՈՓՈԽՈՒԹՅՈՒՆՆԵՐԸ
C7: հազ. դրամ
A8: Պետական բյուջեի դեֆիցիտի ֆինանսավորման աղբյուրներն ու դրանց տարրերի անվանումները | B8: Ցուցանիշների փոփոխությունը (ավելացումները նշված են դրական նշանով, իսկ նվազեցումները` փակագծերում)
B9: Ինն ամիս | C9: Տարի
A10: ԸՆԴԱՄԵՆԸ | B10: =+B12+B20 -> -11501315 | C10: =+C12+C20 -> -11501315
A11: այդ թվում՝
A12: Ա.Ներքին աղբյուրներ-ընդամենը | B12: =+B14 -> 7835926.2 | C12: =+C14 -> 31766660
A13: այդ թվում՝
A14: 2. Ֆինանսական զուտ ակտիվներ | B14: =+B16+B17 -> 7835926.2 | C14: =+C16+C17 -> 31766660
A15: այդ թվում՝
A16: 2.3. Ելքերի ֆինանսավորմանն ուղղվող միջոցներ | B16: =+'6.'!E9+'5.'!F11 -> -20619365 | C16: =+'6.'!F9+'5.'!I11 -> -27534474
A17: 2.4. Վարկերի և փոխատվությունների տրամադրում | B17: =+B18+B19 -> 28455291 | C17: =+C18+C19 -> 59301134
A18: - Արտաքին աղբյուրների աջակցությամբ իրականացվող նպատակային ծրագրերի շրջանակներում ենթավարկերի տրամադրում այդ ծրագրերում ներգրաված տնտեսվարող սուբյեկտներին | B18: =-'5.'!D11 -> 8955291.4 | C18: =-'5.'!G11 -> 39801134
A19: - Բյուջետային վարկերի տրամադրում տնտեսվարող սուբյեկտներին | B19: =-'6.'!E9 -> 19500000 | C19: =-'6.'!F9 -> 19500000
A20: Բ. Արտաքին աղբյուրներ - ընդամենը | B20: =+B22 -> -19337241 | C20: =+C22 -> -43267975
A21: այդ թվում
A22: 1. Փոխառու զուտ միջոցներ | B22: =+B24 -> -19337241 | C22: =+C24 -> -43267975
A23: այդ թվում՝
A24: 1.1. Վարկերի և փոխատվությունների ստացում | B24: =+B26 -> -19337241 | C24: =+C26 -> -43267975
A25: որից`
A26: նպատակային վարկերի գծով | B26: =+'10.'!F11+'5.'!E11 -> -19337241 | C26: =+'10.'!I11+'5.'!H11 -> -43267975

Sheet 4.
F1: Հավելված N 4
F2: ՀՀ կառավարության 2022 թվականի
F3: ______________ ի ___Ն որոշման
B5: ՀԱՅԱՍՏԱՆԻ ՀԱՆՐԱՊԵՏՈՒԹՅԱՆ ԿԱՌԱՎԱՐՈՒԹՅԱՆ 2021 ԹՎԱԿԱՆԻ ԴԵԿՏԵՄԲԵՐԻ 23-Ի N 2121-Ն ՈՐՈՇՄԱՆ N 1 ՀԱՎԵԼՎԱԾԻ N 2 ԱՂՅՈՒՍԱԿՈՒՄ ԿԱՏԱՐՎՈՂ ՓՈՓՈԽՈՒԹՅՈՒՆՆԵՐԸ
F6: հազ. դրամ
B7: Ծրագրային դասիչ | D7: Բյուջետային գլխավոր կարգադրիչների, ծրագրերի և միջոցառումների անվանումները | E7: Ցուցանիշների փոփոխությունը (նվազեցումները նշված են փակագծերում)
B8: Ծրագիր | C8: Միջոցառում | E8: Ինն ամիս | F8: Տարի
D9: ԸՆԴԱՄԵՆԸ այդ թվում | E9: =+E10 -> -28455291 | F9: =+F10 -> -59301134
D10: ՀՀ տարածքային կառավարման և ենթակառուցվածքների նախարարություն | E10: =+E11+E27+E47 -> -28455291 | F10: =+F11+F27+F47 -> -59301134
B11: 1040 | D11: Ծրագրի անվանումը՝ Կոշտ թափոնների կառավարում | E11: =E15+E19+E23 -> -2598546.3 | F11: =F15+F19+F23 -> -2598546.3
D12: Ծրագրի նպատակը՝ Կենցաղային թափոնների արդյունավետ կառավարում սոցիալական և բնապահպանական խնդիրների լուծում
D13: Վերջնական արդյունքի նկարագրությունը՝ Կենցաղային թափոնների արդյունավետ կառավարում
B14: Ֆինանսական ակտիվների կառավարման միջոցառումներ
C15: 42001 | D15: Միջոցառման անվանումը՝ Վերակառուցման և զարգացման եվրոպական բանկի աջակցությամբ իրականացվող Կոտայքի և Գեղարքունիքի մարզերի կոշտ թափոնների կառավարման ծրագրի շրջանակներում ենթավարկի տրամադրում «Կոտայքի և Գեղարքունիքի Կոշտ կենցաղային թափոնների կառավարում» ՍՊԸ-ին | E15: ='5.'!D16 -> -1001008.1 | F15: ='5.'!G16 -> -1001008.1
D16: Միջոցառման նկարագրությունը՝ Կոշտ թափոնների կառավարման համակարգի բարելավում և նոր աղբավայրի ստեղծում
D17: Միջոցառման տեսակը՝
D18: Վարկերի տրամադրում
C19: 42002 | D19: Միջոցառման անվանումը՝ Վերակառուցման և զարգացման եվրոպական բանկի աջակցությամբ իրականացվող Երևանի կոշտ թափոնների կառավարման ծրագրի շրջանակներում ենթավարկի տրամադրում «Երևանի քաղաքային նոր աղբավայր» ՓԲԸ-ին | E19: ='5.'!D24 -> -798769.1 | F19: ='5.'!G24 -> -798769.1
D20: Միջոցառման նկարագրությունը՝ Կոշտ թափոնների կառավարման համակարգի բարելավում և նոր աղբավայրի ստեղծում
D21: Միջոցառման տեսակը՝
D22: Վարկերի տրամադրում
C23: 42003 | D23: Միջոցառման անվանումը՝ Եվրոպական ներդրումային բանկի աջակցությամբ իրականացվող Երևանի կոշտ թափոնների կառավարման ծրագրի շրջանակներում ենթավարկի տրամադրում «Երևանի քաղաքային նոր աղբավայր» ՓԲԸ-ին | E23: ='5.'!D32 -> -798769.1 | F23: ='5.'!G32 -> -798769.1
D24: Միջոցառման նկարագրությունը՝ Կոշտ թափոնների կառավարման համակարգի բարելավում և նոր աղբավայրի ստեղծում
D25: Միջոցառման տեսակը՝
D26: Վարկերի տրամադրում
B27: 1157 | D27: Ծրագրի անվանումը՝ Քաղաքային զարգացում | E27: =E35+E39+E43+E31 -> -3874305.9 | F27: =F35+F39+F43+F31 -> -10419004
D28: Ծրագրի նպատակը՝ Քաղաքային ենթակառուցվածքների զարգացում
D29: Վերջնական արդյունքի նկարագրությունը՝ Քաղաքային ենթակառուցվածքների արդիականացում և բարելավում
B30: Ֆինանսական ակտիվների կառավարման միջոցառումներ
C31: 42001 | D31: Միջոցառման անվանումը՝ Վերակառուցման և զարգացման եվրոպական բանկի աջակցությամբ իրականացվող Երևանի քաղաքային լուսավորության ծրագրի շրջանակներում ենթավարկի տրամադրում «Երքաղլույս» ՓԲԸ-ին | E31: ='5.'!D41 -> -825228.8 | F31: ='5.'!G41 -> -825228.8
D32: Միջոցառման նկարագրությունը՝ ՀՀ համայնքներին քաղաքային լուսավորության ենթակառուցվածքի բարելավման համար տրամադրվող աջակցություն և ծառայություն
D33: Միջոցառման տեսակը՝
D34: Վարկերի տրամադրում
C35: 42002 | D35: Միջոցառման անվանումը՝ Վերակառուցման և զարգացման եվրոպական բանկի աջակցությամբ իրականացվող Երևանի մետրոպոլիտենի վերակառուցման երկրորդ ծրագրի շրջանակներում ենթավարկի տրամադրում «Երևանի մետրոպոլիտեն» ՓԲԸ-ին | E35: ='5.'!D49 -> -50283.9 | F35: ='5.'!G49 -> -50283.9
D36: Միջոցառման նկարագրությունը՝ Երևանի մետրոպոլիտենի վերակառուցում
D37: Միջոցառման տեսակը՝
D38: Վարկերի տրամադրում
C39: 42003 | D39: Միջոցառման անվանումը՝ Եվրոպական ներդրումային բանկի աջակցությամբ իրականացվող Երևանի մետրոպոլիտենի վերակառուցման երկրորդ ծրագրի շրջանակներում ենթավարկի տրամադրում «Երևանի մետրոպոլիտեն» ՓԲԸ-ին | E39: ='5.'!D57 -> -451473.2 | F39: ='5.'!G59 -> -708770.8
D40: Միջոցառման նկարագրությունը՝ Երևանի մետրոպոլիտենի վերակառուցում
D41: Միջոցառման տեսակը՝
...

Sheet 5.
I1: Հավելված N 5
I2: ՀՀ կառավարության 2022 թվականի
I3: ______________ ի ___Ն որոշման
A5: ՀԱՅԱՍՏԱՆԻ ՀԱՆՐԱՊԵՏՈՒԹՅԱՆ ԿԱՌԱՎԱՐՈՒԹՅԱՆ 2021 ԹՎԱԿԱՆԻ ԴԵԿՏԵՄԲԵՐԻ 23-Ի N 2121-Ն ՈՐՈՇՄԱՆ N 1 ՀԱՎԵԼՎԱԾԻ N 3 ԱՂՅՈՒՍԱԿՈՒՄ ԿԱՏԱՐՎՈՂ ՓՈՓՈԽՈՒԹՅՈՒՆՆԵՐԸ
I6: հազ. դրամ
A7: Ծրագրային դասիչ | C7: Բյուջետային գլխավոր կարգադրիչների, ծրագրերի և միջոցառումների անվանումները | D7: Ցուցանիշների փոփոխությունը (նվազեցումները նշված են փակագծերում)
D8: Ինն ամիս | G8: Տարի
D9: Ընդամենը | E9: այդ թվում | G9: Ընդամենը | H9: այդ թվում
A10: Ծրագիր | B10: Միջոցառում | E10: Վարկային միջոցներ | F10: Համաֆինանսավորում | H10: Վարկային միջոցներ | I10: Համաֆինանսավորում
C11: ԸՆԴԱՄԵՆԸ | D11: =D13 -> -8955291.4 | E11: =E13 -> -7835926.2 | F11: =F13 -> -1119365.2 | G11: =G13 -> -39801134 | H11: =H13 -> -31766660 | I11: =I13 -> -8034473.5
C12: այդ թվում՝
C13: ՀՀ ՏԱՐԱԾՔԱՅԻՆ ԿԱՌԱՎԱՐՄԱՆ ԵՎ ԵՆԹԱԿԱՌՈՒՑՎԱԾՔՆԵՐԻ ՆԱԽԱՐԱՐՈՒԹՅՈՒՆ | D13: =D14+D40+D73 -> -8955291.4 | E13: =E14+E40+E73 -> -7835926.2 | F13: =F14+F40+F73 -> -1119365.2 | G13: =G14+G40+G73 -> -39801134 | H13: =H14+H40+H73 -> -31766660 | I13: =I14+I40+I73 -> -8034473.5
A14: 1040 | C14: Կոշտ թափոնների կառավարում | D14: =D16+D24+D32 -> -2598546.3 | E14: =E16+E24+E32 -> -2170640.3 | F14: =F16+F24+F32 -> -427906 | G14: =G16+G24+G32 -> -2598546.3 | H14: =H16+H24+H32 -> -2170640.3 | I14: =I16+I24+I32 -> -427906
C15: այդ թվում`
B16: 42001 | C16: Վերակառուցման և զարգացման եվրոպական բանկի աջակցությամբ իրականացվող Կոտայքի և Գեղարքունիքի մարզերի կոշտ թափոնների կառավարման ծրագրի շրջանակներում ենթավարկի տրամադրում «Կոտայքի և Գեղարքունիքի Կոշտ կենցաղային թափոնների կառավարում» ՍՊԸ-ին | D16: =D18 -> -1001008.1 | E16: =E18 -> -839358.5 | F16: =F18 -> -161649.6 | G16: =G18 -> -1001008.1 | H16: =H18 -> -839358.5 | I16: =I18 -> -161649.6
C17: այդ թվում՝ ըստ կատարողների
C18: ՀՀ տարածքային կառավարման և ենթակառուցվածքների նախարարություն | D18: =D20 -> -1001008.1 | E18: =E20 -> -839358.5 | F18: =F20 -> -161649.6 | G18: =G20 -> -1001008.1 | H18: =H20 -> -839358.5 | I18: =I20 -> -161649.6
C19: այդ թվում՝ ըստ տնտեսագիտական դասակարգման հոդվածների՝
C20: ՀԻՄՆԱԿԱՆ ԳՈՒՄԱՐԻ ՄԱՐՄԱՆ ԵՎ ՖԻՆԱՆՍԱԿԱՆ ԱԿՏԻՎՆԵՐԻ ՁԵՌՔԲԵՐՄԱՆ ԳԾՈՎ ԾԱԽՍԵՐ, այդ թվում` | D20: =D21 -> -1001008.1 | E20: =E21 -> -839358.5 | F20: =F21 -> -161649.6 | G20: =G21 -> -1001008.1 | H20: =H21 -> -839358.5 | I20: =I21 -> -161649.6
C21: ՖԻՆԱՆՍԱԿԱՆ ԱԿՏԻՎՆԵՐԻ ՁԵՌՔԲԵՐՈՒՄ, այդ թվում | D21: =D22 -> -1001008.1 | E21: =E22 -> -839358.5 | F21: =F22 -> -161649.6 | G21: =G22 -> -1001008.1 | H21: =H22 -> -839358.5 | I21: =I22 -> -161649.6
C22: ՆԵՐՔԻՆ ՖԻՆԱՆՍԱԿԱՆ ԱԿՏԻՎՆԵՐԻ ՁԵՌՔԲԵՐՈՒՄ, այդ թվում` | D22: =D23 -> -1001008.1 | E22: =E23 -> -839358.5 | F22: =F23 -> -161649.6 | G22: =G23 -> -1001008.1 | H22: =H23 -> -839358.5 | I22: =I23 -> -161649.6
C23: Ներքին վարկեր և փոխատվություններ | D23: =E23+F23 -> -1001008.1 | E23: -839358.5 | F23: -161649.6 | G23: =H23+I23 -> -1001008.1 | H23: =E23 -> -839358.5 | I23: =F23 -> -161649.6
B24: 42002 | C24: Վերակառուցման և զարգացման եվրոպական բանկի աջակցությամբ իրականացվող Երևանի կոշտ թափոնների կառավարման ծրագրի շրջանակներում ենթավարկի տրամադրում «Երևանի քաղաքային նոր աղբավայր» ՓԲԸ-ին | D24: =D26 -> -798769.1 | E24: =E26 -> -665640.9 | F24: =F26 -> -133128.2 | G24: =G26 -> -798769.1 | H24: =H26 -> -665640.9 | I24: =I26 -> -133128.2
C25: այդ թվում՝ ըստ կատարողների
C26: ՀՀ տարածքային կառավարման և ենթակառուցվածքների նախարարություն | D26: =D28 -> -798769.1 | E26: =E28 -> -665640.9 | F26: =F28 -> -133128.2 | G26: =G28 -> -798769.1 | H26: =H28 -> -665640.9 | I26: =I28 -> -133128.2
C27: այդ թվում՝ ըստ տնտեսագիտական դասակարգման հոդվածների՝
C28: ՀԻՄՆԱԿԱՆ ԳՈՒՄԱՐԻ ՄԱՐՄԱՆ ԵՎ ՖԻՆԱՆՍԱԿԱՆ ԱԿՏԻՎՆԵՐԻ ՁԵՌՔԲԵՐՄԱՆ ԳԾՈՎ ԾԱԽՍԵՐ, այդ թվում` | D28: =D29 -> -798769.1 | E28: =E29 -> -665640.9 | F28: =F29 -> -133128.2 | G28: =G29 -> -798769.1 | H28: =H29 -> -665640.9 | I28: =I29 -> -133128.2
C29: ՖԻՆԱՆՍԱԿԱՆ ԱԿՏԻՎՆԵՐԻ ՁԵՌՔԲԵՐՈՒՄ, այդ թվում | D29: =D30 -> -798769.1 | E29: =E30 -> -665640.9 | F29: =F30 -> -133128.2 | G29: =G30 -> -798769.1 | H29: =H30 -> -665640.9 | I29: =I30 -> -133128.2
C30: ՆԵՐՔԻՆ ՖԻՆԱՆՍԱԿԱՆ ԱԿՏԻՎՆԵՐԻ ՁԵՌՔԲԵՐՈՒՄ, այդ թվում` | D30: =D31 -> -798769.1 | E30: =E31 -> -665640.9 | F30: =F31 -> -133128.2 | G30: =G31 -> -798769.1 | H30: =H31 -> -665640.9 | I30: =I31 -> -133128.2
C31: Ներքին վարկեր և փոխատվություններ | D31: =E31+F31 -> -798769.1 | E31: -665640.9 | F31: -133128.2 | G31: =H31+I31 -> -798769.1 | H31: -665640.9 | I31: -133128.2
B32: 42003 | C32: Եվրոպական ներդրումային բանկի աջակցությամբ իրականացվող Երևանի կոշտ թափոնների կառավարման ծրագրի շրջանակներում ենթավարկի տրամադրում «Երևանի քաղաքային նոր աղբավայր» ՓԲԸ-ին | D32: =D34 -> -798769.1 | E32: =E34 -> -665640.9 | F32: =F34 -> -133128.2 | G32: =G34 -> -798769.1 | H32: =H34 -> -665640.9 | I32: =I34 -> -133128.2
C33: այդ թվում՝ ըստ կատարողների
C34: ՀՀ տարածքային կառավարման և ենթակառուցվածքների նախարարություն | D34: =D36 -> -798769.1 | E34: =E36 -> -665640.9 | F34: =F36 -> -133128.2 | G34: =G36 -> -798769.1 | H34: =H36 -> -665640.9 | I34: =I36 -> -133128.2
C35: այդ թվում՝ ըստ տնտեսագիտական դասակարգման հոդվածների՝
C36: ՀԻՄՆԱԿԱՆ ԳՈՒՄԱՐԻ ՄԱՐՄԱՆ ԵՎ ՖԻՆԱՆՍԱԿԱՆ ԱԿՏԻՎՆԵՐԻ ՁԵՌՔԲԵՐՄԱՆ ԳԾՈՎ ԾԱԽՍԵՐ, այդ թվում` | D36: =D37 -> -798769.1 | E36: =E37 -> -665640.9 | F36: =F37 -> -133128.2 | G36: =G37 -> -798769.1 | H36: =H37 -> -665640.9 | I36: =I37 -> -133128.2
C37: ՖԻՆԱՆՍԱԿԱՆ ԱԿՏԻՎՆԵՐԻ ՁԵՌՔԲԵՐՈՒՄ, այդ թվում | D37: =D38 -> -798769.1 | E37: =E38 -> -665640.9 | F37: =F38 -> -133128.2 | G37: =G38 -> -798769.1 | H37: =H38 -> -665640.9 | I37: =I38 -> -133128.2
C38: ՆԵՐՔԻՆ ՖԻՆԱՆՍԱԿԱՆ ԱԿՏԻՎՆԵՐԻ ՁԵՌՔԲԵՐՈՒՄ, այդ թվում` | D38: =D39 -> -798769.1 | E38: =E39 -> -665640.9 | F38: =F39 -> -133128.2 | G38: =G39 -> -798769.1 | H38: =H39 -> -665640.9 | I38: =I39 -> -133128.2
C39: Ներքին վարկեր և փոխատվություններ | D39: =E39+F39 -> -798769.1 | E39: -665640.9 | F39: -133128.2 | G39: =H39+I39 -> -798769.1 | H39: -665640.9 | I39: -133128.2
A40: 1157 | C40: Քաղաքային զարգացում | D40: =E40+F40 -> -3874305.9 | E40: =E49+E57+E65+E41 -> -3620506.3 | F40: =F49+F57+F65+F41 -> -253799.6 | G40: =H40+I40 -> -10419004 | H40: =H49+H57+H65+H41 -> -10122321 | I40: =I49+I57+I65+I41 -> -296682.6
B41: 42001 | C41: Վերակառուցման և զարգացման եվրոպական բանկի աջակցությամբ իրականացվող Երևանի քաղաքային լուսավորության ծրագրի շրջանակներում ենթավարկի տրամադրում «Երքաղլույս» ՓԲԸ-ին | D41: =D43 -> -825228.8 | E41: =E43 -> -661948.4 | F41: =F43 -> -163280.4 | G41: =G43 -> -825228.8 | H41: =H43 -> -661948.4 | I41: =I43 -> -163280.4
...

Sheet 6.
F1: Հավելված N 6
F2: ՀՀ կառավարության 2022 թվականի
F3: ______________ ի ___Ն որոշման
B5: ՀԱՅԱՍՏԱՆԻ ՀԱՆՐԱՊԵՏՈՒԹՅԱՆ ԿԱՌԱՎԱՐՈՒԹՅԱՆ 2021 ԹՎԱԿԱՆԻ ԴԵԿՏԵՄԲԵՐԻ 23-Ի N 2121-Ն ՈՐՈՇՄԱՆ N 1 ՀԱՎԵԼՎԱԾԻ N 4 ԱՂՅՈՒՍԱԿՈՒՄ ԿԱՏԱՐՎՈՂ ՓՈՓՈԽՈՒԹՅՈՒՆՆԵՐԸ
F6: հազ. դրամ
B7: Ծրագրային դասիչ | D7: Պետական բյուջեի դեֆիցիտի ֆինանսավորման աղբյուրներն ու դրանց տարրերի անվանումները | E7: Ցուցանիշների փոփոխությունը (նվազեցումները նշված են փակագծերում)
E8: Ինն ամիս | F8: Տարի
B9: Ծրագիր | C9: Միջոցառում | D9: ԸՆԴԱՄԵՆԸ | E9: =+E11 -> -19500000 | F9: =+F11 -> -19500000
D10: այդ թվում՝
D11: ՀՀ տարածքային կառավարման և ենթակառուցվածքների նախարարություն | E11: =+E12 -> -19500000 | F11: =+F12 -> -19500000
B12: 1167 | D12: Էլեկտրաէներգետիկ համակարգի զարգացման ծրագիր | E12: =+E13 -> -19500000 | F12: =+F13 -> -19500000
C13: 42009 | D13: «Հայկական ատոմային էլեկտրակայան» ՓԲԸ-ին տրամադրվող բյուջետային վարկ | E13: =+E17 -> -19500000 | F13: =+F17 -> -19500000
D14: այդ թվում՝ ըստ կատարողների
D15: ՀՀ ֆինանսների նախարարություն | E15: =+E13 -> -19500000 | F15: =+F13 -> -19500000
D16: այդ թվում՝ ըստ տնտեսագիտական դասակարգման հոդվածների՝
D17: ՀԻՄՆԱԿԱՆ ԳՈՒՄԱՐԻ ՄԱՐՄԱՆ ԵՎ ՖԻՆԱՆՍԱԿԱՆ ԱԿՏԻՎՆԵՐԻ ՁԵՌՔԲԵՐՄԱՆ ԳԾՈՎ ԾԱԽՍԵՐ, այդ թվում` | E17: =+E18 -> -19500000 | F17: =+F18 -> -19500000
D18: ՖԻՆԱՆՍԱԿԱՆ ԱԿՏԻՎՆԵՐԻ ՁԵՌՔԲԵՐՈՒՄ, այդ թվում | E18: =+E19 -> -19500000 | F18: =+F19 -> -19500000
D19: ՆԵՐՔԻՆ ՖԻՆԱՆՍԱԿԱՆ ԱԿՏԻՎՆԵՐԻ ՁԵՌՔԲԵՐՈՒՄ, այդ թվում` | E19: =+E20 -> -19500000 | F19: =+F20 -> -19500000
D20: Ներքին վարկեր և փոխատվություններ | E20: -19500000 | F20: -19500000

Sheet 7.
D1: Հավելված N 7
D2: ՀՀ կառավարության 2022 թվականի
D3: ______________ ի ___Ն որոշման
A4: ՀԱՅԱՍՏԱՆԻ ՀԱՆՐԱՊԵՏՈՒԹՅԱՆ ԿԱՌԱՎԱՐՈՒԹՅԱՆ 2021 ԹՎԱԿԱՆԻ ԴԵԿՏԵՄԲԵՐԻ 23-Ի N 2121-Ն ՈՐՈՇՄԱՆ N 1 ՀԱՎԵԼՎԱԾԻ N 5 ԱՂՅՈՒՍԱԿՈՒՄ ԿԱՏԱՐՎՈՂ ՓՈՓՈԽՈՒԹՅՈՒՆՆԵՐԸ
A6: Ծրագրի դասիչը | B6: Ծրագրի անվանումը
A7: 1040 | B7: Կոշտ թափոնների կառավարում
A8: Ծրագրի միջոցառումները
A10: Ծրագրի դասիչը՝ | B10: 1040 | C10: Ցուցանիշների փոփոխությունը (նվազեցումները նշված են փակագծերում)
A11: Միջոցառման դասիչը՝ | B11: 42001 | C11: Ինն ամիս | D11: Տարի
A12: Միջոցառման անվանումը՝ | B12: Վերակառուցման և զարգացման եվրոպական բանկի աջակցությամբ իրականացվող «Կոտայքի և Գեղարքունիքի մարզերի կոշտ թափոնների կառավարման» ծրագիր
A13: Նկարագրությունը՝ | B13: Կոշտ թափոննրի կառավարման համակարգի բարելավում և նոր աղբավայրի ստեղծում_x000D_
A14: Միջոցառման տեսակը՝ | B14: Վարկերի տրամադրում
A15: Միջոցառումն իրականացնողի անվանումը՝ | B15: Մասնագիտացված միավոր
B16: Արդյունքի չափորոշիչներ
A17: Միջոցառման վրա կատարվող ծախսը (հազար դրամ) | C17: ='5.'!D16 -> -1001008.1 | D17: ='5.'!G16 -> -1001008.1
A19: Ծրագրի դասիչը՝ | B19: 1040 | C19: Ցուցանիշների փոփոխությունը (նվազեցումները նշված են փակագծերում)
A20: Միջոցառման դասիչը՝ | B20: 42002 | C20: Ինն ամիս | D20: Տարի
A21: Միջոցառման անվանումը՝ | B21: Վերակառուցման և զարգացման եվրոպական բանկի աջակցությամբ իրականացվող «Երևանի կոշտ թափոնների կառավարման» ծրագիր
A22: Նկարագրությունը՝ | B22: Կոշտ թափոննրի կառավարման համակարգի բարելավում և նոր աղբավայրի ստեղծում_x000D_
A23: Միջոցառման տեսակը՝ | B23: Վարկերի տրամադրում
A24: Միջոցառումն իրականացնողի անվանումը՝ | B24: Մասնագիտացված միավոր
B25: Արդյունքի չափորոշիչներ
A26: Քանակական | B26: Եվրոպական չափորոշիչներով 29 հա տարածքում նոր քաղաքային աղբավայրի կառուցում, տոկոս | C26: 0 | D26: -40
A27: Քանակական | B27: Գործող թվով 2 աղբանոցների (Նուբարաշեն և Աջափնյակ) մեկուսացման վերջնական նախագիծ, հատ | C27: 0 | D27: -2
A28: Քանակական | B28: Քաղաքային նոր աղբավայրի կառուցման վերջնական նախագիծ, հատ | C28: 0 | D28: -1
A29: Որակական | B29: Աղբանոցներում առաջացող գազերի բռնկման հնարավորության նվազեցում, տոկոս | C29: 0 | D29: -80
A30: Որակական | B30: Աղբահանություն իրականացնող կազմակերպությունների մեքենաների համար աղբի տեղադրման հնարավորությունների ստեղծում, մեք/օր | C30: 0 | D30: -150
A31: Որակական | B31: Շրջական միջավայրը աղտոտող աղբից առաջացող ստորգետնյա ջրերի ծավալի կրճատում, տոկոս | C31: 0 | D31: -80
A32: Միջոցառման վրա կատարվող ծախսը (հազար դրամ) | C32: ='5.'!D24 -> -798769.1 | D32: ='5.'!G24 -> -798769.1
A34: Ծրագրի դասիչը՝ | B34: 1040 | C34: Ցուցանիշների փոփոխությունը (նվազեցումները նշված են փակագծերում)
A35: Միջոցառման դասիչը՝ | B35: 42003 | C35: Ինն ամիս | D35: Տարի
A36: Միջոցառման անվանումը՝ | B36: Եվրոպական ներդրումային բանկի աջակցությամբ իրականացվող «Երևանի կոշտ թափոնների կառավարման» ծրագիր
A37: Նկարագրությունը՝ | B37: Կոշտ թափոննրի կառավարման համակարգի բարելավում և նոր աղբավայրի ստեղծում_x000D_
A38: Միջոցառման տեսակը՝ | B38: Վարկերի տրամադրում
A39: Միջոցառումն իրականացնողի անվանումը՝ | B39: Մասնագիտացված միավոր
B40: Արդյունքի չափորոշիչներ
A41: Քանակական | B41: Եվրոպական չափորոշիչներով 29 հա տարածքում նոր քաղաքային աղբավայրի կառուցում, տոկոս | C41: 0 | D41: -40
A42: Քանակական | B42: Գործող թվով 2 աղբանոցների(Նուբարաշեն և Աջափնյակ) մեկուսացման վերջնական նախագիծ, հատ | C42: 0 | D42: -2
A43: Քանակական | B43: Քաղաքային նոր աղբավայրի կառուցման վերջնական նախագիծ, հատ | C43: 0 | D43: -1
A44: Որակական | B44: Աղբանոցներում առաջացող գազերի բռնկման հնարավորության նվազեցում, տոկոս | C44: 0 | D44: -80
...

Sheet 8.
F1: Հավելված N8
F2: ՀՀ կառավարության 2022 թվականի
F3: ______________ ի ___Ն որոշման
B5: «ՀԱՅԱUՏԱՆԻ ՀԱՆՐԱՊԵՏՈՒԹՅԱՆ 2022 ԹՎԱԿԱՆԻ ՊԵՏԱԿԱՆ ԲՅՈՒՋԵԻ ՄԱUԻՆ» OՐԵՆՔԻ N 1 ՀԱՎԵԼՎԱԾԻ N 2 ԱՂՅՈՒՍԱԿՈՒՄ ԿԱՏԱՐՎՈՂ ՎԵՐԱԲԱՇԽՈՒՄԸ ԵՎ ՀԱՅԱՍՏԱՆԻ ՀԱՆՐԱՊԵՏՈՒԹՅԱՆ ԿԱՌԱՎԱՐՈՒԹՅԱՆ 2021 ԹՎԱԿԱՆԻ ԴԵԿՏԵՄԲԵՐԻ 23-Ի N 2121-Ն ՈՐՈՇՄԱՆ N 5 ՀԱՎԵԼՎԱԾԻ N 1 ԱՂՅՈՒՍԱԿՈՒՄ ԿԱՏԱՐՎՈՂ ՓՈՓՈԽՈՒԹՅՈՒՆՆԵՐԸ ԵՎ ԼՐԱՑՈՒՄՆԵՐԸ
F6: հազ. դրամ
B7: Ծրագրային դասիչը | D7: Բյուջետային հատկացումների գլխավոր կարգադրիչների, ծրագրերի և միջոցառումների անվանումները | E7: Ցուցանիշների փոփոխությունը (ավելացումները նշված են դրական նշանով, իսկ նվազեցումները` փակագծերում)
B8: Ծրագիր | C8: Միջոցառում | E8: Ինն ամիս | F8: Տարի
B9: 1192 | D9: ԸՆԴԱՄԵՆԸ | E9: =+E11 -> -16975539 | F9: =+F11 -> -18750808 | G9: =+F9-'9.'!I10 -> 0 | H9: =+E9-'9.'!H10 -> 0
D10: այդ թվում
D11: ՀՀ տարածքային կառավարման և ենթակառուցվածքների նախարարություն | E11: =+E208+E12+E43+E165+E80 -> -16975539 | F11: =+F208+F12+F43+F165+F80 -> -18750808
B12: 1004 | D12: Ծրագրի անվանումը` | E12: =+E19+E25+E31+E37 -> -6920882.4 | F12: =+F19+F25+F31+F37 -> -6955544.8
D13: Ոռոգման համակարգի առողջացում
D14: Ծրագրի նպատակը`
D15: Ոռոգման ծառայությունների հասանելիության և մատչելիության ապահովում
D16: Վերջնական արդյունքի նկարագրությունը`
D17: Ոռոգման ջրի մատակարարման արդյունավետության և հասանելիության բարելավում, կորուստների կրճատում
D18: Ծրագրի միջոցառումներ
C19: 11009 | D19: Միջոցառման անվանումը` | E19: ='11.'!E18 -> -16951.6 | F19: ='11.'!H18 -> -16951.6
D20: Գերմանիայի զարգացման վարկերի բանկի աջակցությամբ իրականացվող Ախուրյան գետի ջրային ռեսուրսների ինտեգրացված կառավարման դրամաշնորհային ծրագիր
D21: Միջոցառման նկարագրությունը`
D22: Գերմանիայի զարգացման վարկերի բանկի աջակցությամբ իրականացվող Ախուրյան գետի ջրային ռեսուրսների ինտեգրացված կառավարման դրամաշնորհային ծրագրի համակարգում և ղեկավարում
D23: Միջոցառման տեսակը
D24: Ծառայությունների մատուցում
C25: 11011 | D25: Միջոցառման անվանումը` | E25: ='11.'!E26 -> -103987.5 | F25: ='11.'!H26 -> -138649.9
D26: Զարգացման ֆրանսիական գործակալության աջակցությամբ իրականացվող ոռոգման ոլորտի ֆինանսական կայունության և ոռոգման կառավարման կարողությունների բարելավման դրամաշնորհային ծրագրի խորհրդատվություն և կառավարում
D27: Միջոցառման նկարագրությունը`
D28: Զարգացման ֆրանսիական գործակալության աջակցությամբ իրականացվող ոռոգման ոլորտի ֆինանսական կայունության և ոռոգման կառավարման կարողությունն»րի բար»լավման ծրագրի համակարգում և ղ»կավարում
D29: Միջոցառման տեսակը
D30: Ծառայությունների մատուցում
C31: 11012 | D31: Միջոցառման անվանումը` | E31: ='11.'!E34 -> -7943.3 | F31: ='11.'!H34 -> -7943.3
D32: Ֆրանսիայի Հանրապետության կառավարության աջակցությամբ իրականացվող՛ Վեդու ջրամբարի կառուցման դրամաշնորհային ծրագիր
D33: Միջոցառման նկարագրությունը`
D34: Ֆրանսիայի Հանրապետության կառավարության աջակցությամբ իրականացվող՛ Վեդու ջրամբարի կառուցման դրամաշնորհային ծրագրի համակարգում և ղեկավարում
D35: Միջոցառման տեսակը
D36: Ծառայությունների մատուցում
C37: 31004 | D37: Միջոցառման անվանումը` | E37: ='10.'!E17 -> -6792000 | F37: ='10.'!H17 -> -6792000
D38: Գերմանիայի զարգացման վարկերի բանկի աջակցությամբ իրականացվող Ախուրյան գետի ջրային ռեսուրսների ինտեգրված կառավարման ծրագրի շրջանակներում ջրային տնտեսության ենթակառուցվածքների հիմնանորոգում
D39: Միջոցառման նկարագրությունը`
D40: Գերմանիայի զարգացման վարկերի բանկի աջակցությամբ իրականացվող Ախուրյան գետի ջրային ռեսուրսների ինտեգրված կառավարման ծրագիր
D41: Միջոցառման տեսակը
...

Sheet 3-1
B1: Հավելված N3
B2: ՀՀ կառավարության 2022 թվականի
B3: ______________ ի ___Ն որոշման
B5: ՀԱՅԱՍՏԱՆԻ ՀԱՆՐԱՊԵՏՈՒԹՅԱՆ ԿԱՌԱՎԱՐՈՒԹՅԱՆ 2021 ԹՎԱԿԱՆԻ ԴԵԿՏԵՄԲԵՐԻ 23-Ի N 2121-Ն ՈՐՈՇՄԱՆ N 3 ԵՎ N 4 ՀԱՎԵԼՎԱԾՆԵՐՈՒՄ ԿԱՏԱՐՎՈՂ ՓՈՓՈԽՈՒԹՅՈՒՆՆԵՐԸ ԵՎ ԼՐԱՑՈՒՄՆԵՐԸ
H7: հազ. դրամ
B8: Գործառական դասիչը | E8: Ծրագրային դասիչը | G8: Բյուջետային ծախսերի գործառական դասակարգման բաժինների, խմբերի և դասերի, բյուջետային հատկացումների գլխավոր կարգադրիչների, ծրագրերի, միջոցառումների և միջոցառումները կատարող պետական մարմինների անվանումները | H8: Ցուցանիշների փոփոխությունը (ավելացումները նշված են դրական նշանով, իսկ նվազեցումները` փակագծերում)
B9: Բաժին | C9: Խումբ | D9: Դաս | E9: Ծրագիր | F9: Միջոցառում | H9: Ինն ամիս | I9: Տարի
G10: ԸՆԴԱՄԵՆԸ ԾԱԽՍԵՐ | H10: =+H12+H13 -> 14976.427 | I10: =+I12+I13 -> -363431.87
G11: այդ թվում`
B12: 04 | C12: 03 | D12: 05 | E12: 1167 | F12: 11006 | G12: Գերմանիայի զարգացման վարկերի բանկի (KFW)) աջակցությամբ իրականացվող «Կովկասյան էլեկտրահաղորդման ցանց I» Հայաստան-Վրաստան հաղորդիչ գիծ/ենթակայանների դրամաշնորհային ծրագիր | H12: 14976.427 | I12: -25089.77
B13: 04 | C13: 03 | D13: 05 | E13: 1167 | F13: 32006 | G13: Գերմանիայի զարգացման վարկերի բանկի (KFW) աջակցությամբ իրականացվող Կովկասյան էլեկտրահաղորդման ցանց I Հայաստան-Վրաստան հաղորդիչ գիծ/ենթակայանների դրամաշնորհային ծրագրի շրջանակներում իրականացվող ներդրումներ | H13: 0 | I13: -338342.1

Sheet 9.
B1: Հավելված N9
B2: ՀՀ կառավարության 2022 թվականի
B3: ______________ ի ___Ն որոշման
B5: ՀԱՅԱՍՏԱՆԻ ՀԱՆՐԱՊԵՏՈՒԹՅԱՆ ԿԱՌԱՎԱՐՈՒԹՅԱՆ 2021 ԹՎԱԿԱՆԻ ԴԵԿՏԵՄԲԵՐԻ 23-Ի N 2121-Ն ՈՐՈՇՄԱՆ N 3 ԵՎ N 4 ՀԱՎԵԼՎԱԾՆԵՐՈՒՄ ԿԱՏԱՐՎՈՂ ՓՈՓՈԽՈՒԹՅՈՒՆՆԵՐԸ ԵՎ ԼՐԱՑՈՒՄՆԵՐԸ
H7: հազ. դրամ
B8: Գործառական դասիչը | E8: Ծրագրային դասիչը | G8: Բյուջետային ծախսերի գործառական դասակարգման բաժինների, խմբերի և դասերի, բյուջետային հատկացումների գլխավոր կարգադրիչների, ծրագրերի, միջոցառումների և միջոցառումները կատարող պետական մարմինների անվանումները | H8: Ցուցանիշների փոփոխությունը (ավելացումները նշված են դրական նշանով, իսկ նվազեցումները` փակագծերում)
B9: Բաժին | C9: Խումբ | D9: Դաս | E9: Ծրագիր | F9: Միջոցառում | H9: Ինն ամիս | I9: Տարի
G10: ԸՆԴԱՄԵՆԸ ԾԱԽՍԵՐ | H10: =+H12 -> -16975539 | I10: =+I12 -> -18750808
G11: այդ թվում`
G12: ՀՀ ՏԱՐԱԾՔԱՅԻՆ ԿԱՌԱՎԱՐՄԱՆ ԵՎ ԵՆԹԱԿԱՌՈՒՑՎԱԾՔՆԵՐԻ ՆԱԽԱՐԱՐՈՒԹՅՈՒՆ | H12: =+H14+H288+H237 -> -16975539 | I12: =+I14+I288+I237 -> -18750808
G13: այդ թվում`
B14: 04 | G14: ՏՆՏԵՍԱԿԱՆ ՀԱՐԱԲԵՐՈՒԹՅՈՒՆՆԵՐ | H14: =+H57+H16 -> -13912022 | I14: =+I57+I16 -> -15664182
G15: այդ թվում`
C16: 02 | G16: Գյուղատնտեսություն, անտառային տնտեսություն, ձկնորսություն և որսորդություն | H16: =+H18 -> -6920882.4 | I16: =+I18 -> -6955544.8
G17: այդ թվում`
D18: 04 | G18: Ոռոգում | H18: =+H22 -> -6920882.4 | I18: =+I22 -> -6955544.8
G19: այդ թվում`
G20: ՀՀ ՏԱՐԱԾՔԱՅԻՆ ԿԱՌԱՎԱՐՄԱՆ ԵՎ ԵՆԹԱԿԱՌՈՒՑՎԱԾՔՆԵՐԻ ՆԱԽԱՐԱՐՈՒԹՅՈՒՆ | H20: =+H22 -> -6920882.4 | I20: =+I22 -> -6955544.8
G21: այդ թվում`
E22: 1004 | G22: Ոռոգման համակարգի առողջացում | H22: =+H24+H32+H40+H48 -> -6920882.4 | I22: =+I24+I32+I40+I48 -> -6955544.8
G23: այդ թվում`
F24: 11009 | G24: Գերմանիայի զարգացման վարկերի բանկի աջակցությամբ իրականացվող Ախուրյան գետի ջրային ռեսուրսների ինտեգրացված կառավարման դրամաշնորհային ծրագիր | H24: =+H26 -> -16951.6 | I24: =+I26 -> -16951.6
G25: այդ թվում` ըստ կատարողների
G26: ՀՀ տարածքային կառավարման և ենթակառուցվածքների նախարարության ջրային կոմիտե | H26: =+H28 -> -16951.6 | I26: =+I28 -> -16951.6
G27: այդ թվում` բյուջետային ծախսերի տնտեսագիտական դասակարգման հոդվածներ
G28: ԸՆԴԱՄԵՆԸ ԾԱԽՍԵՐ | H28: =+H29 -> -16951.6 | I28: =+I29 -> -16951.6
G29: ԸՆԹԱՑԻԿ ԾԱԽՍԵՐ | H29: =+H30 -> -16951.6 | I29: =+I30 -> -16951.6
G30: ԱՅԼ ԾԱԽՍԵՐ | H30: =+H31 -> -16951.6 | I30: =+I31 -> -16951.6
G31: Այլ ծախսեր | H31: =+'11.'!E25 -> -16951.6 | I31: =+'11.'!H25 -> -16951.6
F32: 11011 | G32: Զարգացման ֆրանսիական գործակալության աջակցությամբ իրականացվող ոռոգման ոլորտի ֆինանսական կայունության և ոռոգման կառավարման կարողությունների բարելավման դրամաշնորհային ծրագրի խորհրդատվություն և կառավարում | H32: =+H34 -> -103987.5 | I32: =+I34 -> -138649.9
G33: այդ թվում` ըստ կատարողների
G34: ՀՀ տարածքային կառավարման և ենթակառուցվածքների նախարարության ջրային կոմիտե | H34: =+H36 -> -103987.5 | I34: =+I36 -> -138649.9
G35: այդ թվում` բյուջետային ծախսերի տնտեսագիտական դասակարգման հոդվածներ
G36: ԸՆԴԱՄԵՆԸ ԾԱԽՍԵՐ | H36: =+H37 -> -103987.5 | I36: =+I37 -> -138649.9
G37: ԸՆԹԱՑԻԿ ԾԱԽՍԵՐ | H37: =+H38 -> -103987.5 | I37: =+I38 -> -138649.9
G38: ԱՅԼ ԾԱԽՍԵՐ | H38: =+H39 -> -103987.5 | I38: =+I39 -> -138649.9
G39: Այլ ծախսեր | H39: ='11.'!E33 -> -103987.5 | I39: ='11.'!H33 -> -138649.9
F40: 11012 | G40: Ֆրանսիայի Հանրապետության կառավարության աջակցությամբ իրականացվող՝ Վեդու ջրամբարի կառուցման դրամաշնորհային ծրագիր | H40: =+H42 -> -7943.3 | I40: =+I42 -> -7943.3
G41: այդ թվում` ըստ կատարողների
G42: ՀՀ տարածքային կառավարման և ենթակառուցվածքների նախարարության ջրային կոմիտե | H42: =+H44 -> -7943.3 | I42: =+I44 -> -7943.3
...

Sheet 10.
J1: Հավելված N10
J2: ՀՀ կառավարության 2022 թվականի
J3: ______________ ի ___Ն որոշման
B5: «ՀԱՅԱUՏԱՆԻ ՀԱՆՐԱՊԵՏՈՒԹՅԱՆ 2022 ԹՎԱԿԱՆԻ ՊԵՏԱԿԱՆ ԲՅՈՒՋԵԻ ՄԱUԻՆ» OՐԵՆՔԻ N 1 ՀԱՎԵԼՎԱԾԻ N 4 ԱՂՅՈՒՍԱԿՈՒՄ ԵՎ ՀԱՅԱՍՏԱՆԻ ՀԱՆՐԱՊԵՏՈՒԹՅԱՆ ԿԱՌԱՎԱՐՈՒԹՅԱՆ 2021 ԹՎԱԿԱՆԻ ԴԵԿՏԵՄԲԵՐԻ 23-Ի N 2121-Ն ՈՐՈՇՄԱՆ N 5 ՀԱՎԵԼՎԱԾԻ N 3 ԱՂՅՈՒՍԱԿՈՒՄ ԿԱՏԱՐՎՈՂ ՓՈՓՈԽՈՒԹՅՈՒՆՆԵՐԸ
J6: հազ. դրամ
B7: Ծրագրային դասիչը | D7: Բյուջետային գլխավոր կարգադրիչների, ծրագրերի և միջոցառումների անվանումները | E7: Ցուցանիշների փոփոխությունը (ավելացումները նշված են դրական նշանով, իսկ նվազեցումները` փակագծերում)
E8: Ինն ամիս | H8: Տարի
E9: Ընդամենը | F9: այդ թվում` | H9: Ընդամենը | I9: այդ թվում`
B10: Ծրագիր | C10: Միջոց առում | F10: Վարկային միջոցներ | G10: Համաֆինան սավորում | I10: Վարկային միջոցներ | J10: Համաֆինան սավորում
D11: ԸՆԴԱՄԵՆԸ_x000D_ այդ թվում` | E11: =+E12+E13 -> -11408806 | F11: =F13+F12 -> -11501315 | G11: =G13+G12 -> 92508.3 | H11: =I11+J11 -> -11406413 | I11: =I12+I13 -> -11501315 | J11: =J12+J13 -> 94902.1
D12: - ԸՆԹԱՑԻԿ ԾԱԽՍԵՐ | E12: =F12+G12 -> -680095.9 | F12: =+F33+F41+F52+F60+F68+F76+F84+F131+F159 -> -461514.8 | G12: =+G33+G41+G52+G60+G68+G76+G84+G131+G159 -> -218581.1 | H12: =I12+J12 -> -817496.1 | I12: =+I33+I41+I52+I60+I68+I76+I84+I131+I159 -> -476514.8 | J12: =+J33+J41+J52+J60+J68+J76+J84+J131+J159 -> -340981.3
D13: - ՈՉ ՖԻՆԱՆՍԱԿԱՆ ԱԿՏԻՎՆԵՐԻ ԳԾՈՎ ԾԱԽՍԵՐ | E13: =F13+G13 -> -10728711 | F13: =F22+F139+F148+F167+F93+F102+F111+F120 -> -11039800 | G13: =G22+G139+G148+G167+G93+G102+G111+G120 -> 311089.4 | H13: =I13+J13 -> -10588917 | I13: =I22+I139+I148+I167+I93+I102+I111+I120 -> -11024800 | J13: =J22+J139+J148+J167+J93+J102+J111+J120 -> 435883.4
D14: ՀՀ ՏԱՐԱԾՔԱՅԻՆ ԿԱՌԱՎԱՐՄԱՆ ԵՎ ԵՆԹԱԿԱՌՈՒՑՎԱԾՔՆԵՐԻ ՆԱԽԱՐԱՐՈՒԹՅՈՒՆ_x000D_ այդ թվում` | E14: =F14+G14 -> -11408806 | F14: =F15+F26+F124+F152 -> -11501315 | G14: =G15+G26+G124+G152 -> 92508.3 | H14: =I14+J14 -> -11406413 | I14: =I15+I26+I124+I152 -> -11501315 | J14: =J15+J26+J124+J152 -> 94902.1
B15: 1004 | D15: Ոռոգման համակարգի առողջացում | E15: =F15+G15 -> -6792000 | F15: =+F17 -> -6792000 | G15: =+G17 -> 0 | H15: =I15+J15 -> -6792000 | I15: =+I17 -> -6792000 | J15: =+J17 -> 0
D16: այդ թվում`
C17: 31004 | D17: Գերմանիայի զարգացման վարկերի բանկի աջակցությամբ իրականացվող Ախուրյան գետի ջրային ռեսուրսների ինտեգրված կառավարման ծրագրի շրջանակներում ջրային տնտեսության ենթակառուցվածքների հիմնանորոգում | E17: =E19 -> -6792000 | F17: =F19 -> -6792000 | G17: =G19 -> 0 | H17: =H19 -> -6792000 | I17: =I19 -> -6792000 | J17: =J19 -> 0
D18: այդ թվում` ըստ կատարողների
D19: ՀՀ տարածքային կառավարման և ենթակառուցվածքների նախարարության ջրային կոմիտե | E19: =E21 -> -6792000 | F19: =F21 -> -6792000 | G19: =G21 -> 0 | H19: =H21 -> -6792000 | I19: =I21 -> -6792000 | J19: =J21 -> 0
D20: այդ թվում` բյուջետային ծախսերի տնտեսագիտական դասակարգման հոդվածներ
D21: ԸՆԴԱՄԵՆԸ ԾԱԽՍԵՐ | E21: =E22 -> -6792000 | F21: =F22 -> -6792000 | G21: =G22 -> 0 | H21: =H22 -> -6792000 | I21: =I22 -> -6792000 | J21: =J22 -> 0
D22: ՈՉ ՖԻՆԱՆՍԱԿԱՆ ԱԿՏԻՎՆԵՐԻ ԳԾՈՎ ԾԱԽՍԵՐ | E22: =E23 -> -6792000 | F22: =F23 -> -6792000 | G22: =G23 -> 0 | H22: =H23 -> -6792000 | I22: =I23 -> -6792000 | J22: =J23 -> 0
D23: ՀԻՄՆԱԿԱՆ ՄԻՋՈՑՆԵՐ | E23: =E24 -> -6792000 | F23: =F24 -> -6792000 | G23: =G24 -> 0 | H23: =H24 -> -6792000 | I23: =I24 -> -6792000 | J23: =J24 -> 0
D24: ՇԵՆՔԵՐ ԵՎ ՇԻՆՈՒԹՅՈՒՆՆԵՐ | E24: =E25 -> -6792000 | F24: =F25 -> -6792000 | G24: =G25 -> 0 | H24: =H25 -> -6792000 | I24: =I25 -> -6792000 | J24: =J25 -> 0
D25: - Շենքերի և շինությունների շինարարություն | E25: =F25+G25 -> -6792000 | F25: -6792000 | G25: 0 | H25: =I25+J25 -> -6792000 | I25: -6792000 | J25: 0
B26: 1049 | D26: Ճանապարհային ցանցի բարելավում | E26: =F26+G26 -> -1125910.6 | F26: =F28+F36+F47+F55+F63+F71+F79+F88+F97+F106+F115 -> -1211000 | G26: =G28+G36+G47+G55+G63+G71+G79+G88+G97+G106+G115 -> 85089.4 | H26: =I26+J26 -> -1125910.6 | I26: =I28+I36+I47+I55+I63+I71+I79+I88+I97+I106+I115 -> -1211000 | J26: =J28+J36+J47+J55+J63+J71+J79+J88+J97+J106+J115 -> 85089.4
D27: այդ թվում`
C28: 11005 | D28: Համաշխարհային բանկի աջակցությամբ իրականացվող Կենսական նշանակության ճանապարհային ցանցի բարելավման ծրագրի շրջանակներում համակարգում և կառավարում | E28: =E30 -> -47000 | F28: =F30 -> -38000 | G28: =G30 -> -9000 | H28: =H30 -> -66000 | I28: =I30 -> -53000 | J28: =J30 -> -13000
D29: այդ թվում` ըստ կատարողների
D30: ՀՀ տարածքային կառավարման և ենթակառուցվածքների նախարարություն | E30: =E32 -> -47000 | F30: =F32 -> -38000 | G30: =G32 -> -9000 | H30: =H32 -> -66000 | I30: =I32 -> -53000 | J30: =J32 -> -13000
D31: այդ թվում` բյուջետային ծախսերի տնտեսագիտական դասակարգման հոդվածներ
D32: ԸՆԴԱՄԵՆԸ ԾԱԽՍԵՐ | E32: =E33 -> -47000 | F32: =F33 -> -38000 | G32: =G33 -> -9000 | H32: =H33 -> -66000 | I32: =I33 -> -53000 | J32: =J33 -> -13000
D33: ԸՆԹԱՑԻԿ ԾԱԽՍԵՐ | E33: =E34 -> -47000 | F33: =F34 -> -38000 | G33: =G34 -> -9000 | H33: =H34 -> -66000 | I33: =I34 -> -53000 | J33: =J34 -> -13000
D34: ԱՅԼ ԾԱԽՍԵՐ | E34: =E35 -> -47000 | F34: =F35 -> -38000 | G34: =G35 -> -9000 | H34: =H35 -> -66000 | I34: =I35 -> -53000 | J34: =J35 -> -13000
D35: - Այլ ծախսեր | E35: =F35+G35 -> -47000 | F35: -38000 | G35: -9000 | H35: =I35+J35 -> -66000 | I35: -53000 | J35: -13000
C36: 11007 | D36: Ասիական զարգացման բանկի աջակցությամբ իրականացվող Հայաստան-Վրաստան սահմանային տարածաշրջանային ճանապարհի (Մ6 Վանաձոր-Բագրատաշեն) բարելավման ծրագրի համակարգում և կառավարում | E36: =E38 -> -85000 | F36: =F38 -> 0 | G36: =G38 -> -85000 | H36: =H38 -> -135000 | I36: =I38 -> 0 | J36: =J38 -> -135000
D37: այդ թվում` ըստ կատարողների
D38: ՀՀ տարածքային կառավարման և ենթակառուցվածքների նախարարություն | E38: =E40 -> -85000 | F38: =F40 -> 0 | G38: =G40 -> -85000 | H38: =H40 -> -135000 | I38: =I40 -> 0 | J38: =J40 -> -135000
D39: այդ թվում` բյուջետային ծախսերի տնտեսագիտական դասակարգման հոդվածներ
D40: ԸՆԴԱՄԵՆԸ ԾԱԽՍԵՐ | E40: =E41 -> -85000 | F40: =F41 -> 0 | G40: =G41 -> -85000 | H40: =H41 -> -135000 | I40: =I41 -> 0 | J40: =J41 -> -135000
D41: ԸՆԹԱՑԻԿ ԾԱԽՍԵՐ | E41: =E42+E45 -> -85000 | F41: =F42+F45 -> 0 | G41: =G42+G45 -> -85000 | H41: =H42+H45 -> -135000 | I41: =I42+I45 -> 0 | J41: =J42+J45 -> -135000
...

Sheet 11.
J1: Հավելված N11
J2: ՀՀ կառավարության 2022 թվականի
J3: ______________ ի ___Ն որոշման
B5: «ՀԱՅԱUՏԱՆԻ ՀԱՆՐԱՊԵՏՈՒԹՅԱՆ 2022 ԹՎԱԿԱՆԻ ՊԵՏԱԿԱՆ ԲՅՈՒՋԵԻ ՄԱUԻՆ» OՐԵՆՔԻ N 1 ՀԱՎԵԼՎԱԾԻ N 5 ԱՂՅՈՒՍԱԿՈՒՄ ԵՎ ՀԱՅԱՍՏԱՆԻ ՀԱՆՐԱՊԵՏՈՒԹՅԱՆ ԿԱՌԱՎԱՐՈՒԹՅԱՆ 2021 ԹՎԱԿԱՆԻ ԴԵԿՏԵՄԲԵՐԻ 23-Ի N 2121-Ն ՈՐՈՇՄԱՆ N 5 ՀԱՎԵԼՎԱԾԻ N 4 ԱՂՅՈՒՍԱԿՈՒՄ ԿԱՏԱՐՎՈՂ ՓՈՓՈԽՈՒԹՅՈՒՆՆԵՐԸ
J6: հազ. դրամ
B7: Ծրագրային դասիչը | D7: Բյուջետային գլխավոր կարգադրիչների, ծրագրերի և միջոցառումների անվանումները | E7: Ցուցանիշների փոփոխությունը (ավելացումները նշված են դրական նշանով, իսկ նվազեցումները` փակագծերում)
E8: Ինն ամիս | H8: Տարի
E9: Ընդամենը | F9: այդ թվում` | H9: Ընդամենը | I9: այդ թվում`
B10: Ծրագիր | C10: Միջոց առում | F10: Դրամաշնորհային միջոցներ | G10: Համաֆինան սավորում | I10: Դրամաշնորհային միջոցներ | J10: Համաֆինան սավորում
D11: ԸՆԴԱՄԵՆԸ | E11: =+F11+G11 -> -5566732.4 | F11: =+F15 -> -5474224.1 | G11: =+G15 -> -92508.3 | H11: =+I11+J11 -> -7344395 | I11: =+I15 -> -7249492.9 | J11: =+J15 -> -94902.1
D12: այդ թվում` | E12: =+F12+G12 -> 0 | H12: =+I12+J12 -> 0
D13: ԸՆԹԱՑԻԿ ԾԱԽՍԵՐ | E13: =+F13+G13 -> -474706.2 | F13: =+F170+F23+F31+F39+F114+F49+F57+F153 -> -467287.3 | G13: =+G170+G23+G31+G39+G114+G49+G57+G153 -> -7418.9 | H13: =+I13+J13 -> -585518.8 | I13: =+I170+I23+I31+I39+I114+I49+I57+I153 -> -575706.1 | J13: =+J170+J23+J31+J39+J114+J49+J57+J153 -> -9812.7
D14: ՈՉ ՖԻՆԱՆՍԱԿԱՆ ԱԿՏԻՎՆԵՐԻ ԳԾՈՎ ԾԱԽՍԵՐ | E14: =+F14+G14 -> -5092026.2 | F14: =+F178+F122+F131+F161+F74+F83+F187+F65+F94+F103+F144 -> -5006936.8 | G14: =+G178+G122+G131+G161+G74+G83+G187+G65+G94+G103+G144 -> -85089.4 | H14: =+I14+J14 -> -6758876.2 | I14: =+I178+I122+I131+I161+I74+I83+I187+I65+I94+I103+I144 -> -6673786.8 | J14: =+J178+J122+J131+J161+J74+J83+J187+J65+J94+J103+J144 -> -85089.4
D15: ՀՀ ՏԱՐԱԾՔԱՅԻՆ ԿԱՌԱՎԱՐՄԱՆ ԵՎ ԵՆԹԱԿԱՌՈՒՑՎԱԾՔՆԵՐԻ ՆԱԽԱՐԱՐՈՒԹՅՈՒՆ | E15: =+F15+G15 -> -5566732.4 | F15: =+F16+F107+F42+F87+F137 -> -5474224.1 | G15: =+G16+G107+G42+G87+G137 -> -92508.3 | H15: =+I15+J15 -> -7344395 | I15: =+I16+I107+I42+I87+I137 -> -7249492.9 | J15: =+J16+J107+J42+J87+J137 -> -94902.1
B16: 1004 | D16: Ոռոգման համակարգի առողջացում | E16: =+F16+G16 -> -128882.4 | F16: =+F18+F26+F34 -> -128882.4 | G16: =+G18+G26+G34 -> 0 | H16: =+I16+J16 -> -163544.8 | I16: =+I18+I26+I34 -> -163544.8 | J16: =+J18+J26+J34 -> 0
D17: այդ թվում` | E17: =+F17+G17 -> 0
C18: 11009 | D18: Գերմանիայի զարգացման վարկերի բանկի աջակցությամբ իրականացվող Ախուրյան գետի ջրային ռեսուրսների ինտեգրացված կառավարման դրամաշնորհային ծրագիր | E18: =+F18+G18 -> -16951.6 | F18: =+F20 -> -16951.6 | G18: =+G20 -> 0 | H18: =+H20 -> -16951.6 | I18: =+I20 -> -16951.6 | J18: =+J20 -> 0
D19: այդ թվում` ըստ կատարողների | E19: =+F19+G19 -> 0
D20: ՀՀ տարածքային կառավարման և ենթակառուցվածքների նախարարության ջրային կոմիտե | E20: =+F20+G20 -> -16951.6 | F20: =+F22 -> -16951.6 | G20: =+G22 -> 0 | H20: =+H22 -> -16951.6 | I20: =+I22 -> -16951.6 | J20: =+J22 -> 0
D21: այդ թվում` բյուջետային ծախսերի տնտեսագիտական դասակարգման հոդվածներ | E21: =+F21+G21 -> 0
D22: ԸՆԴԱՄԵՆԸ ԾԱԽՍԵՐ | E22: =+F22+G22 -> -16951.6 | F22: =+F23 -> -16951.6 | G22: =+G23 -> 0 | H22: =+I22+J22 -> -16951.6 | I22: =+I23 -> -16951.6 | J22: =+J23 -> 0
D23: ԸՆԹԱՑԻԿ ԾԱԽՍԵՐ | E23: =+F23+G23 -> -16951.6 | F23: =+F24 -> -16951.6 | G23: =+G24 -> 0 | H23: =+I23+J23 -> -16951.6 | I23: =+I24 -> -16951.6 | J23: =+J24 -> 0
D24: ԱՅԼ ԾԱԽՍԵՐ | E24: =+F24+G24 -> -16951.6 | F24: =+F25 -> -16951.6 | G24: =+G25 -> 0 | H24: =+I24+J24 -> -16951.6 | I24: =+I25 -> -16951.6 | J24: =+J25 -> 0
D25: Այլ ծախսեր | E25: =+F25+G25 -> -16951.6 | F25: -16951.6 | G25: 0 | H25: =+I25+J25 -> -16951.6 | I25: -16951.6 | J25: 0
C26: 11011 | D26: Զարգացման ֆրանսիական գործակալության աջակցությամբ իրականացվող ոռոգման ոլորտի ֆինանսական կայունության և ոռոգման կառավարման կարողությունների բարելավման դրամաշնորհային ծրագրի խորհրդատվություն և կառավարում | E26: =+F26+G26 -> -103987.5 | F26: =+F28 -> -103987.5 | G26: =+G28 -> 0 | H26: =+H28 -> -138649.9 | I26: =+I28 -> -138649.9 | J26: =+J28 -> 0
D27: այդ թվում` ըստ կատարողների | E27: =+F27+G27 -> 0
D28: ՀՀ տարածքային կառավարման և ենթակառուցվածքների նախարարության ջրային կոմիտե | E28: =+F28+G28 -> -103987.5 | F28: =+F30 -> -103987.5 | G28: =+G30 -> 0 | H28: =+H30 -> -138649.9 | I28: =+I30 -> -138649.9 | J28: =+J30 -> 0
D29: այդ թվում` բյուջետային ծախսերի տնտեսագիտական դասակարգման հոդվածներ | E29: =+F29+G29 -> 0
D30: ԸՆԴԱՄԵՆԸ ԾԱԽՍԵՐ | E30: =+F30+G30 -> -103987.5 | F30: =+F31 -> -103987.5 | G30: =+G31 -> 0 | H30: =+I30+J30 -> -138649.9 | I30: =+I31 -> -138649.9 | J30: =+J31 -> 0
D31: ԸՆԹԱՑԻԿ ԾԱԽՍԵՐ | E31: =+F31+G31 -> -103987.5 | F31: =+F32 -> -103987.5 | G31: =+G32 -> 0 | H31: =+I31+J31 -> -138649.9 | I31: =+I32 -> -138649.9 | J31: =+J32 -> 0
D32: ԱՅԼ ԾԱԽՍԵՐ | E32: =+F32+G32 -> -103987.5 | F32: =+F33 -> -103987.5 | G32: =+G33 -> 0 | H32: =+I32+J32 -> -138649.9 | I32: =+I33 -> -138649.9 | J32: =+J33 -> 0
D33: Այլ ծախսեր | E33: =+F33+G33 -> -103987.5 | F33: -103987.5 | G33: 0 | H33: =+I33+J33 -> -138649.9 | I33: -138649.9 | J33: 0
C34: 11012 | D34: Ֆրանսիայի Հանրապետության կառավարության աջակցությամբ իրականացվող՝ Վեդու ջրամբարի կառուցման դրամաշնորհային ծրագիր | E34: =+F34+G34 -> -7943.3 | F34: =+F36 -> -7943.3 | G34: =+G36 -> 0 | H34: =+H36 -> -7943.3 | I34: =+I36 -> -7943.3 | J34: =+J36 -> 0
D35: այդ թվում` ըստ կատարողների | E35: =+F35+G35 -> 0
D36: ՀՀ տարածքային կառավարման և ենթակառուցվածքների նախարարության ջրային կոմիտե | E36: =+F36+G36 -> -7943.3 | F36: =+F38 -> -7943.3 | G36: =+G38 -> 0 | H36: =+H38 -> -7943.3 | I36: =+I38 -> -7943.3 | J36: =+J38 -> 0
D37: այդ թվում` բյուջետային ծախսերի տնտեսագիտական դասակարգման հոդվածներ | E37: =+F37+G37 -> 0
D38: ԸՆԴԱՄԵՆԸ ԾԱԽՍԵՐ | E38: =+F38+G38 -> -7943.3 | F38: =+F39 -> -7943.3 | G38: =+G39 -> 0 | H38: =+I38+J38 -> -7943.3 | I38: =+I39 -> -7943.3 | J38: =+J39 -> 0
D39: ԸՆԹԱՑԻԿ ԾԱԽՍԵՐ | E39: =+F39+G39 -> -7943.3 | F39: =+F40 -> -7943.3 | G39: =+G40 -> 0 | H39: =+I39+J39 -> -7943.3 | I39: =+I40 -> -7943.3 | J39: =+J40 -> 0
D40: ԱՅԼ ԾԱԽՍԵՐ | E40: =+F40+G40 -> -7943.3 | F40: =+F41 -> -7943.3 | G40: =+G41 -> 0 | H40: =+I40+J40 -> -7943.3 | I40: =+I41 -> -7943.3 | J40: =+J41 -> 0
D41: Այլ ծախսեր | E41: =+F41+G41 -> -7943.3 | F41: -7943.3 | G41: 0 | H41: =+I41+J41 -> -7943.3 | I41: -7943.3 | J41: 0
...

Sheet 12.
D1: Հավելված N 12
A2: ՀՀ կառավարության 2022 թվականի
A3: ______________ ի ___Ն որոշման
A5: ՀԱՅԱՍՏԱՆԻ ՀԱՆՐԱՊԵՏՈՒԹՅԱՆ ԿԱՌԱՎԱՐՈՒԹՅԱՆ 2021 ԹՎԱԿԱՆԻ ԴԵԿՏԵՄԲԵՐԻ 23-Ի N 2121-Ն ՈՐՈՇՄԱՆ N 9 ՀԱՎԵԼՎԱԾԻ N 9.7 ԵՎ N9.47 ԱՂՅՈՒՍԱԿՆԵՐՈՒՄ ԿԱՏԱՐՎՈՂ ՓՈՓՈԽՈՒԹՅՈՒՆՆԵՐԸ ԵՎ ԼՐԱՑՈՒՄՆԵՐԸ
D6: Աղյուսակ 9.7
A7: ՀՀ ՏԱՐԱԾՔԱՅԻՆ ԿԱՌԱՎԱՐՄԱՆ ԵՎ ԵՆԹԱԿԱՌՈՒՑՎԱԾՔՆԵՐԻ ՆԱԽԱՐԱՐՈՒԹՅՈՒՆ
A8: ՄԱՍ 2. ՊԵՏԱԿԱՆ ՄԱՐՄՆԻ ԳԾՈՎ ԱՐԴՅՈՒՆՔԱՅԻՆ (ԿԱՏԱՐՈՂԱԿԱՆ) ՑՈՒՑԱՆԻՇՆԵՐԸ
A10: Ծրագրի դասիչը | B10: Ծրագրի անվանումը
A11: 1004 | B11: =+'[1]4'!D16 -> Ոռոգման համակարգի առողջացում
A13: Ծրագրի միջոցառումները
A14: Ծրագրի դասիչը` | B14: 1004 | C14: Ցուցանիշների փոփոխությունը (նվազեցումները նշված են փակագծերում)
A15: Միջոցառման դասիչը` | B15: 11009 | C15: Ինն ամիս | D15: Տարի
A16: Միջոցառման անվանումը` | B16: Գերմանիայի զարգացման վարկերի բանկի աջակցությամբ իրականացվող Ախուրյան գետի ջրային ռեսուրսների ինտեգրացված կառավարման դրամաշնորհային ծրագիր
A17: Նկարագրությունը` | B17: Գերմանիայի զարգացման վարկերի բանկի աջակցությամբ իրականացվող Ախուրյան գետի ջրային ռեսուրսների ինտեգրացված կառավարման դրամաշնորհային ծրագրի համակարգում և ղեկավարում
A18: Միջոցառման տեսակը` | B18: Ծառայությունների մատուցում
A19: Միջոցառումն իրականացնողի անվանումը` | B19: Մասնագիտատացված միավոր
A20: Արդյունքի չափորոշիչներ
A21: Կառավարվող/վերահսկվող խորհրդատվական պայմանագրերի քանակը, հատ | C21: -1 | D21: -1
A22: Միջոցառման վրա կատարված ծախսը (հազար դրամ) | C22: ='11.'!E18 -> -16951.6 | D22: ='11.'!H18 -> -16951.6
A24: Ծրագրի դասիչը` | B24: 1004 | C24: Ցուցանիշների փոփոխությունը (նվազեցումները նշված են փակագծերում)
A25: Միջոցառման դասիչը` | B25: 11011 | C25: Ինն ամիս | D25: Տարի
A26: Միջոցառման անվանումը` | B26: Զարգացման ֆրանսիական գործակալության աջակցությամբ իրականացվող ոռոգման ոլորտի ֆինանսական կայունության և ոռոգման կառավարման կարողությունների բարելավման դրամաշնորհային ծրագրի խորհրդատվություն և կառավարում
A27: Նկարագրությունը` | B27: Զարգացման ֆրանսիական գործակալության աջակցությամբ իրականացվող ոռոգման ոլորտի ֆինանսական կայունության և ոռոգման կառավարման կարողությունների բարելավման ծրագրի համակարգում և ղեկավարում
A28: Միջոցառման տեսակը` | B28: Ծառայությունների մատուցում
A29: Միջոցառումն իրականացնողի անվանումը` | B29: Մասնագիտատացված միավոր
A30: Արդյունքի չափորոշիչներ
A31: Միջոցառման վրա կատարված ծախսը (հազար դրամ) | C31: ='11.'!E26 -> -103987.5 | D31: ='11.'!H26 -> -138649.9
A33: Ծրագրի դասիչը` | B33: 1004 | C33: Ցուցանիշների փոփոխությունը (նվազեցումները նշված են փակագծերում)
A34: Միջոցառման դասիչը` | B34: 11012 | C34: Ինն ամիս | D34: Տարի
A35: Միջոցառման անվանումը` | B35: Ֆրանսիայի Հանրապետության կառավարության աջակցությամբ իրականացվող՛ Վեդու ջրամբարի կառուցման դրամաշնորհային ծրագիր
A36: Նկարագրությունը` | B36: Ֆրանսիայի Հանրապետության կառավարության աջակցությամբ իրականացվող՛ Վեդու ջրամբարի կառուցման դրամաշնորհային ծրագրի համակարգում և ղեկավարում
A37: Միջոցառման տեսակը` | B37: Ծառայությունների մատուցում
A38: Միջոցառումն իրականացնողի անվանումը` | B38: Մասնագիտացված միավոր
A39: Արդյունքի չափորոշիչներ
A40: Միջոցառման վրա կատարված ծախսը (հազար դրամ) | C40: ='11.'!E34 -> -7943.3 | D40: ='11.'!H34 -> -7943.3
A42: Ծրագրի դասիչը` | B42: 1004 | C42: Ցուցանիշների փոփոխությունը (նվազեցումները նշված են փակագծերում)
A43: Միջոցառման դասիչը` | B43: 31004 | C43: Ինն ամիս | D43: Տարի
A44: Միջոցառման անվանումը` | B44: Գերմանիայի զարգացման վարկերի բանկի աջակցությամբ իրականացվող Ախուրյան գետի ջրային ռեսուրսների ինտեգրված կառավարման ծրագրի շրջանակներում ջրային տնտեսության ենթակառուցվածքների հիմնանորոգում
A45: Նկարագրությունը` | B45: Գերմանիայի զարգացման վարկերի բանկի աջակցությամբ իրականացվող Ախուրյան գետի ջրային ռեսուրսների ինտեգրված կառավարման ծրագիր
A46: Միջոցառման տեսակը` | B46: Պետական մարմինների կողմից օգտագործվող ոչ ֆինանսական ակտիվների հետ գործառնություններ
...

Sheet 13.
D1: Հավելված N 13
A2: ՀՀ կառավարության 2022 թվականի
A3: ______________ ի ___Ն որոշման
A4: ՀԱՅԱՍՏԱՆԻ ՀԱՆՐԱՊԵՏՈՒԹՅԱՆ ԿԱՌԱՎԱՐՈՒԹՅԱՆ 2021 ԹՎԱԿԱՆԻ ԴԵԿՏԵՄԲԵՐԻ 23-Ի N 2121-Ն ՈՐՈՇՄԱՆ N 9.1 ՀԱՎԵԼՎԱԾԻ NN 9.1.8, 9.1.26 և 9.1.59 ԱՂՅՈՒՍԱԿՆԵՐՈՒՄ ԿԱՏԱՐՎՈՂ ՓՈՓՈԽՈՒԹՅՈՒՆՆԵՐԸ ԵՎ ԼՐԱՑՈՒՄՆԵՐԸ
D5: Աղյուսակ 9.1.8
A6: ՀՀ ՏԱՐԱԾՔԱՅԻՆ ԿԱՌԱՎԱՐՄԱՆ ԵՎ ԵՆԹԱԿԱՌՈՒՑՎԱԾՔՆԵՐԻ ՆԱԽԱՐԱՐՈՒԹՅՈՒՆ
A7: ՄԱՍ 1. ՊԵՏԱԿԱՆ ՄԱՐՄՆԻ ԳԾՈՎ ԱՐԴՅՈՒՆՔԱՅԻՆ (ԿԱՏԱՐՈՂԱԿԱՆ) ՑՈՒՑԱՆԻՇՆԵՐԸ
A10: Ծրագրի դասիչը | B10: Ծրագրի անվանումը
A11: 1040 | B11: Կոշտ թափոնների կառավարում
A13: Ծրագրի միջոցառումները
A15: Ծրագրի դասիչը` | B15: 1040 | C15: Ցուցանիշների փոփոխությունը (նվազեցումները նշված են փակագծերում)
A16: Միջոցառման դասիչը` | B16: 12001 | C16: Ինն ամիս | D16: Տարի
A17: Միջոցառման անվանումը` | B17: Վերակառուցման և զարգացման եվրոպական բանկի աջակցությամբ իրականացվող «Երևանի կոշտ թափոնների կառավարման» դրամաշնորհային ծրագիր
A18: Նկարագրությունը` | B18: Կոշտ թափոնների կառավարման համակարգի բարելավում և նոր աղբավայրի ստեղծում
A19: Միջոցառման տեսակը` | B19: Տրանսֆերտների տրամադրում
A20: Միջոցառումն իրականացնողի անվանումը՛ | B20: Մասնագիտացված միավոր
A21: Արդյունքի չափորոշիչներ
A22: Գործող աղբանոցների մեկուսացման և Նուբարաշենի նոր աղբավայրի կառուցման տեխնիկական հսկողություն, ամիս | C22: -9 | D22: -12
A23: Միջոցառման վրա կատարվող ծախսը (հազար դրամ) | C23: ='11.'!E44 -> -64147.2 | D23: ='11.'!H44 -> -107670.8
A25: Ծրագրի դասիչը` | B25: 1040 | C25: Ցուցանիշների փոփոխությունը (նվազեցումները նշված են փակագծերում)
A26: Միջոցառման դասիչը` | B26: 12002 | C26: Ինն ամիս | D26: Տարի
A27: Միջոցառման անվանումը` | B27: ='11.'!D52 -> Վերակառուցման և զարգացման եվրոպական բանկի աջակցությամբ իրականացվող «Կոտայքի և Գեղարքունիքի մարզի կոշտ թափոնների կառավարման խորհրդատվության համար» դրամաշնորհային ծրագիր
A28: Նկարագրությունը` | B28: Կոշտ թափոնների կառավարման համակարգի բարելավում և նոր աղբավայրի ստեղծում
A29: Միջոցառման տեսակը` | B29: Տրանսֆերտների տրամադրում
A30: Միջոցառումն իրականացնողի անվանումը՛ | B30: ՀՀ տարածքային կառավարման և ենթակառուցվածքների նախարարություն
A31: Արդյունքի չափորոշիչներ
A32: Միջոցառման վրա կատարվող ծախսը (հազար դրամ) | C32: ='11.'!E52 -> -99336.1 | D32: ='11.'!H52 -> -99336.1
A34: Ծրագրի դասիչը` | B34: 1040 | C34: Ցուցանիշների փոփոխությունը (նվազեցումները նշված են փակագծերում)
A35: Միջոցառման դասիչը` | B35: 32004 | C35: Ինն ամիս | D35: Տարի
A36: Միջոցառման անվանումը` | B36: ='11.'!D60 -> Վերակառուցման և զարգացման եվրոպական բանկի աջակցությամբ իրականացվող «Կոտայքի և Գեղարքունիքի մարզի կոշտ թափոնների կառավարման» դրամաշնորհային ծրագիր
A37: Նկարագրությունը` | B37: Կոշտ թափոնների կառավարման համակարգի բարելավում և նոր աղբավայրի ստեղծում
A38: Միջոցառման տեսակը` | B38: Այլ պետական կազմակերպությունների կողմից օգտագործվող ոչ ֆինանսական ակտիվների հետ գործառնություններ
A39: Միջոցառումն իրականացնողի անվանումը՛ | B39: ՀՀ տարածքային կառավարման և ենթակառուցվածքների նախարարություն
A40: Արդյունքի չափորոշիչներ
A41: Միջոցառման վրա կատարվող ծախսը (հազար դրամ) | C41: ='11.'!E60 -> -550220.2 | D41: ='11.'!H60 -> -550220.2
A43: Ծրագրի դասիչը` | B43: 1040 | C43: Ցուցանիշների փոփոխությունը (նվազեցումները նշված են փակագծերում)
A44: Միջոցառման դասիչը` | B44: 32006 | C44: Ինն ամիս | D44: Տարի
A45: Միջոցառման անվանումը` | B45: Եվրոպական միության հարևանության ներդրումային գործիքի աջակցությամբ իրականացվող «Երևանի կոշտ թափոնների կառավարման» դրամաշնորհային ծրագիր
A46: Նկարագրությունը` | B46: Կոշտ թափոնների կառավարման համակարգի բարելավում և նոր աղբավայրի ստեղծում
A47: Միջոցառման տեսակը` | B47: Այլ պետական կազմակերպությունների կողմից օգտագործվող ոչ ֆինանսական ակտիվների հետ գործառնություններ
...
