Workbook
Name AgencyCode: #REF!
Name AgencyCode: #REF!
Name AgencyCode: #REF!
Name AgencyCode: #REF!
Name AgencyCode: #REF!
Name AgencyCode: #REF!
Name AgencyCode: #REF!
Name AgencyCode: #REF!
Name AgencyCode: #REF!
Name AgencyName: #REF!
Name AgencyName: #REF!
Name AgencyName: #REF!
Name AgencyName: #REF!
Name AgencyName: #REF!
Name AgencyName: #REF!
Name åû: #REF!
Name åû: #REF!
Name åû: #REF!
Name åû: #REF!
Name davit: #REF!
Name davit: #REF!
Name davit: #REF!
Name davit: #REF!
Name Functional1: #REF!
Name Functional1: #REF!
Name Functional1: #REF!
Name Functional1: #REF!
Name Functional1: #REF!
Name Functional1: #REF!
Name ggg: #REF!
Name ggg: #REF!
Name ggg: #REF!
Name ggg: #REF!
Name mas: #REF!
Name mas: #REF!
Name mas: #REF!
Name mas: #REF!
Name mass: #REF!
Name mass: #REF!
Name mass: #REF!
Name mass: #REF!
Name PANature: #REF!
Name PANature: #REF!
Name PANature: #REF!
Name PANature: #REF!
Name PANature: #REF!
Name PANature: #REF!
Name PAType: #REF!
Name PAType: #REF!
Name PAType: #REF!
Name PAType: #REF!
Name PAType: #REF!
Name PAType: #REF!
Name Performance2: #REF!
Name Performance2: #REF!
Name Performance2: #REF!
Name Performance2: #REF!
Name Performance2: #REF!
Name Performance2: #REF!
Name PerformanceType: #REF!

Sheet 1.
B1: Հավելված N 1
B2: ՀՀ կառավարության 2022 թվականի
B3: ______________ ի ___Ն որոշման
A5: «ՀԱՅԱՍՏԱՆԻ ՀԱՆՐԱՊԵՏՈՒԹՅԱՆ 2022 ԹՎԱԿԱՆԻ ՊԵՏԱԿԱՆ ԲՅՈՒՋԵԻ ՄԱՍԻՆ» ՕՐԵՆՔԻ N 2 ՀՈԴՎԱԾԻ ԱՂՅՈՒՍԱԿՈՒՄ ԿԱՏԱՐՎՈՂ ՓՈՓՈԽՈՒԹՅՈՒՆՆԵՐԸ
B7: հազար դրամներով
B8: Ցուցանիշների փոփոխությունը (նվազեցումները նշված են փակագծերում)
A9: 1. Եկամուտների գծով | B9: =+'2.'!C12 -> -7249492.9
A10: 2. Ծախսերի գծով | B10: =+'8.'!F11 -> -18750808
A11: 3. Դեֆիցիտը (պակասուրդը) | B11: =-B9+B10 -> -11501315

Sheet 2.
C1: Հավելված N 2
C2: ՀՀ կառավարության 2022 թվականի
C3: ______________ ի ___Ն որոշման
A5: «ՀԱՅԱՍՏԱՆԻ ՀԱՆՐԱՊԵՏՈՒԹՅԱՆ 2022 ԹՎԱԿԱՆԻ ՊԵՏԱԿԱՆ ԲՅՈՒՋԵԻ ՄԱՍԻՆ» ՕՐԵՆՔԻ N 6 ՀՈԴՎԱԾԻ ԱՂՅՈՒՍԱԿՈՒՄ ԵՎ ՀԱՅԱՍՏԱՆԻ ՀԱՆՐԱՊԵՏՈՒԹՅԱՆ ԿԱՌԱՎԱՐՈՒԹՅԱՆ 2021 ԹՎԱԿԱՆԻ ԴԵԿՏԵՄԲԵՐԻ 23-Ի N 2121-Ն ՈՐՈՇՄԱՆ N 2 ՀԱՎԵԼՎԱԾՈՒՄ ԿԱՏԱՐՎՈՂ ՓՈՓՈԽՈՒԹՅՈՒՆՆԵՐԸ
C9: հազար դրամներով
A10: Եկամտատեսակ | B10: Ցուցանիշների փոփոխությունը (նվազեցումները նշված են փակագծերում)
B11: Ինն ամիս | C11: Տարի
A12: ՊԵՏԱԿԱՆ ԲՅՈՒՋԵԻ ԵԿԱՄՈՒՏՆԵՐ | B12: =+B14+B15 -> -5474224.1 | C12: =+C14+C15 -> -7249492.9
A13: այդ թվում`
A14: Հարկային եկամուտներ և պետական տուրքեր | B14: =+'10.'!G11+'11.'!G11 -> 0 | C14: =+'10.'!J11+'11.'!J11 -> 0
A15: Պաշտոնական դրամաշնորհներ | B15: =+'11.'!F11 -> -5474224.1 | C15: =+'11.'!I11 -> -7249492.9

Sheet 3.
C1: Հավելված N 3
C2: ՀՀ կառավարության 2022 թվականի
C3: ______________ ի ___Ն որոշման
A5: ՀԱՅԱՍՏԱՆԻ ՀԱՆՐԱՊԵՏՈՒԹՅԱՆ ԿԱՌԱՎԱՐՈՒԹՅԱՆ 2021 ԹՎԱԿԱՆԻ ԴԵԿՏԵՄԲԵՐԻ 23-Ի N 2121-Ն ՈՐՈՇՄԱՆ N 1 ՀԱՎԵԼՎԱԾԻ N 1 ԱՂՅՈՒՍԱԿՈՒՄ ԿԱՏԱՐՎՈՂ ՓՈՓՈԽՈՒԹՅՈՒՆՆԵՐԸ
C7: հազ. դրամ
A8: Պետական բյուջեի դեֆիցիտի ֆինանսավորման աղբյուրներն ու դրանց տարրերի անվանումները | B8: Ցուցանիշների փոփոխությունը (ավելացումները նշված են դրական նշանով, իսկ նվազեցումները` փակագծերում)
B9: Ինն ամիս | C9: Տարի
A10: ԸՆԴԱՄԵՆԸ | B10: =+B12+B20 -> -11501315 | C10: =+C12+C20 -> -11501315
A11: այդ թվում՝
A12: Ա.Ներքին աղբյուրներ-ընդամենը | B12: =+B14 -> 7835926.2 | C12: =+C14 -> 31766660
A13: այդ թվում՝
A14: 2. Ֆինանսական զուտ ակտիվներ | B14: =+B16+B17 -> 7835926.2 | C14: =+C16+C17 -> 31766660
A15: այդ թվում՝
A16: 2.3. Ելքերի ֆինանսավորմանն ուղղվող միջոցներ | B16: =+'6.'!E9+'5.'!F11 -> -20619365 | C16: =+'6.'!F9+'5.'!I11 -> -27534474
A17: 2.4. Վարկերի և փոխատվությունների տրամադրում | B17: =+B18+B19 -> 28455291 | C17: =+C18+C19 -> 59301134
A18: - Արտաքին աղբյուրների աջակցությամբ իրականացվող նպատակային ծրագրերի շրջանակներում ենթավարկերի տրամադրում այդ ծրագրերում ներգրաված տնտեսվարող սուբյեկտներին | B18: =-'5.'!D11 -> 8955291.4 | C18: =-'5.'!G11 -> 39801134
A19: - Բյուջետային վարկերի տրամադրում տնտեսվարող սուբյեկտներին | B19: =-'6.'!E9 -> 19500000 | C19: =-'6.'!F9 -> 19500000
A20: Բ. Արտաքին աղբյուրներ - ընդամենը | B20: =+B22 -> -19337241 | C20: =+C22 -> -43267975
A21: այդ թվում
A22: 1. Փոխառու զուտ միջոցներ | B22: =+B24 -> -19337241 | C22: =+C24 -> -43267975
A23: այդ թվում՝
A24: 1.1. Վարկերի և փոխատվությունների ստացում | B24: =+B26 -> -19337241 | C24: =+C26 -> -43267975
A25: որից`
A26: նպատակային վարկերի գծով | B26: =+'10.'!F11+'5.'!E11 -> -19337241 | C26: =+'10.'!I11+'5.'!H11 -> -43267975

Sheet 4.
F1: Հավելված N 4
F2: ՀՀ կառավարության 2022 թվականի
F3: ______________ ի ___Ն որոշման
B5: ՀԱՅԱՍՏԱՆԻ ՀԱՆՐԱՊԵՏՈՒԹՅԱՆ ԿԱՌԱՎԱՐՈՒԹՅԱՆ 2021 ԹՎԱԿԱՆԻ ԴԵԿՏԵՄԲԵՐԻ 23-Ի N 2121-Ն ՈՐՈՇՄԱՆ N 1 ՀԱՎԵԼՎԱԾԻ N 2 ԱՂՅՈՒՍԱԿՈՒՄ ԿԱՏԱՐՎՈՂ ՓՈՓՈԽՈՒԹՅՈՒՆՆԵՐԸ
F6: հազ. դրամ
B7: Ծրագրային դասիչ | D7: Բյուջետային գլխավոր կարգադրիչների, ծրագրերի և միջոցառումների անվանումները | E7: Ցուցանիշների փոփոխությունը (նվազեցումները նշված են փակագծերում)
B8: Ծրագիր | C8: Միջոցառում | E8: Ինն ամիս | F8: Տարի
D9: ԸՆԴԱՄԵՆԸ այդ թվում | E9: =+E10 -> -28455291 | F9: =+F10 -> -59301134
D10: ՀՀ տարածքային կառավարման և ենթակառուցվածքների նախարարություն | E10: =+E11+E27+E47 -> -28455291 | F10: =+F11+F27+F47 -> -59301134
B11: 1040 | D11: Ծրագրի անվանումը՝ Կոշտ թափոնների կառավարում | E11: =E15+E19+E23 -> -2598546.3 | F11: =F15+F19+F23 -> -2598546.3
D12: Ծրագրի նպատակը՝ Կենցաղային թափոնների արդյունավետ կառավարում սոցիալական և բնապահպանական խնդիրների լուծում
D13: Վերջնական արդյունքի նկարագրությունը՝ Կենցաղային թափոնների արդյունավետ կառավարում
B14: Ֆինանսական ակտիվների կառավարման միջոցառումներ
C15: 42001 | D15: Միջոցառման անվանումը՝ Վերակառուցման և զարգացման եվրոպական բանկի աջակցությամբ իրականացվող Կոտայքի և Գեղարքունիքի մարզերի կոշտ թափոնների կառավարման ծրագրի շրջանակներում ենթավարկի տրամադրում «Կոտայքի և Գեղարքունիքի Կոշտ կենցաղային թափոնների կառավարում» ՍՊԸ-ին | E15: ='5.'!D16 -> -1001008.1 | F15: ='5.'!G16 -> -1001008.1
D16: Միջոցառման նկարագրությունը՝ Կոշտ թափոնների կառավարման համակարգի բարելավում և նոր աղբավայրի ստեղծում
D17: Միջոցառման տեսակը՝
D18: Վարկերի տրամադրում
C19: 42002 | D19: Միջոցառման անվանումը՝ Վերակառուցման և զարգացման եվրոպական բանկի աջակցությամբ իրականացվող Երևանի կոշտ թափոնների կառավարման ծրագրի շրջանակներում ենթավարկի տրամադրում «Երևանի քաղաքային նոր աղբավայր» ՓԲԸ-ին | E19: ='5.'!D24 -> -798769.1 | F19: ='5.'!G24 -> -798769.1
D20: Միջոցառման նկարագրությունը՝ Կոշտ թափոնների կառավարման համակարգի բարելավում և նոր աղբավայրի ստեղծում
D21: Միջոցառման տեսակը՝
D22: Վարկերի տրամադրում
C23: 42003 | D23: Միջոցառման անվանումը՝ Եվրոպական ներդրումային բանկի աջակցությամբ իրականացվող Երևանի կոշտ թափոնների կառավարման ծրագրի շրջանակներում ենթավարկի տրամադրում «Երևանի քաղաքային նոր աղբավայր» ՓԲԸ-ին | E23: ='5.'!D32 -> -798769.1 | F23: ='5.'!G32 -> -798769.1
D24: Միջոցառման նկարագրությունը՝ Կոշտ թափոնների կառավարման համակարգի բարելավում և նոր աղբավայրի ստեղծում
D25: Միջոցառման տեսակը՝
D26: Վարկերի տրամադրում
B27: 1157 | D27: Ծրագրի անվանումը՝ Քաղաքային զարգացում | E27: =E35+E39+E43+E31 -> -3874305.9 | F27: =F35+F39+F43+F31 -> -10419004
D28: Ծրագրի նպատակը՝ Քաղաքային ենթակառուցվածքների զարգացում
D29: Վերջնական արդյունքի նկարագրությունը՝ Քաղաքային ենթակառուցվածքների արդիականացում և բարելավում
B30: Ֆինանսական ակտիվների կառավարման միջոցառումներ
C31: 42001 | D31: Միջոցառման անվանումը՝ Վերակառուցման և զարգացման եվրոպական բանկի աջակցությամբ իրականացվող Երևանի քաղաքային լուսավորության ծրագրի շրջանակներում ենթավարկի տրամադրում «Երքաղլույս» ՓԲԸ-ին | E31: ='5.'!D41 -> -825228.8 | F31: ='5.'!G41 -> -825228.8
D32: Միջոցառման նկարագրությունը՝ ՀՀ համայնքներին քաղաքային լուսավորության ենթակառուցվածքի բարելավման համար տրամադրվող աջակցություն և ծառայություն
D33: Միջոցառման տեսակը՝
D34: Վարկերի տրամադրում
C35: 42002 | D35: Միջոցառման անվանումը՝ Վերակառուցման և զարգացման եվրոպական բանկի աջակցությամբ իրականացվող Երևանի մետրոպոլիտենի վերակառուցման երկրորդ ծրագրի շրջանակներում ենթավարկի տրամադրում «Երևանի մետրոպոլիտեն» ՓԲԸ-ին | E35: ='5.'!D49 -> -50283.9 | F35: ='5.'!G49 -> -50283.9
D36: Միջոցառման նկարագրությունը՝ Երևանի մետրոպոլիտենի վերակառուցում
D37: Միջոցառման տեսակը՝
D38: Վարկերի տրամադրում
C39: 42003 | D39: Միջոցառման անվանումը՝ Եվրոպական ներդրումային բանկի աջակցությամբ իրականացվող Երևանի մետրոպոլիտենի վերակառուցման երկրորդ ծրագրի շրջանակներում ենթավարկի տրամադրում «Երևանի մետրոպոլիտեն» ՓԲԸ-ին | E39: ='5.'!D57 -> -451473.2 | F39: ='5.'!G59 -> -708770.8
D40: Միջոցառման նկարագրությունը՝ Երևանի մետրոպոլիտենի վերակառուցում
D41: Միջոցառման տեսակը՝
D42: Վարկերի տրամադրում
C43: 42004 | D43: Միջոցառման անվանումը՝ Վերակառուցման և զարգացման եվրոպական բանկի աջակցությամբ իրականացվող Երևան քաղաքի հանրային տրանսպորտի նոր երթուղային ցանցի շարժակազմերի ներդրման ֆինանսական աջակցության ծրագրի շրջանակներում ենթավարկի տրամադրում | E43: ='5.'!D65 -> -2547320 | F43: ='5.'!G65 -> -8834720
D44: Միջոցառման նկարագրությունը՝ Ավտոբուսների ձեռքբերում
D45: Միջոցառման տեսակը՝
D46: Վարկերի տրամադրում
B47: 1167 | D47: Ծրագրի անվանումը՝ Էլեկտրաէներգետիկ համակարգի զարգացման ծրագիր | E47: =+E51+E55+E63+E59+E68 -> -21982439 | F47: =+F51+F55+F63+F59+F68 -> -46283584
D48: Ծրագրի նպատակը՝ Նպաստել էլեկտրաէներգետիկ համակարգի հուսալիության բարձրացմանը և էլեկտրաէներգիայի անխափան մատակարարման ապահովմանը
D49: Վերջնական արդյունքի նկարագրությունը՝ Հուսալի և անվտանգ էլեկտրամատակարարման ապահովում
B50: Ֆինանսական ակտիվների կառավարման միջոցառումներ
C51: 42003 | D51: Միջոցառման անվանումը՝ Վերակառուցման և զարգացման միջազգային բանկի աջակցությամբ իրականացվող էլեկտրամատակարարման հուսալիության ծրագրի լրացուցիչ ֆինանսավորման ծրագրի շրջանակներում ենթավարկի տրամադրում «Բարձրավոլտ էլեկտրացանցեր» ՓԲԸ-ին | E51: -1389443.6 | F51: -1969269.5
D52: Միջոցառման նկարագրությունը՝ Էլեկտրամատակարարման հուսալիության ծրագրի լրացուցիչ ֆինանսավորման ծրագրի շրջանակներում «Հաղթանակ» 220կՎ, «Չարենցավան-3», «Վանաձոր-1» 110կՎ, «Զովունի» 220կՎ ենթակայանների ֆիզիկապես և բարոյապես մաշված սարքավորումների փոխարինում
D53: Միջոցառման տեսակը՝
D54: Վարկերի տրամադրում
C55: 42005 | D55: Միջոցառման անվանումը՝ Վերակառուցման և զարգացման միջազգային բանկի աջակցությամբ իրականացվող «Աշնակ» և «Արարատ» ենթակայանների վերակառուցման ծրագրի շրջանակներում ենթավարկի տրամադրում «Բարձրավոլտ էլեկտրացանցեր» ՓԲԸ- ին | E55: -772894.61 | F55: -925927.6
D56: Միջոցառման նկարագրությունը՝ Էլեկտրահաղորդման ցանցի բարելավման ծրագրի շրջանակներում 30 և ավելի տարիներ շահագործման մեջ գտնվող 220 կՎ «Աշնակ» և 40 և ավելի տարիներ շահագործման մեջ գտնվող 220 կՎ «Արարատ-2» ենթակայանների վերակառուցում
D57: Միջոցառման տեսակը՝
D58: Վարկերի տրամադրում
C59: 42007 | D59: Միջոցառման անվանումը՝ Ասիական զարգացման բանկի աջակցությամբ իրականացվող Կարգավարման կառավարման ավտոմատացված համակարգի (SCADA) ընդլայնման ծրագրի շրջանակներում ենթավարկի տրամադրում «Էլեկտրաէներգետիկական համակարգի օպերատոր» ՓԲԸ-ին | E59: =+'5.'!D90 -> -216086 | F59: =+'5.'!G90 -> -216086
D60: Միջոցառման նկարագրությունը՝ Կարգավարման կառավարման ավտոմատացված համակարգի (SCADA) ընդլայնման և պահուստային կարգավարական կառավարման կենտրոնի կառուցում
D61: Միջոցառման տեսակը՝
D62: Վարկերի տրամադրում
C63: 42008 | D63: Միջոցառման անվանումը՝ Գերմանիայի զարգացման վարկերի բանկի (KFW) աջակցությամբ իրականացվող «Կովկասյան էլեկտրահաղորդման ցանց I» Հայաստան-Վրաստան հաղորդիչ գիծ/ենթակայանների վարկային ծրագրի շրջանակներում ենթավարկի տրամադրում «Բարձրավոլտ էլեկտրացանցեր» ՓԲԸ- ին | E63: ='5.'!D98 -> -104015 | F63: ='5.'!G98 -> -23672301
D65: Միջոցառման նկարագրությունը՝ Հայաստան-Վրաստան 400 կՎ լարման էլեկտրահաղորդման օդային գծի և համապատասխան ենթակայանների կառուցում
D66: Միջոցառման տեսակը՝
D67: Վարկերի տրամադրում
C68: 42009 | D68: Միջոցառման անվանումը՝ «Հայկական ատոմային էլեկտրակայան» ՓԲԸ-ին տրամադրվող բյուջետային վարկ | E68: ='6.'!E12 -> -19500000 | F68: ='6.'!F12 -> -19500000
D70: Միջոցառման նկարագրությունը՝ Բյուջետային վարկի տրամադրում
D71: Միջոցառման տեսակը՝
D72: Վարկերի տրամադրում

Sheet 5.
I1: Հավելված N 5
I2: ՀՀ կառավարության 2022 թվականի
I3: ______________ ի ___Ն որոշման
A5: ՀԱՅԱՍՏԱՆԻ ՀԱՆՐԱՊԵՏՈՒԹՅԱՆ ԿԱՌԱՎԱՐՈՒԹՅԱՆ 2021 ԹՎԱԿԱՆԻ ԴԵԿՏԵՄԲԵՐԻ 23-Ի N 2121-Ն ՈՐՈՇՄԱՆ N 1 ՀԱՎԵԼՎԱԾԻ N 3 ԱՂՅՈՒՍԱԿՈՒՄ ԿԱՏԱՐՎՈՂ ՓՈՓՈԽՈՒԹՅՈՒՆՆԵՐԸ
I6: հազ. դրամ
A7: Ծրագրային դասիչ | C7: Բյուջետային գլխավոր կարգադրիչների, ծրագրերի և միջոցառումների անվանումները | D7: Ցուցանիշների փոփոխությունը (նվազեցումները նշված են փակագծերում)
D8: Ինն ամիս | G8: Տարի
D9: Ընդամենը | E9: այդ թվում | G9: Ընդամենը | H9: այդ թվում
A10: Ծրագիր | B10: Միջոցառում | E10: Վարկային միջոցներ | F10: Համաֆինանսավորում | H10: Վարկային միջոցներ | I10: Համաֆինանսավորում
C11: ԸՆԴԱՄԵՆԸ | D11: =D13 -> -8955291.4 | E11: =E13 -> -7835926.2 | F11: =F13 -> -1119365.2 | G11: =G13 -> -39801134 | H11: =H13 -> -31766660 | I11: =I13 -> -8034473.5
C12: այդ թվում՝
C13: ՀՀ ՏԱՐԱԾՔԱՅԻՆ ԿԱՌԱՎԱՐՄԱՆ ԵՎ ԵՆԹԱԿԱՌՈՒՑՎԱԾՔՆԵՐԻ ՆԱԽԱՐԱՐՈՒԹՅՈՒՆ | D13: =D14+D40+D73 -> -8955291.4 | E13: =E14+E40+E73 -> -7835926.2 | F13: =F14+F40+F73 -> -1119365.2 | G13: =G14+G40+G73 -> -39801134 | H13: =H14+H40+H73 -> -31766660 | I13: =I14+I40+I73 -> -8034473.5
A14: 1040 | C14: Կոշտ թափոնների կառավարում | D14: =D16+D24+D32 -> -2598546.3 | E14: =E16+E24+E32 -> -2170640.3 | F14: =F16+F24+F32 -> -427906 | G14: =G16+G24+G32 -> -2598546.3 | H14: =H16+H24+H32 -> -2170640.3 | I14: =I16+I24+I32 -> -427906
C15: այդ թվում`
B16: 42001 | C16: Վերակառուցման և զարգացման եվրոպական բանկի աջակցությամբ իրականացվող Կոտայքի և Գեղարքունիքի մարզերի կոշտ թափոնների կառավարման ծրագրի շրջանակներում ենթավարկի տրամադրում «Կոտայքի և Գեղարքունիքի Կոշտ կենցաղային թափոնների կառավարում» ՍՊԸ-ին | D16: =D18 -> -1001008.1 | E16: =E18 -> -839358.5 | F16: =F18 -> -161649.6 | G16: =G18 -> -1001008.1 | H16: =H18 -> -839358.5 | I16: =I18 -> -161649.6
C17: այդ թվում՝ ըստ կատարողների
C18: ՀՀ տարածքային կառավարման և ենթակառուցվածքների նախարարություն | D18: =D20 -> -1001008.1 | E18: =E20 -> -839358.5 | F18: =F20 -> -161649.6 | G18: =G20 -> -1001008.1 | H18: =H20 -> -839358.5 | I18: =I20 -> -161649.6
C19: այդ թվում՝ ըստ տնտեսագիտական դասակարգման հոդվածների՝
C20: ՀԻՄՆԱԿԱՆ ԳՈՒՄԱՐԻ ՄԱՐՄԱՆ ԵՎ ՖԻՆԱՆՍԱԿԱՆ ԱԿՏԻՎՆԵՐԻ ՁԵՌՔԲԵՐՄԱՆ ԳԾՈՎ ԾԱԽՍԵՐ, այդ թվում` | D20: =D21 -> -1001008.1 | E20: =E21 -> -839358.5 | F20: =F21 -> -161649.6 | G20: =G21 -> -1001008.1 | H20: =H21 -> -839358.5 | I20: =I21 -> -161649.6
C21: ՖԻՆԱՆՍԱԿԱՆ ԱԿՏԻՎՆԵՐԻ ՁԵՌՔԲԵՐՈՒՄ, այդ թվում | D21: =D22 -> -1001008.1 | E21: =E22 -> -839358.5 | F21: =F22 -> -161649.6 | G21: =G22 -> -1001008.1 | H21: =H22 -> -839358.5 | I21: =I22 -> -161649.6
C22: ՆԵՐՔԻՆ ՖԻՆԱՆՍԱԿԱՆ ԱԿՏԻՎՆԵՐԻ ՁԵՌՔԲԵՐՈՒՄ, այդ թվում` | D22: =D23 -> -1001008.1 | E22: =E23 -> -839358.5 | F22: =F23 -> -161649.6 | G22: =G23 -> -1001008.1 | H22: =H23 -> -839358.5 | I22: =I23 -> -161649.6
C23: Ներքին վարկեր և փոխատվություններ | D23: =E23+F23 -> -1001008.1 | E23: -839358.5 | F23: -161649.6 | G23: =H23+I23 -> -1001008.1 | H23: =E23 -> -839358.5 | I23: =F23 -> -161649.6
B24: 42002 | C24: Վերակառուցման և զարգացման եվրոպական բանկի աջակցությամբ իրականացվող Երևանի կոշտ թափոնների կառավարման ծրագրի շրջանակներում ենթավարկի տրամադրում «Երևանի քաղաքային նոր աղբավայր» ՓԲԸ-ին | D24: =D26 -> -798769.1 | E24: =E26 -> -665640.9 | F24: =F26 -> -133128.2 | G24: =G26 -> -798769.1 | H24: =H26 -> -665640.9 | I24: =I26 -> -133128.2
C25: այդ թվում՝ ըստ կատարողների
C26: ՀՀ տարածքային կառավարման և ենթակառուցվածքների նախարարություն | D26: =D28 -> -798769.1 | E26: =E28 -> -665640.9 | F26: =F28 -> -133128.2 | G26: =G28 -> -798769.1 | H26: =H28 -> -665640.9 | I26: =I28 -> -133128.2
C27: այդ թվում՝ ըստ տնտեսագիտական դասակարգման հոդվածների՝
C28: ՀԻՄՆԱԿԱՆ ԳՈՒՄԱՐԻ ՄԱՐՄԱՆ ԵՎ ՖԻՆԱՆՍԱԿԱՆ ԱԿՏԻՎՆԵՐԻ ՁԵՌՔԲԵՐՄԱՆ ԳԾՈՎ ԾԱԽՍԵՐ, այդ թվում` | D28: =D29 -> -798769.1 | E28: =E29 -> -665640.9 | F28: =F29 -> -133128.2 | G28: =G29 -> -798769.1 | H28: =H29 -> -665640.9 | I28: =I29 -> -133128.2
C29: ՖԻՆԱՆՍԱԿԱՆ ԱԿՏԻՎՆԵՐԻ ՁԵՌՔԲԵՐՈՒՄ, այդ թվում | D29: =D30 -> -798769.1 | E29: =E30 -> -665640.9 | F29: =F30 -> -133128.2 | G29: =G30 -> -798769.1 | H29: =H30 -> -665640.9 | I29: =I30 -> -133128.2
C30: ՆԵՐՔԻՆ ՖԻՆԱՆՍԱԿԱՆ ԱԿՏԻՎՆԵՐԻ ՁԵՌՔԲԵՐՈՒՄ, այդ թվում` | D30: =D31 -> -798769.1 | E30: =E31 -> -665640.9 | F30: =F31 -> -133128.2 | G30: =G31 -> -798769.1 | H30: =H31 -> -665640.9 | I30: =I31 -> -133128.2
C31: Ներքին վարկեր և փոխատվություններ | D31: =E31+F31 -> -798769.1 | E31: -665640.9 | F31: -133128.2 | G31: =H31+I31 -> -798769.1 | H31: -665640.9 | I31: -133128.2
B32: 42003 | C32: Եվրոպական ներդրումային բանկի աջակցությամբ իրականացվող Երևանի կոշտ թափոնների կառավարման ծրագրի շրջանակներում ենթավարկի տրամադրում «Երևանի քաղաքային նոր աղբավայր» ՓԲԸ-ին | D32: =D34 -> -798769.1 | E32: =E34 -> -665640.9 | F32: =F34 -> -133128.2 | G32: =G34 -> -798769.1 | H32: =H34 -> -665640.9 | I32: =I34 -> -133128.2
C33: այդ թվում՝ ըստ կատարողների
C34: ՀՀ տարածքային կառավարման և ենթակառուցվածքների նախարարություն | D34: =D36 -> -798769.1 | E34: =E36 -> -665640.9 | F34: =F36 -> -133128.2 | G34: =G36 -> -798769.1 | H34: =H36 -> -665640.9 | I34: =I36 -> -133128.2
C35: այդ թվում՝ ըստ տնտեսագիտական դասակարգման հոդվածների՝
C36: ՀԻՄՆԱԿԱՆ ԳՈՒՄԱՐԻ ՄԱՐՄԱՆ ԵՎ ՖԻՆԱՆՍԱԿԱՆ ԱԿՏԻՎՆԵՐԻ ՁԵՌՔԲԵՐՄԱՆ ԳԾՈՎ ԾԱԽՍԵՐ, այդ թվում` | D36: =D37 -> -798769.1 | E36: =E37 -> -665640.9 | F36: =F37 -> -133128.2 | G36: =G37 -> -798769.1 | H36: =H37 -> -665640.9 | I36: =I37 -> -133128.2
C37: ՖԻՆԱՆՍԱԿԱՆ ԱԿՏԻՎՆԵՐԻ ՁԵՌՔԲԵՐՈՒՄ, այդ թվում | D37: =D38 -> -798769.1 | E37: =E38 -> -665640.9 | F37: =F38 -> -133128.2 | G37: =G38 -> -798769.1 | H37: =H38 -> -665640.9 | I37: =I38 -> -133128.2
C38: ՆԵՐՔԻՆ ՖԻՆԱՆՍԱԿԱՆ ԱԿՏԻՎՆԵՐԻ ՁԵՌՔԲԵՐՈՒՄ, այդ թվում` | D38: =D39 -> -798769.1 | E38: =E39 -> -665640.9 | F38: =F39 -> -133128.2 | G38: =G39 -> -798769.1 | H38: =H39 -> -665640.9 | I38: =I39 -> -133128.2
C39: Ներքին վարկեր և փոխատվություններ | D39: =E39+F39 -> -798769.1 | E39: -665640.9 | F39: -133128.2 | G39: =H39+I39 -> -798769.1 | H39: -665640.9 | I39: -133128.2
A40: 1157 | C40: Քաղաքային զարգացում | D40: =E40+F40 -> -3874305.9 | E40: =E49+E57+E65+E41 -> -3620506.3 | F40: =F49+F57+F65+F41 -> -253799.6 | G40: =H40+I40 -> -10419004 | H40: =H49+H57+H65+H41 -> -10122321 | I40: =I49+I57+I65+I41 -> -296682.6
B41: 42001 | C41: Վերակառուցման և զարգացման եվրոպական բանկի աջակցությամբ իրականացվող Երևանի քաղաքային լուսավորության ծրագրի շրջանակներում ենթավարկի տրամադրում «Երքաղլույս» ՓԲԸ-ին | D41: =D43 -> -825228.8 | E41: =E43 -> -661948.4 | F41: =F43 -> -163280.4 | G41: =G43 -> -825228.8 | H41: =H43 -> -661948.4 | I41: =I43 -> -163280.4
C42: այդ թվում՝ ըստ կատարողների
C43: ՀՀ տարածքային կառավարման և ենթակառուցվածքների նախարարություն | D43: =D45 -> -825228.8 | E43: =E45 -> -661948.4 | F43: =F45 -> -163280.4 | G43: =G45 -> -825228.8 | H43: =H45 -> -661948.4 | I43: =I45 -> -163280.4
C44: այդ թվում՝ ըստ տնտեսագիտական դասակարգման հոդվածների՝
C45: ՀԻՄՆԱԿԱՆ ԳՈՒՄԱՐԻ ՄԱՐՄԱՆ ԵՎ ՖԻՆԱՆՍԱԿԱՆ ԱԿՏԻՎՆԵՐԻ ՁԵՌՔԲԵՐՄԱՆ ԳԾՈՎ ԾԱԽՍԵՐ, այդ թվում` | D45: =D46 -> -825228.8 | E45: =E46 -> -661948.4 | F45: =F46 -> -163280.4 | G45: =G46 -> -825228.8 | H45: =H46 -> -661948.4 | I45: =I46 -> -163280.4
C46: ՖԻՆԱՆՍԱԿԱՆ ԱԿՏԻՎՆԵՐԻ ՁԵՌՔԲԵՐՈՒՄ, այդ թվում | D46: =D47 -> -825228.8 | E46: =E47 -> -661948.4 | F46: =F47 -> -163280.4 | G46: =G47 -> -825228.8 | H46: =H47 -> -661948.4 | I46: =I47 -> -163280.4
C47: ՆԵՐՔԻՆ ՖԻՆԱՆՍԱԿԱՆ ԱԿՏԻՎՆԵՐԻ ՁԵՌՔԲԵՐՈՒՄ, այդ թվում` | D47: =D48 -> -825228.8 | E47: =E48 -> -661948.4 | F47: =F48 -> -163280.4 | G47: =G48 -> -825228.8 | H47: =H48 -> -661948.4 | I47: =I48 -> -163280.4
C48: Ներքին վարկեր և փոխատվություններ | D48: =E48+F48 -> -825228.8 | E48: -661948.4 | F48: -163280.4 | G48: =H48+I48 -> -825228.8 | H48: =E48 -> -661948.4 | I48: =F48 -> -163280.4
B49: 42002 | C49: Վերակառուցման և զարգացման եվրոպական բանկի աջակցությամբ իրականացվող Երևանի մետրոպոլիտենի վերակառուցման երկրորդ ծրագրի շրջանակներում ենթավարկի տրամադրում «Երևանի մետրոպոլիտեն» ՓԲԸ-ին | D49: =D51 -> -50283.9 | E49: =E51 -> -35010.2 | F49: =F51 -> -15273.7 | G49: =G51 -> -50283.9 | H49: =H51 -> -35010.2 | I49: =I51 -> -15273.7
C50: այդ թվում՝ ըստ կատարողների
C51: ՀՀ տարածքային կառավարման և ենթակառուցվածքների նախարարություն | D51: =D53 -> -50283.9 | E51: =E53 -> -35010.2 | F51: =F53 -> -15273.7 | G51: =G53 -> -50283.9 | H51: =H53 -> -35010.2 | I51: =I53 -> -15273.7
C52: այդ թվում՝ ըստ տնտեսագիտական դասակարգման հոդվածների՝
C53: ՀԻՄՆԱԿԱՆ ԳՈՒՄԱՐԻ ՄԱՐՄԱՆ ԵՎ ՖԻՆԱՆՍԱԿԱՆ ԱԿՏԻՎՆԵՐԻ ՁԵՌՔԲԵՐՄԱՆ ԳԾՈՎ ԾԱԽՍԵՐ, այդ թվում` | D53: =D54 -> -50283.9 | E53: =E54 -> -35010.2 | F53: =F54 -> -15273.7 | G53: =G54 -> -50283.9 | H53: =H54 -> -35010.2 | I53: =I54 -> -15273.7
C54: ՖԻՆԱՆՍԱԿԱՆ ԱԿՏԻՎՆԵՐԻ ՁԵՌՔԲԵՐՈՒՄ, այդ թվում | D54: =D55 -> -50283.9 | E54: =E55 -> -35010.2 | F54: =F55 -> -15273.7 | G54: =G55 -> -50283.9 | H54: =H55 -> -35010.2 | I54: =I55 -> -15273.7
C55: ՆԵՐՔԻՆ ՖԻՆԱՆՍԱԿԱՆ ԱԿՏԻՎՆԵՐԻ ՁԵՌՔԲԵՐՈՒՄ, այդ թվում` | D55: =D56 -> -50283.9 | E55: =E56 -> -35010.2 | F55: =F56 -> -15273.7 | G55: =G56 -> -50283.9 | H55: =H56 -> -35010.2 | I55: =I56 -> -15273.7
C56: Ներքին վարկեր և փոխատվություններ | D56: =E56+F56 -> -50283.9 | E56: -35010.2 | F56: -15273.7 | G56: =H56+I56 -> -50283.9 | H56: =E56 -> -35010.2 | I56: =F56 -> -15273.7
B57: 42003 | C57: Եվրոպական ներդրումային բանկի աջակցությամբ իրականացվող Երևանի մետրոպոլիտենի վերակառուցման երկրորդ ծրագրի շրջանակներում ենթավարկի տրամադրում «Երևանի մետրոպոլիտեն» ՓԲԸ-ին | D57: =D59 -> -451473.2 | E57: =E59 -> -376227.7 | F57: =F59 -> -75245.5 | G57: =G59 -> -708770.8 | H57: =H59 -> -590642.3 | I57: =I59 -> -118128.5
C58: այդ թվում՝ ըստ կատարողների
C59: ՀՀ տարածքային կառավարման և ենթակառուցվածքների նախարարություն | D59: =D61 -> -451473.2 | E59: =E61 -> -376227.7 | F59: =F61 -> -75245.5 | G59: =G61 -> -708770.8 | H59: =H61 -> -590642.3 | I59: =I61 -> -118128.5
C60: այդ թվում՝ ըստ տնտեսագիտական դասակարգման հոդվածների՝
C61: ՀԻՄՆԱԿԱՆ ԳՈՒՄԱՐԻ ՄԱՐՄԱՆ ԵՎ ՖԻՆԱՆՍԱԿԱՆ ԱԿՏԻՎՆԵՐԻ ՁԵՌՔԲԵՐՄԱՆ ԳԾՈՎ ԾԱԽՍԵՐ, այդ թվում` | D61: =D62 -> -451473.2 | E61: =E62 -> -376227.7 | F61: =F62 -> -75245.5 | G61: =G62 -> -708770.8 | H61: =H62 -> -590642.3 | I61: =I62 -> -118128.5
C62: ՖԻՆԱՆՍԱԿԱՆ ԱԿՏԻՎՆԵՐԻ ՁԵՌՔԲԵՐՈՒՄ, այդ թվում | D62: =D63 -> -451473.2 | E62: =E63 -> -376227.7 | F62: =F63 -> -75245.5 | G62: =G63 -> -708770.8 | H62: =H63 -> -590642.3 | I62: =I63 -> -118128.5
C63: ՆԵՐՔԻՆ ՖԻՆԱՆՍԱԿԱՆ ԱԿՏԻՎՆԵՐԻ ՁԵՌՔԲԵՐՈՒՄ, այդ թվում` | D63: =D64 -> -451473.2 | E63: =E64 -> -376227.7 | F63: =F64 -> -75245.5 | G63: =G64 -> -708770.8 | H63: =H64 -> -590642.3 | I63: =I64 -> -118128.5
C64: Ներքին վարկեր և փոխատվություններ | D64: =E64+F64 -> -451473.2 | E64: -376227.7 | F64: -75245.5 | G64: =H64+I64 -> -708770.8 | H64: -590642.3 | I64: -118128.5
B65: 42004 | C65: Վերակառուցման և զարգացման եվրոպական բանկի աջակցությամբ իրականացվող Երևան քաղաքի հանրային տրանսպորտի նոր երթուղային ցանցի շարժակազմերի ներդրման ֆինանսական աջակցության ծրագրի շրջանակներում ենթավարկի տրամադրում | D65: =D67 -> -2547320 | E65: =E67 -> -2547320 | F65: =F67 -> 0 | G65: =G67 -> -8834720 | H65: =H67 -> -8834720 | I65: =I67 -> 0
C66: այդ թվում՝ ըստ կատարողների
C67: ՀՀ տարածքային կառավարման և ենթակառուցվածքների նախարարություն | D67: =D69 -> -2547320 | E67: =E69 -> -2547320 | F67: =F69 -> 0 | G67: =G69 -> -8834720 | H67: =H69 -> -8834720 | I67: =I69 -> 0
C68: այդ թվում՝ ըստ տնտեսագիտական դասակարգման հոդվածների՝
C69: ՀԻՄՆԱԿԱՆ ԳՈՒՄԱՐԻ ՄԱՐՄԱՆ ԵՎ ՖԻՆԱՆՍԱԿԱՆ ԱԿՏԻՎՆԵՐԻ ՁԵՌՔԲԵՐՄԱՆ ԳԾՈՎ ԾԱԽՍԵՐ, այդ թվում` | D69: =D70 -> -2547320 | E69: =E70 -> -2547320 | F69: =F70 -> 0 | G69: =G70 -> -8834720 | H69: =H70 -> -8834720 | I69: =I70 -> 0
C70: ՖԻՆԱՆՍԱԿԱՆ ԱԿՏԻՎՆԵՐԻ ՁԵՌՔԲԵՐՈՒՄ, այդ թվում | D70: =D71 -> -2547320 | E70: =E71 -> -2547320 | F70: =F71 -> 0 | G70: =G71 -> -8834720 | H70: =H71 -> -8834720 | I70: =I71 -> 0
C71: ՆԵՐՔԻՆ ՖԻՆԱՆՍԱԿԱՆ ԱԿՏԻՎՆԵՐԻ ՁԵՌՔԲԵՐՈՒՄ, այդ թվում` | D71: =D72 -> -2547320 | E71: =E72 -> -2547320 | F71: =F72 -> 0 | G71: =G72 -> -8834720 | H71: =H72 -> -8834720 | I71: =I72 -> 0
C72: Ներքին վարկեր և փոխատվություններ | D72: =E72+F72 -> -2547320 | E72: -2547320 | F72: 0 | G72: =H72+I72 -> -8834720 | H72: -8834720 | I72: 0
A73: 1167 | C73: Էլեկտրաէներգետիկ համակարգի զարգացման ծրագիր | D73: =+D74+D82+D90+D98 -> -2482439.2 | E73: =+E74+E82+E90+E98 -> -2044779.6 | F73: =+F74+F82+F90+F98 -> -437659.6 | G73: =+G74+G82+G90+G98 -> -26783584 | H73: =+H74+H82+H90+H98 -> -19473699 | I73: =+I74+I82+I90+I98 -> -7309884.9
B74: 42003 | C74: Վերակառուցման և զարգացման միջազգային բանկի աջակցությամբ իրականացվող էլեկտրամատակարարման հուսալիության ծրագրի լրացուցիչ ֆինանսավորման ծրագրի շրջանակներում ենթավարկի տրամադրում «Բարձրավոլտ էլեկտրացանցեր» ՓԲԸ-ին | D74: =E74+F74 -> -1389443.6 | E74: =+E76 -> -1134144.8 | F74: =+F76 -> -255298.8 | G74: =H74+I74 -> -1969269.5 | H74: =+H76 -> -1598495.9 | I74: =+I76 -> -370773.6
C75: այդ թվում՝ ըստ կատարողների
C76: ՀՀ տարածքային կառավարման և ենթակառուցվածքների նախարարություն | D76: =E76+F76 -> -1389443.6 | E76: =E78 -> -1134144.8 | F76: =F78 -> -255298.8 | G76: =H76+I76 -> -1969269.5 | H76: =H78 -> -1598495.9 | I76: =I78 -> -370773.6
C77: այդ թվում՝ ըստ տնտեսագիտական դասակարգման հոդվածների՝
C78: ՀԻՄՆԱԿԱՆ ԳՈՒՄԱՐԻ ՄԱՐՄԱՆ ԵՎ ՖԻՆԱՆՍԱԿԱՆ ԱԿՏԻՎՆԵՐԻ ՁԵՌՔԲԵՐՄԱՆ ԳԾՈՎ ԾԱԽՍԵՐ, այդ թվում` | D78: =E78+F78 -> -1389443.6 | E78: =E79 -> -1134144.8 | F78: =F79 -> -255298.8 | G78: =H78+I78 -> -1969269.5 | H78: =H79 -> -1598495.9 | I78: =I79 -> -370773.6
C79: ՖԻՆԱՆՍԱԿԱՆ ԱԿՏԻՎՆԵՐԻ ՁԵՌՔԲԵՐՈՒՄ, այդ թվում | D79: =E79+F79 -> -1389443.6 | E79: =E80 -> -1134144.8 | F79: =F80 -> -255298.8 | G79: =H79+I79 -> -1969269.5 | H79: =H80 -> -1598495.9 | I79: =I80 -> -370773.6
C80: ՆԵՐՔԻՆ ՖԻՆԱՆՍԱԿԱՆ ԱԿՏԻՎՆԵՐԻ ՁԵՌՔԲԵՐՈՒՄ, այդ թվում` | D80: =E80+F80 -> -1389443.6 | E80: =E81 -> -1134144.8 | F80: =F81 -> -255298.8 | G80: =H80+I80 -> -1969269.5 | H80: =H81 -> -1598495.9 | I80: =I81 -> -370773.6
C81: Ներքին վարկեր և փոխատվություններ | D81: =E81+F81 -> -1389443.6 | E81: -1134144.8 | F81: -255298.8 | G81: =H81+I81 -> -1969269.5 | H81: -1598495.9 | I81: -370773.6
B82: 42005 | C82: Վերակառուցման և զարգացման միջազգային բանկի աջակցությամբ իրականացվող «Աշնակ»_x000D_ և «Արարատ 2» ենթակայանների վերակառուցման ծրագրի շրջանակներում ենթավարկի տրամադրում «Բարձրավոլտ էլեկտրացանցեր» ՓԲԸ- ին | D82: =E82+F82 -> -772894.6 | E82: =E84 -> -618301.5 | F82: =F84 -> -154593.1 | G82: =H82+I82 -> -925927.6 | H82: =+H84 -> -741795.3 | I82: =+I84 -> -184132.3
C83: այդ թվում՝ ըստ կատարողների
C84: ՀՀ տարածքային կառավարման և ենթակառուցվածքների նախարարություն | D84: =E84+F84 -> -772894.6 | E84: =E86 -> -618301.5 | F84: =F86 -> -154593.1 | G84: =H84+I84 -> -925927.6 | H84: =H86 -> -741795.3 | I84: =I86 -> -184132.3
C85: այդ թվում՝ ըստ տնտեսագիտական դասակարգման հոդվածների՝
C86: ՀԻՄՆԱԿԱՆ ԳՈՒՄԱՐԻ ՄԱՐՄԱՆ ԵՎ ՖԻՆԱՆՍԱԿԱՆ ԱԿՏԻՎՆԵՐԻ ՁԵՌՔԲԵՐՄԱՆ ԳԾՈՎ ԾԱԽՍԵՐ, այդ թվում` | D86: =E86+F86 -> -772894.6 | E86: =E87 -> -618301.5 | F86: =F87 -> -154593.1 | G86: =H86+I86 -> -925927.6 | H86: =H87 -> -741795.3 | I86: =I87 -> -184132.3
C87: ՖԻՆԱՆՍԱԿԱՆ ԱԿՏԻՎՆԵՐԻ ՁԵՌՔԲԵՐՈՒՄ, այդ թվում | D87: =E87+F87 -> -772894.6 | E87: =E88 -> -618301.5 | F87: =F88 -> -154593.1 | G87: =H87+I87 -> -925927.6 | H87: =H88 -> -741795.3 | I87: =I88 -> -184132.3
C88: ՆԵՐՔԻՆ ՖԻՆԱՆՍԱԿԱՆ ԱԿՏԻՎՆԵՐԻ ՁԵՌՔԲԵՐՈՒՄ, այդ թվում` | D88: =E88+F88 -> -772894.6 | E88: =E89 -> -618301.5 | F88: =F89 -> -154593.1 | G88: =H88+I88 -> -925927.6 | H88: =H89 -> -741795.3 | I88: =I89 -> -184132.3
C89: Ներքին վարկեր և փոխատվություններ | D89: =E89+F89 -> -772894.6 | E89: -618301.5 | F89: -154593.1 | G89: =H89+I89 -> -925927.6 | H89: -741795.3 | I89: -184132.3
B90: 42007 | C90: Ասիական զարգացման բանկի աջակցությամբ իրականացվող Կարգավարման կառավարման ավտոմատացված համակարգի (SCADA) ընդլայնման ծրագրի շրջանակներում ենթավարկի տրամադրում «Էլեկտրաէներգետիկական համակարգի օպերատոր» ՓԲԸ-ին | D90: =E90+F90 -> -216086 | E90: =E92 -> -209121.3 | F90: =F92 -> -6964.7 | G90: =H90+I90 -> -216086 | H90: =H92 -> -209121.3 | I90: =I92 -> -6964.7
C91: այդ թվում՝ ըստ կատարողների
C92: ՀՀ տարածքային կառավարման և ենթակառուցվածքների նախարարություն | D92: =E92+F92 -> -216086 | E92: =E94 -> -209121.3 | F92: =F94 -> -6964.7 | G92: =H92+I92 -> -216086 | H92: =H94 -> -209121.3 | I92: =I94 -> -6964.7
C93: այդ թվում՝ ըստ տնտեսագիտական դասակարգման հոդվածների՝
C94: ՀԻՄՆԱԿԱՆ ԳՈՒՄԱՐԻ ՄԱՐՄԱՆ ԵՎ ՖԻՆԱՆՍԱԿԱՆ ԱԿՏԻՎՆԵՐԻ ՁԵՌՔԲԵՐՄԱՆ ԳԾՈՎ ԾԱԽՍԵՐ, այդ թվում` | D94: =E94+F94 -> -216086 | E94: =E95 -> -209121.3 | F94: =F95 -> -6964.7 | G94: =H94+I94 -> -216086 | H94: =H95 -> -209121.3 | I94: =I95 -> -6964.7
C95: ՖԻՆԱՆՍԱԿԱՆ ԱԿՏԻՎՆԵՐԻ ՁԵՌՔԲԵՐՈՒՄ, այդ թվում | D95: =E95+F95 -> -216086 | E95: =E96 -> -209121.3 | F95: =F96 -> -6964.7 | G95: =H95+I95 -> -216086 | H95: =H96 -> -209121.3 | I95: =I96 -> -6964.7
C96: ՆԵՐՔԻՆ ՖԻՆԱՆՍԱԿԱՆ ԱԿՏԻՎՆԵՐԻ ՁԵՌՔԲԵՐՈՒՄ, այդ թվում` | D96: =E96+F96 -> -216086 | E96: =E97 -> -209121.3 | F96: =F97 -> -6964.7 | G96: =H96+I96 -> -216086 | H96: =H97 -> -209121.3 | I96: =I97 -> -6964.7
C97: Ներքին վարկեր և փոխատվություններ | D97: =E97+F97 -> -216086 | E97: -209121.3 | F97: -6964.7 | G97: =H97+I97 -> -216086 | H97: -209121.3 | I97: -6964.7
B98: 42008 | C98: Գերմանիայի զարգացման վարկերի բանկի (KFW) աջակցությամբ իրականացվող «Կովկասյան էլեկտրահաղորդման ցանց I» Հայաստան-Վրաստան հաղորդիչ գիծ/ենթակայանների վարկային ծրագրի շրջանակներում ենթավարկի տրամադրում «Բարձրավոլտ էլեկտրացանցեր» ՓԲԸ- ին | D98: =E98+F98 -> -104015 | E98: =E100 -> -83212 | F98: =F100 -> -20803 | G98: =H98+I98 -> -23672301 | H98: =H100 -> -16924287 | I98: =I100 -> -6748014.3
C99: այդ թվում՝ ըստ կատարողների
C100: ՀՀ տարածքային կառավարման և ենթակառուցվածքների նախարարություն | D100: =E100+F100 -> -104015 | E100: =E102 -> -83212 | F100: =F102 -> -20803 | G100: =H100+I100 -> -23672301 | H100: =H102 -> -16924287 | I100: =I102 -> -6748014.3
C101: այդ թվում՝ ըստ տնտեսագիտական դասակարգման հոդվածների՝
...

Sheet 6.
F1: Հավելված N 6
F2: ՀՀ կառավարության 2022 թվականի
F3: ______________ ի ___Ն որոշման
B5: ՀԱՅԱՍՏԱՆԻ ՀԱՆՐԱՊԵՏՈՒԹՅԱՆ ԿԱՌԱՎԱՐՈՒԹՅԱՆ 2021 ԹՎԱԿԱՆԻ ԴԵԿՏԵՄԲԵՐԻ 23-Ի N 2121-Ն ՈՐՈՇՄԱՆ N 1 ՀԱՎԵԼՎԱԾԻ N 4 ԱՂՅՈՒՍԱԿՈՒՄ ԿԱՏԱՐՎՈՂ ՓՈՓՈԽՈՒԹՅՈՒՆՆԵՐԸ
F6: հազ. դրամ
B7: Ծրագրային դասիչ | D7: Պետական բյուջեի դեֆիցիտի ֆինանսավորման աղբյուրներն ու դրանց տարրերի անվանումները | E7: Ցուցանիշների փոփոխությունը (նվազեցումները նշված են փակագծերում)
E8: Ինն ամիս | F8: Տարի
B9: Ծրագիր | C9: Միջոցառում | D9: ԸՆԴԱՄԵՆԸ | E9: =+E11 -> -19500000 | F9: =+F11 -> -19500000
D10: այդ թվում՝
D11: ՀՀ տարածքային կառավարման և ենթակառուցվածքների նախարարություն | E11: =+E12 -> -19500000 | F11: =+F12 -> -19500000
B12: 1167 | D12: Էլեկտրաէներգետիկ համակարգի զարգացման ծրագիր | E12: =+E13 -> -19500000 | F12: =+F13 -> -19500000
C13: 42009 | D13: «Հայկական ատոմային էլեկտրակայան» ՓԲԸ-ին տրամադրվող բյուջետային վարկ | E13: =+E17 -> -19500000 | F13: =+F17 -> -19500000
D14: այդ թվում՝ ըստ կատարողների
D15: ՀՀ ֆինանսների նախարարություն | E15: =+E13 -> -19500000 | F15: =+F13 -> -19500000
D16: այդ թվում՝ ըստ տնտեսագիտական դասակարգման հոդվածների՝
D17: ՀԻՄՆԱԿԱՆ ԳՈՒՄԱՐԻ ՄԱՐՄԱՆ ԵՎ ՖԻՆԱՆՍԱԿԱՆ ԱԿՏԻՎՆԵՐԻ ՁԵՌՔԲԵՐՄԱՆ ԳԾՈՎ ԾԱԽՍԵՐ, այդ թվում` | E17: =+E18 -> -19500000 | F17: =+F18 -> -19500000
D18: ՖԻՆԱՆՍԱԿԱՆ ԱԿՏԻՎՆԵՐԻ ՁԵՌՔԲԵՐՈՒՄ, այդ թվում | E18: =+E19 -> -19500000 | F18: =+F19 -> -19500000
D19: ՆԵՐՔԻՆ ՖԻՆԱՆՍԱԿԱՆ ԱԿՏԻՎՆԵՐԻ ՁԵՌՔԲԵՐՈՒՄ, այդ թվում` | E19: =+E20 -> -19500000 | F19: =+F20 -> -19500000
D20: Ներքին վարկեր և փոխատվություններ | E20: -19500000 | F20: -19500000

Sheet 7.
D1: Հավելված N 7
D2: ՀՀ կառավարության 2022 թվականի
D3: ______________ ի ___Ն որոշման
A4: ՀԱՅԱՍՏԱՆԻ ՀԱՆՐԱՊԵՏՈՒԹՅԱՆ ԿԱՌԱՎԱՐՈՒԹՅԱՆ 2021 ԹՎԱԿԱՆԻ ԴԵԿՏԵՄԲԵՐԻ 23-Ի N 2121-Ն ՈՐՈՇՄԱՆ N 1 ՀԱՎԵԼՎԱԾԻ N 5 ԱՂՅՈՒՍԱԿՈՒՄ ԿԱՏԱՐՎՈՂ ՓՈՓՈԽՈՒԹՅՈՒՆՆԵՐԸ
A6: Ծրագրի դասիչը | B6: Ծրագրի անվանումը
A7: 1040 | B7: Կոշտ թափոնների կառավարում
A8: Ծրագրի միջոցառումները
A10: Ծրագրի դասիչը՝ | B10: 1040 | C10: Ցուցանիշների փոփոխությունը (նվազեցումները նշված են փակագծերում)
A11: Միջոցառման դասիչը՝ | B11: 42001 | C11: Ինն ամիս | D11: Տարի
A12: Միջոցառման անվանումը՝ | B12: Վերակառուցման և զարգացման եվրոպական բանկի աջակցությամբ իրականացվող «Կոտայքի և Գեղարքունիքի մարզերի կոշտ թափոնների կառավարման» ծրագիր
A13: Նկարագրությունը՝ | B13: Կոշտ թափոննրի կառավարման համակարգի բարելավում և նոր աղբավայրի ստեղծում_x000D_
A14: Միջոցառման տեսակը՝ | B14: Վարկերի տրամադրում
A15: Միջոցառումն իրականացնողի անվանումը՝ | B15: Մասնագիտացված միավոր
B16: Արդյունքի չափորոշիչներ
A17: Միջոցառման վրա կատարվող ծախսը (հազար դրամ) | C17: ='5.'!D16 -> -1001008.1 | D17: ='5.'!G16 -> -1001008.1
A19: Ծրագրի դասիչը՝ | B19: 1040 | C19: Ցուցանիշների փոփոխությունը (նվազեցումները նշված են փակագծերում)
A20: Միջոցառման դասիչը՝ | B20: 42002 | C20: Ինն ամիս | D20: Տարի
A21: Միջոցառման անվանումը՝ | B21: Վերակառուցման և զարգացման եվրոպական բանկի աջակցությամբ իրականացվող «Երևանի կոշտ թափոնների կառավարման» ծրագիր
A22: Նկարագրությունը՝ | B22: Կոշտ թափոննրի կառավարման համակարգի բարելավում և նոր աղբավայրի ստեղծում_x000D_
A23: Միջոցառման տեսակը՝ | B23: Վարկերի տրամադրում
A24: Միջոցառումն իրականացնողի անվանումը՝ | B24: Մասնագիտացված միավոր
B25: Արդյունքի չափորոշիչներ
A26: Քանակական | B26: Եվրոպական չափորոշիչներով 29 հա տարածքում նոր քաղաքային աղբավայրի կառուցում, տոկոս | C26: 0 | D26: -40
A27: Քանակական | B27: Գործող թվով 2 աղբանոցների (Նուբարաշեն և Աջափնյակ) մեկուսացման վերջնական նախագիծ, հատ | C27: 0 | D27: -2
A28: Քանակական | B28: Քաղաքային նոր աղբավայրի կառուցման վերջնական նախագիծ, հատ | C28: 0 | D28: -1
A29: Որակական | B29: Աղբանոցներում առաջացող գազերի բռնկման հնարավորության նվազեցում, տոկոս | C29: 0 | D29: -80
A30: Որակական | B30: Աղբահանություն իրականացնող կազմակերպությունների մեքենաների համար աղբի տեղադրման հնարավորությունների ստեղծում, մեք/օր | C30: 0 | D30: -150
A31: Որակական | B31: Շրջական միջավայրը աղտոտող աղբից առաջացող ստորգետնյա ջրերի ծավալի կրճատում, տոկոս | C31: 0 | D31: -80
A32: Միջոցառման վրա կատարվող ծախսը (հազար դրամ) | C32: ='5.'!D24 -> -798769.1 | D32: ='5.'!G24 -> -798769.1
A34: Ծրագրի դասիչը՝ | B34: 1040 | C34: Ցուցանիշների փոփոխությունը (նվազեցումները նշված են փակագծերում)
A35: Միջոցառման դասիչը՝ | B35: 42003 | C35: Ինն ամիս | D35: Տարի
A36: Միջոցառման անվանումը՝ | B36: Եվրոպական ներդրումային բանկի աջակցությամբ իրականացվող «Երևանի կոշտ թափոնների կառավարման» ծրագիր
A37: Նկարագրությունը՝ | B37: Կոշտ թափոննրի կառավարման համակարգի բարելավում և նոր աղբավայրի ստեղծում_x000D_
A38: Միջոցառման տեսակը՝ | B38: Վարկերի տրամադրում
A39: Միջոցառումն իրականացնողի անվանումը՝ | B39: Մասնագիտացված միավոր
B40: Արդյունքի չափորոշիչներ
A41: Քանակական | B41: Եվրոպական չափորոշիչներով 29 հա տարածքում նոր քաղաքային աղբավայրի կառուցում, տոկոս | C41: 0 | D41: -40
A42: Քանակական | B42: Գործող թվով 2 աղբանոցների(Նուբարաշեն և Աջափնյակ) մեկուսացման վերջնական նախագիծ, հատ | C42: 0 | D42: -2
A43: Քանակական | B43: Քաղաքային նոր աղբավայրի կառուցման վերջնական նախագիծ, հատ | C43: 0 | D43: -1
A44: Որակական | B44: Աղբանոցներում առաջացող գազերի բռնկման հնարավորության նվազեցում, տոկոս | C44: 0 | D44: -80
A45: Որակական | B45: Աղբահանություն իրականացնող կազմակերպությունների մեքենաների համար աղբի տեղադրման հնարավորությունների ստեղծում, մեք/օր | C45: 0 | D45: -150
A46: Որակական | B46: Շրջական միջավայրը աղտոտող աղբից առաջացող ստորգետնյա ջրերի ծավալի կրճատում, տոկոս | C46: 0 | D46: -80
A47: Միջոցառման վրա կատարվող ծախսը (հազար դրամ) | C47: ='5.'!D32 -> -798769.1 | D47: ='5.'!G32 -> -798769.1
A50: Ծրագրի դասիչը | B50: Ծրագրի անվանումը
A51: 1157 | B51: Քաղաքային զարգացում
A52: Ծրագրի միջոցառումները
A54: Ծրագրի դասիչը՝ | B54: 1157 | C54: Ցուցանիշների փոփոխությունը (նվազեցումները նշված են փակագծերում)
A55: Միջոցառման դասիչը՝ | B55: 42001 | C55: Ինն ամիս | D55: Տարի
A56: Միջոցառման անվանումը՝ | B56: Վերակառուցման և զարգացման եվրոպական բանկի աջակցությամբ իրականացվող Երևանի քաղաքային լուսավորության ծրագրի շրջանակներում ենթավարկի տրամադրում «Երքաղլույս» ՓԲԸ-ին
A57: Նկարագրությունը՝ | B57: ՀՀ համայնքներին քաղաքային լուսավորության ենթակառուցվածքի բարելավման համար տրամադրվող աջակցություն և ծառայություն
A58: Միջոցառման տեսակը՝ | B58: Վարկերի տրամադրում
A59: Միջոցառումն իրականացնողի անվանումը՝ | B59: Մասնագիտացված միավոր
B60: Արդյունքի չափորոշիչներ
A61: Քանակական | B61: Երևան քաղաքի թվով 28 փողոցների արտաքին լուսավորության ցանցի արդիականացման աշխատանքներ, տոկոս | C61: -30 | D61: -30
A62: Միջոցառման վրա կատարվող ծախսը (հազար դրամ) | C62: ='5.'!D41 -> -825228.8 | D62: ='5.'!G41 -> -825228.8
A64: Ծրագրի դասիչը՝ | B64: 1157 | C64: Ցուցանիշների փոփոխությունը (նվազեցումները նշված են փակագծերում)
A65: Միջոցառման դասիչը՝ | B65: 42002 | C65: Ինն ամիս | D65: Տարի
A66: Միջոցառման անվանումը՝ | B66: Վերակառուցման և զարգացման եվրոպական բանկի աջակցությամբ իրականացվող Երևանի մետրոպոլիտենի վերակառուցման երկրորդ ծրագիր
A67: Նկարագրությունը՝ | B67: Երևանի մետրոպոլիտենի վերակառուցում
A68: Միջոցառման տեսակը՝ | B68: Վարկերի տրամադրում
A69: Միջոցառումն իրականացնողի անվանումը՝ | B69: Մասնագիտացված միավոր
B70: Արդյունքի չափորոշիչներ
A71: Միջոցառման վրա կատարվող ծախսը (հազար դրամ) | C71: ='5.'!D49 -> -50283.9 | D71: ='5.'!G49 -> -50283.9
A73: Ծրագրի դասիչը՝ | B73: 1157 | C73: Ցուցանիշների փոփոխությունը (նվազեցումները նշված են փակագծերում)
A74: Միջոցառման դասիչը՝ | B74: 42003 | C74: Ինն ամիս | D74: Տարի
A75: Միջոցառման անվանումը՝ | B75: Եվրոպական ներդրումային բանկի աջակցությամբ իրականացվող Երևանի մետրոպոլիտենի վերակառուցման երկրորդ ծրագիր
A76: Նկարագրությունը՝ | B76: Երևանի մետրոպոլիտենի վերակառուցում
A77: Միջոցառման տեսակը՝ | B77: Վարկերի տրամադրում
A78: Միջոցառումն իրականացնողի անվանումը՝ | B78: Մասնագիտացված միավոր
B79: Արդյունքի չափորոշիչներ
A80: Քանակական | B80: Դատարկ տեղերի լցոնում ՛ ըստ անհրաժեշտության, քմ | C80: -900 | D80: -900
A81: Միջոցառման վրա կատարվող ծախսը (հազար դրամ) | C81: ='5.'!D57 -> -451473.2 | D81: ='5.'!G57 -> -708770.8
A83: Ծրագրի դասիչը՝ | B83: 1157 | C83: Ցուցանիշների փոփոխությունը (ավելացումները նշված են դրական նշանով, իսկ նվազեցումները` փակագծերում)
A84: Միջոցառման դասիչը՝ | B84: 42004 | C84: Ինն ամիս | D84: Տարի
A85: Միջոցառման անվանումը՝ | B85: Վերակառուցման և զարգացման եվրոպական բանկի աջակցությամբ իրականացվող Երևան քաղաքի հանրային տրանսպորտի նոր երթուղային ցանցի շարժակազմերի ներդրման ֆինանսական աջակցության ծրագիր
A86: Նկարագրությունը՝ | B86: Երևան քաղաքի տրանսպորտի և երթևեկության բարելավման համար տրամադրվող աջակցության համակարգում
A87: Միջոցառման տեսակը՝ | B87: Վարկերի տրամադրում
A88: Միջոցառումն իրականացնողի անվանումը՝ | B88: Մասնագիտացված միավոր
B89: Արդյունքի չափորոշիչներ
A90: Քանակական | B90: Ավտոբուսների ձեռքբերում, տոկոս | D90: -100
A91: Քանակական | B91: Կանխավճարի տրամադրում, տոկոս | C91: 20 | D91: 20
A92: Միջոցառման վրա կատարվող ծախսը (հազար դրամ) | C92: ='5.'!D65 -> -2547320 | D92: ='5.'!G65 -> -8834720
A95: Ծրագրի դասիչը | B95: Ծրագրի անվանումը
A96: 1167 | B96: Էլեկտրաէներգետիկ համակարգի զարգացման ծրագիր
A97: Ծրագրի միջոցառումները
A99: Ծրագրի դասիչը՝ | B99: 1167 | C99: Ցուցանիշների փոփոխությունը (նվազեցումները նշված են փակագծերում)
A100: Միջոցառման դասիչը՝ | B100: 42003 | C100: Ինն ամիս | D100: Տարի
A101: Միջոցառման անվանումը՝ | B101: Վերակառուցման և զարգացման միջազգային բանկի աջակցությամբ իրականացվող էլեկտրամատակարարման հուսալիության ծրագրի լրացուցիչ ֆինանսավորման ծրագրի շրջանակներում ենթավարկի տրամադրում «Բարձրավոլտ էլեկտրացանցեր» ՓԲԸ-ին
A102: Նկարագրությունը՝ | B102: Էլեկտրամատակարարման հուսալիության ծրագրի լրացուցիչ ֆինանսավորման ծրագրի շրջանակներում նախատեսվում է փոխարինել 30 և ավելի տարիներ շահագործման մեջ գտնվող «Հաղթանակ» 220 կՎ, «Չարենցավան-3», «Վանաձոր-1» 110 կՎ ենթակայանների և 40 և ավելի և տարիներ շահագործման մեջ գտվող «Զովունի» 220 կՎ ենթակայանի ֆիզիկապես և բարոյապես մաշված սարքավորումները
A103: Միջոցառման տեսակը՝ | B103: Վարկերի տրամադրում
A104: Միջոցառումն իրականացնողի անվանումը՝ | B104: Մասնագիտացված միավոր
B105: Արդյունքի չափորոշիչներ
A106: Միջոցառման վրա կատարվող ծախսը (հազար դրամ) | C106: -1389443.6 | D106: -1969269.5
A108: Ծրագրի դասիչը՝ | B108: 1167 | C108: Ցուցանիշների փոփոխությունը (նվազեցումները նշված են փակագծերում)
A109: Միջոցառման դասիչը՝ | B109: 42005 | C109: Ինն ամիս | D109: Տարի
A110: Միջոցառման անվանումը՝ | B110: Վերակառուցման և զարգացման միջազգային բանկի աջակցությամբ իրականացվող «Աշնակ» և «Արարատ-2» ենթակայանների վերակառուցման ծրագրի շրջանակներում ենթավարկի տրամադրում «Բարձրավոլտ էլեկտրացանցեր» ՓԲԸ- ին
A111: Նկարագրությունը՝ | B111: Էլեկտրահաղորդման ցանցի բարելավման ծրագրի շրջանակներում նախատեսվում է վերակառուցել 30 և ավելի տարիներ շահագործման մեջ գտնվող 220 կՎ «Աշնակ» ենթակայանը և 40 և ավելի տարիներ շահագործման մեջ գտնվող 220 կՎ «Արարատ-2» ենթակայանը
A112: Միջոցառման տեսակը՝ | B112: Վարկերի տրամադրում
A113: Միջոցառումն իրականացնողի անվանումը՝ | B113: «Բարձրավոլտ էլեկտրացանցեր» ՓԲԸ
B114: Արդյունքի չափորոշիչներ
...

Sheet 8.
F1: Հավելված N8
F2: ՀՀ կառավարության 2022 թվականի
F3: ______________ ի ___Ն որոշման
B5: «ՀԱՅԱUՏԱՆԻ ՀԱՆՐԱՊԵՏՈՒԹՅԱՆ 2022 ԹՎԱԿԱՆԻ ՊԵՏԱԿԱՆ ԲՅՈՒՋԵԻ ՄԱUԻՆ» OՐԵՆՔԻ N 1 ՀԱՎԵԼՎԱԾԻ N 2 ԱՂՅՈՒՍԱԿՈՒՄ ԿԱՏԱՐՎՈՂ ՎԵՐԱԲԱՇԽՈՒՄԸ ԵՎ ՀԱՅԱՍՏԱՆԻ ՀԱՆՐԱՊԵՏՈՒԹՅԱՆ ԿԱՌԱՎԱՐՈՒԹՅԱՆ 2021 ԹՎԱԿԱՆԻ ԴԵԿՏԵՄԲԵՐԻ 23-Ի N 2121-Ն ՈՐՈՇՄԱՆ N 5 ՀԱՎԵԼՎԱԾԻ N 1 ԱՂՅՈՒՍԱԿՈՒՄ ԿԱՏԱՐՎՈՂ ՓՈՓՈԽՈՒԹՅՈՒՆՆԵՐԸ ԵՎ ԼՐԱՑՈՒՄՆԵՐԸ
F6: հազ. դրամ
B7: Ծրագրային դասիչը | D7: Բյուջետային հատկացումների գլխավոր կարգադրիչների, ծրագրերի և միջոցառումների անվանումները | E7: Ցուցանիշների փոփոխությունը (ավելացումները նշված են դրական նշանով, իսկ նվազեցումները` փակագծերում)
B8: Ծրագիր | C8: Միջոցառում | E8: Ինն ամիս | F8: Տարի
B9: 1192 | D9: ԸՆԴԱՄԵՆԸ | E9: =+E11 -> -16975539 | F9: =+F11 -> -18750808 | G9: =+F9-'9.'!I10 -> 0 | H9: =+E9-'9.'!H10 -> 0
D10: այդ թվում
D11: ՀՀ տարածքային կառավարման և ենթակառուցվածքների նախարարություն | E11: =+E208+E12+E43+E165+E80 -> -16975539 | F11: =+F208+F12+F43+F165+F80 -> -18750808
B12: 1004 | D12: Ծրագրի անվանումը` | E12: =+E19+E25+E31+E37 -> -6920882.4 | F12: =+F19+F25+F31+F37 -> -6955544.8
D13: Ոռոգման համակարգի առողջացում
D14: Ծրագրի նպատակը`
D15: Ոռոգման ծառայությունների հասանելիության և մատչելիության ապահովում
D16: Վերջնական արդյունքի նկարագրությունը`
D17: Ոռոգման ջրի մատակարարման արդյունավետության և հասանելիության բարելավում, կորուստների կրճատում
D18: Ծրագրի միջոցառումներ
C19: 11009 | D19: Միջոցառման անվանումը` | E19: ='11.'!E18 -> -16951.6 | F19: ='11.'!H18 -> -16951.6
D20: Գերմանիայի զարգացման վարկերի բանկի աջակցությամբ իրականացվող Ախուրյան գետի ջրային ռեսուրսների ինտեգրացված կառավարման դրամաշնորհային ծրագիր
D21: Միջոցառման նկարագրությունը`
D22: Գերմանիայի զարգացման վարկերի բանկի աջակցությամբ իրականացվող Ախուրյան գետի ջրային ռեսուրսների ինտեգրացված կառավարման դրամաշնորհային ծրագրի համակարգում և ղեկավարում
D23: Միջոցառման տեսակը
D24: Ծառայությունների մատուցում
C25: 11011 | D25: Միջոցառման անվանումը` | E25: ='11.'!E26 -> -103987.5 | F25: ='11.'!H26 -> -138649.9
D26: Զարգացման ֆրանսիական գործակալության աջակցությամբ իրականացվող ոռոգման ոլորտի ֆինանսական կայունության և ոռոգման կառավարման կարողությունների բարելավման դրամաշնորհային ծրագրի խորհրդատվություն և կառավարում
D27: Միջոցառման նկարագրությունը`
D28: Զարգացման ֆրանսիական գործակալության աջակցությամբ իրականացվող ոռոգման ոլորտի ֆինանսական կայունության և ոռոգման կառավարման կարողությունն»րի բար»լավման ծրագրի համակարգում և ղ»կավարում
D29: Միջոցառման տեսակը
D30: Ծառայությունների մատուցում
C31: 11012 | D31: Միջոցառման անվանումը` | E31: ='11.'!E34 -> -7943.3 | F31: ='11.'!H34 -> -7943.3
D32: Ֆրանսիայի Հանրապետության կառավարության աջակցությամբ իրականացվող՛ Վեդու ջրամբարի կառուցման դրամաշնորհային ծրագիր
D33: Միջոցառման նկարագրությունը`
D34: Ֆրանսիայի Հանրապետության կառավարության աջակցությամբ իրականացվող՛ Վեդու ջրամբարի կառուցման դրամաշնորհային ծրագրի համակարգում և ղեկավարում
D35: Միջոցառման տեսակը
D36: Ծառայությունների մատուցում
C37: 31004 | D37: Միջոցառման անվանումը` | E37: ='10.'!E17 -> -6792000 | F37: ='10.'!H17 -> -6792000
D38: Գերմանիայի զարգացման վարկերի բանկի աջակցությամբ իրականացվող Ախուրյան գետի ջրային ռեսուրսների ինտեգրված կառավարման ծրագրի շրջանակներում ջրային տնտեսության ենթակառուցվածքների հիմնանորոգում
D39: Միջոցառման նկարագրությունը`
D40: Գերմանիայի զարգացման վարկերի բանկի աջակցությամբ իրականացվող Ախուրյան գետի ջրային ռեսուրսների ինտեգրված կառավարման ծրագիր
D41: Միջոցառման տեսակը
D42: Պետական մարմինների կողմից օգտագործվող ոչ ֆինանսական ակտիվների հետ գործառնություններ
B43: 1040 | D43: Ծրագրի անվանումը` | E43: =E50+E56+E62+E68+E74 -> -1046518.5 | F43: =F50+F56+F62+F68+F74 -> -1090042.1
D44: Կոշտ թափոնների կառավարում
D45: Ծրագրի նպատակը`
D46: Կենցաղային թափոնների արդյունավետ կառավարում սոցիալական և բնապահպանական խնդիրների լուծում
D47: Վերջնական արդյունքի նկարագրությունը`
D48: Կենցաղային թափոնների արդյունավետ կառավարում
B49: Ծրագրի միջոցառումներ
C50: 12001 | D50: Միջոցառման անվանումը` | E50: ='11.'!E44 -> -64147.2 | F50: ='11.'!H44 -> -107670.8
D51: Վերակառուցման և զարգացման եվրոպական բանկի աջակցությամբ իրականացվող «Երևանի կոշտ թափոնների կառավարման» դրամաշնորհային ծրագիր
D52: Միջոցառման նկարագրությունը`
D53: Կոշտ թափոնների կառավարման համակարգի բարելավում և նոր աղբավայրի ստեղծում
D54: Միջոցառման տեսակը`
D55: Տրանսֆերտների տրամադրում
C56: 12002 | D56: Միջոցառման անվանումը` | E56: ='11.'!E52 -> -99336.1 | F56: ='11.'!H52 -> -99336.1
D57: ='11.'!D52 -> Վերակառուցման և զարգացման եվրոպական բանկի աջակցությամբ իրականացվող «Կոտայքի և Գեղարքունիքի մարզի կոշտ թափոնների կառավարման խորհրդատվության համար» դրամաշնորհային ծրագիր
D58: Միջոցառման նկարագրությունը`
D59: Կոշտ թափոնների կառավարման համակարգի բարելավում և նոր աղբավայրի ստեղծում
D60: Միջոցառման տեսակը`
D61: Տրանսֆերտների տրամադրում
C62: 32004 | D62: Միջոցառման անվանումը` | E62: ='11.'!E60 -> -550220.2 | F62: ='11.'!H60 -> -550220.2
D63: ='11.'!D60 -> Վերակառուցման և զարգացման եվրոպական բանկի աջակցությամբ իրականացվող «Կոտայքի և Գեղարքունիքի մարզի կոշտ թափոնների կառավարման» դրամաշնորհային ծրագիր
D64: Միջոցառման նկարագրությունը`
D65: Կոշտ թափոնների կառավարման համակարգի բարելավում և նոր աղբավայրի ստեղծում
D66: Միջոցառման տեսակը
D67: Այլ պետական կազմակերպությունների կողմից օգտագործվող ոչ ֆինանսական ակտիվների հետ գործառնություններ
C68: 32006 | D68: Միջոցառման անվանումը` | E68: ='11.'!E69 -> -266256.4 | F68: ='11.'!H69 -> -266256.4
D69: Եվրոպական միության հարևանության ներդրումային գործիքի աջակցությամբ իրականացվող «Երևանի կոշտ թափոնների կառավարման» դրամաշնորհային ծրագիր
D70: Միջոցառման նկարագրությունը`
D71: Կոշտ թափոնների կառավարման համակարգի բարելավում և նոր աղբավայրի ստեղծում
D72: Միջոցառման տեսակը
D73: Այլ պետական կազմակերպությունների կողմից օգտագործվող ոչ ֆինանսական ակտիվների հետ գործառնություններ
C74: 32007 | D74: Միջոցառման անվանումը` | E74: ='11.'!E78 -> -66558.6 | F74: ='11.'!H78 -> -66558.6
D75: Արևելյան եվրոպայի էներգախնայողության և բնապահպանական գործընկերության ֆոնդի աջակցությամբ իրականացվող «Երևանի կոշտ թափոնների կառավարման» դրամաշնորհային ծրագիր
D76: Միջոցառման նկարագրությունը`
D77: Կոշտ թափոնների կառավարման համակարգի բարելավում և նոր աղբավայրի ստեղծում
D78: Միջոցառման տեսակը
D79: Այլ պետական կազմակերպությունների կողմից օգտագործվող ոչ ֆինանսական ակտիվների հետ գործառնություններ
B80: 1049 | D80: Ծրագրի անվանումը` | E80: =E87+E93+E99+E105+E111+E117+E123+E129+E135+E141+E147+E153+E159 -> -2300159.5 | F80: =F87+F93+F99+F105+F111+F117+F123+F129+F135+F141+F147+F153+F159 -> -2395159.5
D81: Ճանապարհային ցանցի բարելավում
D82: Ծրագրի նպատակը`
D83: Ճանապարհային ցանցի բարելավում և անվտանգ երթևեկության ապահովում
D84: Վերջնական արդյունքի նկարագրությունը`
D85: Ճանապարհների ծածկի որակի և փոխադրումների արդյունավետության բարելավում, ճանապարհների վիճակով պայմանավորված պատահարների նվազում
B86: Ծրագրի միջոցառումներ
C87: 11005 | D87: Միջոցառման անվանումը` | E87: ='10.'!E28 -> -47000 | F87: ='10.'!H28 -> -66000
D88: Կենսական նշանակության ճանապարհային ցանցի բարելավման ծրագրի համակարգում և կառավարում
D89: Միջոցառման նկարագրությունը`
D90: Խորհրդատվական ծառայություններ
D91: Միջոցառման տեսակը
D92: Ծառայությունների մատուցում
C93: 11007 | D93: Միջոցառման անվանումը` | E93: ='10.'!E36 -> -85000 | F93: ='10.'!H36 -> -135000
D94: Ասիական զարգացման բանկի աջակցությամբ իրականացվող Հայաստան-Վրաստան սահմանային տարածաշրջանային ճանապարհի (Մ6 Վանաձոր-Բագրատաշեն) բարելավման ծրագրի համակարգում և կառավարում
D95: Միջոցառման նկարագրությունը`
D96: Խորհրդատվական ծառայություններ և պահպանման ծախսեր
D97: Միջոցառման տեսակը
D98: Ծառայությունների մատուցում
C99: 11011 | D99: Միջոցառման անվանումը` | E99: ='10.'!E47 -> -70000 | F99: ='10.'!H47 -> -70000
D100: Ասիական զարգացման բանկի աջակցությամբ իրականացվող Հյուսիս-հարավ միջանցքի զարգացման ծրագրի համակարգում և կառավարում (Տրանշ 3)
D101: Միջոցառման նկարագրությունը`
...

Sheet 3-1
B1: Հավելված N3
B2: ՀՀ կառավարության 2022 թվականի
B3: ______________ ի ___Ն որոշման
B5: ՀԱՅԱՍՏԱՆԻ ՀԱՆՐԱՊԵՏՈՒԹՅԱՆ ԿԱՌԱՎԱՐՈՒԹՅԱՆ 2021 ԹՎԱԿԱՆԻ ԴԵԿՏԵՄԲԵՐԻ 23-Ի N 2121-Ն ՈՐՈՇՄԱՆ N 3 ԵՎ N 4 ՀԱՎԵԼՎԱԾՆԵՐՈՒՄ ԿԱՏԱՐՎՈՂ ՓՈՓՈԽՈՒԹՅՈՒՆՆԵՐԸ ԵՎ ԼՐԱՑՈՒՄՆԵՐԸ
H7: հազ. դրամ
B8: Գործառական դասիչը | E8: Ծրագրային դասիչը | G8: Բյուջետային ծախսերի գործառական դասակարգման բաժինների, խմբերի և դասերի, բյուջետային հատկացումների գլխավոր կարգադրիչների, ծրագրերի, միջոցառումների և միջոցառումները կատարող պետական մարմինների անվանումները | H8: Ցուցանիշների փոփոխությունը (ավելացումները նշված են դրական նշանով, իսկ նվազեցումները` փակագծերում)
B9: Բաժին | C9: Խումբ | D9: Դաս | E9: Ծրագիր | F9: Միջոցառում | H9: Ինն ամիս | I9: Տարի
G10: ԸՆԴԱՄԵՆԸ ԾԱԽՍԵՐ | H10: =+H12+H13 -> 14976.427 | I10: =+I12+I13 -> -363431.87
G11: այդ թվում`
B12: 04 | C12: 03 | D12: 05 | E12: 1167 | F12: 11006 | G12: Գերմանիայի զարգացման վարկերի բանկի (KFW)) աջակցությամբ իրականացվող «Կովկասյան էլեկտրահաղորդման ցանց I» Հայաստան-Վրաստան հաղորդիչ գիծ/ենթակայանների դրամաշնորհային ծրագիր | H12: 14976.427 | I12: -25089.77
B13: 04 | C13: 03 | D13: 05 | E13: 1167 | F13: 32006 | G13: Գերմանիայի զարգացման վարկերի բանկի (KFW) աջակցությամբ իրականացվող Կովկասյան էլեկտրահաղորդման ցանց I Հայաստան-Վրաստան հաղորդիչ գիծ/ենթակայանների դրամաշնորհային ծրագրի շրջանակներում իրականացվող ներդրումներ | H13: 0 | I13: -338342.1

Sheet 9.
B1: Հավելված N9
B2: ՀՀ կառավարության 2022 թվականի
B3: ______________ ի ___Ն որոշման
B5: ՀԱՅԱՍՏԱՆԻ ՀԱՆՐԱՊԵՏՈՒԹՅԱՆ ԿԱՌԱՎԱՐՈՒԹՅԱՆ 2021 ԹՎԱԿԱՆԻ ԴԵԿՏԵՄԲԵՐԻ 23-Ի N 2121-Ն ՈՐՈՇՄԱՆ N 3 ԵՎ N 4 ՀԱՎԵԼՎԱԾՆԵՐՈՒՄ ԿԱՏԱՐՎՈՂ ՓՈՓՈԽՈՒԹՅՈՒՆՆԵՐԸ ԵՎ ԼՐԱՑՈՒՄՆԵՐԸ
H7: հազ. դրամ
B8: Գործառական դասիչը | E8: Ծրագրային դասիչը | G8: Բյուջետային ծախսերի գործառական դասակարգման բաժինների, խմբերի և դասերի, բյուջետային հատկացումների գլխավոր կարգադրիչների, ծրագրերի, միջոցառումների և միջոցառումները կատարող պետական մարմինների անվանումները | H8: Ցուցանիշների փոփոխությունը (ավելացումները նշված են դրական նշանով, իսկ նվազեցումները` փակագծերում)
B9: Բաժին | C9: Խումբ | D9: Դաս | E9: Ծրագիր | F9: Միջոցառում | H9: Ինն ամիս | I9: Տարի
G10: ԸՆԴԱՄԵՆԸ ԾԱԽՍԵՐ | H10: =+H12 -> -16975539 | I10: =+I12 -> -18750808
G11: այդ թվում`
G12: ՀՀ ՏԱՐԱԾՔԱՅԻՆ ԿԱՌԱՎԱՐՄԱՆ ԵՎ ԵՆԹԱԿԱՌՈՒՑՎԱԾՔՆԵՐԻ ՆԱԽԱՐԱՐՈՒԹՅՈՒՆ | H12: =+H14+H288+H237 -> -16975539 | I12: =+I14+I288+I237 -> -18750808
G13: այդ թվում`
B14: 04 | G14: ՏՆՏԵՍԱԿԱՆ ՀԱՐԱԲԵՐՈՒԹՅՈՒՆՆԵՐ | H14: =+H57+H16 -> -13912022 | I14: =+I57+I16 -> -15664182
G15: այդ թվում`
C16: 02 | G16: Գյուղատնտեսություն, անտառային տնտեսություն, ձկնորսություն և որսորդություն | H16: =+H18 -> -6920882.4 | I16: =+I18 -> -6955544.8
G17: այդ թվում`
D18: 04 | G18: Ոռոգում | H18: =+H22 -> -6920882.4 | I18: =+I22 -> -6955544.8
G19: այդ թվում`
G20: ՀՀ ՏԱՐԱԾՔԱՅԻՆ ԿԱՌԱՎԱՐՄԱՆ ԵՎ ԵՆԹԱԿԱՌՈՒՑՎԱԾՔՆԵՐԻ ՆԱԽԱՐԱՐՈՒԹՅՈՒՆ | H20: =+H22 -> -6920882.4 | I20: =+I22 -> -6955544.8
G21: այդ թվում`
E22: 1004 | G22: Ոռոգման համակարգի առողջացում | H22: =+H24+H32+H40+H48 -> -6920882.4 | I22: =+I24+I32+I40+I48 -> -6955544.8
G23: այդ թվում`
F24: 11009 | G24: Գերմանիայի զարգացման վարկերի բանկի աջակցությամբ իրականացվող Ախուրյան գետի ջրային ռեսուրսների ինտեգրացված կառավարման դրամաշնորհային ծրագիր | H24: =+H26 -> -16951.6 | I24: =+I26 -> -16951.6
G25: այդ թվում` ըստ կատարողների
G26: ՀՀ տարածքային կառավարման և ենթակառուցվածքների նախարարության ջրային կոմիտե | H26: =+H28 -> -16951.6 | I26: =+I28 -> -16951.6
G27: այդ թվում` բյուջետային ծախսերի տնտեսագիտական դասակարգման հոդվածներ
G28: ԸՆԴԱՄԵՆԸ ԾԱԽՍԵՐ | H28: =+H29 -> -16951.6 | I28: =+I29 -> -16951.6
G29: ԸՆԹԱՑԻԿ ԾԱԽՍԵՐ | H29: =+H30 -> -16951.6 | I29: =+I30 -> -16951.6
G30: ԱՅԼ ԾԱԽՍԵՐ | H30: =+H31 -> -16951.6 | I30: =+I31 -> -16951.6
G31: Այլ ծախսեր | H31: =+'11.'!E25 -> -16951.6 | I31: =+'11.'!H25 -> -16951.6
F32: 11011 | G32: Զարգացման ֆրանսիական գործակալության աջակցությամբ իրականացվող ոռոգման ոլորտի ֆինանսական կայունության և ոռոգման կառավարման կարողությունների բարելավման դրամաշնորհային ծրագրի խորհրդատվություն և կառավարում | H32: =+H34 -> -103987.5 | I32: =+I34 -> -138649.9
G33: այդ թվում` ըստ կատարողների
G34: ՀՀ տարածքային կառավարման և ենթակառուցվածքների նախարարության ջրային կոմիտե | H34: =+H36 -> -103987.5 | I34: =+I36 -> -138649.9
G35: այդ թվում` բյուջետային ծախսերի տնտեսագիտական դասակարգման հոդվածներ
G36: ԸՆԴԱՄԵՆԸ ԾԱԽՍԵՐ | H36: =+H37 -> -103987.5 | I36: =+I37 -> -138649.9
G37: ԸՆԹԱՑԻԿ ԾԱԽՍԵՐ | H37: =+H38 -> -103987.5 | I37: =+I38 -> -138649.9
G38: ԱՅԼ ԾԱԽՍԵՐ | H38: =+H39 -> -103987.5 | I38: =+I39 -> -138649.9
G39: Այլ ծախսեր | H39: ='11.'!E33 -> -103987.5 | I39: ='11.'!H33 -> -138649.9
F40: 11012 | G40: Ֆրանսիայի Հանրապետության կառավարության աջակցությամբ իրականացվող՝ Վեդու ջրամբարի կառուցման դրամաշնորհային ծրագիր | H40: =+H42 -> -7943.3 | I40: =+I42 -> -7943.3
G41: այդ թվում` ըստ կատարողների
G42: ՀՀ տարածքային կառավարման և ենթակառուցվածքների նախարարության ջրային կոմիտե | H42: =+H44 -> -7943.3 | I42: =+I44 -> -7943.3
G43: այդ թվում` բյուջետային ծախսերի տնտեսագիտական դասակարգման հոդվածներ
G44: ԸՆԴԱՄԵՆԸ ԾԱԽՍԵՐ | H44: =+H45 -> -7943.3 | I44: =+I45 -> -7943.3
G45: ԸՆԹԱՑԻԿ ԾԱԽՍԵՐ | H45: =+H46 -> -7943.3 | I45: =+I46 -> -7943.3
G46: ԱՅԼ ԾԱԽՍԵՐ | H46: =+H47 -> -7943.3 | I46: =+I47 -> -7943.3
G47: Այլ ծախսեր | H47: =+'11.'!E41 -> -7943.3 | I47: =+'11.'!H41 -> -7943.3
F48: 31004 | G48: Գերմանիայի զարգացման վարկերի բանկի աջակցությամբ իրականացվող Ախուրյան գետի ջրային ռեսուրսների ինտեգրված կառավարման ծրագրի շրջանակներում ջրային տնտեսության ենթակառուցվածքների հիմնանորոգում | H48: =+H50 -> -6792000 | I48: =+I50 -> -6792000
G49: այդ թվում` ըստ կատարողների
G50: ՀՀ տարածքային կառավարման և ենթակառուցվածքների նախարարության ջրային կոմիտե | H50: =+H52 -> -6792000 | I50: =+I52 -> -6792000
G51: այդ թվում` բյուջետային ծախսերի տնտեսագիտական դասակարգման հոդվածներ
G52: ԸՆԴԱՄԵՆԸ ԾԱԽՍԵՐ | H52: =+H53 -> -6792000 | I52: =+I53 -> -6792000
G53: ՈՉ ՖԻՆԱՆՍԱԿԱՆ ԱԿՏԻՎՆԵՐԻ ԳԾՈՎ ԾԱԽՍԵՐ | H53: =+H54 -> -6792000 | I53: =+I54 -> -6792000
G54: ՀԻՄՆԱԿԱՆ ՄԻՋՈՑՆԵՐ | H54: =+H55 -> -6792000 | I54: =+I55 -> -6792000
G55: ՇԵՆՔԵՐ ԵՎ ՇԻՆՈՒԹՅՈՒՆՆԵՐ | H55: =+H56 -> -6792000 | I55: =+I56 -> -6792000
G56: - Շենքերի և շինությունների շինարարություն | H56: ='10.'!E25 -> -6792000 | I56: ='10.'!H25 -> -6792000
C57: 05 | G57: Տրանսպորտ | H57: =+H59+H224 -> -6991139.9 | I57: =+I59+I224 -> -8708637.7
G58: այդ թվում`
D59: 01 | G59: Ճանապարհային տրանսպորտ | H59: =+H61 -> -6300740.7 | I59: =+I61 -> -8018238.5
G60: այդ թվում`
G61: ՀՀ ՏԱՐԱԾՔԱՅԻՆ ԿԱՌԱՎԱՐՄԱՆ ԵՎ ԵՆԹԱԿԱՌՈՒՑՎԱԾՔՆԵՐԻ ՆԱԽԱՐԱՐՈՒԹՅՈՒՆ | H61: =H63+H179 -> -6300740.7 | I61: =I63+I179 -> -8018238.5
G62: այդ թվում`
E63: 1049 | G63: Ճանապարհային ցանցի բարելավում | H63: =H65+H73+H84+H92+H100+H108+H116+H125+H134+H143+H152+H161+H170 -> -2300159.5 | I63: =I65+I73+I84+I92+I100+I108+I116+I125+I134+I143+I152+I161+I170 -> -2395159.5
G64: այդ թվում`
F65: 11005 | G65: Կենսական նշանակության ճանապարհային ցանցի բարելավման ծրագրի համակարգում և կառավարում | H65: =+H67 -> -47000 | I65: =+I67 -> -66000
G66: այդ թվում` ըստ կատարողների
G67: ՀՀ տարածքային կառավարման և ենթակառուցվածքների նախարարություն | H67: =+H69 -> -47000 | I67: =+I69 -> -66000
G68: այդ թվում` բյուջետային ծախսերի տնտեսագիտական դասակարգման հոդվածներ
G69: ԸՆԴԱՄԵՆԸ ԾԱԽՍԵՐ | H69: =+H70 -> -47000 | I69: =+I70 -> -66000
G70: ԸՆԹԱՑԻԿ ԾԱԽՍԵՐ | H70: =+H71 -> -47000 | I70: =+I71 -> -66000
G71: ԱՅԼ ԾԱԽՍԵՐ | H71: =+H72 -> -47000 | I71: =+I72 -> -66000
G72: Այլ ծախսեր | H72: ='10.'!E35 -> -47000 | I72: ='10.'!H35 -> -66000
F73: 11007 | G73: Ասիական զարգացման բանկի աջակցությամբ իրականացվող Հայաստան-Վրաստան սահմանային տարածաշրջանային ճանապարհի (Մ6 Վանաձոր-Բագրատաշեն) բարելավման ծրագրի համակարգում և կառավարում | H73: =H75 -> -85000 | I73: =I75 -> -135000
G74: այդ թվում` ըստ կատարողների
G75: ՀՀ տարածքային կառավարման և ենթակառուցվածքների նախարարություն | H75: =H77 -> -85000 | I75: =I77 -> -135000
G76: այդ թվում` բյուջետային ծախսերի տնտեսագիտական դասակարգման հոդվածներ
G77: ԸՆԴԱՄԵՆԸ ԾԱԽՍԵՐ | H77: =+H78 -> -85000 | I77: =+I78 -> -135000
G78: ԸՆԹԱՑԻԿ ԾԱԽՍԵՐ | H78: =+H79+H82 -> -85000 | I78: =+I79+I82 -> -135000
G79: ԴՐԱՄԱՇՆՈՐՀՆԵՐ | H79: =+H81 -> -50000 | I79: =+I81 -> -100000
G80: Ընթացիկ դրամաշնորհներ պետական հատվածի այլ մակարդակներին | H80: =+H81 -> -50000 | I80: =+I81 -> -100000
G81: - Այլ ընթացիկ դրամաշնորհներ | H81: ='10.'!E44 -> -50000 | I81: ='10.'!H44 -> -100000
G82: ԱՅԼ ԾԱԽՍԵՐ | H82: =+H83 -> -35000 | I82: =+I83 -> -35000
G83: Հարկեր, պարտադիր վճարներ և տույժեր, որոնք կառավարման տարբեր մակարդակների կողմից կիրառվում են միմյանց նկատմամբ | H83: ='10.'!E46 -> -35000 | I83: ='10.'!H46 -> -35000
F84: 11011 | G84: Ասիական զարգացման բանկի աջակցությամբ իրականացվող Հյուսիս-հարավ միջանցքի զարգացման ծրագրի համակարգում և կառավարում (Տրանշ 3) | H84: =+H86 -> -70000 | I84: =+I86 -> -70000
G85: այդ թվում` ըստ կատարողների
G86: ՀՀ տարածքային կառավարման և ենթակառուցվածքների նախարարություն | H86: =+H88 -> -70000 | I86: =+I88 -> -70000
G87: այդ թվում` բյուջետային ծախսերի տնտեսագիտական դասակարգման հոդվածներ
G88: ԸՆԴԱՄԵՆԸ ԾԱԽՍԵՐ | H88: =+H89 -> -70000 | I88: =+I89 -> -70000
G89: ԸՆԹԱՑԻԿ ԾԱԽՍԵՐ | H89: =+H90 -> -70000 | I89: =+I90 -> -70000
G90: ԱՅԼ ԾԱԽՍԵՐ | H90: =+H91 -> -70000 | I90: =+I91 -> -70000
G91: Այլ ծախսեր | H91: ='10.'!E54 -> -70000 | I91: ='10.'!H54 -> -70000
F92: 11012 | G92: Եվրասիական զարգացման բանկի աջակցությամբ իրականացվող Հյուսիս-հարավ միջանցքի զարգացման ծրագրի համակարգում և կառավարում | H92: =H94 -> -223000 | I92: =I94 -> -223000
G93: այդ թվում` ըստ կատարողների
G94: ՀՀ տարածքային կառավարման և ենթակառուցվածքների նախարարություն | H94: =H96 -> -223000 | I94: =I96 -> -223000
G95: այդ թվում` բյուջետային ծախսերի տնտեսագիտական դասակարգման հոդվածներ
G96: ԸՆԴԱՄԵՆԸ ԾԱԽՍԵՐ | H96: =+H97 -> -223000 | I96: =+I97 -> -223000
G97: ԸՆԹԱՑԻԿ ԾԱԽՍԵՐ | H97: =H98 -> -223000 | I97: =I98 -> -223000
G98: ԱՅԼ ԾԱԽՍԵՐ | H98: =H99 -> -223000 | I98: =I99 -> -223000
G99: Այլ ծախսեր | H99: ='10.'!E62 -> -223000 | I99: ='10.'!H62 -> -223000
F100: 11014 | G100: Կենսական նշանակության ճանապարհային ցանցի բարելավման երկրորդ լրացուցիչ ֆինանսավորման ծրագրի համակարգում և կառավարում | H100: =+H102 -> -230000 | I100: =+I102 -> -230000
G101: այդ թվում` ըստ կատարողների
G102: ՀՀ տարածքային կառավարման և ենթակառուցվածքների նախարարություն | H102: =+H104 -> -230000 | I102: =+I104 -> -230000
...

Sheet 10.
J1: Հավելված N10
J2: ՀՀ կառավարության 2022 թվականի
J3: ______________ ի ___Ն որոշման
B5: «ՀԱՅԱUՏԱՆԻ ՀԱՆՐԱՊԵՏՈՒԹՅԱՆ 2022 ԹՎԱԿԱՆԻ ՊԵՏԱԿԱՆ ԲՅՈՒՋԵԻ ՄԱUԻՆ» OՐԵՆՔԻ N 1 ՀԱՎԵԼՎԱԾԻ N 4 ԱՂՅՈՒՍԱԿՈՒՄ ԵՎ ՀԱՅԱՍՏԱՆԻ ՀԱՆՐԱՊԵՏՈՒԹՅԱՆ ԿԱՌԱՎԱՐՈՒԹՅԱՆ 2021 ԹՎԱԿԱՆԻ ԴԵԿՏԵՄԲԵՐԻ 23-Ի N 2121-Ն ՈՐՈՇՄԱՆ N 5 ՀԱՎԵԼՎԱԾԻ N 3 ԱՂՅՈՒՍԱԿՈՒՄ ԿԱՏԱՐՎՈՂ ՓՈՓՈԽՈՒԹՅՈՒՆՆԵՐԸ
J6: հազ. դրամ
B7: Ծրագրային դասիչը | D7: Բյուջետային գլխավոր կարգադրիչների, ծրագրերի և միջոցառումների անվանումները | E7: Ցուցանիշների փոփոխությունը (ավելացումները նշված են դրական նշանով, իսկ նվազեցումները` փակագծերում)
E8: Ինն ամիս | H8: Տարի
E9: Ընդամենը | F9: այդ թվում` | H9: Ընդամենը | I9: այդ թվում`
B10: Ծրագիր | C10: Միջոց առում | F10: Վարկային միջոցներ | G10: Համաֆինան սավորում | I10: Վարկային միջոցներ | J10: Համաֆինան սավորում
D11: ԸՆԴԱՄԵՆԸ_x000D_ այդ թվում` | E11: =+E12+E13 -> -11408806 | F11: =F13+F12 -> -11501315 | G11: =G13+G12 -> 92508.3 | H11: =I11+J11 -> -11406413 | I11: =I12+I13 -> -11501315 | J11: =J12+J13 -> 94902.1
D12: - ԸՆԹԱՑԻԿ ԾԱԽՍԵՐ | E12: =F12+G12 -> -680095.9 | F12: =+F33+F41+F52+F60+F68+F76+F84+F131+F159 -> -461514.8 | G12: =+G33+G41+G52+G60+G68+G76+G84+G131+G159 -> -218581.1 | H12: =I12+J12 -> -817496.1 | I12: =+I33+I41+I52+I60+I68+I76+I84+I131+I159 -> -476514.8 | J12: =+J33+J41+J52+J60+J68+J76+J84+J131+J159 -> -340981.3
D13: - ՈՉ ՖԻՆԱՆՍԱԿԱՆ ԱԿՏԻՎՆԵՐԻ ԳԾՈՎ ԾԱԽՍԵՐ | E13: =F13+G13 -> -10728711 | F13: =F22+F139+F148+F167+F93+F102+F111+F120 -> -11039800 | G13: =G22+G139+G148+G167+G93+G102+G111+G120 -> 311089.4 | H13: =I13+J13 -> -10588917 | I13: =I22+I139+I148+I167+I93+I102+I111+I120 -> -11024800 | J13: =J22+J139+J148+J167+J93+J102+J111+J120 -> 435883.4
D14: ՀՀ ՏԱՐԱԾՔԱՅԻՆ ԿԱՌԱՎԱՐՄԱՆ ԵՎ ԵՆԹԱԿԱՌՈՒՑՎԱԾՔՆԵՐԻ ՆԱԽԱՐԱՐՈՒԹՅՈՒՆ_x000D_ այդ թվում` | E14: =F14+G14 -> -11408806 | F14: =F15+F26+F124+F152 -> -11501315 | G14: =G15+G26+G124+G152 -> 92508.3 | H14: =I14+J14 -> -11406413 | I14: =I15+I26+I124+I152 -> -11501315 | J14: =J15+J26+J124+J152 -> 94902.1
B15: 1004 | D15: Ոռոգման համակարգի առողջացում | E15: =F15+G15 -> -6792000 | F15: =+F17 -> -6792000 | G15: =+G17 -> 0 | H15: =I15+J15 -> -6792000 | I15: =+I17 -> -6792000 | J15: =+J17 -> 0
D16: այդ թվում`
C17: 31004 | D17: Գերմանիայի զարգացման վարկերի բանկի աջակցությամբ իրականացվող Ախուրյան գետի ջրային ռեսուրսների ինտեգրված կառավարման ծրագրի շրջանակներում ջրային տնտեսության ենթակառուցվածքների հիմնանորոգում | E17: =E19 -> -6792000 | F17: =F19 -> -6792000 | G17: =G19 -> 0 | H17: =H19 -> -6792000 | I17: =I19 -> -6792000 | J17: =J19 -> 0
D18: այդ թվում` ըստ կատարողների
D19: ՀՀ տարածքային կառավարման և ենթակառուցվածքների նախարարության ջրային կոմիտե | E19: =E21 -> -6792000 | F19: =F21 -> -6792000 | G19: =G21 -> 0 | H19: =H21 -> -6792000 | I19: =I21 -> -6792000 | J19: =J21 -> 0
D20: այդ թվում` բյուջետային ծախսերի տնտեսագիտական դասակարգման հոդվածներ
D21: ԸՆԴԱՄԵՆԸ ԾԱԽՍԵՐ | E21: =E22 -> -6792000 | F21: =F22 -> -6792000 | G21: =G22 -> 0 | H21: =H22 -> -6792000 | I21: =I22 -> -6792000 | J21: =J22 -> 0
D22: ՈՉ ՖԻՆԱՆՍԱԿԱՆ ԱԿՏԻՎՆԵՐԻ ԳԾՈՎ ԾԱԽՍԵՐ | E22: =E23 -> -6792000 | F22: =F23 -> -6792000 | G22: =G23 -> 0 | H22: =H23 -> -6792000 | I22: =I23 -> -6792000 | J22: =J23 -> 0
D23: ՀԻՄՆԱԿԱՆ ՄԻՋՈՑՆԵՐ | E23: =E24 -> -6792000 | F23: =F24 -> -6792000 | G23: =G24 -> 0 | H23: =H24 -> -6792000 | I23: =I24 -> -6792000 | J23: =J24 -> 0
D24: ՇԵՆՔԵՐ ԵՎ ՇԻՆՈՒԹՅՈՒՆՆԵՐ | E24: =E25 -> -6792000 | F24: =F25 -> -6792000 | G24: =G25 -> 0 | H24: =H25 -> -6792000 | I24: =I25 -> -6792000 | J24: =J25 -> 0
D25: - Շենքերի և շինությունների շինարարություն | E25: =F25+G25 -> -6792000 | F25: -6792000 | G25: 0 | H25: =I25+J25 -> -6792000 | I25: -6792000 | J25: 0
B26: 1049 | D26: Ճանապարհային ցանցի բարելավում | E26: =F26+G26 -> -1125910.6 | F26: =F28+F36+F47+F55+F63+F71+F79+F88+F97+F106+F115 -> -1211000 | G26: =G28+G36+G47+G55+G63+G71+G79+G88+G97+G106+G115 -> 85089.4 | H26: =I26+J26 -> -1125910.6 | I26: =I28+I36+I47+I55+I63+I71+I79+I88+I97+I106+I115 -> -1211000 | J26: =J28+J36+J47+J55+J63+J71+J79+J88+J97+J106+J115 -> 85089.4
D27: այդ թվում`
C28: 11005 | D28: Համաշխարհային բանկի աջակցությամբ իրականացվող Կենսական նշանակության ճանապարհային ցանցի բարելավման ծրագրի շրջանակներում համակարգում և կառավարում | E28: =E30 -> -47000 | F28: =F30 -> -38000 | G28: =G30 -> -9000 | H28: =H30 -> -66000 | I28: =I30 -> -53000 | J28: =J30 -> -13000
D29: այդ թվում` ըստ կատարողների
D30: ՀՀ տարածքային կառավարման և ենթակառուցվածքների նախարարություն | E30: =E32 -> -47000 | F30: =F32 -> -38000 | G30: =G32 -> -9000 | H30: =H32 -> -66000 | I30: =I32 -> -53000 | J30: =J32 -> -13000
D31: այդ թվում` բյուջետային ծախսերի տնտեսագիտական դասակարգման հոդվածներ
D32: ԸՆԴԱՄԵՆԸ ԾԱԽՍԵՐ | E32: =E33 -> -47000 | F32: =F33 -> -38000 | G32: =G33 -> -9000 | H32: =H33 -> -66000 | I32: =I33 -> -53000 | J32: =J33 -> -13000
D33: ԸՆԹԱՑԻԿ ԾԱԽՍԵՐ | E33: =E34 -> -47000 | F33: =F34 -> -38000 | G33: =G34 -> -9000 | H33: =H34 -> -66000 | I33: =I34 -> -53000 | J33: =J34 -> -13000
D34: ԱՅԼ ԾԱԽՍԵՐ | E34: =E35 -> -47000 | F34: =F35 -> -38000 | G34: =G35 -> -9000 | H34: =H35 -> -66000 | I34: =I35 -> -53000 | J34: =J35 -> -13000
D35: - Այլ ծախսեր | E35: =F35+G35 -> -47000 | F35: -38000 | G35: -9000 | H35: =I35+J35 -> -66000 | I35: -53000 | J35: -13000
C36: 11007 | D36: Ասիական զարգացման բանկի աջակցությամբ իրականացվող Հայաստան-Վրաստան սահմանային տարածաշրջանային ճանապարհի (Մ6 Վանաձոր-Բագրատաշեն) բարելավման ծրագրի համակարգում և կառավարում | E36: =E38 -> -85000 | F36: =F38 -> 0 | G36: =G38 -> -85000 | H36: =H38 -> -135000 | I36: =I38 -> 0 | J36: =J38 -> -135000
D37: այդ թվում` ըստ կատարողների
D38: ՀՀ տարածքային կառավարման և ենթակառուցվածքների նախարարություն | E38: =E40 -> -85000 | F38: =F40 -> 0 | G38: =G40 -> -85000 | H38: =H40 -> -135000 | I38: =I40 -> 0 | J38: =J40 -> -135000
D39: այդ թվում` բյուջետային ծախսերի տնտեսագիտական դասակարգման հոդվածներ
D40: ԸՆԴԱՄԵՆԸ ԾԱԽՍԵՐ | E40: =E41 -> -85000 | F40: =F41 -> 0 | G40: =G41 -> -85000 | H40: =H41 -> -135000 | I40: =I41 -> 0 | J40: =J41 -> -135000
D41: ԸՆԹԱՑԻԿ ԾԱԽՍԵՐ | E41: =E42+E45 -> -85000 | F41: =F42+F45 -> 0 | G41: =G42+G45 -> -85000 | H41: =H42+H45 -> -135000 | I41: =I42+I45 -> 0 | J41: =J42+J45 -> -135000
D42: ԴՐԱՄԱՇՆՈՐՀՆԵՐ | E42: =E44 -> -50000 | F42: =F44 -> 0 | G42: =G44 -> -50000 | H42: =H43 -> -100000 | I42: =I43 -> 0 | J42: =J43 -> -100000
D43: Ընթացիկ դրամաշնորհներ պետական հատվածի այլ մակարդակներին | E43: =E44 -> -50000 | F43: =F44 -> 0 | G43: =G44 -> -50000 | H43: =H44 -> -100000 | I43: =I44 -> 0 | J43: =J44 -> -100000
D44: - Այլ ընթացիկ դրամաշնորհներ | E44: =F44+G44 -> -50000 | F44: 0 | G44: -50000 | H44: =I44+J44 -> -100000 | I44: 0 | J44: -100000
D45: ԱՅԼ ԾԱԽՍԵՐ | E45: =E46 -> -35000 | F45: =F46 -> 0 | G45: =G46 -> -35000 | H45: =H46 -> -35000 | I45: =I46 -> 0 | J45: =J46 -> -35000
D46: - Հարկեր, պարտադիր վճարներ և տույժեր, որոնք կառավարման տարբեր մակարդակների կողմից կիրառվում են միմյանց նկատմամբ | E46: =F46+G46 -> -35000 | F46: 0 | G46: -35000 | H46: -35000 | I46: 0 | J46: -35000
C47: 11011 | D47: Ասիական զարգացման բանկի աջակցությամբ իրականացվող Հյուսիս-հարավ միջանցքի զարգացման ծրագրի համակարգում և կառավարում (Տրանշ 3) | E47: =E49 -> -70000 | F47: =F49 -> 0 | G47: =G49 -> -70000 | H47: =H49 -> -70000 | I47: =I49 -> 0 | J47: =J49 -> -70000
D48: այդ թվում` ըստ կատարողների
D49: ՀՀ տարածքային կառավարման և ենթակառուցվածքների նախարարություն | E49: =E51 -> -70000 | F49: =F51 -> 0 | G49: =G51 -> -70000 | H49: =H51 -> -70000 | I49: =I51 -> 0 | J49: =J51 -> -70000
D50: այդ թվում` բյուջետային ծախսերի տնտեսագիտական դասակարգման հոդվածներ
D51: ԸՆԴԱՄԵՆԸ ԾԱԽՍԵՐ | E51: =E52 -> -70000 | F51: =F52 -> 0 | G51: =G52 -> -70000 | H51: =H52 -> -70000 | I51: =I52 -> 0 | J51: =J52 -> -70000
D52: ԸՆԹԱՑԻԿ ԾԱԽՍԵՐ | E52: =E53 -> -70000 | F52: =F53 -> 0 | G52: =G53 -> -70000 | H52: =H53 -> -70000 | I52: =I53 -> 0 | J52: =J53 -> -70000
D53: ԱՅԼ ԾԱԽՍԵՐ | E53: =E54 -> -70000 | F53: =F54 -> 0 | G53: =G54 -> -70000 | H53: =H54 -> -70000 | I53: =I54 -> 0 | J53: =J54 -> -70000
D54: - Այլ ծախսեր | E54: =F54+G54 -> -70000 | F54: 0 | G54: -70000 | H54: =I54+J54 -> -70000 | I54: 0 | J54: -70000
C55: 11012 | D55: =+'8.'!D106 -> Եվրասիական զարգացման բանկի աջակցությամբ իրականացվող Հյուսիս-հարավ միջանցքի զարգացման ծրագրի համակարգում և կառավարում | E55: =E57 -> -223000 | F55: =F57 -> -223000 | G55: =G57 -> 0 | H55: =H57 -> -223000 | I55: =I57 -> -223000 | J55: =J57 -> 0
D56: այդ թվում` ըստ կատարողների
D57: ՀՀ տարածքային կառավարման և ենթակառուցվածքների նախարարություն | E57: =E59 -> -223000 | F57: =F59 -> -223000 | G57: =G59 -> 0 | H57: =H59 -> -223000 | I57: =I59 -> -223000 | J57: =J59 -> 0
D58: այդ թվում` բյուջետային ծախսերի տնտեսագիտական դասակարգման հոդվածներ
D59: ԸՆԴԱՄԵՆԸ ԾԱԽՍԵՐ | E59: =E60 -> -223000 | F59: =F60 -> -223000 | G59: =G60 -> 0 | H59: =H60 -> -223000 | I59: =I60 -> -223000 | J59: =J60 -> 0
D60: ԸՆԹԱՑԻԿ ԾԱԽՍԵՐ | E60: =E61 -> -223000 | F60: =F61 -> -223000 | G60: =G61 -> 0 | H60: =H61 -> -223000 | I60: =I61 -> -223000 | J60: =J61 -> 0
D61: ԱՅԼ ԾԱԽՍԵՐ | E61: =E62 -> -223000 | F61: =F62 -> -223000 | G61: =G62 -> 0 | H61: =H62 -> -223000 | I61: =I62 -> -223000 | J61: =J62 -> 0
D62: - Այլ ծախսեր | E62: =F62+G62 -> -223000 | F62: -223000 | G62: 0 | H62: =I62+J62 -> -223000 | I62: -223000 | J62: 0
C63: 11014 | D63: Կենսական նշանակության ճանապարհային ցանցի բարելավման երկրորդ լրացուցիչ ֆինանսավորման ծրագրի համակարգում և կառավարում | E63: =E65 -> -230000 | F63: =F65 -> -168000 | G63: =G65 -> -62000 | H63: =H65 -> -230000 | I63: =I65 -> -168000 | J63: =J65 -> -62000
D64: այդ թվում` ըստ կատարողների
D65: ՀՀ տարածքային կառավարման և ենթակառուցվածքների նախարարություն | E65: =E67 -> -230000 | F65: =F67 -> -168000 | G65: =G67 -> -62000 | H65: =H67 -> -230000 | I65: =I67 -> -168000 | J65: =J67 -> -62000
D66: այդ թվում` բյուջետային ծախսերի տնտեսագիտական դասակարգման հոդվածներ
D67: ԸՆԴԱՄԵՆԸ ԾԱԽՍԵՐ | E67: =E68 -> -230000 | F67: =F68 -> -168000 | G67: =G68 -> -62000 | H67: =H68 -> -230000 | I67: =I68 -> -168000 | J67: =J68 -> -62000
D68: ԸՆԹԱՑԻԿ ԾԱԽՍԵՐ | E68: =E69 -> -230000 | F68: =F69 -> -168000 | G68: =G69 -> -62000 | H68: =H69 -> -230000 | I68: =I69 -> -168000 | J68: =J69 -> -62000
D69: ԱՅԼ ԾԱԽՍԵՐ | E69: =E70 -> -230000 | F69: =F70 -> -168000 | G69: =G70 -> -62000 | H69: =H70 -> -230000 | I69: =I70 -> -168000 | J69: =J70 -> -62000
D70: - Այլ ծախսեր | E70: =F70+G70 -> -230000 | F70: -168000 | G70: -62000 | H70: =I70+J70 -> -230000 | I70: -168000 | J70: -62000
C71: 11015 | D71: Եվրոպական ներդրումային բանկի աջակցությամբ իրականացվող Հյուսիս-հարավ միջանցքի զարգացման ծրագրի համակարգում և կառավարում (Տրանշ 3) | E71: =E73 -> -20000 | F71: =F73 -> -20000 | G71: =G73 -> 0 | H71: =H73 -> -20000 | I71: =I73 -> -20000 | J71: =J73 -> 0
D72: այդ թվում` ըստ կատարողների
D73: ՀՀ տարածքային կառավարման և ենթակառուցվածքների նախարարություն | E73: =E75 -> -20000 | F73: =F75 -> -20000 | G73: =G75 -> 0 | H73: =H75 -> -20000 | I73: =I75 -> -20000 | J73: =J75 -> 0
D74: այդ թվում` բյուջետային ծախսերի տնտեսագիտական դասակարգման հոդվածներ
D75: ԸՆԴԱՄԵՆԸ ԾԱԽՍԵՐ | E75: =E76 -> -20000 | F75: =F76 -> -20000 | G75: =G76 -> 0 | H75: =H76 -> -20000 | I75: =I76 -> -20000 | J75: =J76 -> 0
D76: ԸՆԹԱՑԻԿ ԾԱԽՍԵՐ | E76: =E77 -> -20000 | F76: =F77 -> -20000 | G76: =G77 -> 0 | H76: =H77 -> -20000 | I76: =I77 -> -20000 | J76: =J77 -> 0
D77: ԱՅԼ ԾԱԽՍԵՐ | E77: =E78 -> -20000 | F77: =F78 -> -20000 | G77: =G78 -> 0 | H77: =H78 -> -20000 | I77: =I78 -> -20000 | J77: =J78 -> 0
D78: - Այլ ծախսեր | E78: =F78+G78 -> -20000 | F78: -20000 | G78: 0 | H78: =I78+J78 -> -20000 | I78: -20000 | J78: 0
C79: 11016 | D79: Հյուսիս-հարավ ճանապարհային միջանցքի զարգացման ծրագրի Սիսիան-Քաջարան 60կմ-ի համակարգում և կառավարում | E79: =E81 -> 0 | F79: =F81 -> 0 | G79: =G81 -> 0 | H79: =H81 -> -70794 | I79: =I81 -> 0 | J79: =J81 -> -70794
D80: այդ թվում` ըստ կատարողների
D81: ՀՀ տարածքային կառավարման և ենթակառուցվածքների նախարարություն | E81: =E83 -> 0 | F81: =F83 -> 0 | G81: =G83 -> 0 | H81: =H83 -> -70794 | I81: =I83 -> 0 | J81: =J83 -> -70794
D82: այդ թվում` բյուջետային ծախսերի տնտեսագիտական դասակարգման հոդվածներ
D83: ԸՆԴԱՄԵՆԸ ԾԱԽՍԵՐ | E83: =E84 -> 0 | F83: =F84 -> 0 | G83: =G84 -> 0 | H83: =H84 -> -70794 | I83: =I84 -> 0 | J83: =J84 -> -70794
D84: ԸՆԹԱՑԻԿ ԾԱԽՍԵՐ | E84: =E85 -> 0 | F84: =F85+F88 -> 0 | G84: =G85 -> 0 | H84: =H85 -> -70794 | I84: =I85 -> 0 | J84: =J85 -> -70794
D85: ԴՐԱՄԱՇՆՈՐՀՆԵՐ | E85: =E87 -> 0 | F85: =F87 -> 0 | G85: =G87 -> 0 | H85: =H87 -> -70794 | I85: =I86 -> 0 | J85: =J87 -> -70794
D86: Ընթացիկ դրամաշնորհներ պետական հատվածի այլ մակարդակներին | E86: =E87 -> 0 | F86: 0 | G86: =G87 -> 0 | H86: =I86+J86 -> -70794 | I86: 0 | J86: =J87 -> -70794
D87: - Այլ ընթացիկ դրամաշնորհներ | E87: =F87+G87 -> 0 | F87: 0 | G87: 0 | H87: =I87+J87 -> -70794 | I87: 0 | J87: -70794
C88: 21004 | D88: Ասիական զարգացման բանկի աջակցությամբ իրականացվող Մ6 Վանաձոր-Ալավերդի-Վրաստանի սահման միջպետական նշանակության ճանապարհի ծրագրի կառուցում և հիմնանորոգում | E88: =E90 -> 357589.4 | F88: =F90 -> 0 | G88: =G90 -> 357589.4 | H88: =H90 -> 1967383.4 | I88: =I90 -> 1500000 | J88: =J90 -> 467383.4
D89: այդ թվում` ըստ կատարողների
D90: ՀՀ տարածքային կառավարման և ենթակառուցվածքների նախարարություն | E90: =E92 -> 357589.4 | F90: =F92 -> 0 | G90: =G92 -> 357589.4 | H90: =H92 -> 1967383.4 | I90: =I92 -> 1500000 | J90: =J92 -> 467383.4
D91: այդ թվում` բյուջետային ծախսերի տնտեսագիտական դասակարգման հոդվածներ
D92: ԸՆԴԱՄԵՆԸ ԾԱԽՍԵՐ | E92: =E93 -> 357589.4 | F92: =F93 -> 0 | G92: =G93 -> 357589.4 | H92: =H93 -> 1967383.4 | I92: =I93 -> 1500000 | J92: =J93 -> 467383.4
D93: ՈՉ ՖԻՆԱՆՍԱԿԱՆ ԱԿՏԻՎՆԵՐԻ ԳԾՈՎ ԾԱԽՍԵՐ | E93: =E94 -> 357589.4 | F93: =F94 -> 0 | G93: =G94 -> 357589.4 | H93: =H94 -> 1967383.4 | I93: =I94 -> 1500000 | J93: =J94 -> 467383.4
D94: ՀԻՄՆԱԿԱՆ ՄԻՋՈՑՆԵՐ | E94: =+E95 -> 357589.4 | F94: =+F95 -> 0 | G94: =G95 -> 357589.4 | H94: =I94+J94 -> 1967383.4 | I94: =I95 -> 1500000 | J94: =J95 -> 467383.4
D95: ՇԵՆՔԵՐ ԵՎ ՇԻՆՈՒԹՅՈՒՆՆԵՐ | E95: =E96 -> 357589.4 | F95: =F96 -> 0 | G95: =G96 -> 357589.4 | H95: =H96 -> 1967383.4 | I95: =I96 -> 1500000 | J95: =J96 -> 467383.4
D96: Շենքերի և շինությունների կապիտալ վերանորոգում | E96: =F96+G96 -> 357589.4 | F96: 0 | G96: =272500+85089.4 -> 357589.4 | H96: =I96+J96 -> 1967383.4 | I96: 1500000 | J96: 467383.4
C97: 21008 | D97: Վերակառուցման և զարգացման եվրոպական բանկի աջակցությամբ իրականացվող ՀՀ պետական սահմանի Բագրատաշեն անցման կետի կամրջի վերակառուցման վարկային ծրագիր | E97: =E99 -> -228500 | F97: =F99 -> -182000 | G97: =G99 -> -46500 | H97: =H99 -> -228500 | I97: =I99 -> -182000 | J97: =J99 -> -46500
D98: այդ թվում` ըստ կատարողների
D99: ՀՀ տարածքային կառավարման և ենթակառուցվածքների նախարարություն | E99: =E101 -> -228500 | F99: =F101 -> -182000 | G99: =G101 -> -46500 | H99: =H101 -> -228500 | I99: =I101 -> -182000 | J99: =J101 -> -46500
D100: այդ թվում` բյուջետային ծախսերի տնտեսագիտական դասակարգման հոդվածներ
D101: ԸՆԴԱՄԵՆԸ ԾԱԽՍԵՐ | E101: =E102 -> -228500 | F101: =F102 -> -182000 | G101: =G102 -> -46500 | H101: =H102 -> -228500 | I101: =I102 -> -182000 | J101: =J102 -> -46500
...

Sheet 11.
J1: Հավելված N11
J2: ՀՀ կառավարության 2022 թվականի
J3: ______________ ի ___Ն որոշման
B5: «ՀԱՅԱUՏԱՆԻ ՀԱՆՐԱՊԵՏՈՒԹՅԱՆ 2022 ԹՎԱԿԱՆԻ ՊԵՏԱԿԱՆ ԲՅՈՒՋԵԻ ՄԱUԻՆ» OՐԵՆՔԻ N 1 ՀԱՎԵԼՎԱԾԻ N 5 ԱՂՅՈՒՍԱԿՈՒՄ ԵՎ ՀԱՅԱՍՏԱՆԻ ՀԱՆՐԱՊԵՏՈՒԹՅԱՆ ԿԱՌԱՎԱՐՈՒԹՅԱՆ 2021 ԹՎԱԿԱՆԻ ԴԵԿՏԵՄԲԵՐԻ 23-Ի N 2121-Ն ՈՐՈՇՄԱՆ N 5 ՀԱՎԵԼՎԱԾԻ N 4 ԱՂՅՈՒՍԱԿՈՒՄ ԿԱՏԱՐՎՈՂ ՓՈՓՈԽՈՒԹՅՈՒՆՆԵՐԸ
J6: հազ. դրամ
B7: Ծրագրային դասիչը | D7: Բյուջետային գլխավոր կարգադրիչների, ծրագրերի և միջոցառումների անվանումները | E7: Ցուցանիշների փոփոխությունը (ավելացումները նշված են դրական նշանով, իսկ նվազեցումները` փակագծերում)
E8: Ինն ամիս | H8: Տարի
E9: Ընդամենը | F9: այդ թվում` | H9: Ընդամենը | I9: այդ թվում`
B10: Ծրագիր | C10: Միջոց առում | F10: Դրամաշնորհային միջոցներ | G10: Համաֆինան սավորում | I10: Դրամաշնորհային միջոցներ | J10: Համաֆինան սավորում
D11: ԸՆԴԱՄԵՆԸ | E11: =+F11+G11 -> -5566732.4 | F11: =+F15 -> -5474224.1 | G11: =+G15 -> -92508.3 | H11: =+I11+J11 -> -7344395 | I11: =+I15 -> -7249492.9 | J11: =+J15 -> -94902.1
D12: այդ թվում` | E12: =+F12+G12 -> 0 | H12: =+I12+J12 -> 0
D13: ԸՆԹԱՑԻԿ ԾԱԽՍԵՐ | E13: =+F13+G13 -> -474706.2 | F13: =+F170+F23+F31+F39+F114+F49+F57+F153 -> -467287.3 | G13: =+G170+G23+G31+G39+G114+G49+G57+G153 -> -7418.9 | H13: =+I13+J13 -> -585518.8 | I13: =+I170+I23+I31+I39+I114+I49+I57+I153 -> -575706.1 | J13: =+J170+J23+J31+J39+J114+J49+J57+J153 -> -9812.7
D14: ՈՉ ՖԻՆԱՆՍԱԿԱՆ ԱԿՏԻՎՆԵՐԻ ԳԾՈՎ ԾԱԽՍԵՐ | E14: =+F14+G14 -> -5092026.2 | F14: =+F178+F122+F131+F161+F74+F83+F187+F65+F94+F103+F144 -> -5006936.8 | G14: =+G178+G122+G131+G161+G74+G83+G187+G65+G94+G103+G144 -> -85089.4 | H14: =+I14+J14 -> -6758876.2 | I14: =+I178+I122+I131+I161+I74+I83+I187+I65+I94+I103+I144 -> -6673786.8 | J14: =+J178+J122+J131+J161+J74+J83+J187+J65+J94+J103+J144 -> -85089.4
D15: ՀՀ ՏԱՐԱԾՔԱՅԻՆ ԿԱՌԱՎԱՐՄԱՆ ԵՎ ԵՆԹԱԿԱՌՈՒՑՎԱԾՔՆԵՐԻ ՆԱԽԱՐԱՐՈՒԹՅՈՒՆ | E15: =+F15+G15 -> -5566732.4 | F15: =+F16+F107+F42+F87+F137 -> -5474224.1 | G15: =+G16+G107+G42+G87+G137 -> -92508.3 | H15: =+I15+J15 -> -7344395 | I15: =+I16+I107+I42+I87+I137 -> -7249492.9 | J15: =+J16+J107+J42+J87+J137 -> -94902.1
B16: 1004 | D16: Ոռոգման համակարգի առողջացում | E16: =+F16+G16 -> -128882.4 | F16: =+F18+F26+F34 -> -128882.4 | G16: =+G18+G26+G34 -> 0 | H16: =+I16+J16 -> -163544.8 | I16: =+I18+I26+I34 -> -163544.8 | J16: =+J18+J26+J34 -> 0
D17: այդ թվում` | E17: =+F17+G17 -> 0
C18: 11009 | D18: Գերմանիայի զարգացման վարկերի բանկի աջակցությամբ իրականացվող Ախուրյան գետի ջրային ռեսուրսների ինտեգրացված կառավարման դրամաշնորհային ծրագիր | E18: =+F18+G18 -> -16951.6 | F18: =+F20 -> -16951.6 | G18: =+G20 -> 0 | H18: =+H20 -> -16951.6 | I18: =+I20 -> -16951.6 | J18: =+J20 -> 0
D19: այդ թվում` ըստ կատարողների | E19: =+F19+G19 -> 0
D20: ՀՀ տարածքային կառավարման և ենթակառուցվածքների նախարարության ջրային կոմիտե | E20: =+F20+G20 -> -16951.6 | F20: =+F22 -> -16951.6 | G20: =+G22 -> 0 | H20: =+H22 -> -16951.6 | I20: =+I22 -> -16951.6 | J20: =+J22 -> 0
D21: այդ թվում` բյուջետային ծախսերի տնտեսագիտական դասակարգման հոդվածներ | E21: =+F21+G21 -> 0
D22: ԸՆԴԱՄԵՆԸ ԾԱԽՍԵՐ | E22: =+F22+G22 -> -16951.6 | F22: =+F23 -> -16951.6 | G22: =+G23 -> 0 | H22: =+I22+J22 -> -16951.6 | I22: =+I23 -> -16951.6 | J22: =+J23 -> 0
D23: ԸՆԹԱՑԻԿ ԾԱԽՍԵՐ | E23: =+F23+G23 -> -16951.6 | F23: =+F24 -> -16951.6 | G23: =+G24 -> 0 | H23: =+I23+J23 -> -16951.6 | I23: =+I24 -> -16951.6 | J23: =+J24 -> 0
D24: ԱՅԼ ԾԱԽՍԵՐ | E24: =+F24+G24 -> -16951.6 | F24: =+F25 -> -16951.6 | G24: =+G25 -> 0 | H24: =+I24+J24 -> -16951.6 | I24: =+I25 -> -16951.6 | J24: =+J25 -> 0
D25: Այլ ծախսեր | E25: =+F25+G25 -> -16951.6 | F25: -16951.6 | G25: 0 | H25: =+I25+J25 -> -16951.6 | I25: -16951.6 | J25: 0
C26: 11011 | D26: Զարգացման ֆրանսիական գործակալության աջակցությամբ իրականացվող ոռոգման ոլորտի ֆինանսական կայունության և ոռոգման կառավարման կարողությունների բարելավման դրամաշնորհային ծրագրի խորհրդատվություն և կառավարում | E26: =+F26+G26 -> -103987.5 | F26: =+F28 -> -103987.5 | G26: =+G28 -> 0 | H26: =+H28 -> -138649.9 | I26: =+I28 -> -138649.9 | J26: =+J28 -> 0
D27: այդ թվում` ըստ կատարողների | E27: =+F27+G27 -> 0
D28: ՀՀ տարածքային կառավարման և ենթակառուցվածքների նախարարության ջրային կոմիտե | E28: =+F28+G28 -> -103987.5 | F28: =+F30 -> -103987.5 | G28: =+G30 -> 0 | H28: =+H30 -> -138649.9 | I28: =+I30 -> -138649.9 | J28: =+J30 -> 0
D29: այդ թվում` բյուջետային ծախսերի տնտեսագիտական դասակարգման հոդվածներ | E29: =+F29+G29 -> 0
D30: ԸՆԴԱՄԵՆԸ ԾԱԽՍԵՐ | E30: =+F30+G30 -> -103987.5 | F30: =+F31 -> -103987.5 | G30: =+G31 -> 0 | H30: =+I30+J30 -> -138649.9 | I30: =+I31 -> -138649.9 | J30: =+J31 -> 0
D31: ԸՆԹԱՑԻԿ ԾԱԽՍԵՐ | E31: =+F31+G31 -> -103987.5 | F31: =+F32 -> -103987.5 | G31: =+G32 -> 0 | H31: =+I31+J31 -> -138649.9 | I31: =+I32 -> -138649.9 | J31: =+J32 -> 0
D32: ԱՅԼ ԾԱԽՍԵՐ | E32: =+F32+G32 -> -103987.5 | F32: =+F33 -> -103987.5 | G32: =+G33 -> 0 | H32: =+I32+J32 -> -138649.9 | I32: =+I33 -> -138649.9 | J32: =+J33 -> 0
D33: Այլ ծախսեր | E33: =+F33+G33 -> -103987.5 | F33: -103987.5 | G33: 0 | H33: =+I33+J33 -> -138649.9 | I33: -138649.9 | J33: 0
C34: 11012 | D34: Ֆրանսիայի Հանրապետության կառավարության աջակցությամբ իրականացվող՝ Վեդու ջրամբարի կառուցման դրամաշնորհային ծրագիր | E34: =+F34+G34 -> -7943.3 | F34: =+F36 -> -7943.3 | G34: =+G36 -> 0 | H34: =+H36 -> -7943.3 | I34: =+I36 -> -7943.3 | J34: =+J36 -> 0
D35: այդ թվում` ըստ կատարողների | E35: =+F35+G35 -> 0
D36: ՀՀ տարածքային կառավարման և ենթակառուցվածքների նախարարության ջրային կոմիտե | E36: =+F36+G36 -> -7943.3 | F36: =+F38 -> -7943.3 | G36: =+G38 -> 0 | H36: =+H38 -> -7943.3 | I36: =+I38 -> -7943.3 | J36: =+J38 -> 0
D37: այդ թվում` բյուջետային ծախսերի տնտեսագիտական դասակարգման հոդվածներ | E37: =+F37+G37 -> 0
D38: ԸՆԴԱՄԵՆԸ ԾԱԽՍԵՐ | E38: =+F38+G38 -> -7943.3 | F38: =+F39 -> -7943.3 | G38: =+G39 -> 0 | H38: =+I38+J38 -> -7943.3 | I38: =+I39 -> -7943.3 | J38: =+J39 -> 0
D39: ԸՆԹԱՑԻԿ ԾԱԽՍԵՐ | E39: =+F39+G39 -> -7943.3 | F39: =+F40 -> -7943.3 | G39: =+G40 -> 0 | H39: =+I39+J39 -> -7943.3 | I39: =+I40 -> -7943.3 | J39: =+J40 -> 0
D40: ԱՅԼ ԾԱԽՍԵՐ | E40: =+F40+G40 -> -7943.3 | F40: =+F41 -> -7943.3 | G40: =+G41 -> 0 | H40: =+I40+J40 -> -7943.3 | I40: =+I41 -> -7943.3 | J40: =+J41 -> 0
D41: Այլ ծախսեր | E41: =+F41+G41 -> -7943.3 | F41: -7943.3 | G41: 0 | H41: =+I41+J41 -> -7943.3 | I41: -7943.3 | J41: 0
B42: 1040 | D42: Կոշտ թափոնների կառավարում | E42: =+F42+G42 -> -1046518.5 | F42: =F44+F52+F60+F69+F78 -> -1034818.6 | G42: =G44+G52+G60+G69+G78 -> -11699.9 | H42: =H44+H52+H60+H69+H78 -> -1090042.1 | I42: =I44+I52+I60+I69+I78 -> -1072548.4 | J42: =J44+J52+J60+J69+J78 -> -17493.7
D43: այդ թվում` | E43: =+F43+G43 -> 0
C44: 12001 | D44: Վերակառուցման և զարգացման եվրոպական բանկի աջակցությամբ իրականացվող «Երևանի կոշտ թափոնների կառավարման» դրամաշնորհային ծրագիր | E44: =+F44+G44 -> -64147.2 | F44: =F46 -> -52447.3 | G44: =G46 -> -11699.9 | H44: =H46 -> -107670.8 | I44: =I46 -> -90177.1 | J44: =J46 -> -17493.7
D45: այդ թվում` ըստ կատարողների | E45: =+F45+G45 -> 0
D46: ՀՀ տարածքային կառավարման և ենթակառուցվածքների նախարարություն | E46: =+F46+G46 -> -64147.2 | F46: =F51 -> -52447.3 | G46: =G51 -> -11699.9 | H46: =H51 -> -107670.8 | I46: =I51 -> -90177.1 | J46: =J51 -> -17493.7
D47: այդ թվում` բյուջետային ծախսերի տնտեսագիտական դասակարգման հոդվածներ | E47: =+F47+G47 -> 0
D48: ԸՆԴԱՄԵՆԸ ԾԱԽՍԵՐ | E48: =+F48+G48 -> -64147.2 | F48: =F49 -> -52447.3 | G48: =G49 -> -11699.9 | H48: =H49 -> -107670.8 | I48: =I49 -> -90177.1 | J48: =J49 -> -17493.7
D49: ԸՆԹԱՑԻԿ ԾԱԽՍԵՐ | E49: =+F49+G49 -> -64147.2 | F49: =F50 -> -52447.3 | G49: =G50 -> -11699.9 | H49: =H50 -> -107670.8 | I49: =I50 -> -90177.1 | J49: =J50 -> -17493.7
D50: ԱՅԼ ԾԱԽՍԵՐ | E50: =+F50+G50 -> -64147.2 | F50: =F51 -> -52447.3 | G50: =G51 -> -11699.9 | H50: =H51 -> -107670.8 | I50: =I51 -> -90177.1 | J50: =J51 -> -17493.7
D51: Այլ ծախսեր | E51: =+F51+G51 -> -64147.2 | F51: -52447.3 | G51: -11699.9 | H51: =I51+J51 -> -107670.8 | I51: -90177.1 | J51: -17493.7
C52: 12002 | D52: Վերակառուցման և զարգացման եվրոպական բանկի աջակցությամբ իրականացվող «Կոտայքի և Գեղարքունիքի մարզի կոշտ թափոնների կառավարման խորհրդատվության համար» դրամաշնորհային ծրագիր | E52: =+F52+G52 -> -99336.1 | F52: =F54 -> -99336.1 | G52: =G54 -> 0 | H52: =H54 -> -99336.1 | I52: =I54 -> -99336.1 | J52: =J54 -> 0
D53: այդ թվում` ըստ կատարողների | E53: =+F53+G53 -> 0
D54: ՀՀ տարածքային կառավարման և ենթակառուցվածքների նախարարություն | E54: =+F54+G54 -> -99336.1 | F54: =F59 -> -99336.1 | G54: =G59 -> 0 | H54: =H59 -> -99336.1 | I54: =I59 -> -99336.1 | J54: =J59 -> 0
D55: այդ թվում` բյուջետային ծախսերի տնտեսագիտական դասակարգման հոդվածներ | E55: =+F55+G55 -> 0
D56: ԸՆԴԱՄԵՆԸ ԾԱԽՍԵՐ | E56: =+F56+G56 -> -99336.1 | F56: =F57 -> -99336.1 | G56: =G57 -> 0 | H56: =H57 -> -99336.1 | I56: =I57 -> -99336.1 | J56: =J57 -> 0
D57: ԸՆԹԱՑԻԿ ԾԱԽՍԵՐ | E57: =+F57+G57 -> -99336.1 | F57: =F58 -> -99336.1 | G57: =G58 -> 0 | H57: =H58 -> -99336.1 | I57: =I58 -> -99336.1 | J57: =J58 -> 0
D58: ԱՅԼ ԾԱԽՍԵՐ | E58: =+F58+G58 -> -99336.1 | F58: =F59 -> -99336.1 | G58: =G59 -> 0 | H58: =H59 -> -99336.1 | I58: =I59 -> -99336.1 | J58: =J59 -> 0
D59: Այլ ծախսեր | E59: =+F59+G59 -> -99336.1 | F59: -99336.1 | G59: 0 | H59: =I59+J59 -> -99336.1 | I59: =F59 -> -99336.1 | J59: =G59 -> 0
C60: 32004 | D60: Վերակառուցման և զարգացման եվրոպական բանկի աջակցությամբ իրականացվող «Կոտայքի և Գեղարքունիքի մարզի կոշտ թափոնների կառավարման» դրամաշնորհային ծրագիր | E60: =+F60+G60 -> -550220.2 | F60: =F62 -> -550220.2 | G60: =G62 -> 0 | H60: =H62 -> -550220.2 | I60: =I62 -> -550220.2 | J60: =J62 -> 0
D61: այդ թվում` ըստ կատարողների | E61: =+F61+G61 -> 0
D62: ՀՀ տարածքային կառավարման և ենթակառուցվածքների նախարարություն | E62: =+F62+G62 -> -550220.2 | F62: =F67 -> -550220.2 | G62: =G67 -> 0 | H62: =H67 -> -550220.2 | I62: =I67 -> -550220.2 | J62: =J67 -> 0
D63: այդ թվում` բյուջետային ծախսերի տնտեսագիտական դասակարգման հոդվածներ | E63: =+F63+G63 -> 0
D64: ԸՆԴԱՄԵՆԸ ԾԱԽՍԵՐ | E64: =+F64+G64 -> -550220.2 | F64: =F65 -> -550220.2 | G64: =G65 -> 0 | H64: =H65 -> -550220.2 | I64: =I65 -> -550220.2 | J64: =J65 -> 0
D65: ՈՉ ՖԻՆԱՆՍԱԿԱՆ ԱԿՏԻՎՆԵՐԻ ԳԾՈՎ ԾԱԽՍԵՐ | E65: =+F65+G65 -> -550220.2 | F65: =F66 -> -550220.2 | G65: =G66 -> 0 | H65: =H66 -> -550220.2 | I65: =I66 -> -550220.2 | J65: =J66 -> 0
D66: ՀԻՄՆԱԿԱՆ ՄԻՋՈՑՆԵՐ | E66: =+F66+G66 -> -550220.2 | F66: =F67 -> -550220.2 | G66: =G67 -> 0 | H66: =H67 -> -550220.2 | I66: =I67 -> -550220.2 | J66: =J67 -> 0
D67: ՇԵՆՔԵՐ ԵՎ ՇԻՆՈՒԹՅՈՒՆՆԵՐ | E67: =+F67+G67 -> -550220.2 | F67: =F68 -> -550220.2 | G67: =G68 -> 0 | H67: =H68 -> -550220.2 | I67: =I68 -> -550220.2 | J67: =J68 -> 0
D68: - Շենքերի և շինությունների շինարարություն | E68: =+F68+G68 -> -550220.2 | F68: =-295029.3-255190.9 -> -550220.2 | G68: 0 | H68: =I68+J68 -> -550220.2 | I68: =-295029.3-255190.9 -> -550220.2 | J68: 0
C69: 32006 | D69: Եվրոպական միության հարևանության ներդրումային գործիքի աջակցությամբ իրականացվող «Երևանի կոշտ թափոնների կառավարման» դրամաշնորհային ծրագիր | E69: =+F69+G69 -> -266256.4 | F69: =F71 -> -266256.4 | G69: =G71 -> 0 | H69: =H71 -> -266256.4 | I69: =I71 -> -266256.4 | J69: =J71 -> 0
D70: այդ թվում` ըստ կատարողների | E70: =+F70+G70 -> 0
D71: ՀՀ տարածքային կառավարման և ենթակառուցվածքների նախարարություն | E71: =+F71+G71 -> -266256.4 | F71: =F76 -> -266256.4 | G71: =G76 -> 0 | H71: =H76 -> -266256.4 | I71: =I76 -> -266256.4 | J71: =J76 -> 0
D72: այդ թվում` բյուջետային ծախսերի տնտեսագիտական դասակարգման հոդվածներ | E72: =+F72+G72 -> 0
D73: ԸՆԴԱՄԵՆԸ ԾԱԽՍԵՐ | E73: =+F73+G73 -> -266256.4 | F73: =F74 -> -266256.4 | G73: =G74 -> 0 | H73: =H74 -> -266256.4 | I73: =I74 -> -266256.4 | J73: =J74 -> 0
D74: ՈՉ ՖԻՆԱՆՍԱԿԱՆ ԱԿՏԻՎՆԵՐԻ ԳԾՈՎ ԾԱԽՍԵՐ | E74: =+F74+G74 -> -266256.4 | F74: =F75 -> -266256.4 | G74: =G75 -> 0 | H74: =H75 -> -266256.4 | I74: =I75 -> -266256.4 | J74: =J75 -> 0
D75: ՀԻՄՆԱԿԱՆ ՄԻՋՈՑՆԵՐ | E75: =+F75+G75 -> -266256.4 | F75: =F76 -> -266256.4 | G75: =G76 -> 0 | H75: =H76 -> -266256.4 | I75: =I76 -> -266256.4 | J75: =J76 -> 0
D76: ՇԵՆՔԵՐ ԵՎ ՇԻՆՈՒԹՅՈՒՆՆԵՐ | E76: =+F76+G76 -> -266256.4 | F76: =F77 -> -266256.4 | G76: =G77 -> 0 | H76: =H77 -> -266256.4 | I76: =I77 -> -266256.4 | J76: =J77 -> 0
D77: - Շենքերի և շինությունների շինարարություն | E77: =+F77+G77 -> -266256.4 | F77: -266256.4 | G77: 0 | H77: =I77+J77 -> -266256.4 | I77: -266256.4 | J77: 0
C78: 32007 | D78: Արևելյան եվրոպայի էներգախնայողության և բնապահպանական գործընկերության ֆոնդի աջակցությամբ իրականացվող «Երևանի կոշտ թափոնների կառավարման» դրամաշնորհային ծրագիր | E78: =+F78+G78 -> -66558.6 | F78: =F80 -> -66558.6 | G78: =G80 -> 0 | H78: =H80 -> -66558.6 | I78: =I80 -> -66558.6 | J78: =J80 -> 0
D79: այդ թվում` ըստ կատարողների | E79: =+F79+G79 -> 0
D80: ՀՀ տարածքային կառավարման և ենթակառուցվածքների նախարարություն | E80: =+F80+G80 -> -66558.6 | F80: =F85 -> -66558.6 | G80: =G85 -> 0 | H80: =H85 -> -66558.6 | I80: =I85 -> -66558.6 | J80: =J85 -> 0
D81: այդ թվում` բյուջետային ծախսերի տնտեսագիտական դասակարգման հոդվածներ | E81: =+F81+G81 -> 0
D82: ԸՆԴԱՄԵՆԸ ԾԱԽՍԵՐ | E82: =+F82+G82 -> -66558.6 | F82: =F83 -> -66558.6 | G82: =G83 -> 0 | H82: =H83 -> -66558.6 | I82: =I83 -> -66558.6 | J82: =J83 -> 0
D83: ՈՉ ՖԻՆԱՆՍԱԿԱՆ ԱԿՏԻՎՆԵՐԻ ԳԾՈՎ ԾԱԽՍԵՐ | E83: =+F83+G83 -> -66558.6 | F83: =F84 -> -66558.6 | G83: =G84 -> 0 | H83: =H84 -> -66558.6 | I83: =I84 -> -66558.6 | J83: =J84 -> 0
D84: ՀԻՄՆԱԿԱՆ ՄԻՋՈՑՆԵՐ | E84: =+F84+G84 -> -66558.6 | F84: =F85 -> -66558.6 | G84: =G85 -> 0 | H84: =H85 -> -66558.6 | I84: =I85 -> -66558.6 | J84: =J85 -> 0
D85: ՇԵՆՔԵՐ ԵՎ ՇԻՆՈՒԹՅՈՒՆՆԵՐ | E85: =+F85+G85 -> -66558.6 | F85: =F86 -> -66558.6 | G85: =G86 -> 0 | H85: =H86 -> -66558.6 | I85: =I86 -> -66558.6 | J85: =J86 -> 0
D86: - Շենքերի և շինությունների շինարարություն | E86: =+F86+G86 -> -66558.6 | F86: -66558.6 | G86: 0 | H86: =I86+J86 -> -66558.6 | I86: -66558.6 | J86: 0
B87: 1049 | D87: Ճանապարհային ցանցի բարելավում | E87: =+F87+G87 -> -1174248.9 | F87: =+F89+F98 -> -1089159.5 | G87: =+G89+G98 -> -85089.4 | H87: =+I87+J87 -> -1269248.9 | I87: =+I89+I98 -> -1184159.5 | J87: =+J89+J98 -> -85089.4
D88: այդ թվում` | E88: =+F88+G88 -> 0
C89: 21007 | D89: Եվրոպական ներդրումային բանկի աջակցությամբ իրականացվող Հյուսիս-հարավ միջանցքի զարգացման դրամաշնորհային ծրագիր, Տրանշ 3 | E89: =+F89+G89 -> -829248.9 | F89: =+F91 -> -744159.5 | G89: =+G91 -> -85089.4 | H89: =+H91 -> -829248.9 | I89: =+I91 -> -744159.5 | J89: =+J91 -> -85089.4
D90: այդ թվում` ըստ կատարողների | E90: =+F90+G90 -> 0
D91: ՀՀ տարածքային կառավարման և ենթակառուցվածքների նախարարության ջրային կոմիտե | E91: =+F91+G91 -> -829248.9 | F91: =+F93 -> -744159.5 | G91: =+G93 -> -85089.4 | H91: =+H93 -> -829248.9 | I91: =+I93 -> -744159.5 | J91: =+J93 -> -85089.4
D92: այդ թվում` բյուջետային ծախսերի տնտեսագիտական դասակարգման հոդվածներ | E92: =+F92+G92 -> 0
D93: ԸՆԴԱՄԵՆԸ ԾԱԽՍԵՐ | E93: =+F93+G93 -> -829248.9 | F93: =+F94 -> -744159.5 | G93: =+G94 -> -85089.4 | H93: =+I93+J93 -> -829248.9 | I93: =+I94 -> -744159.5 | J93: =+J94 -> -85089.4
D94: ՈՉ ՖԻՆԱՆՍԱԿԱՆ ԱԿՏԻՎՆԵՐԻ ԳԾՈՎ ԾԱԽՍԵՐ | E94: =+F94+G94 -> -829248.9 | F94: =+F95 -> -744159.5 | G94: =+G95 -> -85089.4 | H94: =+I94+J94 -> -829248.9 | I94: =+I95 -> -744159.5 | J94: =+J95 -> -85089.4
D95: ՀԻՄՆԱԿԱՆ ՄԻՋՈՑՆԵՐ | E95: =+F95+G95 -> -829248.9 | F95: =+F96 -> -744159.5 | G95: =+G96 -> -85089.4 | H95: =+I95+J95 -> -829248.9 | I95: =+I96 -> -744159.5 | J95: =+J96 -> -85089.4
D96: ՇԵՆՔԵՐ ԵՎ ՇԻՆՈՒԹՅՈՒՆՆԵՐ | E96: =+F96+G96 -> -829248.9 | F96: =+F97 -> -744159.5 | G96: =+G97 -> -85089.4 | H96: =+I96+J96 -> -829248.9 | I96: =+I97 -> -744159.5 | J96: =+J97 -> -85089.4
D97: - Շենքերի և շինությունների շինարարություն | E97: =+F97+G97 -> -829248.9 | F97: -744159.5 | G97: -85089.4 | H97: =+I97+J97 -> -829248.9 | I97: -744159.5 | J97: -85089.4
C98: 21014 | D98: Եվրոպական ներդրումային բանկի աջակցությամբ իրականացվող Մ6 Վանաձոր-Ալավերդի- Վրաստանի սահման միջպետական նշանակության ճանապարհի անվտանգության բարելավման դրամաշնորհային ծրագիր | E98: =+F98+G98 -> -345000 | F98: =+F100 -> -345000 | G98: =+G100 -> 0 | H98: =+H100 -> -440000 | I98: =+I100 -> -440000 | J98: =+J100 -> 0
D99: այդ թվում` ըստ կատարողների | E99: =+F99+G99 -> 0
D100: ՀՀ տարածքային կառավարման և ենթակառուցվածքների նախարարության ջրային կոմիտե | E100: =+F100+G100 -> -345000 | F100: =+F102 -> -345000 | G100: =+G102 -> 0 | H100: =+H102 -> -440000 | I100: =+I102 -> -440000 | J100: =+J102 -> 0
D101: այդ թվում` բյուջետային ծախսերի տնտեսագիտական դասակարգման հոդվածներ | E101: =+F101+G101 -> 0
...

Sheet 12.
D1: Հավելված N 12
A2: ՀՀ կառավարության 2022 թվականի
A3: ______________ ի ___Ն որոշման
A5: ՀԱՅԱՍՏԱՆԻ ՀԱՆՐԱՊԵՏՈՒԹՅԱՆ ԿԱՌԱՎԱՐՈՒԹՅԱՆ 2021 ԹՎԱԿԱՆԻ ԴԵԿՏԵՄԲԵՐԻ 23-Ի N 2121-Ն ՈՐՈՇՄԱՆ N 9 ՀԱՎԵԼՎԱԾԻ N 9.7 ԵՎ N9.47 ԱՂՅՈՒՍԱԿՆԵՐՈՒՄ ԿԱՏԱՐՎՈՂ ՓՈՓՈԽՈՒԹՅՈՒՆՆԵՐԸ ԵՎ ԼՐԱՑՈՒՄՆԵՐԸ
D6: Աղյուսակ 9.7
A7: ՀՀ ՏԱՐԱԾՔԱՅԻՆ ԿԱՌԱՎԱՐՄԱՆ ԵՎ ԵՆԹԱԿԱՌՈՒՑՎԱԾՔՆԵՐԻ ՆԱԽԱՐԱՐՈՒԹՅՈՒՆ
A8: ՄԱՍ 2. ՊԵՏԱԿԱՆ ՄԱՐՄՆԻ ԳԾՈՎ ԱՐԴՅՈՒՆՔԱՅԻՆ (ԿԱՏԱՐՈՂԱԿԱՆ) ՑՈՒՑԱՆԻՇՆԵՐԸ
A10: Ծրագրի դասիչը | B10: Ծրագրի անվանումը
A11: 1004 | B11: =+'[1]4'!D16 -> Ոռոգման համակարգի առողջացում
A13: Ծրագրի միջոցառումները
A14: Ծրագրի դասիչը` | B14: 1004 | C14: Ցուցանիշների փոփոխությունը (նվազեցումները նշված են փակագծերում)
A15: Միջոցառման դասիչը` | B15: 11009 | C15: Ինն ամիս | D15: Տարի
A16: Միջոցառման անվանումը` | B16: Գերմանիայի զարգացման վարկերի բանկի աջակցությամբ իրականացվող Ախուրյան գետի ջրային ռեսուրսների ինտեգրացված կառավարման դրամաշնորհային ծրագիր
A17: Նկարագրությունը` | B17: Գերմանիայի զարգացման վարկերի բանկի աջակցությամբ իրականացվող Ախուրյան գետի ջրային ռեսուրսների ինտեգրացված կառավարման դրամաշնորհային ծրագրի համակարգում և ղեկավարում
A18: Միջոցառման տեսակը` | B18: Ծառայությունների մատուցում
A19: Միջոցառումն իրականացնողի անվանումը` | B19: Մասնագիտատացված միավոր
A20: Արդյունքի չափորոշիչներ
A21: Կառավարվող/վերահսկվող խորհրդատվական պայմանագրերի քանակը, հատ | C21: -1 | D21: -1
A22: Միջոցառման վրա կատարված ծախսը (հազար դրամ) | C22: ='11.'!E18 -> -16951.6 | D22: ='11.'!H18 -> -16951.6
A24: Ծրագրի դասիչը` | B24: 1004 | C24: Ցուցանիշների փոփոխությունը (նվազեցումները նշված են փակագծերում)
A25: Միջոցառման դասիչը` | B25: 11011 | C25: Ինն ամիս | D25: Տարի
A26: Միջոցառման անվանումը` | B26: Զարգացման ֆրանսիական գործակալության աջակցությամբ իրականացվող ոռոգման ոլորտի ֆինանսական կայունության և ոռոգման կառավարման կարողությունների բարելավման դրամաշնորհային ծրագրի խորհրդատվություն և կառավարում
A27: Նկարագրությունը` | B27: Զարգացման ֆրանսիական գործակալության աջակցությամբ իրականացվող ոռոգման ոլորտի ֆինանսական կայունության և ոռոգման կառավարման կարողությունների բարելավման ծրագրի համակարգում և ղեկավարում
A28: Միջոցառման տեսակը` | B28: Ծառայությունների մատուցում
A29: Միջոցառումն իրականացնողի անվանումը` | B29: Մասնագիտատացված միավոր
A30: Արդյունքի չափորոշիչներ
A31: Միջոցառման վրա կատարված ծախսը (հազար դրամ) | C31: ='11.'!E26 -> -103987.5 | D31: ='11.'!H26 -> -138649.9
A33: Ծրագրի դասիչը` | B33: 1004 | C33: Ցուցանիշների փոփոխությունը (նվազեցումները նշված են փակագծերում)
A34: Միջոցառման դասիչը` | B34: 11012 | C34: Ինն ամիս | D34: Տարի
A35: Միջոցառման անվանումը` | B35: Ֆրանսիայի Հանրապետության կառավարության աջակցությամբ իրականացվող՛ Վեդու ջրամբարի կառուցման դրամաշնորհային ծրագիր
A36: Նկարագրությունը` | B36: Ֆրանսիայի Հանրապետության կառավարության աջակցությամբ իրականացվող՛ Վեդու ջրամբարի կառուցման դրամաշնորհային ծրագրի համակարգում և ղեկավարում
A37: Միջոցառման տեսակը` | B37: Ծառայությունների մատուցում
A38: Միջոցառումն իրականացնողի անվանումը` | B38: Մասնագիտացված միավոր
A39: Արդյունքի չափորոշիչներ
A40: Միջոցառման վրա կատարված ծախսը (հազար դրամ) | C40: ='11.'!E34 -> -7943.3 | D40: ='11.'!H34 -> -7943.3
A42: Ծրագրի դասիչը` | B42: 1004 | C42: Ցուցանիշների փոփոխությունը (նվազեցումները նշված են փակագծերում)
A43: Միջոցառման դասիչը` | B43: 31004 | C43: Ինն ամիս | D43: Տարի
A44: Միջոցառման անվանումը` | B44: Գերմանիայի զարգացման վարկերի բանկի աջակցությամբ իրականացվող Ախուրյան գետի ջրային ռեսուրսների ինտեգրված կառավարման ծրագրի շրջանակներում ջրային տնտեսության ենթակառուցվածքների հիմնանորոգում
A45: Նկարագրությունը` | B45: Գերմանիայի զարգացման վարկերի բանկի աջակցությամբ իրականացվող Ախուրյան գետի ջրային ռեսուրսների ինտեգրված կառավարման ծրագիր
A46: Միջոցառման տեսակը` | B46: Պետական մարմինների կողմից օգտագործվող ոչ ֆինանսական ակտիվների հետ գործառնություններ
A47: Ակտիվն օգտագործող կազմակերպության(ների) անվանում(ները)՛ | B47: Մասնագիտացված միավոր
A48: Արդյունքի չափորոշիչներ
A49: Միջոցառման վրա կատարված ծախսը (հազար դրամ) | C49: ='10.'!E17 -> -6792000 | D49: ='10.'!H17 -> -6792000
A51: Ծրագրի դասիչը | B51: Ծրագրի անվանումը
A52: 1040 | B52: Կոշտ թափոնների կառավարում
A54: Ծրագրի միջոցառումները
A56: Ծրագրի դասիչը` | B56: 1040 | C56: Ցուցանիշների փոփոխությունը (նվազեցումները նշված են փակագծերում)
A57: Միջոցառման դասիչը` | B57: 12001 | C57: Ինն ամիս | D57: Տարի
A58: Միջոցառման անվանումը` | B58: Վերակառուցման և զարգացման եվրոպական բանկի աջակցությամբ իրականացվող «Երևանի կոշտ թափոնների կառավարման» դրամաշնորհային ծրագիր
A59: Նկարագրությունը` | B59: Կոշտ թափոնների կառավարման համակարգի բարելավում և նոր աղբավայրի ստեղծում
A60: Միջոցառման տեսակը` | B60: Տրանսֆերտների տրամադրում
A61: Միջոցառումն իրականացնողի անվանումը՛ | B61: Մասնագիտացված միավոր
A62: Արդյունքի չափորոշիչներ
A63: Գործող աղբանոցների մեկուսացման և Նուբարաշենի նոր աղբավայրի կառուցման տեխնիկական հսկողություն, ամիս | C63: -9 | D63: -12
A64: Միջոցառման վրա կատարվող ծախսը (հազար դրամ) | C64: ='11.'!E44 -> -64147.2 | D64: ='11.'!H44 -> -107670.8
A66: Ծրագրի դասիչը` | B66: 1040 | C66: Ցուցանիշների փոփոխությունը (նվազեցումները նշված են փակագծերում)
A67: Միջոցառման դասիչը` | B67: 12002 | C67: Ինն ամիս | D67: Տարի
A68: Միջոցառման անվանումը` | B68: ='11.'!D52 -> Վերակառուցման և զարգացման եվրոպական բանկի աջակցությամբ իրականացվող «Կոտայքի և Գեղարքունիքի մարզի կոշտ թափոնների կառավարման խորհրդատվության համար» դրամաշնորհային ծրագիր
A69: Նկարագրությունը` | B69: Կոշտ թափոնների կառավարման համակարգի բարելավում և նոր աղբավայրի ստեղծում
A70: Միջոցառման տեսակը` | B70: Տրանսֆերտների տրամադրում
A71: Միջոցառումն իրականացնողի անվանումը՛ | B71: ՀՀ տարածքային կառավարման և ենթակառուցվածքների նախարարություն
A72: Արդյունքի չափորոշիչներ
A73: Միջոցառման վրա կատարվող ծախսը (հազար դրամ) | C73: ='11.'!E52 -> -99336.1 | D73: ='11.'!H52 -> -99336.1
A75: Ծրագրի դասիչը` | B75: 1040 | C75: Ցուցանիշների փոփոխությունը (նվազեցումները նշված են փակագծերում)
A76: Միջոցառման դասիչը` | B76: 32004 | C76: Ինն ամիս | D76: Տարի
A77: Միջոցառման անվանումը` | B77: ='11.'!D60 -> Վերակառուցման և զարգացման եվրոպական բանկի աջակցությամբ իրականացվող «Կոտայքի և Գեղարքունիքի մարզի կոշտ թափոնների կառավարման» դրամաշնորհային ծրագիր
A78: Նկարագրությունը` | B78: Կոշտ թափոնների կառավարման համակարգի բարելավում և նոր աղբավայրի ստեղծում
A79: Միջոցառման տեսակը` | B79: Այլ պետական կազմակերպությունների կողմից օգտագործվող ոչ ֆինանսական ակտիվների հետ գործառնություններ
A80: Միջոցառումն իրականացնողի անվանումը` | B80: ՀՀ տարածքային կառավարման և ենթակառուցվածքների նախարարություն
A81: Արդյունքի չափորոշիչներ
A82: Միջոցառման վրա կատարվող ծախսը (հազար դրամ) | C82: ='11.'!E60 -> -550220.2 | D82: ='11.'!H60 -> -550220.2
A84: Ծրագրի դասիչը` | B84: 1040 | C84: Ցուցանիշների փոփոխությունը (նվազեցումները նշված են փակագծերում)
A85: Միջոցառման դասիչը` | B85: 32006 | C85: Ինն ամիս | D85: Տարի
A86: Միջոցառման անվանումը` | B86: Եվրոպական միության հարևանության ներդրումային գործիքի աջակցությամբ իրականացվող «Երևանի կոշտ թափոնների կառավարման» դրամաշնորհային ծրագիր
A87: Նկարագրությունը` | B87: Կոշտ թափոնների կառավարման համակարգի բարելավում և նոր աղբավայրի ստեղծում
A88: Միջոցառման տեսակը` | B88: Այլ պետական կազմակերպությունների կողմից օգտագործվող ոչ ֆինանսական ակտիվների հետ գործառնություններ
A89: Միջոցառումն իրականացնողի անվանումը` | B89: Մասնագիտացված միավոր
A90: Արդյունքի չափորոշիչներ
A91: Եվրոպական չափորոշիչներով 29 հա տարածքում նոր քաղաքային աղբավայրի կառուցում, տոկոս | C91: 0 | D91: -30
A92: Միջոցառման վրա կատարվող ծախսը (հազար դրամ) | C92: ='11.'!E69 -> -266256.4 | D92: ='11.'!H69 -> -266256.4
A94: Ծրագրի դասիչը` | B94: 1040 | C94: Ցուցանիշների փոփոխությունը (նվազեցումները նշված են փակագծերում)
A95: Միջոցառման դասիչը` | B95: 32007 | C95: Ինն ամիս | D95: Տարի
A96: Միջոցառման անվանումը` | B96: Արևելյան եվրոպայի էներգախնայողության և բնապահպանական գործընկերության ֆոնդի աջակցությամբ իրականացվող «Երևանի կոշտ թափոնների կառավարման» դրամաշնորհային ծրագիր
A97: Նկարագրությունը` | B97: Կոշտ թափոնների կառավարման համակարգի բարելավում և նոր աղբավայրի ստեղծում
A98: Միջոցառման տեսակը` | B98: Այլ պետական կազմակերպությունների կողմից օգտագործվող ոչ ֆինանսական ակտիվների հետ գործառնություններ
A99: Միջոցառումն իրականացնողի անվանումը՛ | B99: Մասնագիտացված միավոր
A100: Արդյունքի չափորոշիչներ
A101: Եվրոպական չափորոշիչներով 29 հա տարածքում նոր քաղաքային աղբավայրի կառուցում, տոկոս | C101: 0 | D101: -30
A102: Միջոցառման վրա կատարվող ծախսը (հազար դրամ) | C102: ='11.'!E78 -> -66558.6 | D102: ='11.'!H78 -> -66558.6
A104: Ծրագրի դասիչը | B104: Ծրագրի անվանումը
A105: 1049 | B105: Ճանապարհային ցանցի բարելավում
A107: Ծրագրի միջոցառումները
A109: Ծրագրի դասիչը` | B109: 1049 | C109: Ցուցանիշների փոփոխությունը (նվազեցումները նշված են փակագծերում)
A110: Միջոցառման դասիչը` | B110: 11005 | C110: Ինն ամիս | D110: Տարի
A111: Միջոցառման անվանումը` | B111: Կենսական նշանակության ճանապարհային ցանցի բարելավման ծրագրի համակարգում և կառավարում
A112: Նկարագրությունը` | B112: Խորհրդատվական ծառայություններ և պահպանման ծախսեր
A113: Միջոցառման տեսակը` | B113: Ծառայությունների մատուցում
A114: Միջոցառումն իրականացնողի անվանումը՛ | B114: Մասնագիտացված միավոր
A115: Արդյունքի չափորոշիչներ
A116: Տեխնիկական հսկողություն | C116: -1 | D116: -1
...

Sheet 13.
D1: Հավելված N 13
A2: ՀՀ կառավարության 2022 թվականի
A3: ______________ ի ___Ն որոշման
A4: ՀԱՅԱՍՏԱՆԻ ՀԱՆՐԱՊԵՏՈՒԹՅԱՆ ԿԱՌԱՎԱՐՈՒԹՅԱՆ 2021 ԹՎԱԿԱՆԻ ԴԵԿՏԵՄԲԵՐԻ 23-Ի N 2121-Ն ՈՐՈՇՄԱՆ N 9.1 ՀԱՎԵԼՎԱԾԻ NN 9.1.8, 9.1.26 և 9.1.59 ԱՂՅՈՒՍԱԿՆԵՐՈՒՄ ԿԱՏԱՐՎՈՂ ՓՈՓՈԽՈՒԹՅՈՒՆՆԵՐԸ ԵՎ ԼՐԱՑՈՒՄՆԵՐԸ
D5: Աղյուսակ 9.1.8
A6: ՀՀ ՏԱՐԱԾՔԱՅԻՆ ԿԱՌԱՎԱՐՄԱՆ ԵՎ ԵՆԹԱԿԱՌՈՒՑՎԱԾՔՆԵՐԻ ՆԱԽԱՐԱՐՈՒԹՅՈՒՆ
A7: ՄԱՍ 1. ՊԵՏԱԿԱՆ ՄԱՐՄՆԻ ԳԾՈՎ ԱՐԴՅՈՒՆՔԱՅԻՆ (ԿԱՏԱՐՈՂԱԿԱՆ) ՑՈՒՑԱՆԻՇՆԵՐԸ
A10: Ծրագրի դասիչը | B10: Ծրագրի անվանումը
A11: 1040 | B11: Կոշտ թափոնների կառավարում
A13: Ծրագրի միջոցառումները
A15: Ծրագրի դասիչը` | B15: 1040 | C15: Ցուցանիշների փոփոխությունը (նվազեցումները նշված են փակագծերում)
A16: Միջոցառման դասիչը` | B16: 12001 | C16: Ինն ամիս | D16: Տարի
A17: Միջոցառման անվանումը` | B17: Վերակառուցման և զարգացման եվրոպական բանկի աջակցությամբ իրականացվող «Երևանի կոշտ թափոնների կառավարման» դրամաշնորհային ծրագիր
A18: Նկարագրությունը` | B18: Կոշտ թափոնների կառավարման համակարգի բարելավում և նոր աղբավայրի ստեղծում
A19: Միջոցառման տեսակը` | B19: Տրանսֆերտների տրամադրում
A20: Միջոցառումն իրականացնողի անվանումը՛ | B20: Մասնագիտացված միավոր
A21: Արդյունքի չափորոշիչներ
A22: Գործող աղբանոցների մեկուսացման և Նուբարաշենի նոր աղբավայրի կառուցման տեխնիկական հսկողություն, ամիս | C22: -9 | D22: -12
A23: Միջոցառման վրա կատարվող ծախսը (հազար դրամ) | C23: ='11.'!E44 -> -64147.2 | D23: ='11.'!H44 -> -107670.8
A25: Ծրագրի դասիչը` | B25: 1040 | C25: Ցուցանիշների փոփոխությունը (նվազեցումները նշված են փակագծերում)
A26: Միջոցառման դասիչը` | B26: 12002 | C26: Ինն ամիս | D26: Տարի
A27: Միջոցառման անվանումը` | B27: ='11.'!D52 -> Վերակառուցման և զարգացման եվրոպական բանկի աջակցությամբ իրականացվող «Կոտայքի և Գեղարքունիքի մարզի կոշտ թափոնների կառավարման խորհրդատվության համար» դրամաշնորհային ծրագիր
A28: Նկարագրությունը` | B28: Կոշտ թափոնների կառավարման համակարգի բարելավում և նոր աղբավայրի ստեղծում
A29: Միջոցառման տեսակը` | B29: Տրանսֆերտների տրամադրում
A30: Միջոցառումն իրականացնողի անվանումը՛ | B30: ՀՀ տարածքային կառավարման և ենթակառուցվածքների նախարարություն
A31: Արդյունքի չափորոշիչներ
A32: Միջոցառման վրա կատարվող ծախսը (հազար դրամ) | C32: ='11.'!E52 -> -99336.1 | D32: ='11.'!H52 -> -99336.1
A34: Ծրագրի դասիչը` | B34: 1040 | C34: Ցուցանիշների փոփոխությունը (նվազեցումները նշված են փակագծերում)
A35: Միջոցառման դասիչը` | B35: 32004 | C35: Ինն ամիս | D35: Տարի
A36: Միջոցառման անվանումը` | B36: ='11.'!D60 -> Վերակառուցման և զարգացման եվրոպական բանկի աջակցությամբ իրականացվող «Կոտայքի և Գեղարքունիքի մարզի կոշտ թափոնների կառավարման» դրամաշնորհային ծրագիր
A37: Նկարագրությունը` | B37: Կոշտ թափոնների կառավարման համակարգի բարելավում և նոր աղբավայրի ստեղծում
A38: Միջոցառման տեսակը` | B38: Այլ պետական կազմակերպությունների կողմից օգտագործվող ոչ ֆինանսական ակտիվների հետ գործառնություններ
A39: Միջոցառումն իրականացնողի անվանումը՛ | B39: ՀՀ տարածքային կառավարման և ենթակառուցվածքների նախարարություն
A40: Արդյունքի չափորոշիչներ
A41: Միջոցառման վրա կատարվող ծախսը (հազար դրամ) | C41: ='11.'!E60 -> -550220.2 | D41: ='11.'!H60 -> -550220.2
A43: Ծրագրի դասիչը` | B43: 1040 | C43: Ցուցանիշների փոփոխությունը (նվազեցումները նշված են փակագծերում)
A44: Միջոցառման դասիչը` | B44: 32006 | C44: Ինն ամիս | D44: Տարի
A45: Միջոցառման անվանումը` | B45: Եվրոպական միության հարևանության ներդրումային գործիքի աջակցությամբ իրականացվող «Երևանի կոշտ թափոնների կառավարման» դրամաշնորհային ծրագիր
A46: Նկարագրությունը` | B46: Կոշտ թափոնների կառավարման համակարգի բարելավում և նոր աղբավայրի ստեղծում
A47: Միջոցառման տեսակը` | B47: Այլ պետական կազմակերպությունների կողմից օգտագործվող ոչ ֆինանսական ակտիվների հետ գործառնություններ
A48: Միջոցառումն իրականացնողի անվանումը՛ | B48: Մասնագիտացված միավոր
A49: Արդյունքի չափորոշիչներ
A50: Եվրոպական չափորոշիչներով 29 հա տարածքում նոր քաղաքային աղբավայրի կառուցում, տոկոս | C50: 0 | D50: -30
A51: Միջոցառման վրա կատարվող ծախսը (հազար դրամ) | C51: ='11.'!E69 -> -266256.4 | D51: ='11.'!H69 -> -266256.4
A53: Ծրագրի դասիչը` | B53: 1040 | C53: Ցուցանիշների փոփոխությունը (նվազեցումները նշված են փակագծերում)
A54: Միջոցառման դասիչը` | B54: 32007 | C54: Ինն ամիս | D54: Տարի
A55: Միջոցառման անվանումը` | B55: Արևելյան եվրոպայի էներգախնայողության և բնապահպանական գործընկերության ֆոնդի աջակցությամբ իրականացվող «Երևանի կոշտ թափոնների կառավարման» դրամաշնորհային ծրագիր
A56: Նկարագրությունը` | B56: Կոշտ թափոնների կառավարման համակարգի բարելավում և նոր աղբավայրի ստեղծում
A57: Միջոցառման տեսակը` | B57: Այլ պետական կազմակերպությունների կողմից օգտագործվող ոչ ֆինանսական ակտիվների հետ գործառնություններ
A58: Միջոցառումն իրականացնողի անվանումը՛ | B58: Մասնագիտացված միավոր
A59: Արդյունքի չափորոշիչներ
A60: Եվրոպական չափորոշիչներով 29 հա տարածքում նոր քաղաքային աղբավայրի կառուցում, տոկոս | C60: 0 | D60: -30
A61: Միջոցառման վրա կատարվող ծախսը (հազար դրամ) | C61: ='11.'!E78 -> -66558.6 | D61: ='11.'!H78 -> -66558.6
A63: Ծրագրի դասիչը | B63: Ծրագրի անվանումը
A64: 1049 | B64: Ճանապարհային ցանցի բարելավում
A66: Ծրագրի միջոցառումները
A68: Ծրագրի դասիչը` | B68: 1049 | C68: Ցուցանիշների փոփոխությունը (նվազեցումները նշված են փակագծերում)
A69: Միջոցառման դասիչը` | B69: 11005 | C69: Ինն ամիս | D69: Տարի
A70: Միջոցառման անվանումը` | B70: Կենսական նշանակության ճանապարհային ցանցի բարելավման ծրագրի համակարգում և կառավարում
A71: Նկարագրությունը` | B71: Խորհրդատվական ծառայություններ և պահպանման ծախսեր
A72: Միջոցառման տեսակը` | B72: Ծառայությունների մատուցում
A73: Միջոցառումն իրականացնողի անվանումը՛ | B73: Մասնագիտացված միավոր
A74: Արդյունքի չափորոշիչներ
A75: Տեխնիկական հսկողություն | C75: -1 | D75: -1
A76: Հեղինակային հսկողություն | C76: -1 | D76: -1
A77: Միջոցառման վրա կատարվող ծախսը (հազար դրամ) | C77: ='10.'!E28 -> -47000 | D77: ='10.'!H28 -> -66000
A79: Ծրագրի դասիչը` | B79: 1049 | C79: Ցուցանիշների փոփոխությունը (նվազեցումները նշված են փակագծերում)
A80: Միջոցառման դասիչը` | B80: 11007 | C80: Ինն ամիս | D80: Տարի
A81: Միջոցառման անվանումը` | B81: Ասիական զարգացման բանկի աջակցությամբ իրականացվող Հայաստան-Վրաստան սահմանային տարածաշրջանային ճանապարհի (Մ6 Վանաձոր-Բագրատաշեն) բարելավման ծրագրի համակարգում և կառավարում
A82: Նկարագրությունը` | B82: Խորհրդատվական ծառայություններ և պահպանման ծախսեր
A83: Միջոցառման տեսակը` | B83: Ծառայությունների մատուցում
A84: Միջոցառումն իրականացնողի անվանումը՛ | B84: Մասնագիտացված միավոր
A85: Արդյունքի չափորոշիչներ
A86: Միջոցառման շրջանակներումիրականացվող ծախսերի կատարման տոկոս (ծրագրի սկզբից ներառյալ հաշվետու տարին) | C86: -5 | D86: -5
A87: Միջոցառման վրա կատարվող ծախսը (հազար դրամ) | C87: ='10.'!E36 -> -85000 | D87: ='10.'!H36 -> -135000
A89: Ծրագրի դասիչը` | B89: 1049 | C89: Ցուցանիշների փոփոխությունը (նվազեցումները նշված են փակագծերում)
A90: Միջոցառման դասիչը` | B90: 11011 | C90: Ինն ամիս | D90: Տարի
A91: Միջոցառման անվանումը` | B91: Ասիական զարգացման բանկի աջակցությամբ իրականացվող Հյուսիս-հարավ միջանցքի զարգացման ծրագրի համակարգում և կառավարում (Տրանշ 3)
A92: Նկարագրությունը` | B92: Խորհրդատվական ծառայություններ և պահպանման ծախսեր
A93: Միջոցառման տեսակը` | B93: Ծառայությունների մատուցում
A94: Միջոցառումն իրականացնողի անվանումը՛ | B94: Մասնագիտացված միավոր
A95: Արդյունքի չափորոշիչներ
A96: Միջոցառման շրջանակներումիրականացվող ծախսերի կատարման տոկոս (ծրագրի սկզբից ներառյալ հաշվետու տարին) | C96: -5 | D96: -5
A97: Միջոցառման վրա կատարվող ծախսը (հազար դրամ) | C97: ='10.'!E47 -> -70000 | D97: ='10.'!H47 -> -70000
A99: Ծրագրի դասիչը` | B99: 1049 | C99: Ցուցանիշների փոփոխությունը (նվազեցումները նշված են փակագծերում)
A100: Միջոցառման դասիչը` | B100: 11012 | C100: Ինն ամիս | D100: Տարի
A101: Միջոցառման անվանումը` | B101: Եվրասիական զարգացման բանկի աջակցությամբ իրականացվող Հյուսիս-հարավ միջանցքի զարգացման ծրագրի համակարգում և կառավարում
A102: Նկարագրությունը` | B102: Խորհրդատվական ծառայություններ և պահպանման ծախսեր
A103: Միջոցառման տեսակը` | B103: Ծառայությունների մատուցում
A104: Միջոցառումն իրականացնողի անվանումը՛ | B104: Մասնագիտացված միավոր
A105: Արդյունքի չափորոշիչներ
A106: Հեղինակային հսկողություն | C106: -1 | D106: -1
A107: Միջոցառման վրա կատարվող ծախսը (հազար դրամ) | C107: ='10.'!E55 -> -223000 | D107: ='10.'!H55 -> -223000
A109: Ծրագրի դասիչը` | B109: 1049 | C109: Ցուցանիշների փոփոխությունը (նվազեցումները նշված են փակագծերում)
A110: Միջոցառման դասիչը` | B110: 11014 | C110: Ինն ամիս | D110: Տարի
A111: Միջոցառման անվանումը` | B111: Կենսական նշանակության ճանապարհային ցանցի բարելավման երկրորդ լրացուցիչ ֆինանսավորման ծրագրի համակարգում և կառավարում
A112: Նկարագրությունը` | B112: Խորհրդատվական ծառայություններ և պահպանման ծախսեր
A113: Միջոցառման տեսակը` | B113: Ծառայությունների մատուցում
A114: Միջոցառումն իրականացնողի անվանումը՛ | B114: Մասնագիտացված միավոր
A115: Արդյունքի չափորոշիչներ
...
