Workbook

Sheet Հավելված 1
D1: Հավելված N 1
A2: «ՀԱՅԱՍՏԱՆԻ ՀԱՆՐԱՊԵՏՈՒԹՅԱՆ 2022 ԹՎԱԿԱՆԻ ՊԵՏԱԿԱՆ ԲՅՈՒՋԵԻ ՄԱՍԻՆ» ՀԱՅԱՍՏԱՆԻ ՀԱՆՐԱՊԵՏՈՒԹՅԱՆ ՕՐԵՆՔԻ N 1 ՀԱՎԵԼՎԱԾԻ N 2 ԱՂՅՈՒՍԱԿՈՒՄ ԿԱՏԱՐՎՈՂ ՎԵՐԱԲԱՇԽՈՒՄԸ ԵՎ ՀԱՅԱՍՏԱՆԻ ՀԱՆՐԱՊԵՏՈՒԹՅԱՆ ԿԱՌԱՎԱՐՈՒԹՅԱՆ 2021 ԹՎԱԿԱՆԻ ԴԵԿՏԵՄԲԵՐԻ 23-Ի N 2121-Ն ՈՐՈՇՄԱՆ N 5 ՀԱՎԵԼՎԱԾԻ N 1 ԱՂՅՈՒՍԱԿՈՒՄ ԿԱՏԱՐՎՈՂ ՓՈՓՈԽՈՒԹՅՈՒՆՆԵՐԸ
D3: հազ. դրամներով
A4: Ծրագրային դասիչը | C4: Բյուջետային հատկացումների գլխավոր կարգադրիչների, ծրագրերի և միջոցառումների անվանումները | D4: Ցուցանիշների փոփոխությունը (ավելացումները նշված են դրական նշանով, իսկ նվազեցումները՝ փակագծերում)
A5: Ծրագիր | B5: Միջոցառում | D5: Տարի
C6: ԸՆԴԱՄԵՆԸ | D6: =D7 -> 0
C7: ՀՀ պետական եկամուտների կոմիտե | D7: =D8 -> 0
A8: 1023 | C8: Ծրագրի անվանումը՝ | D8: =D15+D21+D27 -> 0
C9: Հարկային և մաքսային ծառայություններ
C10: Ծրագրի նպատակը՝
C11: Հարկային և մաքսային միասնական պետական քաղաքականության իրականացում, հարկային և մաքսային օրենսդրության ամբողջական և համահավասար կիրառում
C12: Վերջնական արդյունքի նկարագրությունը՝
C13: Արդյունավետ հարկային և մաքսային հսկողության իրականացում, պետական բյուջեի եկամուտների ապահովում
A14: Ծրագրի միջոցառումներ
B15: 11001 | C15: Միջոցառման անվանումը` | D15: ='Հավելված 3'!G26 -> 79104.1
C16: Հարկային և մաքսային ծառայություններ
C17: Միջոցառման նկարագրությունը`
C18: Հարկային և մաքսային քաղաքականության մշակման, պլանավորման, մոնիտորինգի, ծրագրերի համակարգման, գանձման, վերահսկողության և աջակցության ծառայություններ
C19: Միջոցառման տեսակը
C20: Ծառայությունների մատուցում
B21: 31003 | C21: Միջոցառման անվանումը` | D21: ='Հավելված 3'!G27 -> -83299.1
C22: ՀՀ պետական եկամուտների կոմիտեի շենքային ապահովվածության բարելավում_x000D_
C23: Միջոցառման նկարագրությունը`
C24: ՀՀ պետական եկամուտների կոմիտեի նոր շենքերի և շինությունների շինարարություն, նախագծային աշխատանքների ձեռքբերում
C25: Միջոցառման տեսակը
C26: Պետական մարմինների կողմից օգտագործվող ոչ ֆինանսական ակտիվների հետ գործառնություններ
B27: 31004 | C27: Միջոցառման անվանումը` | D27: ='Հավելված 3'!G36 -> 4195
C28: ՀՀ պետական եկամուտների կոմիտեի շենքային պայմանների բարելավում
C29: Միջոցառման նկարագրությունը`
C30: ՀՀ պետական եկամուտների կոմիտեի շենքերի և շինությունների կապիտալ վերանորոգում, նախագծային աշխատանքների ձեռքբերում
C31: Միջոցառման տեսակը
C32: Պետական մարմինների կողմից օգտագործվող ոչ ֆինանսական ակտիվների հետ գործառնություններ

Sheet Հավելված 2
H1: Հավելված N 2
A2: «ՀԱՅԱՍՏԱՆԻ ՀԱՆՐԱՊԵՏՈՒԹՅԱՆ 2022 ԹՎԱԿԱՆԻ ՊԵՏԱԿԱՆ ԲՅՈՒՋԵԻ ՄԱՍԻՆ» ՀԱՅԱՍՏԱՆԻ ՀԱՆՐԱՊԵՏՈՒԹՅԱՆ ՕՐԵՆՔԻ N 1 ՀԱՎԵԼՎԱԾԻ N 3 ԱՂՅՈՒՍԱԿՈՒՄ ԿԱՏԱՐՎՈՂ ՓՈՓՈԽՈՒԹՅՈՒՆՆԵՐԸ
H3: հազ. դրամներով
A4: Ծրագրային դասիչ | C4: Բյուջետային գլխավոր կարգադրիչների, ծրագրերի, միջոցառումների և ուղղությունների անվանումները | D4: Ցուցանիշների փոփոխությունը (ավելացումները նշված են դրական նշանով, իսկ նվազեցումները՝ փակագծերում)
D5: Ընդամենը | E5: այդ թվում՝
E6: Կառուցման աշխատանքներ | F6: Վերակառուցման, վերանորոգման և վերականգնման աշխատանքներ | G6: Նախագծահետազոտական, գեոդեզա-քարտեզագրական աշխատանքներ | H6: Ոչ ֆինանսական այլ ակտիվների ձեռքբերում
A7: Ծրագիր | B7: Միջոցառում
C8: ԸՆԴԱՄԵՆԸ | D8: =D10 -> -79104.1 | E8: =E10 -> -83299.1 | F8: =F10 -> 4195 | G8: =G10 -> 0 | H8: =H10 -> 0
C9: այդ թվում՝
C10: ՀՀ ՊԵՏԱԿԱՆ ԵԿԱՄՈՒՏՆԵՐԻ ԿՈՄԻՏԵ | D10: =D12+D14 -> -79104.1 | E10: =E12+E14 -> -83299.1 | F10: =F12+F14 -> 4195 | G10: =G12+G14 -> 0 | H10: =H12+H14 -> 0
C11: այդ թվում`
A12: 1023 | B12: 31003 | C12: ՀՀ պետական եկամուտների կոմիտեի շենքային ապահովվածության բարելավում | D12: =SUM(E12:H12) -> -83299.1 | E12: =SUM(E13:E13) -> -83299.1 | F12: =SUM(F13:F13) -> 0 | G12: =SUM(G13:G13) -> 0 | H12: =SUM(H13:H13) -> 0
C13: ՀՀ պետական եկամուտների կոմիտեի Գյումրի քաղաքի Թբիլիսյան խճուղի թիվ 2/14 հասցեում գտնվող արտաքին տնտեսական գործունեության կենտրոնի կառուցման աշխատանքներ | D13: =E13+F13+G13+H13 -> -83299.1 | E13: ='Հավելված 4'!D14 -> -83299.1
A14: 1023 | B14: 31004 | C14: ՀՀ պետական եկամուտների կոմիտեի շենքային պայմանների բարելավում | D14: =SUM(D15:D15) -> 4195 | E14: =SUM(E15:E15) -> 0 | F14: =SUM(F15:F15) -> 4195 | G14: =SUM(G15:G15) -> 0 | H14: =SUM(H15:H15) -> 0
C15: Արևմտյան մաքսատուն-վարչության Երևան քաղաքի Երևան 42 հասցեում գտնվող վարչական շենքի տարածքի վերանորոգման աշխատանքներ | D15: =E15+F15+G15+H15 -> 4195 | F15: ='Հավելված 4'!D19 -> 4195

Sheet Հավելված 3
G1: Հավելված N 3
A2: ՀԱՅԱՍՏԱՆԻ ՀԱՆՐԱՊԵՏՈՒԹՅԱՆ ԿԱՌԱՎԱՐՈՒԹՅԱՆ 2021 ԹՎԱԿԱՆԻ ԴԵԿՏԵՄԲԵՐԻ 23-Ի N 2121-Ն ՈՐՈՇՄԱՆ NN 3 ԵՎ 4 ՀԱՎԵԼՎԱԾՆԵՐԻ ԱՂՅՈՒՍԱԿՆԵՐՈՒՄ ԿԱՏԱՐՎՈՂ ՓՈՓՈԽՈՒԹՅՈՒՆՆԵՐԸ
G4: հազ. դրամներով
A5: Գործառնական դասիչը | D5: Ծրագրային դասիչը | F5: Բյուջետային ծախսերի գործառնական դասակարգման բաժինների, խմբերի և դասերի, բյուջետային ծրագրերի միջոցառումների, բյուջետային հատկացումների գլխավոր կարգադրիչների անվանումները | G5: Ցուցանիշների փոփոխությունը (ավելացումները նշված են դրական նշանով, իսկ նվազեցումները՝ փակագծերում)
A6: բաժին | B6: խումբ | C6: դաս | D6: ծրագիր | E6: միջոցառում | G6: Տարի
F7: ԸՆԴԱՄԵՆԸ ԾԱԽՍԵՐ | G7: =G9 -> 0
F8: այդ թվում՝
A9: 01 | F9: ԸՆԴՀԱՆՈՒՐ ԲՆՈՒՅԹԻ ՀԱՆՐԱՅԻՆ ԾԱՌԱՅՈՒԹՅՈՒՆՆԵՐ | G9: =G11 -> 0
F10: այդ թվում՝
B11: 01 | F11: Օրենսդիր և գործադիր մարմիններ, պետական կառավարում, ֆինանսական և հարկաբյուջետային հարաբերություններ, արտաքին հարաբերություններ | G11: =G13 -> 0
F12: այդ թվում՝
C13: 02 | F13: Ֆինանսական և հարկաբյուջետային հարաբերություններ | G13: =G15 -> 0
F14: այդ թվում՝
F15: ՀՀ պետական եկամուտների կոմիտե | G15: =G16 -> 0
D16: 1023 | F16: Հարկային և մաքսային ծառայություններ | G16: =G18+G27+G36 -> 0
F17: այդ թվում՝
E18: 11001 | F18: Հարկային և մաքսային ծառայություններ | G18: =G20 -> 79104.1
F19: այդ թվում` ըստ կատարողների
F20: ՀՀ պետական եկամուտների կոմիտե | G20: =G22 -> 79104.1
F21: այդ թվում` բյուջետային ծախսերի տնտեսագիտական դասակարգման հոդվածներ
F22: ԸՆԴԱՄԵՆԸ ԾԱԽՍԵՐ | G22: =G23 -> 79104.1
F23: ԸՆԹԱՑԻԿ ԾԱԽՍԵՐ | G23: =G24 -> 79104.1
F24: ԾԱՌԱՅՈՒԹՅՈՒՆՆԵՐԻ ԵՎ ԱՊՐԱՆՔՆԵՐԻ ՁԵՌՔԲԵՐՈՒՄ | G24: =G25 -> 79104.1
F25: Պայմանագրային այլ ծառայությունների ձեռքբերում | G25: =G26 -> 79104.1
F26: - Համակարգչային ծառայություններ | G26: 79104.1
E27: 31003 | F27: ՀՀ պետական եկամուտների կոմիտեի շենքային ապահովվածության բարելավում | G27: =G29 -> -83299.1
F28: այդ թվում` ըստ կատարողների
F29: ՀՀ պետական եկամուտների կոմիտե | G29: =G31 -> -83299.1
F30: այդ թվում` բյուջետային ծախսերի տնտեսագիտական դասակարգման հոդվածներ
F31: ԸՆԴԱՄԵՆԸ ԾԱԽՍԵՐ | G31: =G32 -> -83299.1
F32: ՈՉ ՖԻՆԱՆՍԱԿԱՆ ԱԿՏԻՎՆԵՐԻ ԳԾՈՎ ԾԱԽՍԵՐ | G32: =G33 -> -83299.1
F33: ՀԻՄՆԱԿԱՆ ՄԻՋՈՑՆԵՐ | G33: =G34 -> -83299.1
F34: ՇԵՆՔԵՐ ԵՎ ՇԻՆՈՒԹՅՈՒՆՆԵՐ | G34: =G35 -> -83299.1
F35: - Շենքերի և շինությունների շինարարություն | G35: ='Հավելված 4'!D14 -> -83299.1
E36: 31004 | F36: ՀՀ պետական եկամուտների կոմիտեի շենքային պայմանների բարելավում | G36: =G38 -> 4195
F37: այդ թվում` ըստ կատարողների
F38: ՀՀ պետական եկամուտների կոմիտե | G38: =G40 -> 4195
F39: այդ թվում` բյուջետային ծախսերի տնտեսագիտական դասակարգման հոդվածներ
F40: ԸՆԴԱՄԵՆԸ ԾԱԽՍԵՐ | G40: =G41 -> 4195
F41: ՈՉ ՖԻՆԱՆՍԱԿԱՆ ԱԿՏԻՎՆԵՐԻ ԳԾՈՎ ԾԱԽՍԵՐ | G41: =G42 -> 4195
F42: ՀԻՄՆԱԿԱՆ ՄԻՋՈՑՆԵՐ | G42: =G43 -> 4195
F43: ՇԵՆՔԵՐ ԵՎ ՇԻՆՈՒԹՅՈՒՆՆԵՐ | G43: =G44 -> 4195
F44: - Շենքերի և շինությունների կապիտալ վերանորոգում | G44: ='Հավելված 4'!D19 -> 4195

Sheet Հավելված 4
D1: Հավելված N 4
A2: ՀԱՅԱՍՏԱՆԻ ՀԱՆՐԱՊԵՏՈՒԹՅԱՆ ԿԱՌԱՎԱՐՈՒԹՅԱՆ 2021 ԹՎԱԿԱՆԻ ԴԵԿՏԵՄԲԵՐԻ 23-Ի N 2121-Ն ՈՐՈՇՄԱՆ N 5 ՀԱՎԵԼՎԱԾԻ N 2 ԱՂՅՈՒՍԱԿՈՒՄ ԿԱՏԱՐՎՈՂ ՓՈՓՈԽՈՒԹՅՈՒՆՆԵՐԸ
D3: հազ. դրամներով
A4: Ծրագրային դասիչը | C4: Բյուջետային գլխավոր կարգադրիչների, ծրագրերի, միջոցառումների, միջոցառումները կատարող պետական մարմինների և ուղղությունների անվանումները | D4: Ցուցանիշների փոփոխությունը (ավելացումները նշված են դրական նշանով, իսկ նվազեցումները՝ փակագծերում)
A5: Ծրագիրը | B5: Միջոցառումը | D5: Տարի
C6: ԸՆԴԱՄԵՆԸ | D6: =D8 -> -79104.1
C7: այդ թվում՝
C8: ՀՀ ՊԵՏԱԿԱՆ ԵԿԱՄՈՒՏՆԵՐԻ ԿՈՄԻՏԵ | D8: =D10+D15 -> -79104.1
C9: այդ թվում`
A10: 1023 | B10: 31003 | C10: ՀՀ պետական եկամուտների կոմիտեի շենքային ապահովվածության բարելավում | D10: =D12 -> -83299.1
C11: այդ թվում` ըստ կատարողների
C12: ՀՀ պետական եկամուտների կոմիտե | D12: =SUM(D14:D14) -> -83299.1
C13: այդ թվում` ըստ ուղղությունների
C14: ՀՀ պետական եկամուտների կոմիտեի Գյումրի քաղաքի Թբիլիսյան խճուղի թիվ 2/14 հասցեում գտնվող արտաքին տնտեսական գործունեության կենտրոնի կառուցման աշխատանքներ | D14: -83299.1
A15: 1023 | B15: 31004 | C15: ՀՀ պետական եկամուտների կոմիտեի շենքային պայմանների բարելավում | D15: =D17 -> 4195
C16: այդ թվում` ըստ կատարողների
C17: ՀՀ պետական եկամուտների կոմիտե | D17: =SUM(D19:D19) -> 4195
C18: այդ թվում` ըստ ուղղությունների
C19: Արևմտյան մաքսատուն-վարչության Երևան քաղաքի Երևան 42 հասցեում գտնվող վարչական շենքի տարածքի վերանորոգման աշխատանքներ | D19: 4195

Sheet Հավելված 5 աղյուսակներ 1,2
C1: Հավելված N 5
C2: Աղյուսակ N 1
A3: ՀԱՅԱՍՏԱՆԻ ՀԱՆՐԱՊԵՏՈՒԹՅԱՆ ԿԱՌԱՎԱՐՈՒԹՅԱՆ 2021 ԹՎԱԿԱՆԻ ԴԵԿՏԵՄԲԵՐԻ 23-Ի N 2121-Ն ՈՐՈՇՄԱՆ N 9 ՀԱՎԵԼՎԱԾԻ N 9.25 ԱՂՅՈՒՍԱԿՈՒՄ ԿԱՏԱՐՎՈՂ ՓՈՓՈԽՈՒԹՅՈՒՆՆԵՐԸ
A5: ՀՀ պետական եկամուտների կոմիտե
A7: ՄԱՍ 2. ՊԵՏԱԿԱՆ ՄԱՐՄՆԻ ԳԾՈՎ ԱՐԴՅՈՒՆՔԱՅԻՆ (ԿԱՏԱՐՈՂԱԿԱՆ) ՑՈՒՑԱՆԻՇՆԵՐԸ
A9: Ծրագրի դասիչը | B9: Ծրագրի անվանումը
A10: 1023 | B10: Հարկային և մաքսային ծառայություններ
A12: Ծրագրի միջոցառումները
A14: Ծրագրի դասիչը՝ | B14: 1023 | C14: Ցուցանիշների փոփոխությունը (ավելացումները նշված են դրական նշանով)
A15: Միջոցառման դասիչը՝ | B15: 11001 | C15: Տարի
A16: Միջոցառման անվանումը՝ | B16: Հարկային և մաքսային ծառայություններ
A17: Նկարագրությունը՝ | B17: Հարկային և մաքսային քաղաքականության մշակման, պլանավորման, մոնիտորինգի, ծրագրերի համակարգման, գանձման, վերահսկողության և աջակցության ծառայություններ
A18: Միջոցառման տեսակը՝ | B18: Ծառայությունների մատուցում
A19: Ծառայությունը մատուցող կազմակերպության անվանումը | B19: ՀՀ պետական եկամուտների կոմիտե
B20: Արդյունքի չափորոշիչներ
A21: Միջոցառման վրա կատարվող ծախսը (հազար դրամ) | C21: ='Հավելված 3'!G18 -> 79104.1
A23: Ծրագրի դասիչը` | B23: 1023 | C23: Ցուցանիշների փոփոխությունը (նվազեցումները նշված են փակագծերում)
A24: Միջոցառման դասիչը` | B24: 31003 | C24: Տարի
A25: Միջոցառման անվանումը` | B25: ՀՀ պետական եկամուտների կոմիտեի շենքային ապահովվածության բարելավում
A26: Նկարագրությունը` | B26: ՀՀ պետական եկամուտների կոմիտեի նոր շենքերի և շինությունների շինարարություն, նախագծային աշխատանքների ձեռքբերում
A27: Միջոցառման տեսակը` | B27: Պետական մարմինների կողմից օգտագործվող ոչ ֆինանսական ակտիվների հետ գործառնություններ
A28: Միջոցառումն իրականացնողի անվանումը | B28: ՀՀ պետական եկամուտների կոմիտե
A29: Արդյունքի չափորոշիչներ
A30: Շինարարական օբյեկտների թիվ, հատ | C30: -1
A31: Բյուջետային տարում կառուցապատման մակերես, քմ | C31: -1200
A32: Միջոցառման վրա կատարվող ծախսը (հազար դրամ) | C32: ='Հավելված 4'!D14 -> -83299.1
A34: Ծրագրի դասիչը` | B34: 1023 | C34: Ցուցանիշների փոփոխությունը (ավելացումները նշված են դրական նշանով)
A35: Միջոցառման դասիչը` | B35: 31004 | C35: Տարի
A36: Միջոցառման անվանումը` | B36: ՀՀ պետական եկամուտների կոմիտեի շենքային պայմանների բարելավում
A37: Նկարագրությունը` | B37: ՀՀ պետական եկամուտների կոմիտեի շենքերի և շինությունների կապիտալ վերանորոգում, նախագծային աշխատանքների ձեռքբերում
A38: Միջոցառման տեսակը` | B38: Պետական մարմինների կողմից օգտագործվող ոչ ֆինանսական ակտիվների հետ գործառնություններ
A39: Միջոցառումն իրականացնողի անվանումը | B39: ՀՀ պետական եկամուտների կոմիտե
B40: Արդյունքի չափորոշիչներ
A41: Վերանորոգման ենթակա մակերես, ք.մ. | C41: 92
A42: Միջոցառման վրա կատարվող ծախսը (հազար դրամ) | C42: ='Հավելված 4'!D19 -> 4195
C44: Աղյուսակ N 2
A45: ՀԱՅԱՍՏԱՆԻ ՀԱՆՐԱՊԵՏՈՒԹՅԱՆ ԿԱՌԱՎԱՐՈՒԹՅԱՆ 2021 ԹՎԱԿԱՆԻ ԴԵԿՏԵՄԲԵՐԻ 23-Ի N 2121-Ն ՈՐՈՇՄԱՆ N 9.1 ՀԱՎԵԼՎԱԾԻ N 9.1.28 ԱՂՅՈՒՍԱԿՈՒՄ ԿԱՏԱՐՎՈՂ ՓՈՓՈԽՈՒԹՅՈՒՆՆԵՐԸ
A47: ՀՀ պետական եկամուտների կոմիտե
A49: ՄԱՍ 1. ՊԵՏԱԿԱՆ ՄԱՐՄՆԻ ԳԾՈՎ ԱՐԴՅՈՒՆՔԱՅԻՆ (ԿԱՏԱՐՈՂԱԿԱՆ) ՑՈՒՑԱՆԻՇՆԵՐԸ
A51: Ծրագրի դասիչը | B51: Ծրագրի անվանումը
A52: 1023 | B52: Հարկային և մաքսային ծառայություններ
A54: Ծրագրի միջոցառումները
A56: Ծրագրի դասիչը՝ | B56: 1023 | C56: Ցուցանիշների փոփոխությունը (ավելացումները նշված են դրական նշանով)
A57: Միջոցառման դասիչը՝ | B57: 11001 | C57: Տարի
A58: Միջոցառման անվանումը՝ | B58: Հարկային և մաքսային ծառայություններ
A59: Նկարագրությունը՝ | B59: Հարկային և մաքսային քաղաքականության մշակման, պլանավորման, մոնիտորինգի, ծրագրերի համակարգման, գանձման, վերահսկողության և աջակցության ծառայություններ
A60: Միջոցառման տեսակը՝ | B60: Ծառայությունների մատուցում
A61: Ծառայությունը մատուցող կազմակերպության անվանումը | B61: ՀՀ պետական եկամուտների կոմիտե
B62: Արդյունքի չափորոշիչներ
A63: Միջոցառման վրա կատարվող ծախսը (հազար դրամ) | C63: ='Հավելված 3'!G18 -> 79104.1
A65: Ծրագրի դասիչը` | B65: 1023 | C65: Ցուցանիշների փոփոխությունը (նվազեցումները նշված են փակագծերում)
A66: Միջոցառման դասիչը` | B66: 31003 | C66: Տարի
A67: Միջոցառման անվանումը` | B67: ՀՀ պետական եկամուտների կոմիտեի շենքային ապահովվածության բարելավում
A68: Նկարագրությունը` | B68: ՀՀ պետական եկամուտների կոմիտեի նոր շենքերի և շինությունների շինարարություն, նախագծային աշխատանքների ձեռքբերում
A69: Միջոցառման տեսակը` | B69: Պետական մարմինների կողմից օգտագործվող ոչ ֆինանսական ակտիվների հետ գործառնություններ
A70: Միջոցառումն իրականացնողի անվանումը | B70: ՀՀ պետական եկամուտների կոմիտե
A71: Արդյունքի չափորոշիչներ
A72: Շինարարական օբյեկտների թիվ, հատ | C72: -1
A73: Բյուջետային տարում կառուցապատման մակերես, քմ | C73: -1200
A74: Միջոցառման վրա կատարվող ծախսը (հազար դրամ) | C74: ='Հավելված 4'!D14 -> -83299.1
A76: Ծրագրի դասիչը` | B76: 1023 | C76: Ցուցանիշների փոփոխությունը (ավելացումները նշված են դրական նշանով)
A77: Միջոցառման դասիչը` | B77: 31004 | C77: Տարի
A78: Միջոցառման անվանումը` | B78: ՀՀ պետական եկամուտների կոմիտեի շենքային պայմանների բարելավում
A79: Նկարագրությունը` | B79: ՀՀ պետական եկամուտների կոմիտեի շենքերի և շինությունների կապիտալ վերանորոգում, նախագծային աշխատանքների ձեռքբերում
A80: Միջոցառման տեսակը` | B80: Պետական մարմինների կողմից օգտագործվող ոչ ֆինանսական ակտիվների հետ գործառնություններ
A81: Միջոցառումն իրականացնողի անվանումը | B81: ՀՀ պետական եկամուտների կոմիտե
B82: Արդյունքի չափորոշիչներ
A83: Վերանորոգման ենթակա մակերես, ք.մ. | C83: 92
A84: Միջոցառման վրա կատարվող ծախսը (հազար դրամ) | C84: ='Հավելված 4'!D19 -> 4195

Sheet Հավելված 6
G1: Հավելված N 6
A2: ՀԱՅԱՍՏԱՆԻ ՀԱՆՐԱՊԵՏՈՒԹՅԱՆ ԿԱՌԱՎԱՐՈՒԹՅԱՆ 2021 ԹՎԱԿԱՆԻ ԴԵԿՏԵՄԲԵՐԻ 23-Ի N 2121-Ն ՈՐՈՇՄԱՆ N 10 ՀԱՎԵԼՎԱԾՈՒՄ ԿԱՏԱՐՎՈՂ ՓՈՓՈԽՈՒԹՅՈՒՆՆԵՐԸ
A4: Գնման առարկայի | E4: Ցուցանիշների փոփոխությունը (ավելացումները նշված են դրական նշանով, իսկ նվազեցումները՝ փակագծերում)
A5: կոդը | B5: անվանումը | C5: գնման ձևը | D5: չափի միավորը | E5: միավորի գինը | F5: քանակը | G5: Գումարը (հազար դրամ)
A7: ՀՀ պետական եկամուտների կոմիտե | G7: =G8 -> 0.003
A8: Բաժին N 01 | B8: Խումբ N 01 | C8: Դաս N 02 | D8: Ֆինանսական և հարկաբյուջետային հարաբերություններ | G8: =G9+G12+G19 -> 0.003
A9: 1023 11001 | B9: Հարկային և մաքսային ծառայություններ | G9: =G10+G33+G39 -> 79104.08
B10: ՄԱՍ III. ԾԱՌԱՅՈՒԹՅՈՒՆՆԵՐ | G10: =G11 -> 79104.08
A11: 72261160-517 | B11: ծրագրային ապահովման սպասարկման ծառայություններ | C11: ԷԱՃ | D11: դրամ | E11: 79104080 | F11: 1 | G11: =E11*F11/1000 -> 79104.08
A12: 1023 31003 | B12: ՀՀ պետական եկամուտների կոմիտեի շենքային ապահովվածության բարելավում | G12: =G13+G15 -> -83299.077
B13: ՄԱՍ II. ԱՇԽԱՏԱՆՔՆԵՐ | G13: =G14 -> -74844.19
A14: 45451700-6 | B14: վերակառուցման աշխատանքներ | C14: ՀԲՄ | D14: դրամ | E14: 74844190 | F14: -1 | G14: =E14*F14/1000 -> -74844.19
B15: ՄԱՍ III. ԾԱՌԱՅՈՒԹՅՈՒՆՆԵՐ | G15: =G16+G17+G18 -> -8454.887
A16: 71351540-10 | B16: տեխնիկական հսկողության ծառայություններ | C16: ԳՀ | D16: դրամ | E16: 1146000 | F16: -1 | G16: =E16*F16/1000 -> -1146
A17: 98111140-1 | B17: հեղինակային հսկողության ծառայություն | C17: ՄԱ | D17: դրամ | E17: 6926887 | F17: -1 | G17: =E17*F17/1000 -> -6926.887
A18: 98111140-11 | B18: հեղինակային հսկողության ծառայություն | C18: ՄԱ | D18: դրամ | E18: 382000 | F18: -1 | G18: =E18*F18/1000 -> -382
A19: 1023 31004 | B19: ՀՀ պետական եկամուտների կոմիտեի շենքային պայմանների բարելավում | G19: =G20 -> 4195
B20: ՄԱՍ II. ԱՇԽԱՏԱՆՔՆԵՐ | G20: =G21 -> 4195
A21: 45611300-7 | B21: այլ շենքերի, շինությունների հիմնանորոգում | C21: ԳՀ | D21: դրամ | E21: 4195000 | F21: 1 | G21: =E21*F21/1000 -> 4195
