Workbook

Sheet HAVEL. 1
E1: Հավելված N 1
E2: ՀՀ կառավարության 2022 թվականի
E3: ի Ն որոշման
A6: «ՀԱՅԱՍՏԱՆԻ ՀԱՆՐԱՊԵՏՈՒԹՅԱՆ 2022 ԹՎԱԿԱՆԻ ՊԵՏԱԿԱՆ ԲՅՈՒՋԵԻ ՄԱՍԻՆ» ՀԱՅԱՍՏԱՆԻ ՀԱՆՐԱՊԵՏՈՒԹՅԱՆ ՕՐԵՆՔԻ N 1 ՀԱՎԵԼՎԱԾԻ N 2 ԱՂՅՈՒՍԱԿՈՒՄ ԵՎ ՀԱՅԱՍՏԱՆԻ ՀԱՆՐԱՊԵՏՈՒԹՅԱՆ ԿԱՌԱՎԱՐՈՒԹՅԱՆ 2021 ԹՎԱԿԱՆԻ ԴԵԿՏԵՄԲԵՐԻ 23-ի N 2121-Ն ՈՐՈՇՄԱՆ N 5 ՀԱՎԵԼՎԱԾԻ N 1 ԱՂՅՈՒՍԱԿՈՒՄ ԿԱՏԱՐՎՈՂ ՎԵՐԱԲԱՇԽՈՒՄԸ ԵՎ ՓՈՓՈԽՈՒԹՅՈՒՆՆԵՐԸ
E7: հազ. դրամ
A8: Ծրագրային դասիչը | C8: Բյուջետային հատկացումների գլխավոր կարգադրիչների, ծրագրերի և միջոցառումների անվանումները | D8: Ցուցանիշների փոփոխությունը (ավելացումները նշված են դրական նշանով, իսկ նվազեցումները՝ փակագծերում)
A9: ծրագիր | B9: միջոցառում | D9: Ինն ամիս | E9: Տարի
C10: ԸՆԴԱՄԵՆԸ՝ | D10: =D25+D11 -> 0 | E10: =E25+E11 -> 0
C11: ՀՀ տարածքային կառավարման և ենթակառուցվածքների նախարարություն | D11: =D12 -> -129763 | E11: =E12 -> -129763
A12: 1004 | C12: Ծրագրի անվանումը` | D12: =D19 -> -129763 | E12: =E19 -> -129763
C13: Ոռոգման համակարգի առողջացում
C14: Ծրագրի նպատակը`
C15: Ոռոգման ծառայությունների հասանելիության և մատչելիության ապահովում
C16: Վերջնական արդյունքի նկարագրությունը`
C17: Ոռոգման ջրի մատակարարման արդյունավետության և հասանելիության բարելավում, կորուստների կրճատում
A18: Ծրագրի միջոցառումներ
B19: 11010 | C19: Միջոցառման անվանումը` | D19: -129763 | E19: -129763
C20: Գերմանիայի զարգացման վարկերի բանկի աջակցությամբ իրականացվող Ախուրյան գետի ջրային ռեսուրսների ինտեգրացված կառավարում փուլ 1 ծրագրով Ջրաձոր գյուղի վերաբնակեցման գործողությունների խորհրդատվություն և կառավարում
C21: Միջոցառման նկարագրությունը`
C22: Գերմանիայի զարգացման վարկերի բանկի աջակցությամբ իրականացվող Ախուրյան գետի ջրային ռեսուրսների ինտեգրացված կառավարում փուլ 1 ծրագրով Ջրաձոր գյուղի վերաբնակեցման գործողությունների համակարգում և ղեկավարում
C23: Միջոցառման տեսակը՝
C24: Ծառայությունների մատուցում
C25: ՀՀ ազգային անվտանգության ծառայություն | D25: =D26 -> 129763 | E25: =E26 -> 129763
A26: 1036 | C26: Ծրագրի անվանումը` | D26: =D33 -> 129763 | E26: =E33 -> 129763
C27: Պետական պահպանության ապահովում
C28: Ծրագրի նպատակը`
C29: Հատուկ պետական պաշտպանության ենթակա օբյեկտների անվտանգության ապահովում
C30: Վերջնական արդյունքի նկարագրությունը`
C31: Պետական պահպանության ենթակա օբեկտների անվտանգության խախտման դեպքերի կրճատում
A32: Ծրագրի միջոցառումներ
B33: 11001 | C33: Միջոցառման անվանումը` | D33: 129763 | E33: 129763
C34: Պետական պահպանության ծառայություններ
C35: Միջոցառման նկարագրությունը`
C36: Բարձրաստիճան պաշտոնատար անձանց, նրանց բարձրաստիճան հյուրերի անվտանգության ապահովում
C37: Միջոցառման տեսակը՝
C38: Ծառայությունների մատուցում

Sheet HAVEL. 2
I1: Հավելված N 2
I2: ՀՀ կառավարության 2022 թվականի
I3: ի Ն որոշման
A6: «ՀԱՅԱՍՏԱՆԻ ՀԱՆՐԱՊԵՏՈՒԹՅԱՆ 2022 ԹՎԱԿԱՆԻ ՊԵՏԱԿԱՆ ԲՅՈՒՋԵԻ ՄԱՍԻՆ» ՀԱՅԱՍՏԱՆԻ ՀԱՆՐԱՊԵՏՈՒԹՅԱՆ ՕՐԵՆՔԻ N 1 ՀԱՎԵԼՎԱԾԻ N 4 ԱՂՅՈՒՍԱԿՈՒՄ ԵՎ ՀԱՅԱՍՏԱՆԻ ՀԱՆՐԱՊԵՏՈՒԹՅԱՆ ԿԱՌԱՎԱՐՈՒԹՅԱՆ 2021 ԹՎԱԿԱՆԻ ԴԵԿՏԵՄԲԵՐԻ 23-ի N 2121-Ն ՈՐՈՇՄԱՆ N 5 ՀԱՎԵԼՎԱԾԻ N 3 ԱՂՅՈՒՍԱԿՈՒՄ ԿԱՏԱՐՎՈՂ ՓՈՓՈԽՈՒԹՅՈՒՆՆԵՐԸ
H7: հազ. դրամ
A8: Ծրագրային դասիչը | C8: Բյուջետային հատկացումների գլխավոր կարգադրիչների, ծրագրերի, միջոցառումների և միջոցառումները կատարող պետական մարմինների անվանումները | D8: Ցուցանիշների փոփոխությունը ( նվազեցումները նշված են փակագծերում)
D9: Ինն ամիս | G9: Տարի
D10: Ընդամենը | E10: այդ թվում` | G10: Ընդամենը | H10: այդ թվում`
A11: Ծրագիր | B11: Միջոց առում | E11: Վարկային միջոցներ | F11: Համաֆինան սավորում | H11: Վարկային միջոցներ | I11: Համաֆինան սավորում
C12: ԸՆԴԱՄԵՆԸ | D12: =E12+F12 -> -129763 | E12: 0 | F12: =F14 -> -129763 | G12: =H12+I12 -> -129763 | H12: 0 | I12: =I14 -> -129763
C13: այդ թվում`
C14: ԸՆԹԱՑԻԿ ԾԱԽՍԵՐ | D14: =E14+F14 -> -129763 | E14: 0 | F14: =F15 -> -129763 | G14: =H14+I14 -> -129763 | H14: 0 | I14: =I15 -> -129763
C15: ՀՀ տարածքային կառավարման և ենթակառուցվածքների նախարարություն | D15: =E15+F15 -> -129763 | E15: 0 | F15: =F17 -> -129763 | G15: =H15+I15 -> -129763 | H15: 0 | I15: =I17 -> -129763
C16: այդ թվում`
A17: 1004 | C17: Ոռոգման համակարգի առողջացում | D17: =F17+E17 -> -129763 | E17: 0 | F17: =F19 -> -129763 | G17: =I17+H17 -> -129763 | H17: 0 | I17: =I19 -> -129763
C18: այդ թվում`
B19: 11010 | C19: Գերմանիայի զարգացման վարկերի բանկի աջակցությամբ իրականացվող Ախուրյան գետի ջրային ռեսուրսների ինտեգրացված կառավարում փուլ 1 ծրագրով Ջրաձոր գյուղի վերաբնակեցման գործողությունների խորհրդատվություն և կառավարում | D19: =F19+E19 -> -129763 | E19: 0 | F19: =F21 -> -129763 | G19: =I19+H19 -> -129763 | H19: 0 | I19: =I21 -> -129763
C20: այդ թվում` ըստ կատարողների
C21: ՀՀ տարածքային կառավարման և ենթակառուցվածքների նախարարության ջրային կոմիտե | D21: =F21+E21 -> -129763 | E21: 0 | F21: =F23 -> -129763 | G21: =I21+H21 -> -129763 | H21: 0 | I21: =I23 -> -129763
C22: այդ թվում` բյուջետային ծախսերի տնտեսագիտական դասակարգման հոդվածներ
C23: ԸՆԴԱՄԵՆԸ ԾԱԽՍԵՐ | D23: =F23+E23 -> -129763 | E23: 0 | F23: =F24 -> -129763 | G23: =I23+H23 -> -129763 | H23: 0 | I23: =I24 -> -129763
C24: ԸՆԹԱՑԻԿ ԾԱԽՍԵՐ | D24: =F24+E24 -> -129763 | E24: 0 | F24: =F25 -> -129763 | G24: =I24+H24 -> -129763 | H24: 0 | I24: =I25 -> -129763
C25: ԴՐԱՄԱՇՆՈՐՀՆԵՐ | D25: =F25+E25 -> -129763 | E25: 0 | F25: =F26 -> -129763 | G25: =I25+H25 -> -129763 | H25: 0 | I25: =I26 -> -129763
C26: Ընթացիկ դրամաշնորհներ պետական հատվածի այլ մակարդակներին | D26: =F26+E26 -> -129763 | E26: 0 | F26: =F27 -> -129763 | G26: =I26+H26 -> -129763 | H26: 0 | I26: =I27 -> -129763
C27: - Այլ ընթացիկ դրամաշնորհներ | D27: =F27+E27 -> -129763 | E27: 0 | F27: -129763 | G27: =I27+H27 -> -129763 | H27: 0 | I27: =F27 -> -129763

Sheet HAVEL. 3
H1: Հավելված N 3
H2: ՀՀ կառավարության 2022 թվականի
H3: ի Ն որոշման
A7: ՀԱՅԱՍՏԱՆԻ ՀԱՆՐԱՊԵՏՈՒԹՅԱՆ ԿԱՌԱՎԱՐՈՒԹՅԱՆ 2021 ԹՎԱԿԱՆԻ ԴԵԿՏԵՄԲԵՐԻ 23-ի N 2121-Ն ՈՐՈՇՄԱՆ NN 3 ԵՎ 4 ՀԱՎԵԼՎԱԾՆԵՐՈՒՄ ԿԱՏԱՐՎՈՂ ՓՈՓՈԽՈՒԹՅՈՒՆՆԵՐԸ
H8: հազ. դրամ
A9: Գործառական դասիչը | D9: Ծրագրային դասիչը | F9: Բյուջետային ծախսերի գործառական դասակարգման բաժինների, խմբերի և դասերի, բյուջետային ծրագրերի միջոցառումների, բյուջետային հատկացումների գլխավոր կարգադրիչների անվանումները | G9: Ցուցանիշների փոփոխությունը (ավելացումները նշված են դրական նշանով, իսկ նվազեցումները՝ փակագծերում)
A10: բաժին | B10: խումբ | C10: դաս | D10: ծրագիր | E10: միջոցառում | G10: Ինն ամիս | H10: Տարի
F11: ԸՆԴԱՄԵՆԸ՝ | G11: =G29+G12 -> 0 | H11: =H29+H12 -> 0
A12: 04 | F12: ՏՆՏԵՍԱԿԱՆ ՀԱՐԱԲԵՐՈՒԹՅՈՒՆՆԵՐ | G12: =G14 -> -129763 | H12: =H14 -> -129763
F13: այդ թվում`
B14: 02 | F14: Գյուղատնտեսություն, անտառային տնտեսություն, ձկնորսություն և որսորդություն | G14: =G16 -> -129763 | H14: =H16 -> -129763
F15: այդ թվում`
C16: 04 | F16: Ոռոգում | G16: =G18 -> -129763 | H16: =H18 -> -129763
F17: այդ թվում`
D18: 1004 | F18: Ոռոգման համակարգի առողջացում | G18: =G20 -> -129763 | H18: =H20 -> -129763
F19: այդ թվում`
E20: 11010 | F20: Գերմանիայի զարգացման վարկերի բանկի աջակցությամբ իրականացվող Ախուրյան գետի ջրային ռեսուրսների ինտեգրացված կառավարում փուլ 1 ծրագրով Ջրաձոր գյուղի վերաբնակեցման գործողությունների խորհրդատվություն և կառավարում | G20: =G22 -> -129763 | H20: =H22 -> -129763
F21: այդ թվում` ըստ կատարողների
F22: ՀՀ տարածքային կառավարման և ենթակառուցվածքների նախարարության ջրային կոմիտե | G22: =G24 -> -129763 | H22: =H24 -> -129763
F23: այդ թվում` բյուջետային ծախսերի տնտեսագիտական դասակարգման հոդվածներ
F24: ԸՆԴԱՄԵՆԸ՝ ԾԱԽՍԵՐ | G24: =G25 -> -129763 | H24: =H25 -> -129763
F25: ԸՆԹԱՑԻԿ ԾԱԽՍԵՐ | G25: =G26 -> -129763 | H25: =H26 -> -129763
F26: ԴՐԱՄԱՇՆՈՐՀՆԵՐ | G26: =G27 -> -129763 | H26: =H27 -> -129763
F27: Ընթացիկ դրամաշնորհներ պետական հատվածի այլ մակարդակներին | G27: =G28 -> -129763 | H27: =H28 -> -129763
F28: - Այլ ընթացիկ դրամաշնորհներ | G28: ='HAVEL. 1'!D19 -> -129763 | H28: ='HAVEL. 1'!E19 -> -129763
A29: 03 | F29: ՀԱՍԱՐԱԿԱԿԱՆ ԿԱՐԳ, ԱՆՎՏԱՆԳՈՒԹՅՈՒՆ ԵՎ ԴԱՏԱԿԱՆ ԳՈՐԾՈՒՆԵՈՒԹՅՈՒՆ | G29: =SUM(G31) -> 129763 | H29: =SUM(H31) -> 129763
F30: այդ թվում`
B31: 01 | F31: Հասարակական կարգ և անվտանգություն | G31: =SUM(G33) -> 129763 | H31: =SUM(H33) -> 129763
F32: այդ թվում`
C33: 03 | F33: Պետական պահպանություն | G33: =G35 -> 129763 | H33: =H35 -> 129763
F34: այդ թվում`
F35: ՀՀ ազգային անվտանգության ծառայություն | G35: =G37 -> 129763 | H35: =H37 -> 129763
F36: այդ թվում`
D37: 1036 | F37: Պետական պահպանության ապահովում | G37: =G39 -> 129763 | H37: =H39 -> 129763
F38: այդ թվում`
E39: 11001 | F39: Պետական պահպանության ծառայություններ | G39: =G41 -> 129763 | H39: =H41 -> 129763
F40: այդ թվում` ըստ կատարողների
F41: ՀՀ պետական պահպանության ծառայություն | G41: =G43 -> 129763 | H41: =H43 -> 129763
F42: այդ թվում` բյուջետային ծախսերի տնտեսագիտական դասակարգման հոդվածներ
F43: ԸՆԴԱՄԵՆԸ՝ ԾԱԽՍԵՐ | G43: =G44 -> 129763 | H43: =H44 -> 129763
...

Sheet HAVEL. 4
D1: Հավելված N 4
D2: ՀՀ կառավարության 2022 թվականի
D3: ի Ն որոշման
A5: ՀԱՅԱՍՏԱՆԻ ՀԱՆՐԱՊԵՏՈՒԹՅԱՆ ԿԱՌԱՎԱՐՈՒԹՅԱՆ 2021 ԹՎԱԿԱՆԻ ԴԵԿՏԵՄԲԵՐԻ 23-ի N 2121-Ն ՈՐՈՇՄԱՆ N 9 ՀԱՎԵԼՎԱԾԻ NN 9.7 ԵՎ 9.26 ԱՂՅՈՒՍԱԿՆԵՐՈՒՄ ԿԱՏԱՐՎՈՂ ՓՈՓՈԽՈՒԹՅՈՒՆՆԵՐԸ
A7: ՀՀ տարածքային կառավարման և ենթակառուցվածքների նախարարություն
A9: ՄԱՍ 2. ՊԵՏԱԿԱՆ ՄԱՐՄՆԻ ԳԾՈՎ ԱՐԴՅՈՒՆՔԱՅԻՆ (ԿԱՏԱՐՈՂԱԿԱՆ) ՑՈՒՑԱՆԻՇՆԵՐԸ
A11: Ծրագրի դասիչը | B11: Ծրագրի անվանումը
A12: 1004 | B12: Ոռոգման համակարգի առողջացում
A14: Ծրագրի միջոցառումները
A16: Ծրագրի դասիչը՝ | B16: 1004 | C16: Ցուցանիշների փոփոխությունը (նվազեցումները նշված են փակագծերում)
A17: Միջոցառման դասիչը՝ | B17: 11010 | C17: Ինն ամիս | D17: Տարի
A18: Միջոցառման անվանումը՝ | B18: Գերմանիայի զարգացման վարկերի բանկի աջակցությամբ իրականացվող Ախուրյան գետի ջրային ռեսուրսների ինտեգրացված կառավարում փուլ 1 ծրագրով Ջրաձոր գյուղի վերաբնակեցման գործողությունների խորհրդատվություն և կառավարում
A19: Նկարագրությունը՝ | B19: Գերմանիայի զարգացման վարկերի բանկի աջակցությամբ իրականացվող Ախուրյան գետի ջրային ռեսուրսների ինտեգրացված կառավարում փուլ 1 ծրագրով Ջրաձոր գյուղի վերաբնակեցման գործողությունների համակարգում և ղեկավարում
A20: Միջոցառման տեսակը՝ | B20: Ծառայությունների մատուցում
A21: Միջոցառումն իրականացնողի անվանումը? | B21: Մասնագիտացված միավոր
A22: Արդյունքի չափորոշիչներ
A23: Միջոցառման վրա կատարվող ծախսը (հազ. դրամ) | C23: ='HAVEL. 3'!G28 -> -129763 | D23: ='HAVEL. 3'!H28 -> -129763
A25: ՀՀ ազգային անվտանգության ծառայություն
A27: ՄԱՍ 2. ՊԵՏԱԿԱՆ ՄԱՐՄՆԻ ԳԾՈՎ ԱՐԴՅՈՒՆՔԱՅԻՆ (ԿԱՏԱՐՈՂԱԿԱՆ) ՑՈՒՑԱՆԻՇՆԵՐԸ
A29: Ծրագրի դասիչը | B29: Ծրագրի անվանումը
A30: 1036 | B30: Պետական պահպանության ապահովում
A32: Ծրագրի միջոցառումները
A34: Ծրագրի դասիչը՝ | B34: 1036 | C34: Ցուցանիշների փոփոխությունը (ավելացումները նշված են դրական նշանով)
A35: Միջոցառման դասիչը՝ | B35: 11001 | C35: Ինն ամիս | D35: Տարի
A36: Միջոցառման անվանումը՝ | B36: Պետական պահպանության ծառայություններ
A37: Նկարագրությունը՝ | B37: Բարձրաստիճան պաշտոնատար անձանց, նրանց բարձրաստիճան հյուրերի անվտանգության ապահովում
A38: Միջոցառման տեսակը՝ | B38: Ծառայությունների մատուցում
A39: Ծառայությունը մատուցող կազմակերպության (կազմակերպությունների) անվանումը (անվանումները) | B39: ՀՀ պետական պահպանության ծառայություն
A40: Արդյունքի չափորոշիչներ
A41: Միջոցառման վրա կատարվող ծախսը (հազ. դրամ) | C41: ='HAVEL. 3'!G47 -> 129763 | D41: ='HAVEL. 3'!H47 -> 129763

Sheet HAVEL. 5
D1: Հավելված N 5
D2: ՀՀ կառավարության 2022 թվականի
D3: ի Ն որոշման
A5: ՀԱՅԱՍՏԱՆԻ ՀԱՆՐԱՊԵՏՈՒԹՅԱՆ ԿԱՌԱՎԱՐՈՒԹՅԱՆ 2021 ԹՎԱԿԱՆԻ ԴԵԿՏԵՄԲԵՐԻ 23-ի N 2121-Ն ՈՐՈՇՄԱՆ N 9.1 ՀԱՎԵԼՎԱԾԻ NN 9.1.26 ԵՎ 9.1.40 ԱՂՅՈՒՍԱԿՆԵՐՈՒՄ ԿԱՏԱՐՎՈՂ ՓՈՓՈԽՈՒԹՅՈՒՆՆԵՐԸ
A7: ՀՀ տարածքային կառավարման և ենթակառուցվածքների նախարարության ջրային կոմիտե
A9: ՄԱՍ 1. ՊԵՏԱԿԱՆ ՄԱՐՄՆԻ ԳԾՈՎ ԱՐԴՅՈՒՆՔԱՅԻՆ (ԿԱՏԱՐՈՂԱԿԱՆ) ՑՈՒՑԱՆԻՇՆԵՐԸ
A11: Ծրագրի դասիչը | B11: Ծրագրի անվանումը
A12: 1004 | B12: Ոռոգման համակարգի առողջացում
A14: Ծրագրի միջոցառումները
A16: Ծրագրի դասիչը՝ | B16: 1004 | C16: Ցուցանիշների փոփոխությունը (նվազեցումները նշված են փակագծերում)
A17: Միջոցառման դասիչը՝ | B17: 11010 | C17: Ինն ամիս | D17: Տարի
A18: Միջոցառման անվանումը՝ | B18: Գերմանիայի զարգացման վարկերի բանկի աջակցությամբ իրականացվող Ախուրյան գետի ջրային ռեսուրսների ինտեգրացված կառավարում փուլ 1 ծրագրով Ջրաձոր գյուղի վերաբնակեցման գործողությունների խորհրդատվություն և կառավարում
A19: Նկարագրությունը՝ | B19: Գերմանիայի զարգացման վարկերի բանկի աջակցությամբ իրականացվող Ախուրյան գետի ջրային ռեսուրսների ինտեգրացված կառավարում փուլ 1 ծրագրով Ջրաձոր գյուղի վերաբնակեցման գործողությունների համակարգում և ղեկավարում
A20: Միջոցառման տեսակը՝ | B20: Ծառայությունների մատուցում
A21: Միջոցառումն իրականացնողի անվանումը? | B21: Մասնագիտացված միավոր
A22: Արդյունքի չափորոշիչներ
A23: Միջոցառման վրա կատարվող ծախսը (հազ. դրամ) | C23: ='HAVEL. 4'!C23 -> -129763 | D23: ='HAVEL. 4'!D23 -> -129763
A25: ՀՀ պետական պահպանության ծառայություն
A27: ՄԱՍ 1. ՊԵՏԱԿԱՆ ՄԱՐՄՆԻ ԳԾՈՎ ԱՐԴՅՈՒՆՔԱՅԻՆ (ԿԱՏԱՐՈՂԱԿԱՆ) ՑՈՒՑԱՆԻՇՆԵՐԸ
A29: Ծրագրի դասիչը | B29: Ծրագրի անվանումը
A30: 1036 | B30: Պետական պահպանության ապահովում
A32: Ծրագրի միջոցառումները
A34: Ծրագրի դասիչը ՝ | B34: 1036 | C34: Ցուցանիշների փոփոխությունը (ավելացումները նշված են դրական նշանով)
A35: Միջոցառման դասիչը՝ | B35: 11001 | C35: Ինն ամիս | D35: Տարի
A36: Միջոցառման անվանումը՝ | B36: Պետական պահպանության ծառայություններ
A37: Նկարագրությունը՝ | B37: Բարձրաստիճան պաշտոնատար անձանց, նրանց բարձրաստիճան հյուրերի անվտանգության ապահովում
A38: Միջոցառման տեսակը՝ | B38: Ծառայությունների մատուցում
A39: Ծառայությունը մատուցող կազմակերպության (կազմակերպությունների) անվանումը (անվանումները) | B39: ՀՀ պետական պահպանության ծառայություն
A40: Արդյունքի չափորոշիչներ
A41: Միջոցառման վրա կատարվող ծախսը (հազ. դրամ) | C41: ='HAVEL. 4'!C41 -> 129763 | D41: ='HAVEL. 4'!D41 -> 129763
