Workbook
Name AgencyCode: #REF!
Name AgencyCode: #REF!
Name AgencyCode: #REF!
Name AgencyCode: #REF!
Name AgencyCode: #REF!
Name AgencyName: #REF!
Name AgencyName: #REF!
Name AgencyName: #REF!
Name åû: #REF!
Name davit: #REF!
Name Functional1: #REF!
Name Functional1: #REF!
Name Functional1: #REF!
Name ggg: #REF!
Name mas: #REF!
Name mass: #REF!
Name PANature: #REF!
Name PANature: #REF!
Name PANature: #REF!
Name PAType: #REF!
Name PAType: #REF!
Name PAType: #REF!
Name Performance2: #REF!
Name Performance2: #REF!
Name Performance2: #REF!
Name PerformanceType: #REF!
Name PerformanceType: #REF!
Name PerformanceType: #REF!
Name x: #REF!
Name Հավելված: #REF!
Name Մաս: #REF!
Name շախմատիստ: #REF!

Sheet 1
F1: Հավելված N1
F2: ՀՀ կառավարության 2022 թվականի
F3: ______________ ի ___Ն որոշման
B5: «ՀԱՅԱUՏԱՆԻ ՀԱՆՐԱՊԵՏՈՒԹՅԱՆ 2022 ԹՎԱԿԱՆԻ ՊԵՏԱԿԱՆ ԲՅՈՒՋԵԻ ՄԱUԻՆ» OՐԵՆՔԻ N 1 ՀԱՎԵԼՎԱԾԻ N 2 ԱՂՅՈՒՍԱԿՈՒՄ ԿԱՏԱՐՎՈՂ ՎԵՐԱԲԱՇԽՈՒՄԸ ԵՎ ՀԱՅԱՍՏԱՆԻ ՀԱՆՐԱՊԵՏՈՒԹՅԱՆ ԿԱՌԱՎԱՐՈՒԹՅԱՆ 2021 ԹՎԱԿԱՆԻ ԴԵԿՏԵՄԲԵՐԻ 23-Ի N 2121-Ն ՈՐՈՇՄԱՆ N 5 ՀԱՎԵԼՎԱԾԻ N 1 ԱՂՅՈՒՍԱԿՈՒՄ ԿԱՏԱՐՎՈՂ ՓՈՓՈԽՈՒԹՅՈՒՆՆԵՐԸ ԵՎ ԼՐԱՑՈՒՄՆԵՐԸ
F6: հազ. դրամ
B7: Ծրագրային դասիչը | D7: Բյուջետային հատկացումների գլխավոր կարգադրիչների, ծրագրերի և միջոցառումների անվանումները | E7: Ցուցանիշների փոփոխությունը (ավելացումները նշված են դրական նշանով, իսկ նվազեցումները` փակագծերում)
B8: Ծրագիր | C8: Միջոցառում | E8: Ինն ամիս | F8: Տարի
B9: 1192 | D9: ԸՆԴԱՄԵՆԸ | E9: =+E11 -> 0 | F9: =+F11 -> 0
D10: այդ թվում
C11: ՀՀ տարածքային կառավարման և ենթակառուցվածքների նախարարություն | E11: =+E13 -> 0 | F11: =+F13 -> 0
B12: 1049 | D12: Ծրագրի անվանումը`
D13: Ճանապարհային ցանցի բարելավում | E13: 0 | F13: =+F20+F26 -> 0
D14: Ծրագրի նպատակը`
D15: Ճանապարհային ցանցի բարելավում և անվտանգ երթևեկության ապահովում
D16: Վերջնական արդյունքի նկարագրությունը`
D17: Ճանապարհների ծածկի որակի և փոխադրումների արդյունավետության բարելավում, ճանապարհների վիճակով պայմանավորված պատահարների նվազում
C18: Ծրագրի միջոցառումներ
C19: 11001 | D19: Միջոցառման անվանումը`
D20: Միջպետական և հանրապետական նշանակության ավտոճանապարհների պահպանման և անվտանգ երթևեկության ծառայություններ | E20: 0 | F20: =+'5'!G16+'5'!G17+'5'!G18+'5'!G19 -> 1325408.5
D21: Միջոցառման նկարագրությունը`
D22: Հողային պաստառի, երթևեկելի մասի, արհեստական կառույցների և կահավորման տարրերի նորմատիվ մակարդակում պահպանում և շահագործում
D23: Միջոցառման տեսակը
D24: Ծառայությունների մատուցում
C25: 11001 | D25: Միջոցառման անվանումը`
D26: Միջպետական և հանրապետական նշանակության ավտոճանապարհների պահպանման և անվտանգ երթևեկության ծառայություններ | E26: 0 | F26: =-F20 -> -1325408.5
D27: Միջոցառման նկարագրությունը`
D28: Հողային պաստառի, երթևեկելի մասի, արհեստական կառույցների և կահավորման տարրերի նորմատիվ մակարդակում պահպանում և շահագործում
D29: Միջոցառման տեսակը
D30: Ծառայությունների մատուցում
C31: ՀՀ կառավարություն | E31: =+E32 -> 0 | F31: =+F32 -> 0
B32: 1139 | D32: Ծրագրի անվանումը` | E32: =+E39+E46 -> 0 | F32: =+F39+F46 -> 0
D33: ՀՀ կառավարության պահուստային ֆոնդ
D34: Ծրագրի նպատակը`
D35: Պետական բյուջեում չկանխատեսված, ինչպես նաև բյուջետային երաշխիքների ապահովման ծախսերի ֆինանսավորման ապահովում
D36: Վերջնական արդյունքի նկարագրությունը`
D37: Պահուստային ֆոնդի կառավարման արդյունավետության և թափանցիկության ապահովում
D38: Ծրագրի միջոցառումներ
C39: 11001 | D39: Միջոցառման անվանումը` | E39: 0 | F39: =-F26 -> 1325408.5
D40: ՀՀ կառավարության պահուստային ֆոնդ
D41: Միջոցառման նկարագրությունը`
D42: ՀՀ պետական բյուջեում նախատեսված ելքերի լրացուցիչ ֆինանսավորման, պետական բյուջեում չկանխատեսված ելքերի, ինչպես նաև բյուջետային երաշխիքների ապահովման ելքերի ֆինանսավորման ապահովում
D43: Միջոցառման տեսակը
D44: Ծառայությունների մատուցում
C45: 11001 | D45: Միջոցառման անվանումը`
D46: ՀՀ կառավարության պահուստային ֆոնդ | E46: 0 | F46: =-F39 -> -1325408.5
D47: Միջոցառման նկարագրությունը`
D48: ՀՀ պետական բյուջեում նախատեսված ելքերի լրացուցիչ ֆինանսավորման, պետական բյուջեում չկանխատեսված ելքերի, ինչպես նաև բյուջետային երաշխիքների ապահովման ելքերի ֆինանսավորման ապահովում
D49: Միջոցառման տեսակը
D50: Ծառայությունների մատուցում

Sheet 2
A1: Հավելված N2
A2: ՀՀ կառավարության 2022 թվականի
A3: ______________ ի ___Ն որոշման
A5: ՀԱՅԱՍՏԱՆԻ ՀԱՆՐԱՊԵՏՈՒԹՅԱՆ ԿԱՌԱՎԱՐՈՒԹՅԱՆ 2021 ԹՎԱԿԱՆԻ ԴԵԿՏԵՄԲԵՐԻ 23-Ի N 2121-Ն ՈՐՈՇՄԱՆ N 3 ԵՎ N 4 ՀԱՎԵԼՎԱԾՆԵՐՈՒՄ ԿԱՏԱՐՎՈՂ ՓՈՓՈԽՈՒԹՅՈՒՆՆԵՐԸ ԵՎ ԼՐԱՑՈՒՄՆԵՐԸ
G7: հազ. դրամ
A8: Գործառական դասիչը | D8: Ծրագրային դասիչը | F8: Բյուջետային ծախսերի գործառական դասակարգման բաժինների, խմբերի և դասերի, բյուջետային հատկացումների գլխավոր կարգադրիչների, ծրագրերի, միջոցառումների և միջոցառումները կատարող պետական մարմինների անվանումները | G8: Ցուցանիշների փոփոխությունը (ավելացումները նշված են դրական նշանով, իսկ նվազեցումները` փակագծերում)
A9: Բաժին | B9: Խումբ | C9: Դաս | D9: Ծրագիր | E9: Միջոցառում | G9: Ինն ամիս | H9: Տարի
F10: ԸՆԴԱՄԵՆԸ ԾԱԽՍԵՐ | G10: =+G12 -> 0 | H10: =+H12 -> 0
F11: այդ թվում`
A12: 04 | F12: ՏՆՏԵՍԱԿԱՆ ՀԱՐԱԲԵՐՈՒԹՅՈՒՆՆԵՐ | G12: =+G14 -> 0 | H12: =+H14 -> 0
F13: այդ թվում`
B14: 05 | F14: Տրանսպորտ | G14: =+G16 -> 0 | H14: =+H16 -> 0
F15: այդ թվում`
C16: 01 | F16: Ճանապարհային տրանսպորտ | G16: =+G18 -> 0 | H16: =+H18 -> 0
F17: այդ թվում`
F18: ՀՀ ՏԱՐԱԾՔԱՅԻՆ ԿԱՌԱՎԱՐՄԱՆ ԵՎ ԵՆԹԱԿԱՌՈՒՑՎԱԾՔՆԵՐԻ ՆԱԽԱՐԱՐՈՒԹՅՈՒՆ | G18: =+G20 -> 0 | H18: =+H20 -> 0
F19: այդ թվում`
D20: 1049 | F20: Ճանապարհային ցանցի բարելավում | G20: =+G22+G33 -> 0 | H20: =+H22+H33 -> 0
F21: այդ թվում`
E22: 11001 | F22: Միջպետական և հանրապետական նշանակության ավտոճանապարհների պահպանման և անվտանգ երթևեկության ծառայություններ | G22: =+G24 -> 0 | H22: =+H24 -> 1325408.5
F23: այդ թվում` ըստ կատարողների
F24: ՀՀ տարածքային կառավարման և ենթակառուցվածքների նախարարություն | G24: =+G26 -> 0 | H24: =+H26 -> 1325408.5
F25: այդ թվում` բյուջետային ծախսերի տնտեսագիտական դասակարգման հոդվածներ
F26: ԸՆԴԱՄԵՆԸ ԾԱԽՍԵՐ | G26: =+G27 -> 0 | H26: =+H27 -> 1325408.5
F27: ԸՆԹԱՑԻԿ ԾԱԽՍԵՐ | G27: =+G28 -> 0 | H27: =+H28 -> 1325408.5
F28: ԾԱՌԱՅՈՒԹՅՈՒՆՆԵՐԻ ԵՎ ԱՊՐԱՆՔՆԵՐԻ ՁԵՌՔԲԵՐՈՒՄ | G28: =+G29+G31 -> 0 | H28: =+H29 -> 1325408.5
F29: Ընթացիկ նորոգում և պահպանում (ծառայություններ և նյութեր) | G29: =+G30 -> 0 | H29: =+H30 -> 1325408.5
F30: - Շենքերի և կառույցների ընթացիկ նորոգում և պահպանում | G30: =+'1'!E20 -> 0 | H30: =+'1'!F20 -> 1325408.5
E31: 11001 | F31: Միջպետական և հանրապետական նշանակության ավտոճանապարհների պահպանման և անվտանգ երթևեկության ծառայություններ | G31: =+G33 -> 0 | H31: =+H33 -> -1325408.5
F32: այդ թվում` ըստ կատարողների
F33: ՀՀ տարածքային կառավարման և ենթակառուցվածքների նախարարություն | G33: =+G35 -> 0 | H33: =+H35 -> -1325408.5
F34: այդ թվում` բյուջետային ծախսերի տնտեսագիտական դասակարգման հոդվածներ
F35: ԸՆԴԱՄԵՆԸ ԾԱԽՍԵՐ | G35: =+G36 -> 0 | H35: =+H36 -> -1325408.5
F36: ԸՆԹԱՑԻԿ ԾԱԽՍԵՐ | G36: =+G37 -> 0 | H36: =+H37 -> -1325408.5
F37: ԾԱՌԱՅՈՒԹՅՈՒՆՆԵՐԻ ԵՎ ԱՊՐԱՆՔՆԵՐԻ ՁԵՌՔԲԵՐՈՒՄ | G37: =+G38+G41 -> 0 | H37: =+H38+H41 -> -1325408.5
F38: Ընթացիկ նորոգում և պահպանում (ծառայություններ և նյութեր) | G38: =+G39 -> 0 | H38: =+H39 -> -1325408.5
F39: - Շենքերի և կառույցների ընթացիկ նորոգում և պահպանում | G39: =+'1'!E26 -> 0 | H39: =+'1'!F26 -> -1325408.5
F40: ՀՀ կառավարություն | G40: =+G41 -> 0 | H40: =+H41 -> 0
A41: 11 | F41: ՀԻՄՆԱԿԱՆ ԲԱԺԻՆՆԵՐԻՆ ՉԴԱՍՎՈՂ ՊԱՀՈՒՍՏԱՅԻՆ ՖՈՆԴԵՐ | G41: =G43 -> 0 | H41: =H43 -> 0
F42: այդ թվում`
B43: 01 | F43: ՀՀ կառավարության և համայնքների պահուստային ֆոնդ | G43: =G45 -> 0 | H43: =H45 -> 0
F44: այդ թվում`
C45: 01 | F45: ՀՀ կառավարության պահուստային ֆոնդ | G45: =G47 -> 0 | H45: =H47 -> 0
F46: այդ թվում`
F47: ՀՀ կառավարություն | G47: =G49 -> 0 | H47: =H49 -> 0
F48: այդ թվում`
D49: 1139 | F49: ՀՀ կառավարության պահուստային ֆոնդ | G49: =G51+G59 -> 0 | H49: =H51+H59 -> 0
F50: այդ թվում`
E51: 11001 | F51: ՀՀ կառավարության պահուստային ֆոնդ | G51: =G53 -> 0 | H51: =H53 -> 1325408.5
F52: այդ թվում` ըստ կատարողների
F53: ՀՀ կառավարություն | G53: =G55 -> 0 | H53: =H55 -> 1325408.5
F54: այդ թվում` բյուջետային ծախսերի տնտեսագիտական դասակարգման հոդվածներ
F55: ԸՆԴԱՄԵՆԸ ԾԱԽՍԵՐ | G55: =G56 -> 0 | H55: =H56 -> 1325408.5
F56: ԸՆԹԱՑԻԿ ԾԱԽՍԵՐ | G56: =G57 -> 0 | H56: =H57 -> 1325408.5
F57: ԱՅԼ ԾԱԽՍԵՐ | G57: =G58 -> 0 | H57: =H58 -> 1325408.5
F58: Պահուստային միջոցներ | G58: =+'1'!E39 -> 0 | H58: =+'1'!F39 -> 1325408.5
E59: 11001 | F59: ՀՀ կառավարության պահուստային ֆոնդ | G59: =G61 -> 0 | H59: =H61 -> -1325408.5
F60: այդ թվում` ըստ կատարողների
F61: ՀՀ կառավարություն | G61: =G63 -> 0 | H61: =H63 -> -1325408.5
F62: այդ թվում` բյուջետային ծախսերի տնտեսագիտական դասակարգման հոդվածներ
F63: ԸՆԴԱՄԵՆԸ ԾԱԽՍԵՐ | G63: =G64 -> 0 | H63: =H64 -> -1325408.5
F64: ԸՆԹԱՑԻԿ ԾԱԽՍԵՐ | G64: =G65 -> 0 | H64: =H65 -> -1325408.5
F65: ԱՅԼ ԾԱԽՍԵՐ | G65: =G66 -> 0 | H65: =H66 -> -1325408.5
F66: Պահուստային միջոցներ | G66: =+'1'!E46 -> 0 | H66: =+'1'!F46 -> -1325408.5

Sheet 3
D1: Հավելված N3
A2: ՀՀ կառավարության 2022 թվականի
A3: ______________ ի ___Ն որոշման
A5: ՀԱՅԱՍՏԱՆԻ ՀԱՆՐԱՊԵՏՈՒԹՅԱՆ ԿԱՌԱՎԱՐՈՒԹՅԱՆ 2021 ԹՎԱԿԱՆԻ ԴԵԿՏԵՄԲԵՐԻ 23-Ի N 2121-Ն ՈՐՈՇՄԱՆ N 9 ՀԱՎԵԼՎԱԾԻ NN 9.7 ԵՎ 9.47 ԱՂՅՈՒՍԱԿՆԵՐՈՒՄ ԿԱՏԱՐՎՈՂ ՓՈՓՈԽՈՒԹՅՈՒՆՆԵՐԸ ԵՎ ԼՐԱՑՈՒՄՆԵՐԸ
D6: Աղյուսակ 9.7
A7: ՀՀ ՏԱՐԱԾՔԱՅԻՆ ԿԱՌԱՎԱՐՄԱՆ ԵՎ ԵՆԹԱԿԱՌՈՒՑՎԱԾՔՆԵՐԻ ՆԱԽԱՐԱՐՈՒԹՅՈՒՆ
A8: ՄԱՍ 2. ՊԵՏԱԿԱՆ ՄԱՐՄՆԻ ԳԾՈՎ ԱՐԴՅՈՒՆՔԱՅԻՆ (ԿԱՏԱՐՈՂԱԿԱՆ) ՑՈՒՑԱՆԻՇՆԵՐԸ
A9: Ծրագրի դասիչը | B9: Ծրագրի անվանումը
A10: 1049 | B10: Ճանապարհային ցանցի բարելավում
A12: Ծրագրի միջոցառումները
A14: Ծրագրի դասիչը` | B14: 1049 | C14: Ցուցանիշների փոփոխությունը (ավելացումները նշված են դրական նշանով)
A15: Միջոցառման դասիչը` | B15: 11001 | C15: Ինն ամիս | D15: Տարի
A16: Միջոցառման անվանումը` | B16: Միջպետական և հանրապետական նշանակության ավտոճանապարհների պահպանման և անվտանգ երթևեկության ծառայություններ
A17: Նկարագրությունը` | B17: Հողային պաստառի, երթևեկելի մասի, արհեստական կառույցների և կահավորման տարրերի նորմատիվ մակարդակում պահպանում և շահագործում
A18: Միջոցառման տեսակը` | B18: Ծառայությունների մատուցում
A19: Միջոցառումն իրականացնողի անվանումը | B19: ՀՀ տարածքային կառավարման և ենթակառուցվածքների նախարարություն, մրցութային կարգով ընտրված կազմակերպություններ
A20: Արդյունքի չափորոշիչներ
A21: Պարբերական պահպանման/ միջին նորոգման ենթակա ճանապարհների երկարությունը, կիլոմետր | C21: 0 | D21: 39.1
A22: Միջոցառման վրա կատարվող ծախսը (հազար դրամ) | C22: =+'2'!G58 -> 0 | D22: =+'2'!H58 -> 1325408.5
A25: Ծրագրի դասիչը` | B25: 1049 | C25: Ցուցանիշների փոփոխությունը (նվազեցումները նշված են փակագծերում)
A26: Միջոցառման դասիչը` | B26: 11001 | C26: Ինն ամիս | D26: Տարի
A27: Միջոցառման անվանումը` | B27: Միջպետական և հանրապետական նշանակության ավտոճանապարհների պահպանման և անվտանգ երթևեկության ծառայություններ
A28: Նկարագրությունը` | B28: Հողային պաստառի, երթևեկելի մասի, արհեստական կառույցների և կահավորման տարրերի նորմատիվ մակարդակում պահպանում և շահագործում
A29: Միջոցառման տեսակը` | B29: Ծառայությունների մատուցում
A30: Միջոցառումն իրականացնողի անվանումը | B30: ՀՀ տարածքային կառավարման և ենթակառուցվածքների նախարարություն, մրցութային կարգով ընտրված կազմակերպություններ
A31: Արդյունքի չափորոշիչներ
A32: Միջոցառման վրա կատարվող ծախսը (հազար դրամ) | C32: =-C22 -> 0 | D32: =-D22 -> -1325408.5
C34: Աղյուսակ 9.47
A35: ՀՀ ԿԱՌԱՎԱՐՈՒԹՅՈՒՆ
A36: ՄԱՍ 2. ՊԵՏԱԿԱՆ ՄԱՐՄՆԻ ԳԾՈՎ ԱՐԴՅՈՒՆՔԱՅԻՆ (ԿԱՏԱՐՈՂԱԿԱՆ) ՑՈՒՑԱՆԻՇՆԵՐԸ
A38: Ծրագրի դասիչը | B38: Ծրագրի անվանումը
A39: 1139 | B39: ՀՀ կառավարության պահուստային ֆոնդ
A41: Ծրագրի միջոցառումները
A42: Ծրագրի դասիչը` | B42: 1139 | C42: Ցուցանիշների փոփոխությունը (նվազեցումները նշված են փակագծերում)
A43: Միջոցառման դասիչը` | B43: 11001 | C43: Ինն ամիս | D43: Տարի
A44: Միջոցառման անվանումը` | B44: ՀՀ կառավարության պահուստային ֆոնդ
A45: Նկարագրությունը` | B45: ՀՀ պետական բյուջեում նախատեսված ելքերի լրացուցիչ ֆինանսավորման՝ պետական բյուջեում չկանխատեսված ելքերի՝ ինչպես նաև բյուջետային երաշխիքների ապահովման ելքերի ֆինանսավորման ապահովում
A46: Միջոցառման տեսակը` | B46: Ծառայությունների մատուցում
A47: Միջոցառումն իրականացնողի անվանումը | B47: ՀՀ կառավարություն
A48: Արդյունքի չափորոշիչներ
A49: Միջոցառման վրա կատարվող ծախսը (հազար դրամ) | C49: =+C32 -> 0 | D49: =+D32 -> -1325408.5
A51: Ծրագրի դասիչը` | B51: 1139 | C51: Ցուցանիշների փոփոխությունը (ավելացումները նշված են դրական նշանով)
A52: Միջոցառման դասիչը` | B52: 11001 | C52: Ինն ամիս | D52: Տարի
A53: Միջոցառման անվանումը` | B53: ՀՀ կառավարության պահուստային ֆոնդ
A54: Նկարագրությունը` | B54: ՀՀ պետական բյուջեում նախատեսված ելքերի լրացուցիչ ֆինանսավորման՝ պետական բյուջեում չկանխատեսված ելքերի՝ ինչպես նաև բյուջետային երաշխիքների ապահովման ելքերի ֆինանսավորման ապահովում
A55: Միջոցառման տեսակը` | B55: Ծառայությունների մատուցում
A56: Միջոցառումն իրականացնողի անվանումը | B56: ՀՀ կառավարություն
A57: Արդյունքի չափորոշիչներ
A58: Միջոցառման վրա կատարվող ծախսը (հազար դրամ) | C58: =-C49 -> 0 | D58: =-D49 -> 1325408.5

Sheet 4
D1: Հավելված N 4
A2: ՀՀ կառավարության 2022 թվականի
A3: ______________ ի ___Ն որոշման
A4: ՀԱՅԱՍՏԱՆԻ ՀԱՆՐԱՊԵՏՈՒԹՅԱՆ ԿԱՌԱՎԱՐՈՒԹՅԱՆ 2021 ԹՎԱԿԱՆԻ ԴԵԿՏԵՄԲԵՐԻ 23-Ի N 2121-Ն ՈՐՈՇՄԱՆ N 9.1 ՀԱՎԵԼՎԱԾԻ NN 9.1.8 և 9.1.59 ԱՂՅՈՒՍԱԿՆԵՐՈՒՄ ԿԱՏԱՐՎՈՂ ՓՈՓՈԽՈՒԹՅՈՒՆՆԵՐԸ ԵՎ ԼՐԱՑՈՒՄՆԵՐԸ
D5: Աղյուսակ 9.1.8
A6: ՀՀ ՏԱՐԱԾՔԱՅԻՆ ԿԱՌԱՎԱՐՄԱՆ ԵՎ ԵՆԹԱԿԱՌՈՒՑՎԱԾՔՆԵՐԻ ՆԱԽԱՐԱՐՈՒԹՅՈՒՆ
A7: ՄԱՍ 1. ՊԵՏԱԿԱՆ ՄԱՐՄՆԻ ԳԾՈՎ ԱՐԴՅՈՒՆՔԱՅԻՆ (ԿԱՏԱՐՈՂԱԿԱՆ) ՑՈՒՑԱՆԻՇՆԵՐԸ
A8: Ծրագրի դասիչը | B8: Ծրագրի անվանումը
A9: 1049 | B9: Ճանապարհային ցանցի բարելավում
A11: Ծրագրի միջոցառումները
A13: Ծրագրի դասիչը` | B13: 1049 | C13: Ցուցանիշների փոփոխությունը (ավելացումները նշված են դրական նշանով)
A14: Միջոցառման դասիչը` | B14: 11001 | C14: Ինն ամիս | D14: Տարի
A15: Միջոցառման անվանումը` | B15: Միջպետական և հանրապետական նշանակության ավտոճանապարհների պահպանման և անվտանգ երթևեկության ծառայություններ
A16: Նկարագրությունը` | B16: Հողային պաստառի, երթևեկելի մասի, արհեստական կառույցների և կահավորման տարրերի նորմատիվ մակարդակում պահպանում և շահագործում
A17: Միջոցառման տեսակը` | B17: Ծառայությունների մատուցում
A18: Միջոցառումն իրականացնողի անվանումը | B18: ՀՀ տարածքային կառավարման և ենթակառուցվածքների նախարարություն, մրցութային կարգով ընտրված կազմակերպություններ
A19: Արդյունքի չափորոշիչներ
A20: Պարբերական պահպանման/ միջին նորոգման ենթակա ճանապարհների երկարությունը, կիլոմետր | C20: 0 | D20: 39.1
A21: Միջոցառման վրա կատարվող ծախսը (հազար դրամ) | C21: =+'2'!G57 -> 0 | D21: =+'2'!H57 -> 1325408.5
A24: Ծրագրի դասիչը` | B24: 1049 | C24: Ցուցանիշների փոփոխությունը (նվազեցումները նշված են փակագծերում)
A25: Միջոցառման դասիչը` | B25: 11001 | C25: Ինն ամիս | D25: Տարի
A26: Միջոցառման անվանումը` | B26: Միջպետական և հանրապետական նշանակության ավտոճանապարհների պահպանման և անվտանգ երթևեկության ծառայություններ
A27: Նկարագրությունը` | B27: Հողային պաստառի, երթևեկելի մասի, արհեստական կառույցների և կահավորման տարրերի նորմատիվ մակարդակում պահպանում և շահագործում
A28: Միջոցառման տեսակը` | B28: Ծառայությունների մատուցում
A29: Միջոցառումն իրականացնողի անվանումը | B29: ՀՀ տարածքային կառավարման և ենթակառուցվածքների նախարարություն, մրցութային կարգով ընտրված կազմակերպություններ
A30: Արդյունքի չափորոշիչներ
A31: Միջոցառման վրա կատարվող ծախսը (հազար դրամ) | C31: =-C21 -> 0 | D31: =-D21 -> -1325408.5
D33: Աղյուսակ 9.1.59
A34: ՀՀ ԿԱՌԱՎԱՐՈՒԹՅՈՒՆ
A35: ՄԱՍ 1. ՊԵՏԱԿԱՆ ՄԱՐՄՆԻ ԳԾՈՎ ԱՐԴՅՈՒՆՔԱՅԻՆ (ԿԱՏԱՐՈՂԱԿԱՆ) ՑՈՒՑԱՆԻՇՆԵՐԸ
A36: Ծրագրի դասիչը | B36: Ծրագրի անվանումը
A37: 1139 | B37: ՀՀ կառավարության պահուստային ֆոնդ
A39: Ծրագրի միջոցառումները
A40: Ծրագրի դասիչը` | B40: 1139 | C40: Ցուցանիշների փոփոխությունը (նվազեցումները նշված են փակագծերում)
A41: Միջոցառման դասիչը` | B41: 11001 | C41: Ինն ամիս | D41: Տարի
A42: Միջոցառման անվանումը` | B42: ՀՀ կառավարության պահուստային ֆոնդ
A43: Նկարագրությունը` | B43: ՀՀ պետական բյուջեում նախատեսված ելքերի լրացուցիչ ֆինանսավորման՝ պետական բյուջեում չկանխատեսված ելքերի՝ ինչպես նաև բյուջետային երաշխիքների ապահովման ելքերի ֆինանսավորման ապահովում
A44: Միջոցառման տեսակը` | B44: Ծառայությունների մատուցում
A45: Միջոցառումն իրականացնողի անվանումը | B45: ՀՀ կառավարություն
A46: Արդյունքի չափորոշիչներ
A47: Միջոցառման վրա կատարվող ծախսը (հազար դրամ) | C47: =+C31 -> 0 | D47: =+D31 -> -1325408.5
A49: Ծրագրի դասիչը` | B49: 1139 | C49: Ցուցանիշների փոփոխությունը (ավելացումները նշված են դրական նշանով)
A50: Միջոցառման դասիչը` | B50: 11001 | C50: Ինն ամիս | D50: Տարի
A51: Միջոցառման անվանումը` | B51: ՀՀ կառավարության պահուստային ֆոնդ
A52: Նկարագրությունը` | B52: ՀՀ պետական բյուջեում նախատեսված ելքերի լրացուցիչ ֆինանսավորման՝ պետական բյուջեում չկանխատեսված ելքերի՝ ինչպես նաև բյուջետային երաշխիքների ապահովման ելքերի ֆինանսավորման ապահովում
A53: Միջոցառման տեսակը` | B53: Ծառայությունների մատուցում
A54: Միջոցառումն իրականացնողի անվանումը | B54: ՀՀ կառավարություն
A55: Արդյունքի չափորոշիչներ
A56: Միջոցառման վրա կատարվող ծախսը (հազար դրամ) | C56: =-C47 -> 0 | D56: =-D47 -> 1325408.5

Sheet 5
A1: Հավելված N5
A2: ՀՀ կառավարության 2022 թվականի
A3: ______________ ի ___Ն որոշման
A5: ՀԱՅԱՍՏԱՆԻ ՀԱՆՐԱՊԵՏՈՒԹՅԱՆ ԿԱՌԱՎԱՐՈՒԹՅԱՆ 2021 ԹՎԱԿԱՆԻ ԴԵԿՏԵՄԲԵՐԻ 23-Ի N 2121-Ն ՈՐՈՇՄԱՆ N 10 ՀԱՎԵԼՎԱԾՈՒՄ ԿԱՏԱՐՎՈՂ ՓՈՓՈԽՈՒԹՅՈՒՆՆԵՐԸ ԵՎ ԼՐԱՑՈՒՄՆԵՐԸ
A6: Կոդը | B6: Անվանումը | C6: Գնման ձևը | D6: Չափման միավորը | E6: Միավորի գինը | F6: Ցուցանիշների փոփոխությունը (ավելացումները նշված են դրական նշանով, իսկ նվազեցումները` փակագծերում)
F7: Քանակը | G7: Գումարը (հազար դրամով)
A8: ՀՀ տարածքային կառավարման և ենթակառուցվածքների նախարարություն | G8: =+G9 -> 0
A9: Բաժին N 04 | B9: Խումբ N 05 | C9: Դաս N 01 | D9: Ճանապարհային տրանսպորտ | G9: =+G10 -> 0
A10: 1049 11001 | B10: =+'[1]4'!B15 -> Միջպետական և հանրապետական նշանակության ավտոճանապարհների պահպանման և անվտանգ երթևեկության ծառայություններ | G10: =G11 -> 0
A11: ՄԱՍ II. ԱՇԽԱՏԱՆՔՆԵՐ | G11: =SUM(G12:G19) -> 0
A12: 45231177/39 | B12: ճանապարհների վերանորոգման աշխատանքներ | C12: ՀԲՄ | D12: դրամ | E12: 0 | F12: 0 | G12: -525469.67
A13: 45231177/40 | B13: ճանապարհների վերանորոգման աշխատանքներ | C13: ՀԲՄ | D13: դրամ | E13: 0 | F13: 0 | G13: -543105.06
A14: 45231177/41 | B14: ճանապարհների վերանորոգման աշխատանքներ | C14: ՀԲՄ | D14: դրամ | E14: 0 | F14: 0 | G14: -12105.055
A15: 45231177/42 | B15: ճանապարհների վերանորոգման աշխատանքներ | C15: ՀԲՄ | D15: դրամ | E15: 0 | F15: 0 | G15: -244728.69
A16: 45231177/516 | B16: ճանապարհների վերանորոգման աշխատանքներ | C16: ՀԲՄ | D16: դրամ | E16: 451200000 | F16: 1 | G16: 451200
A17: 45231177/534 | B17: ճանապարհների վերանորոգման աշխատանքներ | C17: ՀԲՄ | D17: դրամ | E17: 253080000 | F17: 1 | G17: 253080
A18: 45231177/536 | B18: ճանապարհների վերանորոգման աշխատանքներ | C18: ՀԲՄ | D18: դրամ | E18: 426000000 | F18: 1 | G18: 426000
A19: 45231177/537 | B19: ճանապարհների վերանորոգման աշխատանքներ | C19: ՀԲՄ | D19: դրամ | E19: 195128500 | F19: 1 | G19: 195128.48
