Workbook
Name AgencyCode: #REF!
Name AgencyCode: #REF!
Name AgencyCode: #REF!
Name AgencyCode: #REF!
Name AgencyCode: #REF!
Name AgencyCode: #REF!
Name AgencyName: #REF!
Name AgencyName: #REF!
Name AgencyName: #REF!
Name AgencyName: #REF!
Name åû: #REF!
Name davit: #REF!
Name Functional1: #REF!
Name Functional1: #REF!
Name Functional1: #REF!
Name Functional1: #REF!
Name ggg: #REF!
Name mas: #REF!
Name mass: #REF!
Name PANature: #REF!
Name PANature: #REF!
Name PANature: #REF!
Name PANature: #REF!
Name PAType: #REF!
Name PAType: #REF!
Name PAType: #REF!
Name PAType: #REF!
Name Performance2: #REF!
Name Performance2: #REF!
Name Performance2: #REF!
Name Performance2: #REF!
Name PerformanceType: #REF!
Name PerformanceType: #REF!
Name PerformanceType: #REF!
Name PerformanceType: #REF!
Name x: #REF!
Name Հավելված: #REF!
Name Մաս: #REF!
Name շախմատիստ: #REF!

Sheet 1
F1: Հավելված N1
F2: ՀՀ կառավարության 2022 թվականի
F3: ______________ ի ___Ն որոշման
B5: «ՀԱՅԱUՏԱՆԻ ՀԱՆՐԱՊԵՏՈՒԹՅԱՆ 2022 ԹՎԱԿԱՆԻ ՊԵՏԱԿԱՆ ԲՅՈՒՋԵԻ ՄԱUԻՆ» OՐԵՆՔԻ N 1 ՀԱՎԵԼՎԱԾԻ N 2 ԱՂՅՈՒՍԱԿՈՒՄ ԿԱՏԱՐՎՈՂ ՎԵՐԱԲԱՇԽՈՒՄԸ ԵՎ ՀԱՅԱՍՏԱՆԻ ՀԱՆՐԱՊԵՏՈՒԹՅԱՆ ԿԱՌԱՎԱՐՈՒԹՅԱՆ 2021 ԹՎԱԿԱՆԻ ԴԵԿՏԵՄԲԵՐԻ 23-Ի N 2121-Ն ՈՐՈՇՄԱՆ N 5 ՀԱՎԵԼՎԱԾԻ N 1 ԱՂՅՈՒՍԱԿՈՒՄ ԿԱՏԱՐՎՈՂ ՓՈՓՈԽՈՒԹՅՈՒՆՆԵՐԸ ԵՎ ԼՐԱՑՈՒՄՆԵՐԸ
F6: հազ. դրամ
B7: Ծրագրային դասիչը | D7: Բյուջետային հատկացումների գլխավոր կարգադրիչների, ծրագրերի և միջոցառումների անվանումները | E7: Ցուցանիշների փոփոխությունը (ավելացումները նշված են դրական նշանով, իսկ նվազեցումները` փակագծերում)
B8: Ծրագիր | C8: Միջոցառում | E8: Ինն ամիս | F8: Տարի
B9: 1192 | D9: ԸՆԴԱՄԵՆԸ | E9: =+E11 -> 0 | F9: =+F11 -> 0
D10: այդ թվում
C11: ՀՀ տարածքային կառավարման և ենթակառուցվածքների նախարարություն | E11: =+E13 -> 0 | F11: =+F13 -> 0
B12: 1049 | D12: Ծրագրի անվանումը`
D13: Ճանապարհային ցանցի բարելավում | E13: =+E20+E26 -> 0 | F13: =+F20+F26 -> 0
D14: Ծրագրի նպատակը`
D15: Ճանապարհային ցանցի բարելավում և անվտանգ երթևեկության ապահովում
D16: Վերջնական արդյունքի նկարագրությունը`
D17: Ճանապարհների ծածկի որակի և փոխադրումների արդյունավետության բարելավում, ճանապարհների վիճակով պայմանավորված պատահարների նվազում
C18: Ծրագրի միջոցառումներ
C19: 21001 | D19: Միջոցառման անվանումը`
D20: Պետական նշանակության ավտոճանապարհների հիմնանորոգում | E20: =-E26 -> 120494.3 | F20: =-F26 -> 161860
D21: Միջոցառման նկարագրությունը`
D22: Միջպետական, հանրապետական և մարզային նշանակության ավտոճոնապարհների քայքայված ծածկի վերանորոգում, մաշված ծածկի փոխարինում
D23: Միջոցառման տեսակը
D24: Հանրության կողմից անմիջականորեն օգտագործվող ակտիվների հետ կապված միջոցառումներ
C25: 21002 | D25: Միջոցառման անվանումը`
D26: =+'5'!B25 -> Տրանսպորտային օբյեկտների հիմնանորոգում | E26: =+'5'!C30 -> -120494.3 | F26: =+'5'!D30 -> -161860
D27: Միջոցառման նկարագրությունը`
D28: =+'6'!B50 -> Ավտոմոբիլային ճանապարհների վրա գտնվող կամուրջների հիմնանորոգում
D29: Միջոցառման տեսակը
D30: =+'6'!B51 -> Հանրության կողմից անմիջականորեն օգտագործվող ակտիվների հետ կապված միջոցառումներ

Sheet 2
H1: Հավելված N2
H2: ՀՀ կառավարության 2022 թվականի
H3: ______________ ի ___Ն որոշման
A4: «ՀԱՅԱՍՏԱՆԻ ՀԱՆՐԱՊԵՏՈՒԹՅԱՆ 2022 ԹՎԱԿԱՆԻ ՊԵՏԱԿԱՆ ԲՅՈՒՋԵԻ ՄԱՍԻՆ» ՕՐԵՆՔԻ N 1 ՀԱՎԵԼՎԱԾԻ N 3 ԱՂՅՈՒՍԱԿՈՒՄ ԿԱՏԱՐՎՈՂ ՓՈՓՈԽՈՒԹՅՈՒՆՆԵՐԸ ԵՎ ԼՐԱՑՈՒՄՆԵՐԸ
G5: հազ. դրամ
A6: Ծրագրային դասիչ | C6: Բյուջետային գլխավոր կարգադրիչների, ծրագրերի, միջոցառումների և ուղղությունների անվանումները | D6: Ցուցանիշների փոփոխությունը (ավելացումները նշված են դրական նշանով, իսկ նվազեցումները` փակագծերում)
D7: Ընդամենը, | E7: այդ թվում՝
A8: Ծրագիր | B8: Միջոցառում | E8: Կառուցման աշխատանքներ | F8: Վերակառուցման, վերանորոգման և վերականգնման աշխատանքներ | G8: Նախագծահե- տազոտական, գեոդեզիա- քարտեզագրա- կան աշխա- տանքներ | H8: Ոչ ֆինանսական այլ ակտիվների ձեռքբերում
C9: ԸՆԴԱՄԵՆԸ | D9: =+D11 -> 0 | E9: =+E11 -> 0 | F9: =+F11 -> -14743.1 | G9: =+G11 -> 14743.1 | H9: =+H11 -> 0
C10: այդ թվում՝
C11: ՀՀ ՏԱՐԱԾՔԱՅԻՆ ԿԱՌԱՎԱՐՄԱՆ ԵՎ ԵՆԹԱԿԱՌՈՒՑՎԱԾՔՆԵՐԻ ՆԱԽԱՐԱՐՈՒԹՅՈՒՆ | D11: =+D13+D30+D39 -> 0 | E11: =+E13+E30+E39 -> 0 | F11: =+F13+F30+F39 -> -14743.1 | G11: =+G13+G30+G39 -> 14743.1 | H11: =+H13+H30+H39 -> 0
C12: այդ թվում`
A13: 1049 | B13: 21001 | C13: Պետական նշանակության ավտոճանապարհների հիմնանորոգում | D13: =+E13+F13+G13+H13 -> 161860 | E13: =+E15+E19+E25 -> 0 | F13: =+F15+F19+F25 -> 148516.9 | G13: =+G15+G19+G25 -> 13343.1 | H13: =+H15+H19+H25 -> 0
C14: այդ թվում`
B15: =+'4'!B17 -> 1 | C15: =+'4'!C17 -> Միջպետական նշանակության ավտոճանապարհներ, այդ թվում | D15: =+E15+F15+G15+H15 -> 1013.7 | E15: =SUM(E16:E18) -> 0 | F15: =SUM(F16:F18) -> 0 | G15: =SUM(G16:G18) -> 1013.7 | H15: =SUM(H16:H18) -> 0
C16: =+'4'!C18 -> /Մ-2/-Տաթև-Աղվանի-/Մ-2/(Սյունիք) միջպետական նշանակության ավտոճանապարհի կմ0+000-կմ19+500 հատվածի հիմնանորոգում | D16: =+E16+F16+G16+H16 -> 828 | E16: 0 | F16: 0 | G16: =+'4'!E18 -> 828 | H16: 0
C17: =+'4'!C19 -> Մ-15, /Մ-4/ (Վերին Պտղնի) - Մասիսի տրանսպորտային հանգույց (Երևանի շրջանց) միջպետական նշանակության ավտոճանապարհի կմ0+000-կմ8+200 հատվածի հիմնանորոգում | D17: =+E17+F17+G17+H17 -> 93.2 | E17: 0 | F17: 0 | G17: =+'4'!E19 -> 93.2 | H17: 0
C18: =+'4'!C20 -> Մ-15, /Մ-4/ (Վերին Պտղնի) - Մասիսի տրանսպորտային հանգույց (Երևանի շրջանց) միջպետական նշանակության ավտոճանապարհի կմ19+900-կմ29+400 հատվածի հիմնանորոգում | D18: =+E18+F18+G18+H18 -> 92.5 | E18: 0 | F18: 0 | G18: =+'4'!E20 -> 92.5 | H18: 0
B19: =+'4'!B21 -> 2 | C19: =+'4'!C21 -> Հանրապետական նշանակության ավտոճանապարհներ, այդ թվում | D19: =+E19+F19+G19+H19 -> 137695.5 | E19: =SUM(E20:E24) -> 0 | F19: =SUM(F20:F24) -> 128950.2 | G19: =SUM(G20:G24) -> 8745.3 | H19: =SUM(H20:H24) -> 0
C20: =+'4'!C22 -> Հ-1, Վ. Պտղնու տրանսպորտային հանգույց - Ջրաբեր-Հրազդան -Հրազդանի քրեակատարողական հիմնարկ հանրապետական նշանակության ավտոճանապարհի կմ33+500 - կմ37+700 հատվածի հիմնանորոգում | D20: =+E20+F20+G20+H20 -> 53.2 | E20: 0 | F20: 0 | G20: =+'4'!E22 -> 53.2 | H20: 0
C21: =+'4'!C23 -> Հ-4, Երևան - Եղվարդ - Արագյուղ - Հարթավան - /Մ-3/ հանրապետական նշանակության ավտոճանապարհի կմ0+000-կմ15+600 հատվածի հիմնանորոգում | D21: =+E21+F21+G21+H21 -> 952.1 | E21: 0 | F21: 0 | G21: =+'4'!E23 -> 952.1 | H21: 0
C22: =+'4'!C24 -> Հ38,/Հ-30/ (Թթուջուր) – /Հ-36/ (Նավուր) հանրապետական նշանակության ավտոճանապարհի կմ15+100 - կմ40+100 հատվածի հիմնանորոգում | D22: =+E22+F22+G22+H22 -> 7740 | E22: 0 | F22: 0 | G22: =+'4'!E24 -> 7740 | H22: 0
C23: =+'4'!C25 -> Հ-43, /Մ-2/ - Գնդեվազ - Ջերմուկ – Արցախի Հանրապետության սահման հանրապետական նշանակության ավտոճանապարհի կմ0+000-ում ջրահեռացման ապահովման, կմ0+900-ում փլուզված հատվածի և կմ18+250 – կմ18+360 նստվածքային հատվածի վերականգնում | D23: =+E23+F23+G23+H23 -> 25004.8 | E23: 0 | F23: =+'4'!E25 -> 25004.8 | G23: 0 | H23: 0
C24: =+'4'!C26 -> Հ-46, /Մ-2/-Տաթև-Աղվանի-/Մ-2/(Սյունիք) հանրապետական նշանակության ավտոճանապարհի կմ55+000-կմ68+000 հատվածի հիմնանորոգում | D24: =+E24+F24+G24+H24 -> 103945.4 | E24: 0 | F24: =+'4'!E26 -> 103945.4 | G24: 0 | H24: 0
B25: =+'4'!B27 -> 3 | C25: =+'4'!C27 -> Մարզային նշանակության ավտոճանապարհներ, այդ թվում | D25: =+E25+F25+G25+H25 -> 23150.8 | E25: =SUM(E26:E29) -> 0 | F25: =SUM(F26:F29) -> 19566.7 | G25: =SUM(G26:G29) -> 3584.1 | H25: =SUM(H26:H29) -> 0
C26: =+'4'!C28 -> Տ-1-50, /Մ-3/ - Լեռնապար ավտոճանապարհի կմ0+000 - կմ3+800 հատվածի հիմնանորոգում | D26: =+E26+F26+G26+H26 -> 2280 | E26: 0 | F26: 0 | G26: =+'4'!E28 -> 2280 | H26: 0
C27: =+'4'!C29 -> Տ-2-62, /Հ-8/ (Այգավան) - /Հ-11/ (Եղեգնավան) ավտոճանապարհի կմ0+100 - կմ3+000 հատվածի հիմնանորոգում և կմ0+100-ից դեպի Այգավան ուղեանցի /Մ-2 միջպետական նշանակության ավտոճանապարհի վրայի ուղեանց/ և մոտեցումների նորոգում | D27: =+E27+F27+G27+H27 -> 19566.7 | E27: 0 | F27: =+'4'!E29 -> 19566.7 | G27: 0 | H27: 0
C28: =+'4'!C30 -> Տ-5-46, /Մ-6/(Ալավերդի) - Սանահին թաղամաս - Ակներ ավտոճանապարհի 9.3 կմ երկարությամբ հատվածի հիմնանորոգում | D28: =+E28+F28+G28+H28 -> 698.5 | E28: 0 | F28: 0 | G28: =+'4'!E30 -> 698.5 | H28: 0
C29: =+'4'!C31 -> Գյումրի համայնքի օղակային փողոցի կմ0+000 - կմ2+500 (Մ-7-ի հետ հատման կետ) հատվածի հիմնանորոգում | D29: =+E29+F29+G29+H29 -> 605.6 | E29: 0 | F29: 0 | G29: =+'4'!E31 -> 605.6 | H29: 0
A30: 1049 | B30: 21002 | C30: Տրանսպորտային օբյեկտների հիմնանորոգում | D30: =+E30+F30+G30+H30 -> 418299 | E30: =SUM(E31:E38) -> 0 | F30: =SUM(F31:F38) -> 416899 | G30: =SUM(G31:G38) -> 1400 | H30: =SUM(H31:H38) -> 0
C31: =+'4'!C37 -> Մ-4, Երևան - Սևան - Իջևան - Ադրբեջանի սահման կմ14+796 հատվածում գտնվող կամրջի վերանորոգում | D31: =+E31+F31+G31+H31 -> 5468.5 | E31: 0 | F31: =+'4'!E37 -> 5468.5 | G31: 0 | H31: 0
C32: =+'4'!C38 -> Մ-4, Երևան - Սևան - Իջևան - Ադրբեջանի սահման կմ104+300 հատվածում գտնվող կամուրջի վերանորոգում | D32: =+E32+F32+G32+H32 -> 88634.4 | E32: 0 | F32: =+'4'!E38 -> 88634.4 | G32: 0 | H32: 0
C33: =+'4'!C39 -> Մ-4, Երևան - Սևան - Իջևան - Ադրբեջանի սահման կմ103+900 հատվածում գտնվող կամուրջի վերանորոգում | D33: =+E33+F33+G33+H33 -> 117532.8 | E33: 0 | F33: =+'4'!E39 -> 117532.8 | G33: 0 | H33: 0
C34: =+'4'!C40 -> Մ-10, Սևան-Մարտունի-Գետափ Կմ 123+500 (Գետափ բնակավայրի դպրոցի մոտ) վերգետնյա հետիոտնային անցման կառուցում | D34: =+E34+F34+G34+H34 -> 55846.9 | E34: 0 | F34: =+'4'!E40 -> 55846.9 | G34: 0 | H34: 0
C35: =+'4'!C41 -> Հ-7, /Հ-5/ - Կարենիս - Չարենցավան - Ֆանտան հանրապետական նշանակության ավտոճանապարհի Չարենցավան - Ֆանտան հատվածի (Երևան -Սևան երկաթգծի և հրազդանի ջրանցքի վրայով անցնող) կամրջի հիմնանորոգում | D35: =+E35+F35+G35+H35 -> 40945 | E35: 0 | F35: =+'4'!E41 -> 40945 | G35: 0 | H35: 0
C36: =+'4'!C42 -> Հ-22, /Մ-6/-Դսեղ-/Հ-70/ հանրապետական նշանակության ավտոճանապարհի առաջին կիլոմետրում գտնվող կամրջի հիմնանորոգում | D36: =+E36+F36+G36+H36 -> 90688.8 | E36: 0 | F36: =+'4'!E42 -> 90688.8 | G36: 0 | H36: 0
C37: =+'4'!C43 -> Տ-2-13 Արգավանդ – Հայանիստ – Հովտաշատ - Արմավիրի մարզի սահման մարզային նշանակության ավտոճանապարհի կմ4+000 կամրջի հիմնանորոգում | D37: =+E37+F37+G37+H37 -> 17782.6 | E37: 0 | F37: =+'4'!E43 -> 17782.6 | G37: 0 | H37: 0
C38: =+'4'!C44 -> Սևանի տրանսպորտային հանգույցի հիմնանորոգում | D38: =+E38+F38+G38+H38 -> 1400 | E38: 0 | F38: 0 | G38: =+'4'!E44 -> 1400 | H38: 0
A39: 1049 | B39: 21002 | C39: Տրանսպորտային օբյեկտների հիմնանորոգում | D39: =+E39+F39+G39+H39 -> -580159 | E39: 0 | F39: =+'4'!E34 -> -580159 | G39: 0 | H39: 0

Sheet 3
A1: Հավելված N3
A2: ՀՀ կառավարության 2022 թվականի
A3: ______________ ի ___Ն որոշման
A5: ՀԱՅԱՍՏԱՆԻ ՀԱՆՐԱՊԵՏՈՒԹՅԱՆ ԿԱՌԱՎԱՐՈՒԹՅԱՆ 2021 ԹՎԱԿԱՆԻ ԴԵԿՏԵՄԲԵՐԻ 23-Ի N 2121-Ն ՈՐՈՇՄԱՆ N 3 ԵՎ N 4 ՀԱՎԵԼՎԱԾՆԵՐՈՒՄ ԿԱՏԱՐՎՈՂ ՓՈՓՈԽՈՒԹՅՈՒՆՆԵՐԸ ԵՎ ԼՐԱՑՈՒՄՆԵՐԸ
G7: հազ. դրամ
A8: Գործառական դասիչը | D8: Ծրագրային դասիչը | F8: Բյուջետային ծախսերի գործառական դասակարգման բաժինների, խմբերի և դասերի, բյուջետային հատկացումների գլխավոր կարգադրիչների, ծրագրերի, միջոցառումների և միջոցառումները կատարող պետական մարմինների անվանումները | G8: Ցուցանիշների փոփոխությունը (ավելացումները նշված են դրական նշանով, իսկ նվազեցումները` փակագծերում)
A9: Բաժին | B9: Խումբ | C9: Դաս | D9: Ծրագիր | E9: Միջոցառում | G9: Ինն ամիս | H9: Տարի
F10: ԸՆԴԱՄԵՆԸ ԾԱԽՍԵՐ | G10: =+G12 -> 0 | H10: =+H12 -> 0
F11: այդ թվում`
A12: 04 | F12: ՏՆՏԵՍԱԿԱՆ ՀԱՐԱԲԵՐՈՒԹՅՈՒՆՆԵՐ | G12: =+G14 -> 0 | H12: =+H14 -> 0
F13: այդ թվում`
B14: 05 | F14: Տրանսպորտ | G14: =+G16 -> 0 | H14: =+H16 -> 0
F15: այդ թվում`
C16: 01 | F16: Ճանապարհային տրանսպորտ | G16: =+G18 -> 0 | H16: =+H18 -> 0
F17: այդ թվում`
F18: ՀՀ ՏԱՐԱԾՔԱՅԻՆ ԿԱՌԱՎԱՐՄԱՆ ԵՎ ԵՆԹԱԿԱՌՈՒՑՎԱԾՔՆԵՐԻ ՆԱԽԱՐԱՐՈՒԹՅՈՒՆ | G18: =+G20 -> 0 | H18: =+H20 -> 0
F19: այդ թվում`
D20: 1049 | F20: Ճանապարհային ցանցի բարելավում | G20: =+G22+G33 -> 0 | H20: =+H22+H33 -> 0
F21: այդ թվում`
E22: 21001 | F22: Պետական նշանակության ավտոճանապարհների հիմնանորոգում | G22: =+G24 -> 120494.3 | H22: =+H24 -> 161860
F23: այդ թվում` ըստ կատարողների
F24: ՀՀ տարածքային կառավարման և ենթակառուցվածքների նախարարություն | G24: =+G26 -> 120494.3 | H24: =+H26 -> 161860
F25: այդ թվում` բյուջետային ծախսերի տնտեսագիտական դասակարգման հոդվածների
F26: ԸՆԴԱՄԵՆԸ ԾԱԽՍԵՐ | G26: =+G27 -> 120494.3 | H26: =+H27 -> 161860
F27: ՈՉ ՖԻՆԱՆՍԱԿԱՆ ԱԿՏԻՎՆԵՐԻ ԳԾՈՎ ԾԱԽՍԵՐ | G27: =+G28 -> 120494.3 | H27: =+H28 -> 161860
F28: ՀԻՄՆԱԿԱՆ ՄԻՋՈՑՆԵՐ | G28: =+G29+G31 -> 120494.3 | H28: =+H29+H31 -> 161860
F29: ՇԵՆՔԵՐ ԵՎ ՇԻՆՈՒԹՅՈՒՆՆԵՐ | G29: =+G30 -> 118118.6 | H29: =+H30 -> 148516.9
F30: - Շենքերի և շինությունների կապիտալ վերանորոգում | G30: =+'4'!D26+'4'!D25+'4'!D29 -> 118118.6 | H30: =+'4'!E26+'4'!E25+'4'!E29 -> 148516.9
F31: ԱՅԼ ՀԻՄՆԱԿԱՆ ՄԻՋՈՑՆԵՐ | G31: =+G32 -> 2375.7 | H31: =+H32 -> 13343.1
F32: - Նախագծահետազոտական ծախսեր | G32: =+'4'!D31+'4'!D30+'4'!D28+'4'!D23+'4'!D22+'4'!D20+'4'!D19+'4'!D24+'4'!D18 -> 2375.7 | H32: =+'4'!E31+'4'!E30+'4'!E28+'4'!E23+'4'!E22+'4'!E20+'4'!E19+'4'!E24+'4'!E18 -> 13343.1
E33: 21002 | F33: Տրանսպորտային օբյեկտների հիմնանորոգում | G33: =+G35+G42 -> -120494.3 | H33: =+H35+H42 -> -161860
F34: այդ թվում` ըստ կատարողների
F35: ՀՀ կառավարություն | G35: =+G37 -> -249159 | H35: =+H37 -> -580159
F36: այդ թվում` բյուջետային ծախսերի տնտեսագիտական դասակարգման հոդվածների
F37: ԸՆԴԱՄԵՆԸ ԾԱԽՍԵՐ | G37: =+G38 -> -249159 | H37: =+H38 -> -580159
F38: ՈՉ ՖԻՆԱՆՍԱԿԱՆ ԱԿՏԻՎՆԵՐԻ ԳԾՈՎ ԾԱԽՍԵՐ | G38: =+G39 -> -249159 | H38: =+H39 -> -580159
F39: ՀԻՄՆԱԿԱՆ ՄԻՋՈՑՆԵՐ | G39: =+G40 -> -249159 | H39: =+H40 -> -580159
F40: ՇԵՆՔԵՐ ԵՎ ՇԻՆՈՒԹՅՈՒՆՆԵՐ | G40: =+G41 -> -249159 | H40: =+H41 -> -580159
F41: - Շենքերի և շինությունների կապիտալ վերանորոգում | G41: =-G42-G22 -> -249159 | H41: =-H42-H22 -> -580159
F42: ՀՀ տարածքային կառավարման և ենթակառուցվածքների նախարարություն | G42: =+G44 -> 128664.7 | H42: =+H44 -> 418299
...

Sheet 4
A1: Հավելված N4
A2: ՀՀ կառավարության 2022 թվականի
A3: ______________ ի ___Ն որոշման
A5: ՀԱՅԱՍՏԱՆԻ ՀԱՆՐԱՊԵՏՈՒԹՅԱՆ ԿԱՌԱՎԱՐՈՒԹՅԱՆ 2021 ԹՎԱԿԱՆԻ ԴԵԿՏԵՄԲԵՐԻ 23-Ի N 2121-Ն ՈՐՈՇՄԱՆ N 5 ՀԱՎԵԼՎԱԾԻ N 2 ԱՂՅՈՒՍԱԿՈՒՄ ԿԱՏԱՐՎՈՂ ՓՈՓՈԽՈՒԹՅՈՒՆՆԵՐԸ ԵՎ ԼՐԱՑՈՒՄՆԵՐԸ
D6: հազ. դրամ
A7: Ծրագրային դասիչ | C7: Բյուջետային գլխավոր կարգադրիչների, ծրագրերի, միջոցառումների և ուղղությունների անվանումները | D7: Ցուցանիշների փոփոխությունը (ավելացումները նշված են դրական նշանով, իսկ նվազեցումները` փակագծերում)
A8: Ծրագիր | B8: Միջոցառում | D8: Ինն ամիս | E8: Տարի
C9: ԸՆԴԱՄԵՆԸ | D9: =+D11 -> 0 | E9: =+E11 -> 0
C10: այդ թվում՝
C11: ՀՀ ՏԱՐԱԾՔԱՅԻՆ ԿԱՌԱՎԱՐՄԱՆ ԵՎ ԵՆԹԱԿԱՌՈՒՑՎԱԾՔՆԵՐԻ ՆԱԽԱՐԱՐՈՒԹՅՈՒՆ | D11: =+D13+D32 -> 0 | E11: =+E13+E32 -> 0
C12: այդ թվում`
A13: 1049 | B13: 21001 | C13: Պետական նշանակության ավտոճանապարհների հիմնանորոգում | D13: =+D15 -> 120494.3 | E13: =+E15 -> 161860
C14: այդ թվում` ըստ կատարողների
C15: ՀՀ տարածքային կառավարման և ենթակառուցվածքների նախարարություն | D15: =+D17+D21+D27 -> 120494.3 | E15: =+E17+E21+E27 -> 161860
C16: այդ թվում՝ ըստ ուղղությունների
B17: 1 | C17: Միջպետական նշանակության ավտոճանապարհներ, այդ թվում | D17: =D18+D19+D20 -> 92.9 | E17: =E18+E19+E20 -> 1013.7
C18: /Մ-2/-Տաթև-Աղվանի-/Մ-2/(Սյունիք) միջպետական նշանակության ավտոճանապարհի կմ0+000-կմ19+500 հատվածի հիմնանորոգում | D18: 0 | E18: 828
C19: Մ-15, /Մ-4/ (Վերին Պտղնի) - Մասիսի տրանսպորտային հանգույց (Երևանի շրջանց) միջպետական նշանակության ավտոճանապարհի կմ0+000-կմ8+200 հատվածի հիմնանորոգում | D19: 46.6 | E19: 93.2
C20: Մ-15, /Մ-4/ (Վերին Պտղնի) - Մասիսի տրանսպորտային հանգույց (Երևանի շրջանց) միջպետական նշանակության ավտոճանապարհի կմ19+900-կմ29+400 հատվածի հիմնանորոգում | D20: 46.3 | E20: 92.5
B21: 2 | C21: Հանրապետական նշանակության ավտոճանապարհներ, այդ թվում | D21: =+D22+D23+D24+D25+D26 -> 99530.6 | E21: =+E22+E23+E24+E25+E26 -> 137695.5
C22: Հ-1, Վ. Պտղնու տրանսպորտային հանգույց - Ջրաբեր-Հրազդան -Հրազդանի քրեակատարողական հիմնարկ հանրապետական նշանակության ավտոճանապարհի կմ33+500 - կմ37+700 հատվածի հիմնանորոգում | D22: 26.6 | E22: 53.2
C23: Հ-4, Երևան - Եղվարդ - Արագյուղ - Հարթավան - /Մ-3/ հանրապետական նշանակության ավտոճանապարհի կմ0+000-կմ15+600 հատվածի հիմնանորոգում | D23: 952.1 | E23: 952.1
C24: Հ38,/Հ-30/ (Թթուջուր) – /Հ-36/ (Նավուր) հանրապետական նշանակության ավտոճանապարհի կմ15+100 - կմ40+100 հատվածի հիմնանորոգում | D24: 0 | E24: 7740
C25: Հ-43, /Մ-2/ - Գնդեվազ - Ջերմուկ – Արցախի Հանրապետության սահման հանրապետական նշանակության ավտոճանապարհի կմ0+000-ում ջրահեռացման ապահովման, կմ0+900-ում փլուզված հատվածի և կմ18+250 – կմ18+360 նստվածքային հատվածի վերականգնում | D25: 5001 | E25: 25004.8
C26: Հ-46, /Մ-2/-Տաթև-Աղվանի-/Մ-2/(Սյունիք) հանրապետական նշանակության ավտոճանապարհի կմ55+000-կմ68+000 հատվածի հիմնանորոգում | D26: 93550.9 | E26: 103945.4
B27: 3 | C27: Մարզային նշանակության ավտոճանապարհներ, այդ թվում | D27: =+D28+D29+D30+D31 -> 20870.8 | E27: =+E28+E29+E30+E31 -> 23150.8
C28: Տ-1-50, /Մ-3/ - Լեռնապար ավտոճանապարհի կմ0+000 - կմ3+800 հատվածի հիմնանորոգում | D28: 0 | E28: 2280
C29: Տ-2-62, /Հ-8/ (Այգավան) - /Հ-11/ (Եղեգնավան) ավտոճանապարհի կմ0+100 - կմ3+000 հատվածի հիմնանորոգում և կմ0+100-ից դեպի Այգավան ուղեանցի /Մ-2 միջպետական նշանակության ավտոճանապարհի վրայի ուղեանց/ և մոտեցումների նորոգում | D29: 19566.7 | E29: 19566.7
C30: Տ-5-46, /Մ-6/(Ալավերդի) - Սանահին թաղամաս - Ակներ ավտոճանապարհի 9.3 կմ երկարությամբ հատվածի հիմնանորոգում | D30: 698.5 | E30: 698.5
C31: Գյումրի համայնքի օղակային փողոցի կմ0+000 - կմ2+500 (Մ-7-ի հետ հատման կետ) հատվածի հիմնանորոգում | D31: 605.6 | E31: 605.6
A32: 1049 | B32: 21002 | C32: Տրանսպորտային օբյեկտների հիմնանորոգում | D32: =+D34+D35 -> -120494.3 | E32: =+E34+E35 -> -161860
C33: այդ թվում` ըստ կատարողների
C34: ՀՀ կառավարություն | D34: =-D35-D27-D21-D17 -> -249159 | E34: =-E35-E27-E21-E17 -> -580159
C35: ՀՀ տարածքային կառավարման և ենթակառուցվածքների նախարարություն | D35: =SUM(D37:D44) -> 128664.7 | E35: =SUM(E37:E44) -> 418299
C36: այդ թվում՝ ըստ ուղղությունների
C37: Մ-4, Երևան - Սևան - Իջևան - Ադրբեջանի սահման կմ14+796 հատվածում գտնվող կամրջի վերանորոգում | D37: 5468.5 | E37: 5468.5
C38: Մ-4, Երևան - Սևան - Իջևան - Ադրբեջանի սահման կմ104+300 հատվածում գտնվող կամուրջի վերանորոգում | D38: 0 | E38: 88634.4
C39: Մ-4, Երևան - Սևան - Իջևան - Ադրբեջանի սահման կմ103+900 հատվածում գտնվող կամուրջի վերանորոգում | D39: 117000 | E39: 117532.8
C40: Մ-10, Սևան-Մարտունի-Գետափ Կմ 123+500 (Գետափ բնակավայրի դպրոցի մոտ) վերգետնյա հետիոտնային անցման կառուցում | D40: 5584.7 | E40: 55846.9
C41: Հ-7, /Հ-5/ - Կարենիս - Չարենցավան - Ֆանտան հանրապետական նշանակության ավտոճանապարհի Չարենցավան - Ֆանտան հատվածի (Երևան -Սևան երկաթգծի և հրազդանի ջրանցքի վրայով անցնող) կամրջի հիմնանորոգում | D41: 0 | E41: 40945
...

Sheet 5
D1: Հավելված N5
A2: ՀՀ կառավարության 2022 թվականի
A3: ______________ ի ___Ն որոշման
A4: ՀԱՅԱՍՏԱՆԻ ՀԱՆՐԱՊԵՏՈՒԹՅԱՆ ԿԱՌԱՎԱՐՈՒԹՅԱՆ 2021 ԹՎԱԿԱՆԻ ԴԵԿՏԵՄԲԵՐԻ 23-Ի N 2121-Ն ՈՐՈՇՄԱՆ N 9 ՀԱՎԵԼՎԱԾԻ NN 9.7 ԱՂՅՈՒՍԱԿՈՒՄ ԿԱՏԱՐՎՈՂ ՓՈՓՈԽՈՒԹՅՈՒՆՆԵՐԸ
D5: Աղյուսակ 9.7
A6: ՀՀ ՏԱՐԱԾՔԱՅԻՆ ԿԱՌԱՎԱՐՄԱՆ ԵՎ ԵՆԹԱԿԱՌՈՒՑՎԱԾՔՆԵՐԻ ՆԱԽԱՐԱՐՈՒԹՅՈՒՆ
A7: ՄԱՍ 1. ՊԵՏԱԿԱՆ ՄԱՐՄՆԻ ԳԾՈՎ ԱՐԴՅՈՒՆՔԱՅԻՆ (ԿԱՏԱՐՈՂԱԿԱՆ) ՑՈՒՑԱՆԻՇՆԵՐԸ
A8: Ծրագրի դասիչը | B8: Ծրագրի անվանումը
A9: 1049 | B9: Ճանապարհային ցանցի բարելավում
A11: Ծրագրի միջոցառումները
A13: Ծրագրի դասիչը` | B13: 1049 | C13: Ցուցանիշների փոփոխությունը (ավելացումները նշված են դրական նշանով)
A14: Միջոցառման դասիչը` | B14: 21001 | C14: Ինն ամիս | D14: Տարի
A15: Միջոցառման անվանումը` | B15: Պետական նշանակության ավտոճանապարհների հիմնանորոգում
A16: Նկարագրությունը` | B16: Միջպետական՝ հանրապետական և մարզային նշանակության ավտոճանապարհների քայքայված ծածկի վերանորոգում՝ մաշված ծածկի փոխարինում_x000D_
A17: Միջոցառման տեսակը` | B17: Հանրության կողմից անմիջականորեն օգտագործվող ակտիվների հետ կապված միջոցառումներ
A18: Միջոցառումն իրականացնողի անվանումը | B18: Մասնագիտացված միավոր
A19: Արդյունքի չափորոշիչներ
A20: Միջոցառման վրա կատարվող ծախսը (հազար դրամ) | C20: =-C30 -> 120494.3 | D20: =-D30 -> 161860
A23: Ծրագրի դասիչը` | B23: 1049 | C23: Ցուցանիշների փոփոխությունը (նվազեցումները նշված են փակագծերում)
A24: Միջոցառման դասիչը` | B24: 21002 | C24: Ինն ամիս | D24: Տարի
A25: Միջոցառման անվանումը` | B25: Տրանսպորտային օբյեկտների հիմնանորոգում
A26: Նկարագրությունը` | B26: Ավտոմոբիլային ճանապարհների վրա գտնվող կամուրջների հիմնանորոգում
A27: Միջոցառման տեսակը` | B27: Հանրության կողմից անմիջականորեն օգտագործվող ակտիվների հետ կապված միջոցառումներ
A28: Միջոցառումն իրականացնողի անվանումը | B28: Մասնագիտացված միավոր
A29: Արդյունքի չափորոշիչներ
A30: Միջոցառման վրա կատարվող ծախսը (հազար դրամ) | C30: =+'4'!D32 -> -120494.3 | D30: =+'4'!E32 -> -161860

Sheet 6
D1: Հավելված N 6
A2: ՀՀ կառավարության 2022 թվականի
A3: ______________ ի ___Ն որոշման
A4: ՀԱՅԱՍՏԱՆԻ ՀԱՆՐԱՊԵՏՈՒԹՅԱՆ ԿԱՌԱՎԱՐՈՒԹՅԱՆ 2021 ԹՎԱԿԱՆԻ ԴԵԿՏԵՄԲԵՐԻ 23-Ի N 2121-Ն ՈՐՈՇՄԱՆ N 9.1 ՀԱՎԵԼՎԱԾԻ NN 9.1.8 և 9.1.59 ԱՂՅՈՒՍԱԿՆԵՐՈՒՄ ԿԱՏԱՐՎՈՂ ՓՈՓՈԽՈՒԹՅՈՒՆՆԵՐԸ ԵՎ ԼՐԱՑՈՒՄՆԵՐԸ
D5: Աղյուսակ 9.1.8
A6: ՀՀ ՏԱՐԱԾՔԱՅԻՆ ԿԱՌԱՎԱՐՄԱՆ ԵՎ ԵՆԹԱԿԱՌՈՒՑՎԱԾՔՆԵՐԻ ՆԱԽԱՐԱՐՈՒԹՅՈՒՆ
A7: ՄԱՍ 1. ՊԵՏԱԿԱՆ ՄԱՐՄՆԻ ԳԾՈՎ ԱՐԴՅՈՒՆՔԱՅԻՆ (ԿԱՏԱՐՈՂԱԿԱՆ) ՑՈՒՑԱՆԻՇՆԵՐԸ
A8: Ծրագրի դասիչը | B8: Ծրագրի անվանումը
A9: 1049 | B9: Ճանապարհային ցանցի բարելավում
A11: Ծրագրի միջոցառումները
A13: Ծրագրի դասիչը` | B13: 1049 | C13: Ցուցանիշների փոփոխությունը (ավելացումները նշված են դրական նշանով)
A14: Միջոցառման դասիչը` | B14: 21001 | C14: Ինն ամիս | D14: Տարի
A15: Միջոցառման անվանումը` | B15: Պետական նշանակության ավտոճանապարհների հիմնանորոգում
A16: Նկարագրությունը` | B16: Միջպետական՝ հանրապետական և մարզային նշանակության ավտոճանապարհների քայքայված ծածկի վերանորոգում՝ մաշված ծածկի փոխարինում_x000D_
A17: Միջոցառման տեսակը` | B17: Հանրության կողմից անմիջականորեն օգտագործվող ակտիվների հետ կապված միջոցառումներ
A18: Միջոցառումն իրականացնողի անվանումը | B18: Մասնագիտացված միավոր
A19: Արդյունքի չափորոշիչներ
A20: Միջոցառման վրա կատարվող ծախսը (հազար դրամ) | C20: =-C37-C62 -> 120494.3 | D20: =-D37-D62 -> 161860
A22: Ծրագրի դասիչը` | B22: 1049 | C22: Ցուցանիշների փոփոխությունը (ավելացումները նշված են դրական նշանով)
A23: Միջոցառման դասիչը` | B23: 21002 | C23: Ինն ամիս | D23: Տարի
A24: Միջոցառման անվանումը` | B24: Տրանսպորտային օբյեկտների հիմնանորոգում
A25: Նկարագրությունը` | B25: Ավտոմոբիլային ճանապարհների վրա գտնվող կամուրջների հիմնանորոգում
A26: Միջոցառման տեսակը` | B26: Հանրության կողմից անմիջականորեն օգտագործվող ակտիվների հետ կապված միջոցառումներ
A27: Միջոցառումն իրականացնողի անվանումը | B27: Մասնագիտացված միավոր
A28: Արդյունքի չափորոշիչներ
A29: Հիմնանորոգվող տրանսպորտային օբյեկտների թիվը, այդ թվում՜ | C29: 0 | D29: =+D30+D34 -> 7
A30: Կամուրջներ, այդ թվում աշխատանքներ և ծառայություններ | C30: =+C31 -> 2 | D30: =+D31 -> 5
A31: Շինարարություն, հատ | C31: 2 | D31: 5
A32: Կամուրջներ (մ) | C32: =+C33 -> 8.6 | D32: =+D33 -> 301.3
A33: Շինարարություն (մ) | C33: 8.6 | D33: 301.3
A34: Տրանսպորտային հանգույցներ (ուղեանցեր, հենապատեր և այլն), այդ թվում աշխատանքներ և ծառայություններ | C34: =+C36+C35 -> 1 | D34: =+D36+D35 -> 2
A35: Նախագծվող օբյեկտ, հատ | C35: 1 | D35: 1
A36: Շինարարություն, հատ | C36: 0 | D36: 1
A37: Միջոցառման վրա կատարվող ծախսը (հազար դրամ) | C37: =+'4'!D35 -> 128664.7 | D37: =+'4'!E35 -> 418299
D39: Աղյուսակ 9.1.59
A40: ՀՀ ԿԱՌԱՎԱՐՈՒԹՅՈՒՆ
A41: ՄԱՍ 1. ՊԵՏԱԿԱՆ ՄԱՐՄՆԻ ԳԾՈՎ ԱՐԴՅՈՒՆՔԱՅԻՆ (ԿԱՏԱՐՈՂԱԿԱՆ) ՑՈՒՑԱՆԻՇՆԵՐԸ
A42: Ծրագրի դասիչը | B42: Ծրագրի անվանումը
A43: 1049 | B43: Ճանապարհային ցանցի բարելավում
A45: Ծրագրի միջոցառումները
...

Sheet 7
A1: Հավելված N7
A2: ՀՀ կառավարության 2022 թվականի
A3: ______________ ի ___Ն որոշման
A5: ՀԱՅԱՍՏԱՆԻ ՀԱՆՐԱՊԵՏՈՒԹՅԱՆ ԿԱՌԱՎԱՐՈՒԹՅԱՆ 2021 ԹՎԱԿԱՆԻ ԴԵԿՏԵՄԲԵՐԻ 23-Ի N 2121-Ն ՈՐՈՇՄԱՆ N 10 ՀԱՎԵԼՎԱԾՈՒՄ ԿԱՏԱՐՎՈՂ ԼՐԱՑՈՒՄՆԵՐԸ
A6: Կոդը | B6: Անվանումը | C6: Գնման ձևը | D6: Չափման միավորը | E6: Միավորի գինը | F6: Ցուցանիշների փոփոխությունը (ավելացումները նշված են դրական նշանով)
F7: Քանակը | G7: Գումարը (հազար դրամով)
A8: ՀՀ տարածքային կառավարման և ենթակառուցվածքների նախարարություն | G8: =+G9 -> 580158.27
A9: Բաժին N 04 | B9: Խումբ N 05 | C9: Դաս N 01 | D9: Ճանապարհային տրանսպորտ | G9: =+G10+G25 -> 580158.27
A10: 1049 21001 | B10: Պետական նշանակության ավտոճանապարհների հիմնանորոգում | G10: =G11+G15 -> 161859.56
A11: ՄԱՍ II. ԱՇԽԱՏԱՆՔՆԵՐ | G11: =SUM(G12:G14) -> 139467.85
A12: 45231177/519 | B12: ճանապարհների վերանորոգման աշխատանքներ | C12: ԳՀ | D12: դրամ | E12: 24816000 | F12: 1 | G12: =+F12*E12/1000 -> 24816
A13: 45231177 | B13: ճանապարհների վերանորոգման աշխատանքներ | C13: ՀՄԱ | D13: դրամ | E13: =61770897+33314248 -> 95085145 | F13: 1 | G13: =+F13*E13/1000 -> 95085.145
A14: 45231177 | B14: ճանապարհների վերանորոգման աշխատանքներ | C14: ԲՄ | D14: դրամ | E14: 19566700 | F14: 1 | G14: =+F14*E14/1000 -> 19566.7
A15: ՄԱՍ III. ԾԱՌԱՅՈՒԹՅՈՒՆՆԵՐ | G15: =SUM(G16:G24) -> 22391.716
A16: 98111140 | B16: հեղինակային հսկողության ծառայություններ | C16: ՄԱ | D16: դրամ | E16: 144716 | F16: 1 | G16: =+F16*E16/1000 -> 144.716
A17: 98111140 | B17: հեղինակային հսկողության ծառայություններ | C17: ՄԱ | D17: դրամ | E17: 8140200 | F17: 1 | G17: =+F17*E17/1000 -> 8140.2
A18: 71351540/504 | B18: տեխնիկական հսկողության ծառայություններ | C18: ՀԲՄ | D18: դրամ | E18: 44000 | F18: 1 | G18: =+F18*E18/1000 -> 44
A19: 71351540/12 | B19: տեխնիկական հսկողության ծառայություններ | C19: ՀՄԱ | D19: դրամ | E19: 720000 | F19: 1 | G19: =+F19*E19/1000 -> 720
A20: 71241200/514 | B20: Նախագծերի պատրաստում, ծախսերի գնահատում | C20: ԳՀ | D20: դրամ | E20: 828000 | F20: 1 | G20: =+F20*E20/1000 -> 828
A21: 71241200/518 | B21: Նախագծերի պատրաստում, ծախսերի գնահատում | C21: ԳՀ | D21: դրամ | E21: 7740000 | F21: 1 | G21: =+F21*E21/1000 -> 7740
A22: 71241200/521 | B22: Նախագծերի պատրաստում, ծախսերի գնահատում | C22: ԳՀ | D22: դրամ | E22: 2280000 | F22: 1 | G22: =+F22*E22/1000 -> 2280
A23: 50531140/512 | B23: Փորձաքննության ծառայություններ | C23: ԳՀ | D23: դրամ | E23: 238800 | F23: 1 | G23: =+F23*E23/1000 -> 238.8
A24: 50531140/517 | B24: Փորձաքննության ծառայություններ | C24: ԳՀ | D24: դրամ | E24: 2256000 | F24: 1 | G24: =+F24*E24/1000 -> 2256
A25: 1049 21002 | B25: =+'[1]3'!F33 -> Տրանսպորտային օբյեկտների հիմնանորոգում | G25: =+G26+G34 -> 418298.71
A26: ՄԱՍ II. ԱՇԽԱՏԱՆՔՆԵՐ | G26: =SUM(G27:G33) -> 410048.99
A27: 45221117/10 | B27: կամուրջների վերանորոգման շինարարական աշխատանքներ | C27: ՀԲՄ | D27: դրամ | E27: 5468475 | F27: 1 | G27: =+F27*E27/1000 -> 5468.475
A28: 45221117 | B28: կամուրջների վերանորոգման շինարարական աշխատանքներ | C28: ՀԲՄ | D28: դրամ | E28: 88634333 | F28: 1 | G28: =+F28*E28/1000 -> 88634.333
A29: 45221117/512 | B29: կամուրջների վերանորոգման շինարարական աշխատանքներ | C29: ՀԲՄ | D29: դրամ | E29: 115200000 | F29: 1 | G29: =+F29*E29/1000 -> 115200
A30: 45221117/521 | B30: կամուրջների վերանորոգման շինարարական աշխատանքներ | C30: ԳՀ | D30: դրամ | E30: 54551190 | F30: 1 | G30: =+F30*E30/1000 -> 54551.19
A31: 45221117/508 | B31: կամուրջների վերանորոգման շինարարական աշխատանքներ | C31: ՀԲՄ | D31: դրամ | E31: 39905472 | F31: 1 | G31: =+F31*E31/1000 -> 39905.472
A32: 45221117/501 | B32: կամուրջների վերանորոգման շինարարական աշխատանքներ | C32: ՀԲՄ | D32: դրամ | E32: 88950000 | F32: 1 | G32: =+F32*E32/1000 -> 88950
A33: 45221117/522 | B33: կամուրջների վերանորոգման շինարարական աշխատանքներ | C33: ԳՀ | D33: դրամ | E33: 17339517 | F33: 1 | G33: =+F33*E33/1000 -> 17339.517
A34: ՄԱՍ III. ԾԱՌԱՅՈՒԹՅՈՒՆՆԵՐ | G34: =SUM(G35:G44) -> 8249.718
A35: 98111140 | B35: հեղինակային հսկողության ծառայություններ | C35: ՄԱ | D35: դրամ | E35: 674756 | F35: 1 | G35: =+F35*E35/1000 -> 674.756
A36: 98111140 | B36: հեղինակային հսկողության ծառայություններ | C36: ՄԱ | D36: դրամ | E36: 327190 | F36: 1 | G36: =+F36*E36/1000 -> 327.19
A37: 98111140 | B37: հեղինակային հսկողության ծառայություններ | C37: ՄԱ | D37: դրամ | E37: 243052 | F37: 1 | G37: =+F37*E37/1000 -> 243.052
A38: 98111140 | B38: հեղինակային հսկողության ծառայություններ | C38: ՄԱ | D38: դրամ | E38: 562446 | F38: 1 | G38: =+F38*E38/1000 -> 562.446
A39: 98111140 | B39: հեղինակային հսկողության ծառայություններ | C39: ՄԱ | D39: դրամ | E39: 102303 | F39: 1 | G39: =+F39*E39/1000 -> 102.303
A40: 71351540/511 | B40: տեխնիկական հսկողության ծառայություններ | C40: ԳՀ | D40: դրամ | E40: 2454460 | F40: 1 | G40: =+F40*E40/1000 -> 2454.46
A41: 71351540/512 | B41: տեխնիկական հսկողության ծառայություններ | C41: ԳՀ | D41: դրամ | E41: 968502 | F41: 1 | G41: =+F41*E41/1000 -> 968.502
...
