Workbook
Name a: #REF!
Name a: #REF!
Name a: #REF!
Name a: #REF!
Name a: #REF!
Name AgencyCode: #REF!
Name AgencyCode: #REF!
Name AgencyCode: #REF!
Name AgencyCode: #REF!
Name AgencyCode: #REF!
Name AgencyCode: #REF!
Name AgencyName: #REF!
Name AgencyName: #REF!
Name AgencyName: #REF!
Name AgencyName: #REF!
Name AgencyName: #REF!
Name AgencyName: #REF!
Name davit: #REF!
Name davit: #REF!
Name davit: #REF!
Name davit: #REF!
Name davit: #REF!
Name Functional1: #REF!
Name Functional1: #REF!
Name Functional1: #REF!
Name Functional1: #REF!
Name Functional1: #REF!
Name Functional1: #REF!
Name ggg: #REF!
Name ggg: #REF!
Name ggg: #REF!
Name ggg: #REF!
Name ggg: #REF!
Name PANature: #REF!
Name PANature: #REF!
Name PANature: #REF!
Name PANature: #REF!
Name PANature: #REF!
Name PANature: #REF!
Name PAType: #REF!
Name PAType: #REF!
Name PAType: #REF!
Name PAType: #REF!
Name PAType: #REF!
Name PAType: #REF!
Name Performance2: #REF!
Name Performance2: #REF!
Name Performance2: #REF!
Name Performance2: #REF!
Name Performance2: #REF!
Name Performance2: #REF!
Name PerformanceType: #REF!
Name PerformanceType: #REF!
Name PerformanceType: #REF!
Name PerformanceType: #REF!
Name PerformanceType: #REF!
Name PerformanceType: #REF!
Name Հավելված: #REF!
Name Հավելված: #REF!
Name Հավելված: #REF!

Sheet Հավելված N 1
A1: Հավելված N 1
A2: ՀՀ կառավարության 2022 թվականի
A3: ______________ ի ___Ն որոշման
A7: «ՀԱՅԱՍՏԱՆԻ ՀԱՆՐԱՊԵՏՈՒԹՅԱՆ 2022 ԹՎԱԿԱՆԻ ՊԵՏԱԿԱՆ ԲՅՈՒՋԵԻ ՄԱՍԻՆ» ՀԱՅԱՍՏԱՆԻ ՀԱՆՐԱՊԵՏՈՒԹՅԱՆ ՕՐԵՆՔԻ 2-ՐԴ ՀՈԴՎԱԾԻ ԱՂՅՈՒՍԱԿՈՒՄ ԿԱՏԱՐՎՈՂ ՓՈՓՈԽՈՒԹՅՈՒՆՆԵՐԸ
B9: հազար դրամներով
B10: Ցուցանիշների փոփոխությունը (նվազեցումները նշված են փակագծերում)
A11: Եկամուտների գծով | B11: =+'Հավելված N 2'!C12 -> -1044331.2
A12: Ծախսերի գծով | B12: =+'Հավելված N 3'!E12 -> -1044331.2
A13: Դեֆիցիտը (պակասուրդը) | B13: =+B12-B11 -> 0

Sheet Հավելված N 2
A1: Հավելված N 2
A2: ՀՀ կառավարության 2022 թվականի
A3: ______________ ի ___Ն որոշման
A7: «ՀԱՅԱՍՏԱՆԻ ՀԱՆՐԱՊԵՏՈՒԹՅԱՆ 2022 ԹՎԱԿԱՆԻ ՊԵՏԱԿԱՆ ԲՅՈՒՋԵԻ ՄԱՍԻՆ» ՀԱՅԱՍՏԱՆԻ ՀԱՆՐԱՊԵՏՈՒԹՅԱՆ ՕՐԵՆՔԻ 6-ՐԴ ՀՈԴՎԱԾԻ ԱՂՅՈՒՍԱԿՈՒՄ ԵՎ ՀԱՅԱՍՏԱՆԻ ՀԱՆՐԱՊԵՏՈՒԹՅԱՆ ԿԱՌԱՎԱՐՈՒԹՅԱՆ 2021 ԹՎԱԿԱՆԻ ԴԵԿՏԵՄԲԵՐԻ 23-Ի N 2121-Ն ՈՐՈՇՄԱՆ N 2 ՀԱՎԵԼՎԱԾԻ ԱՂՅՈՒՍԱԿՈՒՄ ԿԱՏԱՐՎՈՂ ՓՈՓՈԽՈՒԹՅՈՒՆԸ
C9: հազար դրամներով
A10: Պետական բյուջեի դեֆիցիտի ֆինանսավորման աղբյուրներն ու դրանց տարրերի անվանումները | B10: Ցուցանիշների փոփոխությունը (նվազեցումները նշված են փակագծերում)
B11: Ինն ամիս | C11: Տարի
A12: ՊԵՏԱԿԱՆ ԲՅՈՒՋԵԻ ԵԿԱՄՈՒՏՆԵՐ | B12: =+B13 -> 0 | C12: =+C13 -> -1044331.2
A13: Ընդամենը՝ | B13: =+B14 -> 0 | C13: =+C14 -> -1044331.2
A14: Պաշտոնական դրամաշնորհներ | B14: =+'Հավելված N 8'!D12 -> 0 | C14: =+'Հավելված N 8'!G12 -> -1044331.2

Sheet Հավելված N 3
C1: Հավելված N 3
C2: ՀՀ կառավարության 2022 թվականի
C3: ______________ ի ___Ն որոշման
A6: «ՀԱՅԱUՏԱՆԻ ՀԱՆՐԱՊԵՏՈՒԹՅԱՆ 2022 ԹՎԱԿԱՆԻ ՊԵՏԱԿԱՆ ԲՅՈՒՋԵԻ ՄԱUԻՆ» ՀԱՅԱUՏԱՆԻ ՀԱՆՐԱՊԵՏՈՒԹՅԱՆ OՐԵՆՔԻ N 1 ՀԱՎԵԼՎԱԾԻ N 2 ԱՂՅՈՒՍԱԿՈՒՄ ԿԱՏԱՐՎՈՂ ՎԵՐԱԲԱՇԽՈՒՄԸ ԵՎ ՀԱՅԱՍՏԱՆԻ ՀԱՆՐԱՊԵՏՈՒԹՅԱՆ ԿԱՌԱՎԱՐՈՒԹՅԱՆ 2021 ԹՎԱԿԱՆԻ ԴԵԿՏԵՄԲԵՐԻ 23-Ի N 2121-Ն ՈՐՈՇՄԱՆ N 5 ՀԱՎԵԼՎԱԾԻ N 1 ԱՂՅՈՒՍԱԿՈՒՄ ԿԱՏԱՐՎՈՂ ՓՈՓՈԽՈՒԹՅՈՒՆՆԵՐԸ ԵՎ ԼՐԱՑՈՒՄՆԵՐԸ
E9: հազ. դրամներով
A10: Ծրագրային դասիչը | C10: Բյուջետային հատկացումների գլխավոր կարգադրիչների, ծրագրերի և միջոցառումների անվանումները | D10: Ցուցանիշների փոփոխությունը (ավելացումները նշված են դրական նշանով, իսկ նվազեցումները՝ փակագծերում)
A11: Ծրագիր | B11: Միջոցառում | D11: Ինն ամիս | E11: Տարի
A12: 1192 | C12: ԸՆԴԱՄԵՆԸ | D12: =+D14+D225 -> 0 | E12: =+E14+E225 -> -1044331.2
C13: այդ թվում
C14: ՀՀ ԿՐԹՈՒԹՅԱՆ, ԳԻՏՈՒԹՅԱՆ, ՄՇԱԿՈՒՅԹԻ ԵՎ ՍՊՈՐՏԻ ՆԱԽԱՐԱՐՈՒԹՅՈՒՆ | D14: =+D16+D29+D54+D79+D92+D111+D124+D137+D156+D169+D206 -> -1143625.9 | E14: =+E16+E29+E54+E79+E92+E111+E124+E137+E156+E169+E206 -> -2178211.1
A15: 1041 | C15: Ծրագրի անվանումը`
C16: Մեծ նվաճումների սպորտ | D16: =+D23 -> 600540.5 | E16: =+E23 -> 931442.18
C17: Ծրագրի նպատակը`
C18: Նպաստել Հայաստանում մեծ սպորտի շարունակական զարգացմանը և միջազգային հարթակներում ՀՀ դիրքի բարելավմանը
C19: Վերջնական արդյունքի նկարագրությունը`
C20: ՀՀ առաջնությունների ընդլայնում, միջազգային սպորտային միջոցառումներին մասնակցության և նվաճումների ապահովում
C21: Ծրագրի միջոցառումներ
B22: 32001 | C22: Միջոցառման անվանումը`
C23: Մանկապատանեկան մարզադպրոցներին, մարզաձևերի ազգային ֆեդերացիաներին և այլ մարզական հասարակական կազմակերպություններին գույքով ապահովում | D23: =+'Հավելված N 4'!G23 -> 600540.5 | E23: =+'Հավելված N 4'!H23 -> 931442.18
C24: Միջոցառման նկարագրությունը`
C25: Սպորտի զարգացման նպատակով մարզադպրոցներին, ազգային ֆեդերացիաներին և այլ մարզական հասարակական կազմակերպություններին մարզական և այլ անհրաժեշտ գույքի տրամադրում
C26: Միջոցառման տեսակը
C27: Այլ պետական կազմակերպությունների կողմից օգտագործվող ոչ ֆինանսական ակտիվների հետ գործառնություններ
A28: 1045 | C28: Ծրագրի անվանումը`
C29: Նախնական (արհեստագործական) և միջին մասնագիտական կրթություն | D29: =+D36+D42+D48 -> -189624.1 | E29: =+E36+E42+E48 -> -333845.2
C30: Ծրագրի նպատակը`
C31: Աշխատաշուկայի արդի պահանջներին համապատասխան նախնական մասնագիտական (արհեստագործական) և միջին մասնագիտական կրթության որակավորում ունեցող մասնագետների պատրաստում, կրթության մատչելիության ապահովում:
C32: Վերջնական արդյունքի նկարագրությունը`
C33: Նախնական (արհեստագործական) և միջին մասնագիտական կրթության գրավչության բարձրացում, մատչելի և մրցունակ նախնական (արհեստագործական) և միջին մասնագիտական կրթության ապահովում
C34: Ծրագրի միջոցառումներ
B35: 32001 | C35: Միջոցառման անվանումը`
C36: Նախնական մասնագիտական (արհեստագործական) և միջին մասնագիտական ուսումնական հաստատությունների շենքային պայմանների բարելավում | D36: =+'Հավելված N 4'!G151 -> -129825.2 | E36: =+'Հավելված N 4'!H151 -> -217911.4
C37: Միջոցառման նկարագրությունը`
C38: ՆՄՄԿՈՒ հաստատությունների շենքերի հիմնանորոգման և նախագծման (շինարարական աշխատանքներ, ջեռուցման համակարգի ստեղծում, ներքին հարդարում, տարածքի բարեկարգում) աշխատանքների իրականացում
C39: Միջոցառման տեսակը
C40: Այլ պետական կազմակերպությունների կողմից օգտագործվող ոչ ֆինանսական ակտիվների հետ գործառնություններ
B41: 32004 | C41: Միջոցառման անվանումը`
C42: Նախնական մասնագիտական (արհեստագործական) և միջին մասնագիտական ուսումնական հաստատություններում ուսումնարտադրական բազայով ապահովում | D42: =+'Հավելված N 4'!G167 -> 0 | E42: =+'Հավելված N 4'!H167 -> 60165.1
C43: Միջոցառման նկարագրությունը`
C44: ՆՄՄԿՈՒ հաստատություններում ուսումնարտադրական բազայով ապահովման աշխատանքների իրականացում
...

Sheet Հավելված N 4
F1: Հավելված N 4
F2: ՀՀ կառավարության 2022 թվականի
F3: ______________ ի ___Ն որոշման
A5: ՀԱՅԱՍՏԱՆԻ ՀԱՆՐԱՊԵՏՈՒԹՅԱՆ ԿԱՌԱՎԱՐՈՒԹՅԱՆ 2021 ԹՎԱԿԱՆԻ ԴԵԿՏԵՄԲԵՐԻ 23-Ի N2121-Ն ՈՐՈՇՄԱՆ N 3 ԵՎ N 4 ՀԱՎԵԼՎԱԾՆԵՐՈՒՄ ԿԱՏԱՐՎՈՂ ՓՈՓՈԽՈՒԹՅՈՒՆՆԵՐԸ ԵՎ ԼՐԱՑՈՒՄՆԵՐԸ
H7: հազ. դրամներով
A8: Գործառական դասիչը | D8: Ծրագրային դասիչը | F8: Բյուջետային հատկացումների գլխավոր կարգադրիչների, ծրագրերի, միջոցառումների և միջոցառումները կատարող պետական մարմինների անվանումները | G8: Ցուցանիշների փոփոխությունը (ավելացումները նշված են դրական նշանով, իսկ նվազեցումները՝ փակագծերում)
A9: Բաժին | B9: Խումբ | C9: Դաս | D9: Ծրագիր | E9: Միջոցառում | G9: Ինն ամիս | H9: Տարի
F10: ԸՆԴԱՄԵՆԸ | G10: =+G12+G309 -> 0 | H10: =+H12+H309 -> -1044331.2
F11: այդ թվում
F12: ՀՀ ԿՐԹՈՒԹՅԱՆ, ԳԻՏՈՒԹՅԱՆ, ՄՇԱԿՈՒՅԹԻ ԵՎ ՍՊՈՐՏԻ ՆԱԽԱՐԱՐՈՒԹՅՈՒՆ | G12: =+G13+G124 -> -1143625.9 | H12: =+H13+H124 -> -2178211.1
A13: 08 | F13: ՀԱՆԳԻՍՏ, ՄՇԱԿՈՒՅԹ ԵՎ ԿՐՈՆ | G13: =+G15+G36 -> 602274.5 | H13: =+H15+H36 -> 1110789.8
F14: այդ թվում`
B15: 01 | F15: Հանգստի և սպորտի ծառայություններ | G15: =+G17 -> 600540.5 | H15: =+H17 -> 931442.18
F16: այդ թվում`
C17: 01 | F17: Հանգստի և սպորտի ծառայություններ | G17: =+G19 -> 600540.5 | H17: =+H19 -> 931442.18
F18: այդ թվում`
F19: ՀՀ կրթության, գիտության, մշակույթի և սպորտի նախարարություն | G19: =+G21 -> 600540.5 | H19: =+H21 -> 931442.18
F20: այդ թվում`
D21: 1041 | E21: Մեծ նվաճումների սպորտ | G21: =+G23 -> 600540.5 | H21: =+H23 -> 931442.18
F22: այդ թվում`
E23: 32001 | F23: Մանկապատանեկան մարզադպրոցներին, մարզաձևերի ազգային ֆեդերացիաներին և այլ մարզական հասարակական կազմակերպություններին գույքով ապահովում | G23: =+G25 -> 600540.5 | H23: =+H25 -> 931442.18
F24: այդ թվում` ըստ կատարողների
F25: ՀՀ կրթության, գիտության, մշակույթի և սպորտի նախարարություն | G25: =+G27 -> 600540.5 | H25: =+H27 -> 931442.18
F26: այդ թվում՝ բյուջետային ծախսերի տնտեսագիտական դասակարգման հոդվածներ
F27: ԸՆԴԱՄԵՆԸ ԾԱԽՍԵՐ | G27: =+G28+G32 -> 600540.5 | H27: =+H28+H32 -> 931442.18
F28: ԸՆԹԱՑԻԿ ԾԱԽՍԵՐ | G28: =+G29 -> 600540.5 | H28: =+H29 -> 600540.5
F29: ԴՐԱՄԱՇՆՈՐՀՆԵՐ | G29: =+G30 -> 600540.5 | H29: =+H30 -> 600540.5
F30: ԸՆԹԱՑԻԿ ԴՐԱՄԱՇՆՈՐՀՆԵՐ ՊԵՏԱԿԱՆ ՀԱՏՎԱԾԻ ԱՅԼ ՄԱԿԱՐԴԱԿՆԵՐԻՆ | G30: =+G31 -> 600540.5 | H30: =+H31 -> 600540.5
F31: - Այլ կապիտալ դրամաշնորհներ | G31: =+'Հավելված N 7'!G12 -> 600540.5 | H31: =+G31 -> 600540.5
F32: ՈՉ ՖԻՆԱՆՍԱԿԱՆ ԱԿՏԻՎՆԵՐԻ ԳԾՈՎ ԾԱԽՍԵՐ | G32: =+G33 -> 0 | H32: =+H33 -> 330901.68
F33: ՀԻՄՆԱԿԱՆ ՄԻՋՈՑՆԵՐ | G33: =+G34 -> 0 | H33: =+H34 -> 330901.68
F34: ՄԵՔԵՆԱՆԵՐ ԵՎ ՍԱՐՔԱՎՈՐՈՒՄՆԵՐ | G34: =+G35 -> 0 | H34: =+H35 -> 330901.68
F35: - Վարչական սարքավորումներ | G35: =+'Հավելված N 6'!E16 -> 0 | H35: =+'Հավելված N 6'!F16 -> 330901.68
B36: 02 | F36: Մշակութային ծառայություններ | G36: =+G38+G62+G77+G92+G107 -> 1734 | H36: =+H38+H62+H77+H92+H107 -> 179347.6
F37: այդ թվում`
C38: 01 | F38: Գրադարաններ | G38: =+G40 -> 0 | H38: =+H40 -> 103633.8
F39: այդ թվում`
F40: ՀՀ կրթության, գիտության, մշակույթի և սպորտի նախարարություն | G40: =+G42 -> 0 | H40: =+H42 -> 103633.8
F41: այդ թվում`
D42: 1124 | E42: Գրահրատարակչության և գրադարանների ծրագիր | G42: =+G44+G53 -> 0 | H42: =+H44+H53 -> 103633.8
...

Sheet Հավելված N 5
F1: Հավելված N 5
F2: ՀՀ կառավարության 2022 թվականի
F3: ______________ ի ___Ն որոշման
A5: «ՀԱՅԱUՏԱՆԻ ՀԱՆՐԱՊԵՏՈՒԹՅԱՆ 2022 ԹՎԱԿԱՆԻ ՊԵՏԱԿԱՆ ԲՅՈՒՋԵԻ ՄԱUԻՆ» ՀԱՅԱUՏԱՆԻ ՀԱՆՐԱՊԵՏՈՒԹՅԱՆ OՐԵՆՔԻ N 1 ՀԱՎԵԼՎԱԾԻ N 3 ԱՂՅՈՒՍԱԿՈՒՄ ԿԱՏԱՐՎՈՂ ՓՈՓՈԽՈՒԹՅՈՒՆՆԵՐԸ ԵՎ ԼՐԱՑՈՒՄՆԵՐԸ
H8: հազ. դրամներով
A9: Ծրագրային դասիչ | C9: Բյուջետային գլխավոր կարգադրիչների, ծրագրերի, միջոցառումների և ուղղությունների անվանումները | D9: Ընդամենը | E9: Ցուցանիշների փոփոխությունը (ավելացումները նշված են դրական նշանով, իսկ նվազեցումները՝ փակագծերում)
A10: Ծրագիր | B10: Միջոցառում | E10: Կառուցման աշխատանքներ | F10: Վերակառուցման, վերանորոգման և վերականգնման աշխատանքներ | G10: Նախագծահե- տազոտական, գեոդեզիա- քարտեզագրա- կան աշխա- տանքներ | H10: Ոչ ֆինանսական այլ ակտիվների ձեռքբերում
C11: ԸՆԴԱՄԵՆԸ | D11: =SUM(E11:H11) -> -1734420.4 | E11: =+E13 -> -2276073.9 | F11: =+F13 -> -57538 | G11: =+G13 -> 19193.7 | H11: =+H13 -> 579997.78
C12: այդ թվում՝
C13: ՀՀ ԿՐԹՈՒԹՅԱՆ, ԳԻՏՈՒԹՅԱՆ, ՄՇԱԿՈՒՅԹԻ ԵՎ ՍՊՈՐՏԻ ՆԱԽԱՐԱՐՈՒԹՅՈՒՆ | D13: =SUM(E13:H13) -> -1734420.4 | E13: =+E15+E16+E22+E28+E32+E38+E62+E66+E70+E95+E99+E120+E161+E165+E169+E175+E183+E190+E195+E209 -> -2276073.9 | F13: =+F15+F16+F22+F28+F32+F38+F62+F66+F70+F95+F99+F120+F161+F165+F169+F175+F183+F190+F195+F209 -> -57538 | G13: =+G15+G16+G22+G28+G32+G38+G62+G66+G70+G95+G99+G120+G161+G165+G169+G175+G183+G190+G195+G209 -> 19193.7 | H13: =+H15+H16+H22+H28+H32+H38+H62+H66+H70+H95+H99+H120+H161+H165+H169+H175+H183+H190+H195+H209 -> 579997.78
C14: այդ թվում`
A15: 1041 | B15: 32001 | C15: Մանկապատանեկան մարզադպրոցներին, մարզաձևերի ազգային ֆեդերացիաներին և այլ մարզական հասարակական կազմակերպություններին գույքով ապահովում | D15: =+E15+F15+G15+H15 -> 330901.68 | E15: =+E17 -> 0 | F15: =+F17 -> 0 | G15: =+G17 -> 0 | H15: =+'Հավելված N 11'!I13 -> 330901.68
A16: 1045 | B16: 32001 | C16: Նախնական մասնագիտական (արհեստագործական) և միջին մասնագիտական ուսումնական հաստատությունների շենքային պայմանների բարելավում | D16: =+E16+F16+G16+H16 -> -217911.4 | E16: =+E18+E20 -> 0 | F16: =+F18+F20 -> -217911.4 | G16: =+G18+G20 -> 0 | H16: =+H18+H20 -> 0
C17: այդ թվում`
C18: ՀՀ Արմավիրի մարզ | D18: =SUM(E18:H18) -> 41739 | E18: =+E19 -> 0 | F18: =+F19 -> 41739 | G18: =+G19 -> 0 | H18: =+H19 -> 0
C19: «Էջմիածնի պետական քոլեջ» ՊՈԱԿ | D19: =+E19+F19+G19+H19 -> 41739 | F19: =+'Հավելված N 11'!I172+'Հավելված N 11'!I174+'Հավելված N 11'!I175 -> 41739
C20: ՀՀ Կոտայքի մարզ | D20: =SUM(E20:H20) -> -259650.4 | E20: =+E21 -> 0 | F20: =+F21 -> -259650.4 | G20: =+G21 -> 0 | H20: =+H21 -> 0
C21: «Նոր Գեղիի ակադեմիկոս Գ. Աղաջանյանի անվան պետական գյուղատնտեսական քոլեջ» ՊՈԱԿ | D21: =+E21+F21+G21+H21 -> -259650.4 | F21: =+'Հավելված N 11'!I194+'Հավելված N 11'!I196+'Հավելված N 11'!I197 -> -259650.4
A22: 1045 | B22: 32004 | C22: Նախնական մասնագիտական (արհեստագործական) և միջին մասնագիտական ուսումնական հաստատություններում ուսումնարտադրական բազայով ապահովում | D22: =+E22+F22+G22+H22 -> 60165.1 | E22: =+E24+E26 -> 0 | F22: =+F24+F26 -> 0 | G22: =+G24+G26 -> 0 | H22: =+H24+H26 -> 60165.1
C23: այդ թվում`
C24: ՀՀ Շիրակի մարզ | D24: =SUM(E24:H24) -> 59545.1 | E24: =+E25 -> 0 | F24: =+F25 -> 0 | G24: =+G25 -> 0 | H24: =+H25 -> 59545.1
C25: «Գյումրու N 4 արհեստագործական պետական ուսումնարան» ՊՈԱԿ | D25: =+E25+F25+G25+H25 -> 59545.1 | H25: =+'Հավելված N 11'!I178 -> 59545.1
C26: ՀՀ Տավուշի մարզ | D26: =SUM(E26:H26) -> 620 | E26: =+E27 -> 0 | F26: =+F27 -> 0 | G26: =+G27 -> 0 | H26: =+H27 -> 620
C27: «Դիլիջանի արվեստի պետական քոլեջ» ՊՈԱԿ | D27: =+E27+F27+G27+H27 -> 620 | H27: =+'Հավելված N 11'!I179+'Հավելված N 11'!I180+'Հավելված N 11'!I181 -> 620
A28: 1045 | B28: 32005 | C28: Նախնական մասնագիտական (արհեստագործական) և միջին մասնագիտական ուսումնական հաստատությունների շենքերի կառուցում | D28: =SUM(E28:H28) -> -176098.9 | E28: =+E30 -> -176098.9 | F28: =+F30 -> 0 | G28: =+G30 -> 0 | H28: =+H30 -> 0
C29: այդ թվում`
C30: ՀՀ Սյունիքի մարզ | D30: =SUM(E30:H30) -> -176098.9 | E30: =+E31 -> -176098.9 | F30: =+F31 -> 0 | G30: =+G31 -> 0 | H30: =+H31 -> 0
C31: «Գորիսի պրոֆեսոր Խ. Երիցյանի անվան պետական գյուղատնտեսական քոլեջ» ՊՈԱԿ | D31: =+E31+F31+G31+H31 -> -176098.9 | E31: =+'Հավելված N 11'!I200+'Հավելված N 11'!I202+'Հավելված N 11'!I203 -> -176098.9
A32: 1075 | B32: 21001 | C32: Հուշարձանների ամրակայում, նորոգում և վերականգնում | D32: =+E32+F32+G32+H32 -> 4505.7 | E32: =E34 -> 0 | F32: =F34 -> 0 | G32: =G34 -> 4505.7 | H32: =H34 -> 0
C33: այդ թվում`
C34: 2. Վավերագրման և ուսումնասիրման աշխատանքներ, (այդ թվում՝ հետախուզումև պեղում), գիտանախագծային փաստաթղթերի կազմում և փորձաքննում | D34: =SUM(E34:H34) -> 4505.7 | E34: =+E36 -> 0 | F34: =+F36 -> 0 | G34: =+G36 -> 4505.7 | H34: =+H36 -> 0
C35: որից`
C36: ՀՀ Արագածոտնի մարզ | D36: =SUM(E36:H36) -> 4505.7 | E36: =+E37 -> 0 | F36: =+F37 -> 0 | G36: =+G37 -> 4505.7 | H36: =+H37 -> 0
C37: Ամբերդ ամրոցի վթարային հատվածների ամրակայում և դրա տարածքների բարեկարգում | D37: =+E37+F37+G37+H37 -> 4505.7 | G37: =+'Հավելված N 11'!I160+'Հավելված N 11'!I161 -> 4505.7
A38: 1075 | B38: 32008 | C38: Թանգարանների և պատկերասրահների գույքային և տեխնիկական հագեցվածության բարելավում | D38: =+E38+F38+G38+H38 -> 43600 | E38: =+E40+E57+E59 -> 0 | F38: =+F40+F57+F59 -> 0 | G38: =+G40+G57+G59 -> 0 | H38: =+H40+H57+H59 -> 43600
C39: այդ թվում`
C40: Երևան քաղաք | D40: =SUM(E40:H40) -> 38000 | E40: =SUM(E41:E56) -> 0 | F40: =SUM(F41:F56) -> 0 | G40: =SUM(G41:G56) -> 0 | H40: =SUM(H41:H56) -> 38000
C41: «Հ. Շարամբեյանի անվան ժողովրդական արվեստների թանգարան» ՊՈԱԿ | D41: =+E41+F41+G41+H41 -> 4000 | H41: 4000
C42: «Արամ Խաչատրյանի տուն-թանգարան» ՊՈԱԿ | D42: =+E42+F42+G42+H42 -> 1200 | H42: 1200
C43: «Սերգեյ Փարաջանովի թանգարան» ՊՈԱԿ | D43: =+E43+F43+G43+H43 -> 800 | H43: 800
...

Sheet Հավելված N 6
D1: Հավելված N 6
D2: ՀՀ կառավարության 2022 թվականի
D3: ______________ ի ___Ն որոշման
B5: ՀԱՅԱՍՏԱՆԻ ՀԱՆՐԱՊԵՏՈՒԹՅԱՆ ԿԱՌԱՎԱՐՈՒԹՅԱՆ 2021 ԹՎԱԿԱՆԻ ԴԵԿՏԵՄԲԵՐԻ 23-Ի N 2121-Ն ՈՐՈՇՄԱՆ N 5 ՀԱՎԵԼՎԱԾԻ N 2 ԱՂՅՈՒՍԱԿՈՒՄ ԿԱՏԱՐՎՈՂ ՓՈՓՈԽՈՒԹՅՈՒՆՆԵՐԸ ԵՎ ԼՐԱՑՈՒՄՆԵՐԸ
F8: հազ. դրամներով
B9: Ծրագրային դասիչ | D9: Բյուջետային գլխավոր կարգադրիչների, ծրագրերի, միջոցառումների, միջոցառումները կատարող պետական մարմինների և ուղղությունների անվանումները | E9: Ցուցանիշների փոփոխությունը (ավելացումները նշված են դրական նշանով, իսկ նվազեցումները՝ փակագծերում)
B10: Ծրագիր | C10: Միջոցառում | E10: Ինն ամիս | F10: Տարի
D12: ՀՀ ԿՐԹՈՒԹՅԱՆ, ԳԻՏՈՒԹՅԱՆ, ՄՇԱԿՈՒՅԹԻ ԵՎ ՍՊՈՐՏԻ ՆԱԽԱՐԱՐՈՒԹՅՈՒՆ | E12: =+E14+E17+E27+E35+E41+E53+E79+E85+E91+E118+E124+E147+E190+E196+E202+E210+E224+E233+E240+E256 -> -1744166.4 | F12: =+F14+F17+F27+F35+F41+F53+F79+F85+F91+F118+F124+F147+F190+F196+F202+F210+F224+F233+F240+F256 -> -1734420.4
D13: այդ թվում՝
B14: 1041 | C14: 32001 | D14: Մանկապատանեկան մարզադպրոցներին, մարզաձևերի ազգային ֆեդերացիաներին և այլ մարզական հասարակական կազմակերպություններին գույքով ապահովում | E14: =+E16 -> 0 | F14: =+F16 -> 330901.68
D15: այդ թվում` ըստ կատարողների
D16: ՀՀ կրթության, գիտության, մշակույթի և սպորտի նախարարություն | E16: 0 | F16: =+'Հավելված N 5'!D15 -> 330901.68
B17: 1045 | C17: 32001 | D17: Նախնական մասնագիտական (արհեստագործական) և միջին մասնագիտական ուսումնական հաստատությունների շենքային պայմանների բարելավում | E17: =+E19+E23 -> -129825.2 | F17: =+F19+F23 -> -217911.4
D18: այդ թվում` ըստ կատարողների
D19: ՀՀ կրթության, գիտության, մշակույթի և սպորտի նախարարություն | E19: =+E21 -> 0 | F19: =+F21 -> 41739
D20: այդ թվում` ըստ ուղղությունների
D21: ՀՀ Արմավիրի մարզ | E21: =+E22 -> 0 | F21: =+F22 -> 41739
D22: «Էջմիածնի պետական քոլեջ» ՊՈԱԿ | E22: 0 | F22: =+'Հավելված N 5'!D19 -> 41739
D23: ՀՀ քաղաքաշինության կոմիտե | E23: =+E25 -> -129825.2 | F23: =+F25 -> -259650.4
D24: այդ թվում` ըստ ուղղությունների
D25: ՀՀ Կոտայքի մարզ | E25: =+E26 -> -129825.2 | F25: =+F26 -> -259650.4
D26: «Նոր Գեղիի ակադեմիկոս Գ. Աղաջանյանի անվան պետական գյուղատնտեսական քոլեջ» ՊՈԱԿ | E26: =+'Հավելված N 5'!D21*0.5 -> -129825.2 | F26: =+'Հավելված N 5'!D21 -> -259650.4
B27: 1045 | C27: 32004 | D27: Նախնական մասնագիտական (արհեստագործական) և միջին մասնագիտական ուսումնական հաստատություններում ուսումնարտադրական բազայով ապահովում | E27: =+E29 -> 0 | F27: =+F29 -> 60165.1
D28: այդ թվում` ըստ կատարողների
D29: ՀՀ կրթության, գիտության, մշակույթի և սպորտի նախարարություն | E29: =+E31+E33 -> 0 | F29: =+F31+F33 -> 60165.1
D30: այդ թվում` ըստ ուղղությունների
D31: ՀՀ Շիրակի մարզ | E31: =+E32 -> 0 | F31: =+F32 -> 59545.1
D32: «Գյումրու N 4 արհեստագործական պետական ուսումնարան» ՊՈԱԿ | E32: 0 | F32: =+'Հավելված N 5'!D25 -> 59545.1
D33: ՀՀ Տավուշի մարզ | E33: =+E34 -> 0 | F33: =+F34 -> 620
D34: «Դիլիջանի արվեստի պետական քոլեջ» ՊՈԱԿ | F34: =+'Հավելված N 5'!D27 -> 620
B35: 1045 | C35: 32005 | D35: Նախնական մասնագիտական (արհեստագործական) և միջին մասնագիտական ուսումնական հաստատությունների շենքերի կառուցում | E35: =+E37 -> -59798.9 | F35: =+F37 -> -176098.9
D36: այդ թվում` ըստ կատարողների
D37: ՀՀ քաղաքաշինության կոմիտե | E37: =+E39 -> -59798.9 | F37: =+F39 -> -176098.9
D38: այդ թվում` ըստ ուղղությունների
D39: ՀՀ Սյունիքի մարզ | E39: =+E40 -> -59798.9 | F39: =+F40 -> -176098.9
D40: «Գորիսի պրոֆեսոր Խ. Երիցյանի անվան պետական գյուղատնտեսական քոլեջ» ՊՈԱԿ | E40: -59798.9 | F40: =+'Հավելված N 5'!D31 -> -176098.9
B41: 1075 | C41: 21001 | D41: Հուշարձանների ամրակայում, նորոգում և վերականգնում | E41: =+E43 -> 1734 | F41: =+F43 -> 4505.7
D42: այդ թվում` ըստ կատարողների
D43: ՀՀ կրթության, գիտության, մշակույթի և սպորտի նախարարություն | E43: =+E45+E49 -> 1734 | F43: =+F45+F49 -> 4505.7
D44: այդ թվում` ըստ ուղղությունների
...

Sheet Հավելված N 7
F1: Հավելված N 7
F2: ՀՀ կառավարության 2021 թվականի
F3: ______________ ի ___Ն որոշման
A6: ՀԱՅԱՍՏԱՆԻ ՀԱՆՐԱՊԵՏՈՒԹՅԱՆ ԿԱՌԱՎԱՐՈՒԹՅԱՆ 2021 ԹՎԱԿԱՆԻ ԴԵԿՏԵՄԲԵՐԻ 23-Ի N 2121-Ն ՈՐՈՇՄԱՆ N 5 ՀԱՎԵԼՎԱԾԻ N 7 ԱՂՅՈՒՍԱԿՈՒՄ ԿԱՏԱՐՎՈՂ ԼՐԱՑՈՒՄԸ
G7: հազ. դրամներով
A8: Ծրագրային դասիչը | C8: Բյուջետային հատկացումների գլխավոր կարգադրիչների, ծրագրերի, միջոցառումների և միջոցառումները կատարող պետական մարմինների անվանումները | F8: Միջոցառումները կատարող պետական մարմինների և դրամաշնորհ ստացող տնտեսվարող սուբյեկտների անվանումները | G8: Ցուցանիշների փոփոխությունը (ավելացումները նշված են դրական նշանով)
A9: Ծրագիր | B9: Միջոցառում | G9: Տարի
A10: ՀՀ կրթության, գիտության, մշակույթի և սպորտի նախարարություն | G10: =+G11 -> 600540.5
A11: 1041 | B11: Մեծ նվաճումների սպորտ | G11: =+G12 -> 600540.5
B12: 32001 | C12: Մանկապատանեկան մարզադպրոցներին, մարզաձևերի ազգային ֆեդերացիաներին և այլ մարզական հասարակական կազմակերպություններին գույքով ապահովում | F12: ՀՀ կրթության, գիտության, մշակույթի և սպորտի նախարարություն | G12: =+G13 -> 600540.5
F13: «Հայաստանի ծանրամարտի ֆեդերացիա» ՀԿ | G13: 600540.5

Sheet Հավելված N 8
F1: Հավելված N 8
F2: ՀՀ կառավարության 2022 թվականի
F3: ______________ ի ___Ն որոշման
A6: «ՀԱՅԱUՏԱՆԻ ՀԱՆՐԱՊԵՏՈՒԹՅԱՆ 2022 ԹՎԱԿԱՆԻ ՊԵՏԱԿԱՆ ԲՅՈՒՋԵԻ ՄԱUԻՆ» ՀԱՅԱUՏԱՆԻ ՀԱՆՐԱՊԵՏՈՒԹՅԱՆ OՐԵՆՔԻ N 1 ՀԱՎԵԼՎԱԾԻ N 5 ԱՂՅՈՒՍԱԿՈՒՄ ԵՎ ՀԱՅԱՍՏԱՆԻ ՀԱՆՐԱՊԵՏՈՒԹՅԱՆ ԿԱՌԱՎԱՐՈՒԹՅԱՆ 2021 ԹՎԱԿԱՆԻ ԴԵԿՏԵՄԲԵՐԻ 23-Ի N 2121-Ն ՈՐՈՇՄԱՆ N 5 ՀԱՎԵԼՎԱԾԻ N 4 ԱՂՅՈՒՍԱԿՈՒՄ ԿԱՏԱՐՎՈՂ ՓՈՓՈԽՈՒԹՅՈՒՆԸ
I8: հազ. դրամներով
A9: Ծրագրային դասիչ | C9: Բյուջետային գլխավոր կարգադրիչների, ծրագրերի և միջոցառումների և միջոցառումները կատարող պետական մարմինների անվանումները | D9: Ինն ամիս | G9: Տարի
D10: Ընդամենը | E10: այդ թվում | G10: Ընդամենը | H10: այդ թվում
A11: Ծրագիր | B11: Միջոցառում | E11: Դրամաշնորհային միջոցներ | F11: Համաֆինան սավորում | H11: Դրամաշնորհային միջոցներ | I11: Համաֆինան սավորում
C12: ԸՆԴԱՄԵՆԸ | D12: =E12+F12 -> 0 | E12: =+E14 -> 0 | F12: =+F14 -> 0 | G12: =H12+I12 -> -1044331.2 | H12: =+H14 -> -1044331.2 | I12: =+I14 -> 0
C13: այդ թվում`
C14: ՈՉ ՖԻՆԱՆՍԱԿԱՆ ԱԿՏԻՎՆԵՐԻ ԳԾՈՎ ԾԱԽՍԵՐ | D14: =E14+F14 -> 0 | E14: =+E15 -> 0 | F14: =+F15 -> 0 | G14: =H14+I14 -> -1044331.2 | H14: =+H15 -> -1044331.2 | I14: =+I15 -> 0
C15: ՀՀ ԿՐԹՈՒԹՅԱՆ, ԳԻՏՈՒԹՅԱՆ, ՄՇԱԿՈՒՅԹԻ ԵՎ ՍՊՈՐՏԻ ՆԱԽԱՐԱՐՈՒԹՅՈՒՆ | D15: =E15+F15 -> 0 | E15: =E16 -> 0 | F15: =F16 -> 0 | G15: =H15+I15 -> -1044331.2 | H15: =H16 -> -1044331.2 | I15: =I16 -> 0
A16: 1192 | C16: Կրթության որակի ապահովում | D16: =E16+F16 -> 0 | E16: =+E18+E27 -> 0 | F16: =+F18+F27 -> 0 | G16: =H16+I16 -> -1044331.2 | H16: =+H18+H27 -> -1044331.2 | I16: =+I18+I27 -> 0
C17: այդ թվում`
B18: 32004 | C18: ԵՄ աջակցությամբ իրականացվող դրամաշնորհային ծրագրի շրջանակներում ուսումնական հաստատությունների շենքային պայմանների բարելավում | D18: =E18+F18 -> 0 | E18: =+E20 -> 0 | F18: =+F20 -> 0 | G18: =H18+I18 -> -713429.5 | H18: =+H20 -> -713429.5 | I18: =+I20 -> 0
C19: այդ թվում` ըստ կատարողների
C20: ՀՀ կրթության , գիտության, մշակույթի և սպորտի նախարարություն | D20: =+E20+F20 -> 0 | E20: =+E22 -> 0 | F20: =+F22 -> 0 | G20: =+H20+I20 -> -713429.5 | H20: =+H22 -> -713429.5 | I20: =+I22 -> 0
C21: այդ թվում` բյուջետային ծախսերի տնտեսագիտական դասակարգման հոդվածներ
C22: ԸՆԴԱՄԵՆԸ ԾԱԽՍԵՐ | D22: =+E22+F22 -> 0 | E22: =+E23 -> 0 | F22: =+F23 -> 0 | G22: =+H22+I22 -> -713429.5 | H22: =+H23 -> -713429.5 | I22: =+I23 -> 0
C23: ՈՉ ՖԻՆԱՆՍԱԿԱՆ ԱԿՏԻՎՆԵՐԻ ԳԾՈՎ ԾԱԽՍԵՐ | D23: =+E23+F23 -> 0 | E23: =+E24 -> 0 | F23: =+F24 -> 0 | G23: =+H23+I23 -> -713429.5 | H23: =+H24 -> -713429.5 | I23: =+I24 -> 0
C24: ՀԻՄՆԱԿԱՆ ՄԻՋՈՑՆԵՐ | D24: =+E24+F24 -> 0 | E24: =+E25 -> 0 | F24: =+F25 -> 0 | G24: =+H24+I24 -> -713429.5 | H24: =+H25 -> -713429.5 | I24: =+I25 -> 0
C25: ՇԵՆՔԵՐ ԵՎ ՇԻՆՈՒԹՅՈՒՆՆԵՐ | D25: =+E25+F25 -> 0 | E25: =+E26 -> 0 | F25: =+F26 -> 0 | G25: =+H25+I25 -> -713429.5 | H25: =+H26 -> -713429.5 | I25: =+I26 -> 0
C26: - Շենքերի և շինությունների կապիտալ վերանորոգում | D26: =+E26+F26 -> 0 | E26: 0 | F26: 0 | G26: =+H26+I26 -> -713429.5 | H26: -713429.5 | I26: 0
B27: 32005 | C27: ԵՄ աջակցությամբ իրականացվող դրամաշնորհային ծրագրի շրջանակներում հանրակրթական, միջին մասնագիտական, բարձրագույն ուսումնական և մարզական հաստատություններին գույքով և տեխնիկայով ապահովում | D27: =E27+F27 -> 0 | E27: =+E29 -> 0 | F27: =+F29 -> 0 | G27: =H27+I27 -> -330901.7 | H27: =+H29 -> -330901.7 | I27: =+I29 -> 0
C28: այդ թվում` ըստ կատարողների
C29: ՀՀ կրթության , գիտության, մշակույթի և սպորտի նախարարություն | D29: =+E29+F29 -> 0 | E29: =+E31 -> 0 | F29: =+F31 -> 0 | G29: =+H29+I29 -> -330901.7 | H29: =+H31 -> -330901.7 | I29: =+I31 -> 0
C30: այդ թվում` բյուջետային ծախսերի տնտեսագիտական դասակարգման հոդվածներ
C31: ԸՆԴԱՄԵՆԸ ԾԱԽՍԵՐ | D31: =+E31+F31 -> 0 | E31: =+E32 -> 0 | F31: =+F32 -> 0 | G31: =+H31+I31 -> -330901.7 | H31: =+H32 -> -330901.7 | I31: =+I32 -> 0
C32: ՈՉ ՖԻՆԱՆՍԱԿԱՆ ԱԿՏԻՎՆԵՐԻ ԳԾՈՎ ԾԱԽՍԵՐ | D32: =+E32+F32 -> 0 | E32: =+E33 -> 0 | F32: =+F33 -> 0 | G32: =+H32+I32 -> -330901.7 | H32: =+H33 -> -330901.7 | I32: =+I33 -> 0
C33: ՀԻՄՆԱԿԱՆ ՄԻՋՈՑՆԵՐ | D33: =+E33+F33 -> 0 | E33: =+E34 -> 0 | F33: =+F34 -> 0 | G33: =+H33+I33 -> -330901.7 | H33: =+H34 -> -330901.7 | I33: =+I34 -> 0
C34: ՄԵՔԵՆԱՆԵՐ ԵՎ ՍԱՐՔԱՎՈՐՈՒՄՆԵՐ | D34: =+E34+F34 -> 0 | E34: =+E35 -> 0 | F34: =+F35 -> 0 | G34: =+H34+I34 -> -330901.7 | H34: =+H35 -> -330901.7 | I34: =+I35 -> 0
C35: - Վարչական սարքավորումներ | D35: =+E35+F35 -> 0 | E35: 0 | F35: 0 | G35: =+H35+I35 -> -330901.7 | H35: -330901.7 | I35: 0

Sheet Հավելված N 9
C1: Հավելված N 9
C2: ՀՀ կառավարության 2022 թվականի
C3: ______________ ի ___Ն որոշման
B5: ՀԱՅԱՍՏԱՆԻ ՀԱՆՐԱՊԵՏՈՒԹՅԱՆ ԿԱՌԱՎԱՐՈՒԹՅԱՆ 2021 ԹՎԱԿԱՆԻ ԴԵԿՏԵՄԲԵՐԻ 23-Ի N 2121-Ն ՈՐՈՇՄԱՆ N 9 ՀԱՎԵԼՎԱԾԻ N 9.13 ԵՎ 9.47 ԱՂՅՈՒՍԱԿՆԵՐՈՒՄ ԿԱՏԱՐՎՈՂ ՓՈՓՈԽՈՒԹՅՈՒՆՆԵՐԸ ԵՎ ԼՐԱՑՈՒՄՆԵՐԸ
A7: Աղյուսակ 9․13
C8: ՀՀ կրթության, գիտության, մշակույթի և սպորտի նախարարություն
B9: ՄԱՍ 2. ՊԵՏԱԿԱՆ ՄԱՐՄՆԻ ԳԾՈՎ ԱՐԴՅՈՒՆՔԱՅԻՆ (ԿԱՏԱՐՈՂԱԿԱՆ) ՑՈՒՑԱՆԻՇՆԵՐԸ
B12: Ծրագրի դասիչը | C12: Ծրագրի անվանումը
B13: 1041 | C13: Մեծ նվաճումների սպորտ
B15: Ծրագրի միջոցառումները
B16: Ծրագրի դասիչը՝ | C16: 1041 | D16: Ցուցանիշների փոփոխությունը (ավելացումները նշված են դրական նշանով)
B17: Միջոցառման դասիչը՝ | C17: 32001 | D17: Ինն ամիս | E17: Տարի
B18: Միջոցառման անվանումը՝ | C18: Մանկապատանեկան մարզադպրոցներին, մարզաձևերի ազգային ֆեդերացիաներին և այլ մարզական հասարակական կազմակերպություններին գույքով ապահովում
B19: Նկարագրությունը՝ | C19: Սպորտի զարգացման նպատակով մարզադպրոցներին, ազգային ֆեդերացիաներին և այլ մարզական հասարակական կազմակերպություններին մարզական և այլ անհրաժեշտ գույքի տրամադրում
B20: Միջոցառման տեսակը՝ | C20: Այլ պետական կազմակերպությունների կողմից օգտագործվող ոչ ֆինանսական ակտիվների հետ գործառնություններ
B21: Ակտիվն օգտագործող կազմակերպությունների անվանումները | C21: Մարզական հաստատություններ
B22: Արդյունքի չափորոշիչներ
B23: Միջոցառման վրա կատարվող ծախսը (հազար դրամ) | D23: =+'Հավելված N 3'!D23 -> 600540.5 | E23: =+'Հավելված N 3'!E23 -> 931442.18
B25: Ծրագրի դասիչը | C25: Ծրագրի անվանումը
B26: 1045 | C26: Նախնական (արհեստագործական) և միջին մասնագիտական կրթություն
B28: Ծրագրի միջոցառումները
B29: Ծրագրի դասիչը՝ | C29: 1045 | D29: Ցուցանիշների փոփոխությունը (ավելացումները նշված են դրական նշանով, իսկ նվազեցումները՝ փակագծերում)
B30: Միջոցառման դասիչը՝ | C30: 32001 | D30: Ինն ամիս | E30: Տարի
B31: Միջոցառման անվանումը՝ | C31: Նախնական մասնագիտական (արհեստագործական) և միջին մասնագիտական ուսումնական հաստատությունների շենքային պայմանների բարելավում
B32: Նկարագրությունը՝ | C32: ՆՄՄԿՈՒ հաստատությունների շենքերի հիմնանորոգման և նախագծման (շինարարական աշխատանքներ, ջեռուցման համակարգի ստեղծում, ներքին հարդարում, տարածքի բարեկարգում) աշխատանքների իրականացում
B33: Միջոցառման տեսակը՝ | C33: Այլ պետական կազմակերպությունների կողմից օգտագործվող ոչ ֆինանսական ակտիվների հետ գործառնություններ
B34: Ակտիվն օգտագործող կազմակերպությունների անվանումները | C34: Նախնական մասնագիտական (արհեստագործական) և միջին մասնագիտական ուսումնական հաստատություններ
B35: Արդյունքի չափորոշիչներ
B36: Հիմնանորոգվող միջին մասնագիտական ուսումնական հաստատությունների քանակ, հատ | E36: 1
B37: Հաստատությունների քանակ, որոնց շինարարական աշխատանքների ավարտվածության աստիճանը 100% է, հատ | E37: 1
B38: Միջոցառման վրա կատարվող ծախսը (հազար դրամ) | D38: =+'Հավելված N 3'!D36 -> -129825.2 | E38: =+'Հավելված N 3'!E36 -> -217911.4
B40: Ծրագրի միջոցառումները
B41: Ծրագրի դասիչը՝ | C41: 1045 | D41: Ցուցանիշների փոփոխությունը (ավելացումները նշված են դրական նշանով)
B42: Միջոցառման դասիչը՝ | C42: 32004 | D42: Ինն ամիս | E42: Տարի
B43: Միջոցառման անվանումը՝ | C43: Նախնական մասնագիտական (արհեստագործական) և միջին մասնագիտական ուսումնական հաստատություններում ուսումնարտադրական բազայով ապահովում
B44: Նկարագրությունը՝ | C44: ՆՄՄԿՈՒ հաստատություններում ուսումնարտադրական բազայով ապահովման աշխատանքների իրականացում
B45: Միջոցառման տեսակը՝ | C45: Այլ պետական կազմակերպությունների կողմից օգտագործվող ոչ ֆինանսական ակտիվների հետ գործառնություններ
B46: Ակտիվն օգտագործող կազմակերպությունների անվանումները | C46: Նախնական մասնագիտական (արհեստագործական) և միջին մասնագիտական ուսումնական հաստատություններ
B47: Արդյունքի չափորոշիչներ
B48: ՆՄՄԿՈՒ հաստատությունների քանակ, որտեղ կատարվում են ներդրումները, հատ_x000D_ | E48: 2
...

Sheet Հավելված N 10
C1: Հավելված N 10
C2: ՀՀ կառավարության 2022 թվականի
C3: ______________ ի ___Ն որոշման
B6: ՀԱՅԱՍՏԱՆԻ ՀԱՆՐԱՊԵՏՈՒԹՅԱՆ ԿԱՌԱՎԱՐՈՒԹՅԱՆ 2021 ԹՎԱԿԱՆԻ ԴԵԿՏԵՄԲԵՐԻ 23-Ի N 2121-Ն ՈՐՈՇՄԱՆ N 9.1 ՀԱՎԵԼՎԱԾԻ N 9.1.14, 9.1.42, 9.1.52 ԵՎ 9․1.59 ԱՂՅՈՒՍԱԿՆԵՐՈՒՄ ԿԱՏԱՐՎՈՂ ՓՈՓՈԽՈՒԹՅՈՒՆՆԵՐԸ ԵՎ ԼՐԱՑՈՒՄՆԵՐԸ
A9: Աղյուսակ 9․1.14
C10: ՀՀ կրթության, գիտության, մշակույթի և սպորտի նախարարություն
B11: ՄԱՍ 1. ՊԵՏԱԿԱՆ ՄԱՐՄՆԻ ԳԾՈՎ ԱՐԴՅՈՒՆՔԱՅԻՆ (ԿԱՏԱՐՈՂԱԿԱՆ) ՑՈՒՑԱՆԻՇՆԵՐԸ
B14: Ծրագրի դասիչը | C14: Ծրագրի անվանումը
B15: 1041 | C15: Մեծ նվաճումների սպորտ
B17: Ծրագրի միջոցառումները
B18: Ծրագրի դասիչը՝ | C18: 1041 | D18: Ցուցանիշների փոփոխությունը (ավելացումները նշված են դրական նշանով)
B19: Միջոցառման դասիչը՝ | C19: 32001 | D19: Ինն ամիս | E19: Տարի
B20: Միջոցառման անվանումը՝ | C20: Մանկապատանեկան մարզադպրոցներին, մարզաձևերի ազգային ֆեդերացիաներին և այլ մարզական հասարակական կազմակերպություններին գույքով ապահովում
B21: Նկարագրությունը՝ | C21: Սպորտի զարգացման նպատակով մարզադպրոցներին, ազգային ֆեդերացիաներին և այլ մարզական հասարակական կազմակերպություններին մարզական և այլ անհրաժեշտ գույքի տրամադրում
B22: Միջոցառման տեսակը՝ | C22: Այլ պետական կազմակերպությունների կողմից օգտագործվող ոչ ֆինանսական ակտիվների հետ գործառնություններ
B23: Ակտիվն օգտագործող կազմակերպությունների անվանումները | C23: Մարզական հաստատություններ
B24: Արդյունքի չափորոշիչներ
B25: Միջոցառման վրա կատարվող ծախսը (հազար դրամ) | D25: =+'Հավելված N 4'!G25 -> 600540.5 | E25: =+'Հավելված N 4'!H25 -> 931442.18
B27: Ծրագրի դասիչը | C27: Ծրագրի անվանումը
B28: 1045 | C28: Նախնական (արհեստագործական) և միջին մասնագիտական կրթություն
B30: Ծրագրի միջոցառումները
B31: Ծրագրի դասիչը՝ | C31: 1045 | D31: Ցուցանիշների փոփոխությունը (ավելացումները նշված են դրական նշանով, իսկ նվազեցումները՝ փակագծերում)
B32: Միջոցառման դասիչը՝ | C32: 32001 | D32: Ինն ամիս | E32: Տարի
B33: Միջոցառման անվանումը՝ | C33: Նախնական մասնագիտական (արհեստագործական) և միջին մասնագիտական ուսումնական հաստատությունների շենքային պայմանների բարելավում
B34: Նկարագրությունը՝ | C34: ՆՄՄԿՈՒ հաստատությունների շենքերի հիմնանորոգման և նախագծման (շինարարական աշխատանքներ, ջեռուցման համակարգի ստեղծում, ներքին հարդարում, տարածքի բարեկարգում) աշխատանքների իրականացում
B35: Միջոցառման տեսակը՝ | C35: Այլ պետական կազմակերպությունների կողմից օգտագործվող ոչ ֆինանսական ակտիվների հետ գործառնություններ
B36: Ակտիվն օգտագործող կազմակերպությունների անվանումները | C36: Նախնական մասնագիտական (արհեստագործական) և միջին մասնագիտական ուսումնական հաստատություններ
B37: Արդյունքի չափորոշիչներ
B38: Հիմնանորոգվող միջին մասնագիտական ուսումնական հաստատությունների քանակ, հատ | E38: 1
B39: Հաստատությունների քանակ, որոնց շինարարական աշխատանքների ավարտվածության աստիճանը 100% է, հատ | E39: 1
B40: Միջոցառման վրա կատարվող ծախսը (հազար դրամ) | D40: =+'Հավելված N 4'!G153 -> 0 | E40: =+'Հավելված N 4'!H153 -> 41739
B42: Ծրագրի միջոցառումները
B43: Ծրագրի դասիչը՝ | C43: 1045 | D43: Ցուցանիշների փոփոխությունը (ավելացումները նշված են դրական նշանով)
B44: Միջոցառման դասիչը՝ | C44: 32004 | D44: Ինն ամիս | E44: Տարի
B45: Միջոցառման անվանումը՝ | C45: Նախնական մասնագիտական (արհեստագործական) և միջին մասնագիտական ուսումնական հաստատություններում ուսումնարտադրական բազայով ապահովում
B46: Նկարագրությունը՝ | C46: ՆՄՄԿՈՒ հաստատություններում ուսումնարտադրական բազայով ապահովման աշխատանքների իրականացում
B47: Միջոցառման տեսակը՝ | C47: Այլ պետական կազմակերպությունների կողմից օգտագործվող ոչ ֆինանսական ակտիվների հետ գործառնություններ
B48: Ակտիվն օգտագործող կազմակերպությունների անվանումները | C48: Նախնական մասնագիտական (արհեստագործական) և միջին մասնագիտական ուսումնական հաստատություններ
B49: Արդյունքի չափորոշիչներ
B50: ՆՄՄԿՈՒ հաստատությունների քանակ, որտեղ կատարվում են ներդրումները, հատ_x000D_ | E50: 2
...

Sheet Հավելված N 11
H1: Հավելված N 11
H2: ՀՀ կառավարության 2022 թվականի
H3: ______________ ի ___Ն որոշման
A5: ՀԱՅԱՍՏԱՆԻ ՀԱՆՐԱՊԵՏՈՒԹՅԱՆ ԿԱՌԱՎԱՐՈՒԹՅԱՆ 2021 ԹՎԱԿԱՆԻ ԴԵԿՏԵՄԲԵՐԻ 23-Ի N 2121-Ն ՈՐՈՇՄԱՆ N 10 ՀԱՎԵԼՎԱԾՈՒՄ ԿԱՏԱՐՎՈՂ ՓՈՓՈԽՈՒԹՅՈՒՆՆԵՐԸ ԵՎ ԼՐԱՑՈՒՄՆԵՐԸ
A7: Կոդը | B7: Անվանումը | E7: Գնման ձևը | F7: Չափման միավորը | G7: Միավորի գինը | H7: Ցուցանիշների փոփոխությունը (ավելացումները նշված են դրական նշանով, իսկ նվազեցումները՝ փակագծերում)
H8: Քանակը | I8: Գումարը (հազար դրամ)
A9: 1 | B9: 2 | E9: 3 | F9: 4 | G9: 5 | H9: 6 | I9: 7
A10: ՀՀ կրթության, գիտության, մշակույթի և սպորտի նախարարություն | I10: =+I11+I112+I123+I127+I147+I157+I162+I169 -> 656175.08
A11: Բաժին N 08 | B11: Խումբ N 01 | C11: Դաս N 01 | D11: Հանգստի և սպորտի ծառայություններ | I11: =+I12 -> 330901.68
A12: 1041-32001 | B12: Մանկապատանեկան մարզադպրոցներին, մարզաձևերի ազգային ֆեդերացիաներին և այլ մարզական հասարակական կազմակերպություններին գույքով ապահովում | I12: =+I13 -> 330901.68
B13: ՄԱՍ I. ԱՊՐԱՆՔՆԵՐ | I13: =SUM(I14:I111) -> 330901.68
A14: 37411630 | B14: թեթև աթլետիկայի սարքեր | E14: ԷԱՃ | F14: հատ | G14: 174000 | H14: 12 | I14: =+G14*H14/1000 -> 2088
A15: 37451620 | B15: նիզակներ նետման համար | E15: ԷԱՃ | F15: հատ | G15: 196000 | H15: 1 | I15: =+G15*H15/1000 -> 196
A16: 37451620 | B16: նիզակներ նետման համար | E16: ԷԱՃ | F16: հատ | G16: 188000 | H16: 4 | I16: =+G16*H16/1000 -> 752
A17: 37411630 | B17: թեթև աթլետիկայի սարքեր | E17: ԷԱՃ | F17: հատ | G17: 7200000 | H17: 1 | I17: =+G17*H17/1000 -> 7200
A18: 37411630 | B18: թեթև աթլետիկայի սարքեր | E18: ԷԱՃ | F18: հատ | G18: 131000 | H18: 4 | I18: =+G18*H18/1000 -> 524
A19: 39531700 | B19: ուղեգորգեր | E19: ԷԱՃ | F19: մ2 | G19: 28817 | H19: 93 | I19: =+G19*H19/1000 -> 2679.981
A20: 37411130 | B20: դահուկներ | E20: ԷԱՃ | F20: հատ | G20: 266400 | H20: 14 | I20: =+G20*H20/1000 -> 3729.6
A21: 37411130 | B21: դահուկներ | E21: ԷԱՃ | F21: հատ | G21: 279000 | H21: 14 | I21: =+G21*H21/1000 -> 3906
A22: 34521140 | B22: այլ մասնագիտացված նավակներ | E22: ԷԱՃ | F22: հատ | G22: 2976000 | H22: 2 | I22: =+G22*H22/1000 -> 5952
A23: 34521140 | B23: այլ մասնագիտացված նավակներ | E23: ԷԱՃ | F23: հատ | G23: 3390000 | H23: 2 | I23: =+G23*H23/1000 -> 6780
A24: 37451413 | B24: բասկետբոլի կանգնակ | E24: ԷԱՃ | F24: զույգ | G24: 96000 | H24: 10 | I24: =+G24*H24/1000 -> 960
A25: 37451420 | B25: բասկետբոլի ամբողջական խաղային կոմպլեքսներ | E25: ԷԱՃ | F25: հատ | G25: 950000 | H25: 2 | I25: =+G25*H25/1000 -> 1900
... A111: 35321110 | B111: ատրճանակներ | E111: ԳՀ | F111: հատ | G111: 1110000 | H111: 1 | I111: =+G111*H111/1000 -> 1110
A112: Բաժին N 08 | B112: Խումբ N 02 | C112: Դաս N 01 | D112: Գրադարաններ | I112: =+I113+I117 -> 103633.8
A113: 1124-32001 | B113: Հանրային գրադարանների նյութատեխնիկական բազայի զարգացում | I113: =+I114 -> 43800
B114: ՄԱՍ I. ԱՊՐԱՆՔՆԵՐ | I114: =SUM(I115:I116) -> 43800
A115: 48821200 | B115: համակարգչային սերվերեր | E115: ԷԱՃ | F115: հատ | G115: 34200000 | H115: 1 | I115: =+H115*G115/1000 -> 34200
A116: 30211280 | B116: համակարգիչ ամբողջը մեկում | E116: ԷԱՃ | F116: հատ | G116: 400000 | H116: 24 | I116: =+H116*G116/1000 -> 9600
A117: 1124-32002 | B117: Ներդրումներ գրադարանների հիմնանորոգման համար | I117: =+I118+I120 -> 59833.8
B118: ՄԱՍ II. ԱՇԽԱՏԱՆՔՆԵՐ | I118: =+I119 -> 58522.4
A119: 45231129 | B119: ջեռուցման հետ կապված աշխատանքներ | E119: ԳՀ | F119: դրամ | G119: 58522380 | H119: 1 | I119: 58522.4
B120: ՄԱՍ III. ԾԱՌԱՅՈՒԹՅՈՒՆՆԵՐ | I120: =SUM(I121:I122) -> 1311.4
A121: 71351540 | B121: տեխնիկական հսկողության ծառայություններ | E121: ԳՀ | F121: դրամ | G121: 1008780 | H121: 1 | I121: 1008.8
A122: 98111140 | B122: հեղինակային հսկողության ծառայություններ | E122: ՄԱ | F122: դրամ | G122: 302630 | H122: 1 | I122: 302.6
A123: Բաժին N 08 | B123: Խումբ N 02 | C123: Դաս N 02 | D123: Թանգարաններ | I123: =+I124 -> 43600
A124: 1075-32008 | B124: Թանգարանների և պատկերասրահների գույքային և տեխնիկական հագեցվածության բարելավում | I124: =+I125 -> 43600
B125: ՄԱՍ I. ԱՊՐԱՆՔՆԵՐ | I125: =SUM(I126:I126) -> 43600
A126: 30211280 | B126: համակարգիչ ամբողջը մեկում | E126: ԷԱՃ | F126: հատ | G126: 400000 | H126: 109 | I126: =+H126*G126/1000 -> 43600
A127: Բաժին N 08 | B127: Խումբ N 02 | C127: Դաս N 04 | D127: Այլ մշակութային կազմակերպություններ | I127: =+I128 -> 11381.1
...

Sheet Հավելված N 12
C1: Հավելված N 12
C2: ՀՀ կառավարության 2022 թվականի
C3: ______________ ի ___Ն որոշման
A6: «ՀԱՅԱUՏԱՆԻ ՀԱՆՐԱՊԵՏՈՒԹՅԱՆ 2022 ԹՎԱԿԱՆԻ ՊԵՏԱԿԱՆ ԲՅՈՒՋԵԻ ՄԱUԻՆ» ՀԱՅԱUՏԱՆԻ ՀԱՆՐԱՊԵՏՈՒԹՅԱՆ OՐԵՆՔԻ N 6 ՀԱՎԵԼՎԱԾՈՒՄ ԿԱՏԱՐՎՈՂ ՓՈՓՈԽՈՒԹՅՈՒՆՆԵՐԸ
B7: հազար դրամներով
B8: ԲԳԿ/Միջոցառում | C8: Ցուցանիշների փոփոխությունը (նվազեցումները նշված են փակագծերում)
C9: Ընդամենը
B10: ԸՆԴԱՄԵՆԸ | C10: =+C12 -> -59827
B11: այդ թվում՝
A12: 6 | B12: ՀՀ կրթության, գիտության, մշակույթի և սպորտի նախարարություն | C12: =SUM(C14:C15) -> -59827
B13: այդ թվում`
A14: 6.3 | B14: Թանգարանների և պատկերասրահների գույքային և տեխնիկական հագեցվածության բարելավում | C14: =-'Հավելված N 3'!E67 -> -43600
A15: 6.8 | B15: Թատերահամերգային կազմակերպությունների նյութատեխնիկական բազայի համալրում | C15: =-'Հավելված N 3'!E163 -> -16227

Sheet Հավելված N 13
G1: Հավելված N 13
H2: ՀՀ կառավարության 2022 թվականի
H3: ______________ ի ___Ն որոշման
A6: ՀԱՅԱՍՏԱՆԻ ՀԱՆՐԱՊԵՏՈՒԹՅԱՆ 2022 ԹՎԱԿԱՆԻ ՊԵՏԱԿԱՆ ԲՅՈՒՋԵՈՎ ՆԱԽԱՏԵՍՎԱԾ՝ ՀԱՅԱՍՏԱՆԻ ՀԱՆՐԱՊԵՏՈՒԹՅԱՆ ԿԱՌԱՎԱՐՈՒԹՅԱՆ ՊԱՀՈՒՍՏԱՅԻՆ ՖՈՆԴԻՑ ՀԱՏԿԱՑՈՒՄՆԵՐ ԿԱՏԱՐԵԼՈՒ ՎԵՐԱԲԵՐՅԱԼ
H9: հազ. դրամներով
A10: Գործառական դասիչը | D10: Ծրագրային դասիչը | F10: Բյուջետային հատկացումների գլխավոր կարգադրիչների, ծրագրերի, միջոցառումների և միջոցառումները կատարող պետական մարմինների անվանումները | G10: Ցուցանիշների փոփոխությունը (ավելացումները նշված են դրական նշանով, իսկ նվազեցումները՝ փակագծերում)
A11: Բաժին | B11: Խումբ | C11: Դաս | D11: Ծրագիր | E11: Միջոցառում | G11: Ինն ամիս | H11: Տարի
F12: ԸՆԴԱՄԵՆԸ | G12: =+G34+G14 -> 0 | H12: =+H34+H14 -> 0
F13: այդ թվում
F14: ՀՀ ԿԱՌԱՎԱՐՈՒԹՅՈՒՆ | G14: =+G15 -> -600540.5 | H14: =+H15 -> -1073197.1
A15: 11 | F15: ՀԻՄՆԱԿԱՆ ԲԱԺԻՆՆԵՐԻՆ ՉԴԱՍՎՈՂ ՊԱՀՈՒՍՏԱՅԻՆ ՖՈՆԴԵՐ | G15: =+G17 -> -600540.5 | H15: =+H17 -> -1073197.1
F16: այդ թվում`
B17: 01 | F17: ՀՀ կառավարության և համայնքների պահուստային ֆոնդ | G17: =+G19 -> -600540.5 | H17: =+H19 -> -1073197.1
F18: այդ թվում`
C19: 01 | F19: ՀՀ կառավարության պահուստային ֆոնդ | G19: =+G21 -> -600540.5 | H19: =+H21 -> -1073197.1
F20: այդ թվում`
F21: ՀՀ կառավարություն | G21: =+G23 -> -600540.5 | H21: =+H23 -> -1073197.1
F22: այդ թվում`
D23: 1139 | E23: ՀՀ կառավարության պահուստային ֆոնդ | F23: ՀՀ կառավարության պահուստային ֆոնդ | G23: =+G25 -> -600540.5 | H23: =+H25 -> -1073197.1
F24: այդ թվում`
E25: 11001 | F25: ՀՀ կառավարության պահուստային ֆոնդ | G25: =+G27 -> -600540.5 | H25: =+H27 -> -1073197.1
F26: այդ թվում` ըստ կատարողների
F27: ՀՀ կառավարություն | G27: =+G29 -> -600540.5 | H27: =+H29 -> -1073197.1
F28: այդ թվում` բյուջետային ծախսերի տնտեսագիտական դասակարգման հոդվածներ
F29: ԸՆԴԱՄԵՆԸ ԾԱԽՍԵՐ | G29: =+G30 -> -600540.5 | H29: =+H30 -> -1073197.1
F30: ԸՆԹԱՑԻԿ ԾԱԽՍԵՐ | G30: =+G31 -> -600540.5 | H30: =+H31 -> -1073197.1
F31: ԱՅԼ ԾԱԽՍԵՐ | G31: =+G32 -> -600540.5 | H31: =+H32 -> -1073197.1
F32: Պահուստային միջոցներ | G32: =+'Հավելված N 4'!G335 -> -600540.5 | H32: =+'Հավելված N 4'!H335 -> -1073197.1
F34: ՀՀ ԿՐԹՈՒԹՅԱՆ, ԳԻՏՈՒԹՅԱՆ, ՄՇԱԿՈՒՅԹԻ ԵՎ ՍՊՈՐՏԻ ՆԱԽԱՐԱՐՈՒԹՅՈՒՆ | G34: =+G35+G105 -> 600540.5 | H34: =+H35+H105 -> 1073197.1
A35: 08 | F35: ՀԱՆԳԻՍՏ, ՄՇԱԿՈՒՅԹ ԵՎ ԿՐՈՆ | G35: =+G37+G58 -> 600540.5 | H35: =+H37+H58 -> 1046257.1
F36: այդ թվում`
B37: 01 | F37: Հանգստի և սպորտի ծառայություններ | G37: =+G39 -> 600540.5 | H37: =+H39 -> 931442.18
F38: այդ թվում`
C39: 01 | F39: Հանգստի և սպորտի ծառայություններ | G39: =+G41 -> 600540.5 | H39: =+H41 -> 931442.18
F40: այդ թվում`
F41: ՀՀ կրթության, գիտության, մշակույթի և սպորտի նախարարություն | G41: =+G43 -> 600540.5 | H41: =+H43 -> 931442.18
F42: այդ թվում`
D43: 1041 | E43: Մեծ նվաճումների սպորտ | G43: =+G45 -> 600540.5 | H43: =+H45 -> 931442.18
F44: այդ թվում`
E45: 32001 | F45: Մանկապատանեկան մարզադպրոցներին, մարզաձևերի ազգային ֆեդերացիաներին և այլ մարզական հասարակական կազմակերպություններին գույքով ապահովում | G45: =+G47 -> 600540.5 | H45: =+H47 -> 931442.18
...
