Workbook
Name a: #REF!
Name a: #REF!
Name a: #REF!
Name a: #REF!
Name a: #REF!
Name AgencyCode: #REF!
Name AgencyCode: #REF!
Name AgencyCode: #REF!
Name AgencyCode: #REF!
Name AgencyCode: #REF!
Name AgencyCode: #REF!
Name AgencyName: #REF!
Name AgencyName: #REF!
Name AgencyName: #REF!
Name AgencyName: #REF!
Name AgencyName: #REF!
Name AgencyName: #REF!
Name davit: #REF!
Name davit: #REF!
Name davit: #REF!
Name davit: #REF!
Name davit: #REF!
Name Functional1: #REF!
Name Functional1: #REF!
Name Functional1: #REF!
Name Functional1: #REF!
Name Functional1: #REF!
Name Functional1: #REF!
Name ggg: #REF!
Name ggg: #REF!
Name ggg: #REF!
Name ggg: #REF!
Name ggg: #REF!
Name PANature: #REF!
Name PANature: #REF!
Name PANature: #REF!
Name PANature: #REF!
Name PANature: #REF!
Name PANature: #REF!
Name PAType: #REF!
Name PAType: #REF!
Name PAType: #REF!
Name PAType: #REF!
Name PAType: #REF!
Name PAType: #REF!
Name Performance2: #REF!
Name Performance2: #REF!
Name Performance2: #REF!
Name Performance2: #REF!
Name Performance2: #REF!
Name Performance2: #REF!
Name PerformanceType: #REF!
Name PerformanceType: #REF!
Name PerformanceType: #REF!
Name PerformanceType: #REF!
Name PerformanceType: #REF!
Name PerformanceType: #REF!
Name Հավելված: #REF!
Name Հավելված: #REF!
Name Հավելված: #REF!

Sheet Հավելված N 1
A1: Հավելված N 1
A2: ՀՀ կառավարության 2022 թվականի
A3: ______________ ի ___Ն որոշման
A7: «ՀԱՅԱՍՏԱՆԻ ՀԱՆՐԱՊԵՏՈՒԹՅԱՆ 2022 ԹՎԱԿԱՆԻ ՊԵՏԱԿԱՆ ԲՅՈՒՋԵԻ ՄԱՍԻՆ» ՀԱՅԱՍՏԱՆԻ ՀԱՆՐԱՊԵՏՈՒԹՅԱՆ ՕՐԵՆՔԻ 2-ՐԴ ՀՈԴՎԱԾԻ ԱՂՅՈՒՍԱԿՈՒՄ ԿԱՏԱՐՎՈՂ ՓՈՓՈԽՈՒԹՅՈՒՆՆԵՐԸ
B9: հազար դրամներով
B10: Ցուցանիշների փոփոխությունը (նվազեցումները նշված են փակագծերում)
A11: Եկամուտների գծով | B11: =+'Հավելված N 2'!C12 -> -1044331.2
A12: Ծախսերի գծով | B12: =+'Հավելված N 3'!E12 -> -1044331.2
A13: Դեֆիցիտը (պակասուրդը) | B13: =+B12-B11 -> 0

Sheet Հավելված N 2
A1: Հավելված N 2
A2: ՀՀ կառավարության 2022 թվականի
A3: ______________ ի ___Ն որոշման
A7: «ՀԱՅԱՍՏԱՆԻ ՀԱՆՐԱՊԵՏՈՒԹՅԱՆ 2022 ԹՎԱԿԱՆԻ ՊԵՏԱԿԱՆ ԲՅՈՒՋԵԻ ՄԱՍԻՆ» ՀԱՅԱՍՏԱՆԻ ՀԱՆՐԱՊԵՏՈՒԹՅԱՆ ՕՐԵՆՔԻ 6-ՐԴ ՀՈԴՎԱԾԻ ԱՂՅՈՒՍԱԿՈՒՄ ԵՎ ՀԱՅԱՍՏԱՆԻ ՀԱՆՐԱՊԵՏՈՒԹՅԱՆ ԿԱՌԱՎԱՐՈՒԹՅԱՆ 2021 ԹՎԱԿԱՆԻ ԴԵԿՏԵՄԲԵՐԻ 23-Ի N 2121-Ն ՈՐՈՇՄԱՆ N 2 ՀԱՎԵԼՎԱԾԻ ԱՂՅՈՒՍԱԿՈՒՄ ԿԱՏԱՐՎՈՂ ՓՈՓՈԽՈՒԹՅՈՒՆԸ
C9: հազար դրամներով
A10: Պետական բյուջեի դեֆիցիտի ֆինանսավորման աղբյուրներն ու դրանց տարրերի անվանումները | B10: Ցուցանիշների փոփոխությունը (նվազեցումները նշված են փակագծերում)
B11: Ինն ամիս | C11: Տարի
A12: ՊԵՏԱԿԱՆ ԲՅՈՒՋԵԻ ԵԿԱՄՈՒՏՆԵՐ | B12: =+B13 -> 0 | C12: =+C13 -> -1044331.2
A13: Ընդամենը՝ | B13: =+B14 -> 0 | C13: =+C14 -> -1044331.2
A14: Պաշտոնական դրամաշնորհներ | B14: =+'Հավելված N 8'!D12 -> 0 | C14: =+'Հավելված N 8'!G12 -> -1044331.2

Sheet Հավելված N 3
C1: Հավելված N 3
C2: ՀՀ կառավարության 2022 թվականի
C3: ______________ ի ___Ն որոշման
A6: «ՀԱՅԱUՏԱՆԻ ՀԱՆՐԱՊԵՏՈՒԹՅԱՆ 2022 ԹՎԱԿԱՆԻ ՊԵՏԱԿԱՆ ԲՅՈՒՋԵԻ ՄԱUԻՆ» ՀԱՅԱUՏԱՆԻ ՀԱՆՐԱՊԵՏՈՒԹՅԱՆ OՐԵՆՔԻ N 1 ՀԱՎԵԼՎԱԾԻ N 2 ԱՂՅՈՒՍԱԿՈՒՄ ԿԱՏԱՐՎՈՂ ՎԵՐԱԲԱՇԽՈՒՄԸ ԵՎ ՀԱՅԱՍՏԱՆԻ ՀԱՆՐԱՊԵՏՈՒԹՅԱՆ ԿԱՌԱՎԱՐՈՒԹՅԱՆ 2021 ԹՎԱԿԱՆԻ ԴԵԿՏԵՄԲԵՐԻ 23-Ի N 2121-Ն ՈՐՈՇՄԱՆ N 5 ՀԱՎԵԼՎԱԾԻ N 1 ԱՂՅՈՒՍԱԿՈՒՄ ԿԱՏԱՐՎՈՂ ՓՈՓՈԽՈՒԹՅՈՒՆՆԵՐԸ ԵՎ ԼՐԱՑՈՒՄՆԵՐԸ
E9: հազ. դրամներով
A10: Ծրագրային դասիչը | C10: Բյուջետային հատկացումների գլխավոր կարգադրիչների, ծրագրերի և միջոցառումների անվանումները | D10: Ցուցանիշների փոփոխությունը (ավելացումները նշված են դրական նշանով, իսկ նվազեցումները՝ փակագծերում)
A11: Ծրագիր | B11: Միջոցառում | D11: Ինն ամիս | E11: Տարի
A12: 1192 | C12: ԸՆԴԱՄԵՆԸ | D12: =+D14+D225 -> 0 | E12: =+E14+E225 -> -1044331.2
C13: այդ թվում
C14: ՀՀ ԿՐԹՈՒԹՅԱՆ, ԳԻՏՈՒԹՅԱՆ, ՄՇԱԿՈՒՅԹԻ ԵՎ ՍՊՈՐՏԻ ՆԱԽԱՐԱՐՈՒԹՅՈՒՆ | D14: =+D16+D29+D54+D79+D92+D111+D124+D137+D156+D169+D206 -> -1143625.9 | E14: =+E16+E29+E54+E79+E92+E111+E124+E137+E156+E169+E206 -> -2178211.1
A15: 1041 | C15: Ծրագրի անվանումը`
C16: Մեծ նվաճումների սպորտ | D16: =+D23 -> 600540.5 | E16: =+E23 -> 931442.18
C17: Ծրագրի նպատակը`
C18: Նպաստել Հայաստանում մեծ սպորտի շարունակական զարգացմանը և միջազգային հարթակներում ՀՀ դիրքի բարելավմանը
C19: Վերջնական արդյունքի նկարագրությունը`
C20: ՀՀ առաջնությունների ընդլայնում, միջազգային սպորտային միջոցառումներին մասնակցության և նվաճումների ապահովում
C21: Ծրագրի միջոցառումներ
B22: 32001 | C22: Միջոցառման անվանումը`
C23: Մանկապատանեկան մարզադպրոցներին, մարզաձևերի ազգային ֆեդերացիաներին և այլ մարզական հասարակական կազմակերպություններին գույքով ապահովում | D23: =+'Հավելված N 4'!G23 -> 600540.5 | E23: =+'Հավելված N 4'!H23 -> 931442.18
C24: Միջոցառման նկարագրությունը`
C25: Սպորտի զարգացման նպատակով մարզադպրոցներին, ազգային ֆեդերացիաներին և այլ մարզական հասարակական կազմակերպություններին մարզական և այլ անհրաժեշտ գույքի տրամադրում
C26: Միջոցառման տեսակը
C27: Այլ պետական կազմակերպությունների կողմից օգտագործվող ոչ ֆինանսական ակտիվների հետ գործառնություններ
A28: 1045 | C28: Ծրագրի անվանումը`
C29: Նախնական (արհեստագործական) և միջին մասնագիտական կրթություն | D29: =+D36+D42+D48 -> -189624.1 | E29: =+E36+E42+E48 -> -333845.2
C30: Ծրագրի նպատակը`
C31: Աշխատաշուկայի արդի պահանջներին համապատասխան նախնական մասնագիտական (արհեստագործական) և միջին մասնագիտական կրթության որակավորում ունեցող մասնագետների պատրաստում, կրթության մատչելիության ապահովում:
C32: Վերջնական արդյունքի նկարագրությունը`
C33: Նախնական (արհեստագործական) և միջին մասնագիտական կրթության գրավչության բարձրացում, մատչելի և մրցունակ նախնական (արհեստագործական) և միջին մասնագիտական կրթության ապահովում
C34: Ծրագրի միջոցառումներ
B35: 32001 | C35: Միջոցառման անվանումը`
C36: Նախնական մասնագիտական (արհեստագործական) և միջին մասնագիտական ուսումնական հաստատությունների շենքային պայմանների բարելավում | D36: =+'Հավելված N 4'!G151 -> -129825.2 | E36: =+'Հավելված N 4'!H151 -> -217911.4
C37: Միջոցառման նկարագրությունը`
C38: ՆՄՄԿՈՒ հաստատությունների շենքերի հիմնանորոգման և նախագծման (շինարարական աշխատանքներ, ջեռուցման համակարգի ստեղծում, ներքին հարդարում, տարածքի բարեկարգում) աշխատանքների իրականացում
C39: Միջոցառման տեսակը
C40: Այլ պետական կազմակերպությունների կողմից օգտագործվող ոչ ֆինանսական ակտիվների հետ գործառնություններ
B41: 32004 | C41: Միջոցառման անվանումը`
C42: Նախնական մասնագիտական (արհեստագործական) և միջին մասնագիտական ուսումնական հաստատություններում ուսումնարտադրական բազայով ապահովում | D42: =+'Հավելված N 4'!G167 -> 0 | E42: =+'Հավելված N 4'!H167 -> 60165.1
C43: Միջոցառման նկարագրությունը`
C44: ՆՄՄԿՈՒ հաստատություններում ուսումնարտադրական բազայով ապահովման աշխատանքների իրականացում
C45: Միջոցառման տեսակը
C46: Այլ պետական կազմակերպությունների կողմից օգտագործվող ոչ ֆինանսական ակտիվների հետ գործառնություններ
B47: 32005 | C47: Միջոցառման անվանումը`
C48: Նախնական մասնագիտական (արհեստագործական) և միջին մասնագիտական ուսումնական հաստատությունների շենքերի կառուցում | D48: =+'Հավելված N 4'!G176 -> -59798.9 | E48: =+'Հավելված N 4'!H176 -> -176098.9
C49: Միջոցառման նկարագրությունը`
C50: ՆՄՄԿՈՒ հաստատություններում ուսումնարտադրական բազայով ապահովման աշխատանքների իրականացում
C51: Միջոցառման տեսակը
C52: Այլ պետական կազմակերպությունների կողմից օգտագործվող ոչ ֆինանսական ակտիվների հետ գործառնություններ
A53: 1075 | C53: Ծրագրի անվանումը`
C54: Մշակութային ժառանգության ծրագիր | D54: =+D61+D67+D73 -> 1734 | E54: =+E61+E67+E73 -> 59486.8
C55: Ծրագրի նպատակը`
C56: Մշակութային ժառանգության պահպանում, օգտագործում, համալրում և հանրահռչակում
C57: Վերջնական արդյունքի նկարագրությունը`
C58: Մշակութային ժառանգության շարունակական պահպանում, մշակութային զբոսաշրջության զարգացում և խթանում
C59: Ծրագրի միջոցառումներ
B60: 21001 | C60: Միջոցառման անվանումը`
C61: Հուշարձանների ամրակայում, նորոգում և վերականգնում | D61: =+'Հավելված N 4'!G113 -> 1734 | E61: =+'Հավելված N 4'!H113 -> 4505.7
C62: Միջոցառման նկարագրությունը`
C63: Հուշարձանների գիտանախագծային փաստաթղթերի կազմում, հրատապ ուսումնասիրում, վավերագրման և ուսումնասիրման աշխատանքներ, հետախուզում և հնագիտական պեղում, ամրակայում, նորոգում և վերականգնում
C64: Միջոցառման տեսակը
C65: Հանրության կողմից անմիջականորեն օգտագործվող ակտիվների հետ կապված միջոցառումներ
B66: 32008 | C66: Միջոցառման անվանումը`
C67: Թանգարանների և պատկերասրահների գույքային և տեխնիկական հագեցվածության բարելավում | D67: =+'Հավելված N 4'!G68 -> 0 | E67: =+'Հավելված N 4'!H68 -> 43600
C68: Միջոցառման նկարագրությունը`
C69: Թանգարանների և պատկերասրահների համար անհրաժեշտ գույքի, տեխնիկայի և սարքավորումների ձեռքբերում
C70: Միջոցառման տեսակը
C71: Այլ պետական կազմակերպությունների կողմից օգտագործվող ոչ ֆինանսական ակտիվների հետ գործառնություններ
B72: 32009 | C72: Միջոցառման անվանումը`
C73: Պատմամշակութային ժառանգության ոլորտի կազմակերպությունների գույքային ապահովվածության բարելավում | D73: =+'Հավելված N 4'!G83 -> 0 | E73: =+'Հավելված N 4'!H83 -> 11381.1
C74: Միջոցառման նկարագրությունը`
C75: Պատմամշակութային ժառանգության ոլորտի կազմակերպությունների գույքով և տեխնիկաով ապահովում
C76: Միջոցառման տեսակը
C77: Այլ պետական կազմակերպությունների կողմից օգտագործվող ոչ ֆինանսական ակտիվների հետ գործառնություններ
A78: 1111 | C78: Ծրագրի անվանումը`
C79: Բարձրագույն և հետբուհական մասնագիտական կրթության ծրագիր | D79: =+D86 -> -103032.6 | E79: =+E86 -> -206065.2
C80: Ծրագրի նպատակը`
C81: Ապահովել մատչելի, որակյալ և մրցունակ բարձրագույն և հետբուհական մասնագիտական կրթություն:
C82: Վերջնական արդյունքի նկարագրությունը`
C83: Գիտելիքների տնտեսության և գիտության զարգացման արդի պահանջներին համապատասխան բարձրագույն և հետբուհական մասնագիտական որակավորում ունեցող մասնագետների պատրաստում
C84: Ծրագրի միջոցառումներ
B85: 32001 | C85: Միջոցառման անվանումը`
C86: Բարձրագույն ուսումնական հաստատությունների և «Զեյթուն» ուսանողական ավան» հիմնադրամի շենքային պայմանների բարելավում | D86: =+'Հավելված N 4'!G187 -> -103032.6 | E86: =+'Հավելված N 4'!H187 -> -206065.2
C87: Միջոցառման նկարագրությունը`
C88: Բարձրագույն ուսումնական հաստատությունների և «Զեյթուն» ուսանողական ավան» հիմնադրամի շենքային պայմանների բարելավում
C89: Միջոցառման տեսակը
C90: Այլ պետական կազմակերպությունների կողմից օգտագործվող ոչ ֆինանսական ակտիվների հետ գործառնություններ
A91: 1124 | C91: Ծրագրի անվանումը`
C92: Գրահրատարակչության և գրադարանների ծրագիր | D92: =+D99+D105 -> 0 | E92: =+E99+E105 -> 103633.8
C93: Ծրագրի նպատակը`
C94: Նպաստել գրականության զարգացմանը, տարածմանը և հանրահռչակմանը
C95: Վերջնական արդյունքի նկարագրությունը`
C96: Գրքի և գրական արտադրանքի բազմազանության և հասանելիության ապահովում, ստեղծագործական գործընթացների խթանում
C97: Ծրագրի միջոցառումներ
B98: 32001 | C98: Միջոցառման անվանումը`
C99: Հանրային գրադարանների նյութատեխնիկական բազայի զարգացում | D99: =+'Հավելված N 4'!G44 -> 0 | E99: =+'Հավելված N 4'!H44 -> 43800
C100: Միջոցառման նկարագրությունը`
C101: Հանրային գրադարանների նյութատեխնիկական բազայի զարգացում
C102: Միջոցառման տեսակը
C103: Այլ պետական կազմակերպությունների կողմից օգտագործվող ոչ ֆինանսական ակտիվների հետ գործառնություններ
B104: 32002 | C104: Միջոցառման անվանումը`
...

Sheet Հավելված N 4
F1: Հավելված N 4
F2: ՀՀ կառավարության 2022 թվականի
F3: ______________ ի ___Ն որոշման
A5: ՀԱՅԱՍՏԱՆԻ ՀԱՆՐԱՊԵՏՈՒԹՅԱՆ ԿԱՌԱՎԱՐՈՒԹՅԱՆ 2021 ԹՎԱԿԱՆԻ ԴԵԿՏԵՄԲԵՐԻ 23-Ի N2121-Ն ՈՐՈՇՄԱՆ N 3 ԵՎ N 4 ՀԱՎԵԼՎԱԾՆԵՐՈՒՄ ԿԱՏԱՐՎՈՂ ՓՈՓՈԽՈՒԹՅՈՒՆՆԵՐԸ ԵՎ ԼՐԱՑՈՒՄՆԵՐԸ
H7: հազ. դրամներով
A8: Գործառական դասիչը | D8: Ծրագրային դասիչը | F8: Բյուջետային հատկացումների գլխավոր կարգադրիչների, ծրագրերի, միջոցառումների և միջոցառումները կատարող պետական մարմինների անվանումները | G8: Ցուցանիշների փոփոխությունը (ավելացումները նշված են դրական նշանով, իսկ նվազեցումները՝ փակագծերում)
A9: Բաժին | B9: Խումբ | C9: Դաս | D9: Ծրագիր | E9: Միջոցառում | G9: Ինն ամիս | H9: Տարի
F10: ԸՆԴԱՄԵՆԸ | G10: =+G12+G309 -> 0 | H10: =+H12+H309 -> -1044331.2
F11: այդ թվում
F12: ՀՀ ԿՐԹՈՒԹՅԱՆ, ԳԻՏՈՒԹՅԱՆ, ՄՇԱԿՈՒՅԹԻ ԵՎ ՍՊՈՐՏԻ ՆԱԽԱՐԱՐՈՒԹՅՈՒՆ | G12: =+G13+G124 -> -1143625.9 | H12: =+H13+H124 -> -2178211.1
A13: 08 | F13: ՀԱՆԳԻՍՏ, ՄՇԱԿՈՒՅԹ ԵՎ ԿՐՈՆ | G13: =+G15+G36 -> 602274.5 | H13: =+H15+H36 -> 1110789.8
F14: այդ թվում`
B15: 01 | F15: Հանգստի և սպորտի ծառայություններ | G15: =+G17 -> 600540.5 | H15: =+H17 -> 931442.18
F16: այդ թվում`
C17: 01 | F17: Հանգստի և սպորտի ծառայություններ | G17: =+G19 -> 600540.5 | H17: =+H19 -> 931442.18
F18: այդ թվում`
F19: ՀՀ կրթության, գիտության, մշակույթի և սպորտի նախարարություն | G19: =+G21 -> 600540.5 | H19: =+H21 -> 931442.18
F20: այդ թվում`
D21: 1041 | E21: Մեծ նվաճումների սպորտ | G21: =+G23 -> 600540.5 | H21: =+H23 -> 931442.18
F22: այդ թվում`
E23: 32001 | F23: Մանկապատանեկան մարզադպրոցներին, մարզաձևերի ազգային ֆեդերացիաներին և այլ մարզական հասարակական կազմակերպություններին գույքով ապահովում | G23: =+G25 -> 600540.5 | H23: =+H25 -> 931442.18
F24: այդ թվում` ըստ կատարողների
F25: ՀՀ կրթության, գիտության, մշակույթի և սպորտի նախարարություն | G25: =+G27 -> 600540.5 | H25: =+H27 -> 931442.18
F26: այդ թվում՝ բյուջետային ծախսերի տնտեսագիտական դասակարգման հոդվածներ
F27: ԸՆԴԱՄԵՆԸ ԾԱԽՍԵՐ | G27: =+G28+G32 -> 600540.5 | H27: =+H28+H32 -> 931442.18
F28: ԸՆԹԱՑԻԿ ԾԱԽՍԵՐ | G28: =+G29 -> 600540.5 | H28: =+H29 -> 600540.5
F29: ԴՐԱՄԱՇՆՈՐՀՆԵՐ | G29: =+G30 -> 600540.5 | H29: =+H30 -> 600540.5
F30: ԸՆԹԱՑԻԿ ԴՐԱՄԱՇՆՈՐՀՆԵՐ ՊԵՏԱԿԱՆ ՀԱՏՎԱԾԻ ԱՅԼ ՄԱԿԱՐԴԱԿՆԵՐԻՆ | G30: =+G31 -> 600540.5 | H30: =+H31 -> 600540.5
F31: - Այլ կապիտալ դրամաշնորհներ | G31: =+'Հավելված N 7'!G12 -> 600540.5 | H31: =+G31 -> 600540.5
F32: ՈՉ ՖԻՆԱՆՍԱԿԱՆ ԱԿՏԻՎՆԵՐԻ ԳԾՈՎ ԾԱԽՍԵՐ | G32: =+G33 -> 0 | H32: =+H33 -> 330901.68
F33: ՀԻՄՆԱԿԱՆ ՄԻՋՈՑՆԵՐ | G33: =+G34 -> 0 | H33: =+H34 -> 330901.68
F34: ՄԵՔԵՆԱՆԵՐ ԵՎ ՍԱՐՔԱՎՈՐՈՒՄՆԵՐ | G34: =+G35 -> 0 | H34: =+H35 -> 330901.68
F35: - Վարչական սարքավորումներ | G35: =+'Հավելված N 6'!E16 -> 0 | H35: =+'Հավելված N 6'!F16 -> 330901.68
B36: 02 | F36: Մշակութային ծառայություններ | G36: =+G38+G62+G77+G92+G107 -> 1734 | H36: =+H38+H62+H77+H92+H107 -> 179347.6
F37: այդ թվում`
C38: 01 | F38: Գրադարաններ | G38: =+G40 -> 0 | H38: =+H40 -> 103633.8
F39: այդ թվում`
F40: ՀՀ կրթության, գիտության, մշակույթի և սպորտի նախարարություն | G40: =+G42 -> 0 | H40: =+H42 -> 103633.8
F41: այդ թվում`
D42: 1124 | E42: Գրահրատարակչության և գրադարանների ծրագիր | G42: =+G44+G53 -> 0 | H42: =+H44+H53 -> 103633.8
F43: այդ թվում`
E44: 32001 | F44: Հանրային գրադարանների նյութատեխնիկական բազայի զարգացում | G44: =+G46 -> 0 | H44: =+H46 -> 43800
F45: այդ թվում` ըստ կատարողների
F46: ՀՀ կրթության, գիտության, մշակույթի և սպորտի նախարարություն | G46: =+G48 -> 0 | H46: =+H48 -> 43800
F47: այդ թվում՝ բյուջետային ծախսերի տնտեսագիտական դասակարգման հոդվածներ
F48: ԸՆԴԱՄԵՆԸ ԾԱԽՍԵՐ | G48: =+G49 -> 0 | H48: =+H49 -> 43800
F49: ՈՉ ՖԻՆԱՆՍԱԿԱՆ ԱԿՏԻՎՆԵՐԻ ԳԾՈՎ ԾԱԽՍԵՐ | G49: =+G50 -> 0 | H49: =+H50 -> 43800
F50: ՀԻՄՆԱԿԱՆ ՄԻՋՈՑՆԵՐ | G50: =+G51 -> 0 | H50: =+H51 -> 43800
F51: ՄԵՔԵՆԱՆԵՐ ԵՎ ՍԱՐՔԱՎՈՐՈՒՄՆԵՐ | G51: =+G52 -> 0 | H51: =+H52 -> 43800
F52: - Վարչական սարքավորումներ | G52: =+'Հավելված N 6'!E93 -> 0 | H52: =+'Հավելված N 6'!F93 -> 43800
E53: 32002 | F53: Ներդրումներ գրադարանների հիմնանորոգման համար | G53: =+G55 -> 0 | H53: =+H55 -> 59833.8
F54: այդ թվում` ըստ կատարողների
F55: ՀՀ կրթության, գիտության, մշակույթի և սպորտի նախարարություն | G55: =+G57 -> 0 | H55: =+H57 -> 59833.8
F56: այդ թվում՝ բյուջետային ծախսերի տնտեսագիտական դասակարգման հոդվածներ
F57: ԸՆԴԱՄԵՆԸ ԾԱԽՍԵՐ | G57: =+G58 -> 0 | H57: =+H58 -> 59833.8
F58: ՈՉ ՖԻՆԱՆՍԱԿԱՆ ԱԿՏԻՎՆԵՐԻ ԳԾՈՎ ԾԱԽՍԵՐ | G58: =+G59 -> 0 | H58: =+H59 -> 59833.8
F59: ՀԻՄՆԱԿԱՆ ՄԻՋՈՑՆԵՐ | G59: =+G60 -> 0 | H59: =+H60 -> 59833.8
F60: ՇԵՆՔԵՐ ԵՎ ՇԻՆՈՒԹՅՈՒՆՆԵՐ | G60: =+G61 -> 0 | H60: =+H61 -> 59833.8
F61: - Շենքերի և շինությունների կապիտալ վերանորոգում | G61: =+'Հավելված N 6'!E120 -> 0 | H61: =+'Հավելված N 6'!F120 -> 59833.8
C62: 02 | F62: Թանգարաններ և ցուցասրահներ | G62: =+G64 -> 0 | H62: =+H64 -> 43600
F63: այդ թվում`
F64: ՀՀ կրթության, գիտության, մշակույթի և սպորտի նախարարություն | G64: =+G66 -> 0 | H64: =+H66 -> 43600
F65: այդ թվում`
D66: 1075 | E66: Մշակութային ժառանգության ծրագիր | G66: =+G68 -> 0 | H66: =+H68 -> 43600
F67: այդ թվում`
E68: 32008 | F68: Թանգարանների և պատկերասրահների գույքային և տեխնիկական հագեցվածության բարելավում | G68: =+G70 -> 0 | H68: =+H70 -> 43600
F69: այդ թվում` ըստ կատարողների
F70: ՀՀ կրթության, գիտության, մշակույթի և սպորտի նախարարություն | G70: =+G72 -> 0 | H70: =+H72 -> 43600
F71: այդ թվում՝ բյուջետային ծախսերի տնտեսագիտական դասակարգման հոդվածներ
F72: ԸՆԴԱՄԵՆԸ ԾԱԽՍԵՐ | G72: =+G73 -> 0 | H72: =+H73 -> 43600
F73: ՈՉ ՖԻՆԱՆՍԱԿԱՆ ԱԿՏԻՎՆԵՐԻ ԳԾՈՎ ԾԱԽՍԵՐ | G73: =+G74 -> 0 | H73: =+H74 -> 43600
F74: ՀԻՄՆԱԿԱՆ ՄԻՋՈՑՆԵՐ | G74: =+G75 -> 0 | H74: =+H75 -> 43600
F75: ՄԵՔԵՆԱՆԵՐ ԵՎ ՍԱՐՔԱՎՈՐՈՒՄՆԵՐ | G75: =+G76 -> 0 | H75: =+H76 -> 43600
F76: - Վարչական սարքավորումներ | G76: =+'Հավելված N 6'!E55 -> 0 | H76: =+'Հավելված N 6'!F55 -> 43600
C77: 04 | F77: Այլ մշակութային կազմակերպություններ | G77: =+G79 -> 0 | H77: =+H79 -> 11381.1
F78: այդ թվում`
F79: ՀՀ կրթության, գիտության, մշակույթի և սպորտի նախարարություն | G79: =+G83 -> 0 | H79: =+H83 -> 11381.1
F80: այդ թվում`
D81: 1075 | E81: Մշակութային ժառանգության ծրագիր | G81: =+G83 -> 0 | H81: =+H83 -> 11381.1
F82: այդ թվում`
E83: 32009 | F83: Պատմամշակութային ժառանգության ոլորտի կազմակերպությունների գույքային ապահովվածության բարելավում | G83: =+G85 -> 0 | H83: =+H85 -> 11381.1
F84: այդ թվում` ըստ կատարողների
F85: ՀՀ կրթության, գիտության, մշակույթի և սպորտի նախարարություն | G85: =+G87 -> 0 | H85: =+H87 -> 11381.1
F86: այդ թվում՝ բյուջետային ծախսերի տնտեսագիտական դասակարգման հոդվածներ
F87: ԸՆԴԱՄԵՆԸ ԾԱԽՍԵՐ | G87: =+G88 -> 0 | H87: =+H88 -> 11381.1
F88: ՈՉ ՖԻՆԱՆՍԱԿԱՆ ԱԿՏԻՎՆԵՐԻ ԳԾՈՎ ԾԱԽՍԵՐ | G88: =+G89 -> 0 | H88: =+H89 -> 11381.1
F89: ՀԻՄՆԱԿԱՆ ՄԻՋՈՑՆԵՐ | G89: =+G90 -> 0 | H89: =+H90 -> 11381.1
F90: ՄԵՔԵՆԱՆԵՐ ԵՎ ՍԱՐՔԱՎՈՐՈՒՄՆԵՐ | G90: =+G91 -> 0 | H90: =+H91 -> 11381.1
F91: - Վարչական սարքավորումներ | G91: =+'Հավելված N 6'!E81 -> 0 | H91: =+'Հավելված N 6'!F81 -> 11381.1
C92: 05 | F92: Արվեստ | G92: =+G94 -> 0 | H92: =+H94 -> 16227
F93: այդ թվում`
F94: ՀՀ կրթության, գիտության, մշակույթի և սպորտի նախարարություն | G94: =+G96 -> 0 | H94: =+H96 -> 16227
F95: այդ թվում`
D96: 1168 | E96: Արվեստների ծրագիր | G96: =+G98 -> 0 | H96: =+H98 -> 16227
F97: այդ թվում`
E98: 32007 | F98: Թատերահամերգային կազմակերպությունների նյութատեխնիկական բազայի համալրում | G98: =+G100 -> 0 | H98: =+H100 -> 16227
F99: այդ թվում` ըստ կատարողների
F100: ՀՀ կրթության, գիտության, մշակույթի և սպորտի նախարարություն | G100: =+G102 -> 0 | H100: =+H102 -> 16227
F101: այդ թվում՝ բյուջետային ծախսերի տնտեսագիտական դասակարգման հոդվածներ
F102: ԸՆԴԱՄԵՆԸ ԾԱԽՍԵՐ | G102: =+G103 -> 0 | H102: =+H103 -> 16227
...

Sheet Հավելված N 5
F1: Հավելված N 5
F2: ՀՀ կառավարության 2022 թվականի
F3: ______________ ի ___Ն որոշման
A5: «ՀԱՅԱUՏԱՆԻ ՀԱՆՐԱՊԵՏՈՒԹՅԱՆ 2022 ԹՎԱԿԱՆԻ ՊԵՏԱԿԱՆ ԲՅՈՒՋԵԻ ՄԱUԻՆ» ՀԱՅԱUՏԱՆԻ ՀԱՆՐԱՊԵՏՈՒԹՅԱՆ OՐԵՆՔԻ N 1 ՀԱՎԵԼՎԱԾԻ N 3 ԱՂՅՈՒՍԱԿՈՒՄ ԿԱՏԱՐՎՈՂ ՓՈՓՈԽՈՒԹՅՈՒՆՆԵՐԸ ԵՎ ԼՐԱՑՈՒՄՆԵՐԸ
H8: հազ. դրամներով
A9: Ծրագրային դասիչ | C9: Բյուջետային գլխավոր կարգադրիչների, ծրագրերի, միջոցառումների և ուղղությունների անվանումները | D9: Ընդամենը | E9: Ցուցանիշների փոփոխությունը (ավելացումները նշված են դրական նշանով, իսկ նվազեցումները՝ փակագծերում)
A10: Ծրագիր | B10: Միջոցառում | E10: Կառուցման աշխատանքներ | F10: Վերակառուցման, վերանորոգման և վերականգնման աշխատանքներ | G10: Նախագծահե- տազոտական, գեոդեզիա- քարտեզագրա- կան աշխա- տանքներ | H10: Ոչ ֆինանսական այլ ակտիվների ձեռքբերում
C11: ԸՆԴԱՄԵՆԸ | D11: =SUM(E11:H11) -> -1734420.4 | E11: =+E13 -> -2276073.9 | F11: =+F13 -> -57538 | G11: =+G13 -> 19193.7 | H11: =+H13 -> 579997.78
C12: այդ թվում՝
C13: ՀՀ ԿՐԹՈՒԹՅԱՆ, ԳԻՏՈՒԹՅԱՆ, ՄՇԱԿՈՒՅԹԻ ԵՎ ՍՊՈՐՏԻ ՆԱԽԱՐԱՐՈՒԹՅՈՒՆ | D13: =SUM(E13:H13) -> -1734420.4 | E13: =+E15+E16+E22+E28+E32+E38+E62+E66+E70+E95+E99+E120+E161+E165+E169+E175+E183+E190+E195+E209 -> -2276073.9 | F13: =+F15+F16+F22+F28+F32+F38+F62+F66+F70+F95+F99+F120+F161+F165+F169+F175+F183+F190+F195+F209 -> -57538 | G13: =+G15+G16+G22+G28+G32+G38+G62+G66+G70+G95+G99+G120+G161+G165+G169+G175+G183+G190+G195+G209 -> 19193.7 | H13: =+H15+H16+H22+H28+H32+H38+H62+H66+H70+H95+H99+H120+H161+H165+H169+H175+H183+H190+H195+H209 -> 579997.78
C14: այդ թվում`
A15: 1041 | B15: 32001 | C15: Մանկապատանեկան մարզադպրոցներին, մարզաձևերի ազգային ֆեդերացիաներին և այլ մարզական հասարակական կազմակերպություններին գույքով ապահովում | D15: =+E15+F15+G15+H15 -> 330901.68 | E15: =+E17 -> 0 | F15: =+F17 -> 0 | G15: =+G17 -> 0 | H15: =+'Հավելված N 11'!I13 -> 330901.68
A16: 1045 | B16: 32001 | C16: Նախնական մասնագիտական (արհեստագործական) և միջին մասնագիտական ուսումնական հաստատությունների շենքային պայմանների բարելավում | D16: =+E16+F16+G16+H16 -> -217911.4 | E16: =+E18+E20 -> 0 | F16: =+F18+F20 -> -217911.4 | G16: =+G18+G20 -> 0 | H16: =+H18+H20 -> 0
C17: այդ թվում`
C18: ՀՀ Արմավիրի մարզ | D18: =SUM(E18:H18) -> 41739 | E18: =+E19 -> 0 | F18: =+F19 -> 41739 | G18: =+G19 -> 0 | H18: =+H19 -> 0
C19: «Էջմիածնի պետական քոլեջ» ՊՈԱԿ | D19: =+E19+F19+G19+H19 -> 41739 | F19: =+'Հավելված N 11'!I172+'Հավելված N 11'!I174+'Հավելված N 11'!I175 -> 41739
C20: ՀՀ Կոտայքի մարզ | D20: =SUM(E20:H20) -> -259650.4 | E20: =+E21 -> 0 | F20: =+F21 -> -259650.4 | G20: =+G21 -> 0 | H20: =+H21 -> 0
C21: «Նոր Գեղիի ակադեմիկոս Գ. Աղաջանյանի անվան պետական գյուղատնտեսական քոլեջ» ՊՈԱԿ | D21: =+E21+F21+G21+H21 -> -259650.4 | F21: =+'Հավելված N 11'!I194+'Հավելված N 11'!I196+'Հավելված N 11'!I197 -> -259650.4
A22: 1045 | B22: 32004 | C22: Նախնական մասնագիտական (արհեստագործական) և միջին մասնագիտական ուսումնական հաստատություններում ուսումնարտադրական բազայով ապահովում | D22: =+E22+F22+G22+H22 -> 60165.1 | E22: =+E24+E26 -> 0 | F22: =+F24+F26 -> 0 | G22: =+G24+G26 -> 0 | H22: =+H24+H26 -> 60165.1
C23: այդ թվում`
C24: ՀՀ Շիրակի մարզ | D24: =SUM(E24:H24) -> 59545.1 | E24: =+E25 -> 0 | F24: =+F25 -> 0 | G24: =+G25 -> 0 | H24: =+H25 -> 59545.1
C25: «Գյումրու N 4 արհեստագործական պետական ուսումնարան» ՊՈԱԿ | D25: =+E25+F25+G25+H25 -> 59545.1 | H25: =+'Հավելված N 11'!I178 -> 59545.1
C26: ՀՀ Տավուշի մարզ | D26: =SUM(E26:H26) -> 620 | E26: =+E27 -> 0 | F26: =+F27 -> 0 | G26: =+G27 -> 0 | H26: =+H27 -> 620
C27: «Դիլիջանի արվեստի պետական քոլեջ» ՊՈԱԿ | D27: =+E27+F27+G27+H27 -> 620 | H27: =+'Հավելված N 11'!I179+'Հավելված N 11'!I180+'Հավելված N 11'!I181 -> 620
A28: 1045 | B28: 32005 | C28: Նախնական մասնագիտական (արհեստագործական) և միջին մասնագիտական ուսումնական հաստատությունների շենքերի կառուցում | D28: =SUM(E28:H28) -> -176098.9 | E28: =+E30 -> -176098.9 | F28: =+F30 -> 0 | G28: =+G30 -> 0 | H28: =+H30 -> 0
C29: այդ թվում`
C30: ՀՀ Սյունիքի մարզ | D30: =SUM(E30:H30) -> -176098.9 | E30: =+E31 -> -176098.9 | F30: =+F31 -> 0 | G30: =+G31 -> 0 | H30: =+H31 -> 0
C31: «Գորիսի պրոֆեսոր Խ. Երիցյանի անվան պետական գյուղատնտեսական քոլեջ» ՊՈԱԿ | D31: =+E31+F31+G31+H31 -> -176098.9 | E31: =+'Հավելված N 11'!I200+'Հավելված N 11'!I202+'Հավելված N 11'!I203 -> -176098.9
A32: 1075 | B32: 21001 | C32: Հուշարձանների ամրակայում, նորոգում և վերականգնում | D32: =+E32+F32+G32+H32 -> 4505.7 | E32: =E34 -> 0 | F32: =F34 -> 0 | G32: =G34 -> 4505.7 | H32: =H34 -> 0
C33: այդ թվում`
C34: 2. Վավերագրման և ուսումնասիրման աշխատանքներ, (այդ թվում՝ հետախուզումև պեղում), գիտանախագծային փաստաթղթերի կազմում և փորձաքննում | D34: =SUM(E34:H34) -> 4505.7 | E34: =+E36 -> 0 | F34: =+F36 -> 0 | G34: =+G36 -> 4505.7 | H34: =+H36 -> 0
C35: որից`
C36: ՀՀ Արագածոտնի մարզ | D36: =SUM(E36:H36) -> 4505.7 | E36: =+E37 -> 0 | F36: =+F37 -> 0 | G36: =+G37 -> 4505.7 | H36: =+H37 -> 0
C37: Ամբերդ ամրոցի վթարային հատվածների ամրակայում և դրա տարածքների բարեկարգում | D37: =+E37+F37+G37+H37 -> 4505.7 | G37: =+'Հավելված N 11'!I160+'Հավելված N 11'!I161 -> 4505.7
A38: 1075 | B38: 32008 | C38: Թանգարանների և պատկերասրահների գույքային և տեխնիկական հագեցվածության բարելավում | D38: =+E38+F38+G38+H38 -> 43600 | E38: =+E40+E57+E59 -> 0 | F38: =+F40+F57+F59 -> 0 | G38: =+G40+G57+G59 -> 0 | H38: =+H40+H57+H59 -> 43600
C39: այդ թվում`
C40: Երևան քաղաք | D40: =SUM(E40:H40) -> 38000 | E40: =SUM(E41:E56) -> 0 | F40: =SUM(F41:F56) -> 0 | G40: =SUM(G41:G56) -> 0 | H40: =SUM(H41:H56) -> 38000
C41: «Հ. Շարամբեյանի անվան ժողովրդական արվեստների թանգարան» ՊՈԱԿ | D41: =+E41+F41+G41+H41 -> 4000 | H41: 4000
C42: «Արամ Խաչատրյանի տուն-թանգարան» ՊՈԱԿ | D42: =+E42+F42+G42+H42 -> 1200 | H42: 1200
C43: «Սերգեյ Փարաջանովի թանգարան» ՊՈԱԿ | D43: =+E43+F43+G43+H43 -> 800 | H43: 800
C44: «Հովհաննես Թումանյանի թանգարան» ՊՈԱԿ | D44: =+E44+F44+G44+H44 -> 800 | H44: 800
C45: «Եղիշե Չարենցի տուն-թանգարան» ՊՈԱԿ | D45: =+E45+F45+G45+H45 -> 1200 | H45: 1200
C46: «Երվանդ Քոչարի թանգարան» ՊՈԱԿ | D46: =+E46+F46+G46+H46 -> 400 | H46: 400
C47: «Հայաստանի պատմության թանգարան» ՊՈԱԿ | D47: =+E47+F47+G47+H47 -> 4000 | H47: 4000
C48: «Եղիշե Չարենցի անվան գրականության և արվեստի թանգարան» ՊՈԱԿ | D48: =+E48+F48+G48+H48 -> 4800 | H48: 4800
C49: «Ալեքսանդր Սպենդարյանի տուն-թանգարան» ՊՈԱԿ | D49: =+E49+F49+G49+H49 -> 1200 | H49: 1200
C50: «Ավետիք Իսահակյանի տուն-թանգարան» ՊՈԱԿ | D50: =+E50+F50+G50+H50 -> 1200 | H50: 1200
C51: «Հայ և ռուս ժողովուրդների բարեկամության թանգարան» ՊՈԱԿ | D51: =+E51+F51+G51+H51 -> 1600 | H51: 1600
C52: «Ն. Ադոնցի անվան Սիսիանի պատմության թանգարան» ՊՈԱԿ | D52: =+E52+F52+G52+H52 -> 800 | H52: 800
... C56: «Հայաստանի ազգային պատկերասրահ» ՊՈԱԿ | D56: =+E56+F56+G56+H56 -> 10800 | H56: 10800
C57: ՀՀ Արմավիրի մարզ | D57: =SUM(E57:H57) -> 4000 | E57: =+E58 -> 0 | F57: =+F58 -> 0 | G57: =+G58 -> 0 | H57: =+H58 -> 4000
C58: «Սարդարապատի հերոսամարտի հուշահամալիր, Հայոց ազգագրության և ազատագրական պայքարի պատմության ազգային թանգարան» ՊՈԱԿ | D58: =+E58+F58+G58+H58 -> 4000 | H58: 4000
C59: ՀՀ Կոտայքի մարզ | D59: =SUM(E59:H59) -> 1600 | E59: =+E60+E61 -> 0 | F59: =+F60+F61 -> 0 | G59: =+G60+G61 -> 0 | H59: =+H60+H61 -> 1600
C60: «Օրբելի եղբայրների տուն-թանգարան» ՊՈԱԿ | D60: =+E60+F60+G60+H60 -> 800 | H60: 800
C61: «Հրազդանի երկրագիտական թանգարան» ՊՈԱԿ | D61: =+E61+F61+G61+H61 -> 800 | H61: 800
A62: 1075 | B62: 32009 | C62: Պատմամշակութային ժառանգության ոլորտի կազմակերպությունների գույքային ապահովվածության բարելավում | D62: =+E62+F62+G62+H62 -> 11381.1 | E62: =+E64 -> 0 | F62: =+F64 -> 0 | G62: =+G64 -> 0 | H62: =+H64 -> 11381.1
C63: այդ թվում`
C64: Երևան քաղաք | D64: =SUM(E64:H64) -> 11381.1 | E64: =+E65 -> 0 | F64: =+F65 -> 0 | G64: =+G65 -> 0 | H64: =+H65 -> 11381.1
C65: «Պատմամշակութային ժառանգության գիտահետազոտական կենտրոն» ՊՈԱԿ | D65: =+E65+F65+G65+H65 -> 11381.1 | H65: =+'Հավելված N 11'!I129 -> 11381.1
A66: 1111 | B66: 32001 | C66: Բարձրագույն ուսումնական հաստատությունների և «Զեյթուն» ուսանողական ավան» հիմնադրամի շենքային պայմանների բարելավում | D66: =+E66+F66+G66+H66 -> -206065.2 | E66: =+E68 -> 0 | F66: =+F68 -> -206065.2 | G66: =+G68 -> 0 | H66: =+H68 -> 0
C67: այդ թվում`
C68: Երևան քաղաք | D68: =SUM(E68:H68) -> -206065.2 | E68: =SUM(E69:E69) -> 0 | F68: =SUM(F69:F69) -> -206065.2 | G68: =SUM(G69:G69) -> 0 | H68: =SUM(H69:H69) -> 0
C69: «Երևանի Կոմիտասի անվան պետական կոնսերվատորիա» ՊՈԱԿ | D69: =+E69+F69+G69+H69 -> -206065.2 | F69: =+'Հավելված N 11'!I206+'Հավելված N 11'!I208+'Հավելված N 11'!I209 -> -206065.2
A70: 1124 | B70: 32001 | C70: Հանրային գրադարանների նյութատեխնիկական բազայի զարգացում | D70: =+E70+F70+G70+H70 -> 43800 | E70: =+E72+E75+E77+E79+E81+E83+E85+E87+E89+E91+E93 -> 0 | F70: =+F72+F75+F77+F79+F81+F83+F85+F87+F89+F91+F93 -> 0 | G70: =+G72+G75+G77+G79+G81+G83+G85+G87+G89+G91+G93 -> 0 | H70: =+H72+H75+H77+H79+H81+H83+H85+H87+H89+H91+H93 -> 43800
C71: այդ թվում`
C72: Երևան քաղաք | D72: =SUM(E72:H72) -> 39800 | E72: =+E73+E74 -> 0 | F72: =+F73+F74 -> 0 | G72: =+G73+G74 -> 0 | H72: =+H73+H74 -> 39800
C73: «Հայաստանի ազգային գրադարան» ՊՈԱԿ | D73: =+E73+F73+G73+H73 -> 39000 | H73: ='Հավելված N 11'!I115+4800 -> 39000
C74: «Խնկո-Ապոր անվան ազգային մանկական գրադարան» ՊՈԱԿ | D74: =+E74+F74+G74+H74 -> 800 | H74: 800
C75: ՀՀ Արագածոտնի մարզ | D75: =SUM(E75:H75) -> 400 | E75: =+E76 -> 0 | F75: =+F76 -> 0 | G75: =+G76 -> 0 | H75: =+H76 -> 400
C76: «Վ. Պետրոսյանի անվան Արագածոտնի մարզային գրադարան» ՊՈԱԿ | D76: =+E76+F76+G76+H76 -> 400 | H76: 400
C77: ՀՀ Արարատի մարզ | D77: =SUM(E77:H77) -> 400 | E77: =+E78 -> 0 | F77: =+F78 -> 0 | G77: =+G78 -> 0 | H77: =+H78 -> 400
C78: «Օ. Չուբարյանի անվան Արարատի մարզային գրադարան» ՊՈԱԿ | D78: =+E78+F78+G78+H78 -> 400 | H78: 400
C79: ՀՀ Արմավիրի մարզ | D79: =SUM(E79:H79) -> 400 | E79: =+E80 -> 0 | F79: =+F80 -> 0 | G79: =+G80 -> 0 | H79: =+H80 -> 400
C80: «Արմավիրի մարզային գրադարան» ՊՈԱԿ | D80: =+E80+F80+G80+H80 -> 400 | H80: 400
C81: ՀՀ Գեղարքունիքի մարզ | D81: =SUM(E81:H81) -> 400 | E81: =+E82 -> 0 | F81: =+F82 -> 0 | G81: =+G82 -> 0 | H81: =+H82 -> 400
C82: «Վ. Պետրոսյանի անվան Գեղարքունիքի մարզային գրադարան» ՊՈԱԿ | D82: =+E82+F82+G82+H82 -> 400 | H82: 400
C83: ՀՀ Լոռու մարզ | D83: =SUM(E83:H83) -> 400 | E83: =+E84 -> 0 | F83: =+F84 -> 0 | G83: =+G84 -> 0 | H83: =+H84 -> 400
C84: «Լոռու մարզային գրադարան» ՊՈԱԿ | D84: =+E84+F84+G84+H84 -> 400 | H84: 400
C85: ՀՀ Կոտայքի մարզ | D85: =SUM(E85:H85) -> 400 | E85: =+E86 -> 0 | F85: =+F86 -> 0 | G85: =+G86 -> 0 | H85: =+H86 -> 400
C86: «Կոտայքի մարզային գրադարան» ՊՈԱԿ | D86: =+E86+F86+G86+H86 -> 400 | H86: 400
C87: ՀՀ Շիրակի մարզ | D87: =SUM(E87:H87) -> 400 | E87: =+E88 -> 0 | F87: =+F88 -> 0 | G87: =+G88 -> 0 | H87: =+H88 -> 400
C88: «Շիրակի մարզային գրադարան» ՊՈԱԿ | D88: =+E88+F88+G88+H88 -> 400 | H88: 400
C89: ՀՀ Սյունիքի մարզ | D89: =SUM(E89:H89) -> 400 | E89: =+E90 -> 0 | F89: =+F90 -> 0 | G89: =+G90 -> 0 | H89: =+H90 -> 400
C90: «Սյունիքի մարզային գրադարան» ՊՈԱԿ | D90: =+E90+F90+G90+H90 -> 400 | H90: 400
C91: ՀՀ Վայոց Ձորի մարզ | D91: =SUM(E91:H91) -> 400 | E91: =+E92 -> 0 | F91: =+F92 -> 0 | G91: =+G92 -> 0 | H91: =+H92 -> 400
C92: «Վայոց ձորի մարզային գրադարան» ՊՈԱԿ | D92: =+E92+F92+G92+H92 -> 400 | H92: 400
C93: ՀՀ Տավուշի մարզ | D93: =SUM(E93:H93) -> 400 | E93: =+E94 -> 0 | F93: =+F94 -> 0 | G93: =+G94 -> 0 | H93: =+H94 -> 400
C94: «Տավուշի մարզային գրադարան» ՊՈԱԿ | D94: =+E94+F94+G94+H94 -> 400 | H94: 400
A95: 1124 | B95: 32002 | C95: Ներդրումներ գրադարանների հիմնանորոգման համար | D95: =+E95+F95+G95+H95 -> 59833.8 | E95: =+E97 -> 0 | F95: =+F97 -> 59833.8 | G95: =+G97 -> 0 | H95: =+H97 -> 0
C96: այդ թվում`
C97: Երևան քաղաք | D97: =SUM(E97:H97) -> 59833.8 | E97: =+E98 -> 0 | F97: =+F98 -> 59833.8 | G97: =+G98 -> 0 | H97: =+H98 -> 0
C98: «Հայաստանի ազգային գրադարան» ՊՈԱԿ | D98: =+E98+F98+G98+H98 -> 59833.8 | F98: =+'Հավելված N 11'!I119+'Հավելված N 11'!I121+'Հավելված N 11'!I122 -> 59833.8
A99: 1146 | B99: 12010 | C99: «Մոդուլային» տիպի մանկապարտեզների շենքային ապահովում | D99: =+E99+F99+G99+H99 -> -1467324.9 | E99: =+E101+E103+E105+E109+E111+E114+E116+E118 -> -1467324.9 | F99: =+F101+F103+F105+F109+F111+F114+F116+F118 -> 0 | G99: =+G101+G103+G105+G109+G111+G114+G116+G118 -> 0 | H99: =+H101+H103+H105+H109+H111+H114+H116+H118 -> 0
C100: այդ թվում`
C101: ՀՀ Արագածոտնի մարզ | D101: =SUM(E101:H101) -> -160046.2 | E101: =+E102 -> -160046.2 | F101: =+F102 -> 0 | G101: =+G102 -> 0 | H101: =+H102 -> 0
C102: ՀՀ Արագածոտնի մարզի Ալագյազ համայնքում «Մոդուլային» տիպի 144 տեղ հզորությամբ մսուր-մանկապարտեզ | D102: =+E102+F102+G102+H102 -> -160046.2 | E102: =+'Հավելված N 11'!I215+'Հավելված N 11'!I226+'Հավելված N 11'!I237 -> -160046.2
C103: ՀՀ Արարատի մարզ | D103: =SUM(E103:H103) -> -160046.2 | E103: =+E104 -> -160046.2 | F103: =+F104 -> 0 | G103: =+G104 -> 0 | H103: =+H104 -> 0
C104: ՀՀ Արարատի մարզի Արալեզ համայնքում «Մոդուլային» տիպի 144 տեղ հզորությամբ մսուր-մանկապարտեզ | D104: =+E104+F104+G104+H104 -> -160046.2 | E104: =+'Հավելված N 11'!I216+'Հավելված N 11'!I227+'Հավելված N 11'!I238 -> -160046.2
C105: ՀՀ Արմավիրի մարզ | D105: =SUM(E105:H105) -> 0.2 | E105: =+E106+E107+E108 -> 0.2 | F105: =+F106+F107+F108 -> 0 | G105: =+G106+G107+G108 -> 0 | H105: =+H106+H107+H108 -> 0
C106: ՀՀ Արմավիրի մարզի Այգևան համայնքում «Մոդուլային» տիպի 144 տեղ հզորությամբ մսուր-մանկապարտեզ | D106: =+E106+F106+G106+H106 -> -160046.2 | E106: =+'Հավելված N 11'!I217+'Հավելված N 11'!I228+'Հավելված N 11'!I239 -> -160046.2
...

Sheet Հավելված N 6
D1: Հավելված N 6
D2: ՀՀ կառավարության 2022 թվականի
D3: ______________ ի ___Ն որոշման
B5: ՀԱՅԱՍՏԱՆԻ ՀԱՆՐԱՊԵՏՈՒԹՅԱՆ ԿԱՌԱՎԱՐՈՒԹՅԱՆ 2021 ԹՎԱԿԱՆԻ ԴԵԿՏԵՄԲԵՐԻ 23-Ի N 2121-Ն ՈՐՈՇՄԱՆ N 5 ՀԱՎԵԼՎԱԾԻ N 2 ԱՂՅՈՒՍԱԿՈՒՄ ԿԱՏԱՐՎՈՂ ՓՈՓՈԽՈՒԹՅՈՒՆՆԵՐԸ ԵՎ ԼՐԱՑՈՒՄՆԵՐԸ
F8: հազ. դրամներով
B9: Ծրագրային դասիչ | D9: Բյուջետային գլխավոր կարգադրիչների, ծրագրերի, միջոցառումների, միջոցառումները կատարող պետական մարմինների և ուղղությունների անվանումները | E9: Ցուցանիշների փոփոխությունը (ավելացումները նշված են դրական նշանով, իսկ նվազեցումները՝ փակագծերում)
B10: Ծրագիր | C10: Միջոցառում | E10: Ինն ամիս | F10: Տարի
D12: ՀՀ ԿՐԹՈՒԹՅԱՆ, ԳԻՏՈՒԹՅԱՆ, ՄՇԱԿՈՒՅԹԻ ԵՎ ՍՊՈՐՏԻ ՆԱԽԱՐԱՐՈՒԹՅՈՒՆ | E12: =+E14+E17+E27+E35+E41+E53+E79+E85+E91+E118+E124+E147+E190+E196+E202+E210+E224+E233+E240+E256 -> -1744166.4 | F12: =+F14+F17+F27+F35+F41+F53+F79+F85+F91+F118+F124+F147+F190+F196+F202+F210+F224+F233+F240+F256 -> -1734420.4
D13: այդ թվում՝
B14: 1041 | C14: 32001 | D14: Մանկապատանեկան մարզադպրոցներին, մարզաձևերի ազգային ֆեդերացիաներին և այլ մարզական հասարակական կազմակերպություններին գույքով ապահովում | E14: =+E16 -> 0 | F14: =+F16 -> 330901.68
D15: այդ թվում` ըստ կատարողների
D16: ՀՀ կրթության, գիտության, մշակույթի և սպորտի նախարարություն | E16: 0 | F16: =+'Հավելված N 5'!D15 -> 330901.68
B17: 1045 | C17: 32001 | D17: Նախնական մասնագիտական (արհեստագործական) և միջին մասնագիտական ուսումնական հաստատությունների շենքային պայմանների բարելավում | E17: =+E19+E23 -> -129825.2 | F17: =+F19+F23 -> -217911.4
D18: այդ թվում` ըստ կատարողների
D19: ՀՀ կրթության, գիտության, մշակույթի և սպորտի նախարարություն | E19: =+E21 -> 0 | F19: =+F21 -> 41739
D20: այդ թվում` ըստ ուղղությունների
D21: ՀՀ Արմավիրի մարզ | E21: =+E22 -> 0 | F21: =+F22 -> 41739
D22: «Էջմիածնի պետական քոլեջ» ՊՈԱԿ | E22: 0 | F22: =+'Հավելված N 5'!D19 -> 41739
D23: ՀՀ քաղաքաշինության կոմիտե | E23: =+E25 -> -129825.2 | F23: =+F25 -> -259650.4
D24: այդ թվում` ըստ ուղղությունների
D25: ՀՀ Կոտայքի մարզ | E25: =+E26 -> -129825.2 | F25: =+F26 -> -259650.4
D26: «Նոր Գեղիի ակադեմիկոս Գ. Աղաջանյանի անվան պետական գյուղատնտեսական քոլեջ» ՊՈԱԿ | E26: =+'Հավելված N 5'!D21*0.5 -> -129825.2 | F26: =+'Հավելված N 5'!D21 -> -259650.4
B27: 1045 | C27: 32004 | D27: Նախնական մասնագիտական (արհեստագործական) և միջին մասնագիտական ուսումնական հաստատություններում ուսումնարտադրական բազայով ապահովում | E27: =+E29 -> 0 | F27: =+F29 -> 60165.1
D28: այդ թվում` ըստ կատարողների
D29: ՀՀ կրթության, գիտության, մշակույթի և սպորտի նախարարություն | E29: =+E31+E33 -> 0 | F29: =+F31+F33 -> 60165.1
D30: այդ թվում` ըստ ուղղությունների
D31: ՀՀ Շիրակի մարզ | E31: =+E32 -> 0 | F31: =+F32 -> 59545.1
D32: «Գյումրու N 4 արհեստագործական պետական ուսումնարան» ՊՈԱԿ | E32: 0 | F32: =+'Հավելված N 5'!D25 -> 59545.1
D33: ՀՀ Տավուշի մարզ | E33: =+E34 -> 0 | F33: =+F34 -> 620
D34: «Դիլիջանի արվեստի պետական քոլեջ» ՊՈԱԿ | F34: =+'Հավելված N 5'!D27 -> 620
B35: 1045 | C35: 32005 | D35: Նախնական մասնագիտական (արհեստագործական) և միջին մասնագիտական ուսումնական հաստատությունների շենքերի կառուցում | E35: =+E37 -> -59798.9 | F35: =+F37 -> -176098.9
D36: այդ թվում` ըստ կատարողների
D37: ՀՀ քաղաքաշինության կոմիտե | E37: =+E39 -> -59798.9 | F37: =+F39 -> -176098.9
D38: այդ թվում` ըստ ուղղությունների
D39: ՀՀ Սյունիքի մարզ | E39: =+E40 -> -59798.9 | F39: =+F40 -> -176098.9
D40: «Գորիսի պրոֆեսոր Խ. Երիցյանի անվան պետական գյուղատնտեսական քոլեջ» ՊՈԱԿ | E40: -59798.9 | F40: =+'Հավելված N 5'!D31 -> -176098.9
B41: 1075 | C41: 21001 | D41: Հուշարձանների ամրակայում, նորոգում և վերականգնում | E41: =+E43 -> 1734 | F41: =+F43 -> 4505.7
D42: այդ թվում` ըստ կատարողների
D43: ՀՀ կրթության, գիտության, մշակույթի և սպորտի նախարարություն | E43: =+E45+E49 -> 1734 | F43: =+F45+F49 -> 4505.7
D44: այդ թվում` ըստ ուղղությունների
D45: 1. Վերականգնողական աշխատանքներ | E45: =+E47 -> 1734 | F45: =+F47 -> 0
D46: որից`
D47: ՀՀ Տավուշի մարզ | E47: =+E48 -> 1734 | F47: =+F48 -> 0
D48: Գոշ համայնքի Գոշավանքի գավթի տանիքածածկերի նորոգում | E48: 1734
D49: 2. Վավերագրման և ուսումնասիրման աշխատանքներ, (այդ թվում՝ հետախուզումև պեղում), գիտանախագծային փաստաթղթերի կազմում և փորձաքննում | E49: =+E51 -> 0 | F49: =+F51 -> 4505.7
D50: որից`
D51: ՀՀ Արագածոտնի մարզ | E51: =+E52 -> 0 | F51: =+F52 -> 4505.7
D52: Ամբերդ ամրոցի վթարային հատվածների ամրակայում և դրա տարածքների բարեկարգում | E52: 0 | F52: =+'Հավելված N 5'!D37 -> 4505.7
B53: 1075 | C53: 32008 | D53: Թանգարանների և պատկերասրահների գույքային և տեխնիկական հագեցվածության բարելավում | E53: =+E55 -> 0 | F53: =+F55 -> 43600
D54: այդ թվում` ըստ կատարողների
D55: ՀՀ կրթության, գիտության, մշակույթի և սպորտի նախարարություն | E55: =+E57+E74+E76 -> 0 | F55: =+F57+F74+F76 -> 43600
D56: այդ թվում` ըստ ուղղությունների
D57: Երևան քաղաք | E57: =SUM(E58:E73) -> 0 | F57: =SUM(F58:F73) -> 38000
D58: «Հ. Շարամբեյանի անվան ժողովրդական արվեստների թանգարան» ՊՈԱԿ | E58: 0 | F58: =+'Հավելված N 5'!D41 -> 4000
D59: «Արամ Խաչատրյանի տուն-թանգարան» ՊՈԱԿ | E59: 0 | F59: =+'Հավելված N 5'!D42 -> 1200
D60: «Սերգեյ Փարաջանովի թանգարան» ՊՈԱԿ | E60: 0 | F60: =+'Հավելված N 5'!D43 -> 800
D61: «Հովհաննես Թումանյանի թանգարան» ՊՈԱԿ | E61: 0 | F61: =+'Հավելված N 5'!D44 -> 800
D62: «Եղիշե Չարենցի տուն-թանգարան» ՊՈԱԿ | E62: 0 | F62: =+'Հավելված N 5'!D45 -> 1200
D63: «Երվանդ Քոչարի թանգարան» ՊՈԱԿ | E63: 0 | F63: =+'Հավելված N 5'!D46 -> 400
D64: «Հայաստանի պատմության թանգարան» ՊՈԱԿ | E64: 0 | F64: =+'Հավելված N 5'!D47 -> 4000
D65: «Եղիշե Չարենցի անվան գրականության և արվեստի թանգարան» ՊՈԱԿ | E65: 0 | F65: =+'Հավելված N 5'!D48 -> 4800
D66: «Ալեքսանդր Սպենդարյանի տուն-թանգարան» ՊՈԱԿ | E66: 0 | F66: =+'Հավելված N 5'!D49 -> 1200
D67: «Ավետիք Իսահակյանի տուն-թանգարան» ՊՈԱԿ | E67: 0 | F67: =+'Հավելված N 5'!D50 -> 1200
D68: «Հայ և ռուս ժողովուրդների բարեկամության թանգարան» ՊՈԱԿ | E68: 0 | F68: =+'Հավելված N 5'!D51 -> 1600
D69: «Ն. Ադոնցի անվան Սիսիանի պատմության թանգարան» ՊՈԱԿ | E69: 0 | F69: =+'Հավելված N 5'!D52 -> 800
... D73: «Հայաստանի ազգային պատկերասրահ» ՊՈԱԿ | E73: 0 | F73: =+'Հավելված N 5'!D56 -> 10800
D74: ՀՀ Արմավիրի մարզ | E74: =+E75 -> 0 | F74: =+F75 -> 4000
D75: «Սարդարապատի հերոսամարտի հուշահամալիր, Հայոց ազգագրության և ազատագրական պայքարի պատմության ազգային թանգարան» ՊՈԱԿ | E75: 0 | F75: =+'Հավելված N 5'!D58 -> 4000
D76: ՀՀ Կոտայքի մարզ | E76: =+E77+E78 -> 0 | F76: =+F77+F78 -> 1600
D77: «Օրբելի եղբայրների տուն-թանգարան» ՊՈԱԿ | E77: 0 | F77: =+'Հավելված N 5'!D60 -> 800
D78: «Հրազդանի երկրագիտական թանգարան» ՊՈԱԿ | E78: 0 | F78: =+'Հավելված N 5'!D61 -> 800
B79: 1075 | C79: 32009 | D79: Պատմամշակութային ժառանգության ոլորտի կազմակերպությունների գույքային ապահովվածության բարելավում | E79: =+E81 -> 0 | F79: =+F81 -> 11381.1
D80: այդ թվում` ըստ կատարողների
D81: ՀՀ կրթության, գիտության, մշակույթի և սպորտի նախարարություն | E81: =+E83 -> 0 | F81: =+F83 -> 11381.1
D82: այդ թվում` ըստ ուղղությունների
D83: Երևան քաղաք | E83: =+E84 -> 0 | F83: =+F84 -> 11381.1
D84: «Պատմամշակութային ժառանգության գիտահետազոտական կենտրոն» ՊՈԱԿ | E84: 0 | F84: =+'Հավելված N 5'!D65 -> 11381.1
B85: 1111 | C85: 32001 | D85: Բարձրագույն ուսումնական հաստատությունների և «Զեյթուն» ուսանողական ավան» հիմնադրամի շենքային պայմանների բարելավում | E85: =+E87 -> -103032.6 | F85: =+F87 -> -206065.2
D86: այդ թվում` ըստ կատարողների
D87: ՀՀ քաղաքաշինության կոմիտե | E87: =+E89 -> -103032.6 | F87: =+F89 -> -206065.2
D88: այդ թվում` ըստ ուղղությունների
D89: Երևան քաղաք | E89: =+E90 -> -103032.6 | F89: =+F90 -> -206065.2
D90: «Երևանի Կոմիտասի անվան պետական կոնսերվատորիա» ՊՈԱԿ | E90: =+'Հավելված N 5'!D69*0.5 -> -103032.6 | F90: =+'Հավելված N 5'!D69 -> -206065.2
B91: 1124 | C91: 32001 | D91: Հանրային գրադարանների նյութատեխնիկական բազայի զարգացում | E91: =+E93 -> 0 | F91: =+F93 -> 43800
D92: այդ թվում` ըստ կատարողների
D93: ՀՀ կրթության, գիտության, մշակույթի և սպորտի նախարարություն | E93: =+E95+E98+E100+E102+E104+E106+E108+E110+E112+E114+E116 -> 0 | F93: =+F95+F98+F100+F102+F104+F106+F108+F110+F112+F114+F116 -> 43800
D94: այդ թվում` ըստ ուղղությունների
D95: Երևան քաղաք | E95: =+E96+E97 -> 0 | F95: =+F96+F97 -> 39800
D96: «Հայաստանի ազգային գրադարան» ՊՈԱԿ | E96: 0 | F96: =+'Հավելված N 5'!D73 -> 39000
D97: «Խնկո-Ապոր անվան ազգային մանկական գրադարան» ՊՈԱԿ | E97: 0 | F97: =+'Հավելված N 5'!D74 -> 800
D98: ՀՀ Արագածոտնի մարզ | E98: =+E99 -> 0 | F98: =+F99 -> 400
D99: «Վ. Պետրոսյանի անվան Արագածոտնի մարզային գրադարան» ՊՈԱԿ | E99: 0 | F99: =+'Հավելված N 5'!D76 -> 400
D100: ՀՀ Արարատի մարզ | E100: =+E101 -> 0 | F100: =+F101 -> 400
D101: «Օ. Չուբարյանի անվան Արարատի մարզային գրադարան» ՊՈԱԿ | E101: 0 | F101: =+'Հավելված N 5'!D78 -> 400
D102: ՀՀ Արմավիրի մարզ | E102: =+E103 -> 0 | F102: =+F103 -> 400
D103: «Արմավիրի մարզային գրադարան» ՊՈԱԿ | E103: 0 | F103: =+'Հավելված N 5'!D80 -> 400
D104: ՀՀ Գեղարքունիքի մարզ | E104: =+E105 -> 0 | F104: =+F105 -> 400
D105: «Վ. Պետրոսյանի անվան Գեղարքունիքի մարզային գրադարան» ՊՈԱԿ | E105: 0 | F105: =+'Հավելված N 5'!D82 -> 400
D106: ՀՀ Լոռու մարզ | E106: =+E107 -> 0 | F106: =+F107 -> 400
D107: «Լոռու մարզային գրադարան» ՊՈԱԿ | E107: 0 | F107: =+'Հավելված N 5'!D84 -> 400
...

Sheet Հավելված N 7
F1: Հավելված N 7
F2: ՀՀ կառավարության 2021 թվականի
F3: ______________ ի ___Ն որոշման
A6: ՀԱՅԱՍՏԱՆԻ ՀԱՆՐԱՊԵՏՈՒԹՅԱՆ ԿԱՌԱՎԱՐՈՒԹՅԱՆ 2021 ԹՎԱԿԱՆԻ ԴԵԿՏԵՄԲԵՐԻ 23-Ի N 2121-Ն ՈՐՈՇՄԱՆ N 5 ՀԱՎԵԼՎԱԾԻ N 7 ԱՂՅՈՒՍԱԿՈՒՄ ԿԱՏԱՐՎՈՂ ԼՐԱՑՈՒՄԸ
G7: հազ. դրամներով
A8: Ծրագրային դասիչը | C8: Բյուջետային հատկացումների գլխավոր կարգադրիչների, ծրագրերի, միջոցառումների և միջոցառումները կատարող պետական մարմինների անվանումները | F8: Միջոցառումները կատարող պետական մարմինների և դրամաշնորհ ստացող տնտեսվարող սուբյեկտների անվանումները | G8: Ցուցանիշների փոփոխությունը (ավելացումները նշված են դրական նշանով)
A9: Ծրագիր | B9: Միջոցառում | G9: Տարի
A10: ՀՀ կրթության, գիտության, մշակույթի և սպորտի նախարարություն | G10: =+G11 -> 600540.5
A11: 1041 | B11: Մեծ նվաճումների սպորտ | G11: =+G12 -> 600540.5
B12: 32001 | C12: Մանկապատանեկան մարզադպրոցներին, մարզաձևերի ազգային ֆեդերացիաներին և այլ մարզական հասարակական կազմակերպություններին գույքով ապահովում | F12: ՀՀ կրթության, գիտության, մշակույթի և սպորտի նախարարություն | G12: =+G13 -> 600540.5
F13: «Հայաստանի ծանրամարտի ֆեդերացիա» ՀԿ | G13: 600540.5

Sheet Հավելված N 8
F1: Հավելված N 8
F2: ՀՀ կառավարության 2022 թվականի
F3: ______________ ի ___Ն որոշման
A6: «ՀԱՅԱUՏԱՆԻ ՀԱՆՐԱՊԵՏՈՒԹՅԱՆ 2022 ԹՎԱԿԱՆԻ ՊԵՏԱԿԱՆ ԲՅՈՒՋԵԻ ՄԱUԻՆ» ՀԱՅԱUՏԱՆԻ ՀԱՆՐԱՊԵՏՈՒԹՅԱՆ OՐԵՆՔԻ N 1 ՀԱՎԵԼՎԱԾԻ N 5 ԱՂՅՈՒՍԱԿՈՒՄ ԵՎ ՀԱՅԱՍՏԱՆԻ ՀԱՆՐԱՊԵՏՈՒԹՅԱՆ ԿԱՌԱՎԱՐՈՒԹՅԱՆ 2021 ԹՎԱԿԱՆԻ ԴԵԿՏԵՄԲԵՐԻ 23-Ի N 2121-Ն ՈՐՈՇՄԱՆ N 5 ՀԱՎԵԼՎԱԾԻ N 4 ԱՂՅՈՒՍԱԿՈՒՄ ԿԱՏԱՐՎՈՂ ՓՈՓՈԽՈՒԹՅՈՒՆԸ
I8: հազ. դրամներով
A9: Ծրագրային դասիչ | C9: Բյուջետային գլխավոր կարգադրիչների, ծրագրերի և միջոցառումների և միջոցառումները կատարող պետական մարմինների անվանումները | D9: Ինն ամիս | G9: Տարի
D10: Ընդամենը | E10: այդ թվում | G10: Ընդամենը | H10: այդ թվում
A11: Ծրագիր | B11: Միջոցառում | E11: Դրամաշնորհային միջոցներ | F11: Համաֆինան սավորում | H11: Դրամաշնորհային միջոցներ | I11: Համաֆինան սավորում
C12: ԸՆԴԱՄԵՆԸ | D12: =E12+F12 -> 0 | E12: =+E14 -> 0 | F12: =+F14 -> 0 | G12: =H12+I12 -> -1044331.2 | H12: =+H14 -> -1044331.2 | I12: =+I14 -> 0
C13: այդ թվում`
C14: ՈՉ ՖԻՆԱՆՍԱԿԱՆ ԱԿՏԻՎՆԵՐԻ ԳԾՈՎ ԾԱԽՍԵՐ | D14: =E14+F14 -> 0 | E14: =+E15 -> 0 | F14: =+F15 -> 0 | G14: =H14+I14 -> -1044331.2 | H14: =+H15 -> -1044331.2 | I14: =+I15 -> 0
C15: ՀՀ ԿՐԹՈՒԹՅԱՆ, ԳԻՏՈՒԹՅԱՆ, ՄՇԱԿՈՒՅԹԻ ԵՎ ՍՊՈՐՏԻ ՆԱԽԱՐԱՐՈՒԹՅՈՒՆ | D15: =E15+F15 -> 0 | E15: =E16 -> 0 | F15: =F16 -> 0 | G15: =H15+I15 -> -1044331.2 | H15: =H16 -> -1044331.2 | I15: =I16 -> 0
A16: 1192 | C16: Կրթության որակի ապահովում | D16: =E16+F16 -> 0 | E16: =+E18+E27 -> 0 | F16: =+F18+F27 -> 0 | G16: =H16+I16 -> -1044331.2 | H16: =+H18+H27 -> -1044331.2 | I16: =+I18+I27 -> 0
C17: այդ թվում`
B18: 32004 | C18: ԵՄ աջակցությամբ իրականացվող դրամաշնորհային ծրագրի շրջանակներում ուսումնական հաստատությունների շենքային պայմանների բարելավում | D18: =E18+F18 -> 0 | E18: =+E20 -> 0 | F18: =+F20 -> 0 | G18: =H18+I18 -> -713429.5 | H18: =+H20 -> -713429.5 | I18: =+I20 -> 0
C19: այդ թվում` ըստ կատարողների
C20: ՀՀ կրթության , գիտության, մշակույթի և սպորտի նախարարություն | D20: =+E20+F20 -> 0 | E20: =+E22 -> 0 | F20: =+F22 -> 0 | G20: =+H20+I20 -> -713429.5 | H20: =+H22 -> -713429.5 | I20: =+I22 -> 0
C21: այդ թվում` բյուջետային ծախսերի տնտեսագիտական դասակարգման հոդվածներ
C22: ԸՆԴԱՄԵՆԸ ԾԱԽՍԵՐ | D22: =+E22+F22 -> 0 | E22: =+E23 -> 0 | F22: =+F23 -> 0 | G22: =+H22+I22 -> -713429.5 | H22: =+H23 -> -713429.5 | I22: =+I23 -> 0
C23: ՈՉ ՖԻՆԱՆՍԱԿԱՆ ԱԿՏԻՎՆԵՐԻ ԳԾՈՎ ԾԱԽՍԵՐ | D23: =+E23+F23 -> 0 | E23: =+E24 -> 0 | F23: =+F24 -> 0 | G23: =+H23+I23 -> -713429.5 | H23: =+H24 -> -713429.5 | I23: =+I24 -> 0
C24: ՀԻՄՆԱԿԱՆ ՄԻՋՈՑՆԵՐ | D24: =+E24+F24 -> 0 | E24: =+E25 -> 0 | F24: =+F25 -> 0 | G24: =+H24+I24 -> -713429.5 | H24: =+H25 -> -713429.5 | I24: =+I25 -> 0
C25: ՇԵՆՔԵՐ ԵՎ ՇԻՆՈՒԹՅՈՒՆՆԵՐ | D25: =+E25+F25 -> 0 | E25: =+E26 -> 0 | F25: =+F26 -> 0 | G25: =+H25+I25 -> -713429.5 | H25: =+H26 -> -713429.5 | I25: =+I26 -> 0
C26: - Շենքերի և շինությունների կապիտալ վերանորոգում | D26: =+E26+F26 -> 0 | E26: 0 | F26: 0 | G26: =+H26+I26 -> -713429.5 | H26: -713429.5 | I26: 0
B27: 32005 | C27: ԵՄ աջակցությամբ իրականացվող դրամաշնորհային ծրագրի շրջանակներում հանրակրթական, միջին մասնագիտական, բարձրագույն ուսումնական և մարզական հաստատություններին գույքով և տեխնիկայով ապահովում | D27: =E27+F27 -> 0 | E27: =+E29 -> 0 | F27: =+F29 -> 0 | G27: =H27+I27 -> -330901.7 | H27: =+H29 -> -330901.7 | I27: =+I29 -> 0
C28: այդ թվում` ըստ կատարողների
C29: ՀՀ կրթության , գիտության, մշակույթի և սպորտի նախարարություն | D29: =+E29+F29 -> 0 | E29: =+E31 -> 0 | F29: =+F31 -> 0 | G29: =+H29+I29 -> -330901.7 | H29: =+H31 -> -330901.7 | I29: =+I31 -> 0
C30: այդ թվում` բյուջետային ծախսերի տնտեսագիտական դասակարգման հոդվածներ
C31: ԸՆԴԱՄԵՆԸ ԾԱԽՍԵՐ | D31: =+E31+F31 -> 0 | E31: =+E32 -> 0 | F31: =+F32 -> 0 | G31: =+H31+I31 -> -330901.7 | H31: =+H32 -> -330901.7 | I31: =+I32 -> 0
C32: ՈՉ ՖԻՆԱՆՍԱԿԱՆ ԱԿՏԻՎՆԵՐԻ ԳԾՈՎ ԾԱԽՍԵՐ | D32: =+E32+F32 -> 0 | E32: =+E33 -> 0 | F32: =+F33 -> 0 | G32: =+H32+I32 -> -330901.7 | H32: =+H33 -> -330901.7 | I32: =+I33 -> 0
C33: ՀԻՄՆԱԿԱՆ ՄԻՋՈՑՆԵՐ | D33: =+E33+F33 -> 0 | E33: =+E34 -> 0 | F33: =+F34 -> 0 | G33: =+H33+I33 -> -330901.7 | H33: =+H34 -> -330901.7 | I33: =+I34 -> 0
C34: ՄԵՔԵՆԱՆԵՐ ԵՎ ՍԱՐՔԱՎՈՐՈՒՄՆԵՐ | D34: =+E34+F34 -> 0 | E34: =+E35 -> 0 | F34: =+F35 -> 0 | G34: =+H34+I34 -> -330901.7 | H34: =+H35 -> -330901.7 | I34: =+I35 -> 0
C35: - Վարչական սարքավորումներ | D35: =+E35+F35 -> 0 | E35: 0 | F35: 0 | G35: =+H35+I35 -> -330901.7 | H35: -330901.7 | I35: 0

Sheet Հավելված N 9
C1: Հավելված N 9
C2: ՀՀ կառավարության 2022 թվականի
C3: ______________ ի ___Ն որոշման
B5: ՀԱՅԱՍՏԱՆԻ ՀԱՆՐԱՊԵՏՈՒԹՅԱՆ ԿԱՌԱՎԱՐՈՒԹՅԱՆ 2021 ԹՎԱԿԱՆԻ ԴԵԿՏԵՄԲԵՐԻ 23-Ի N 2121-Ն ՈՐՈՇՄԱՆ N 9 ՀԱՎԵԼՎԱԾԻ N 9.13 ԵՎ 9.47 ԱՂՅՈՒՍԱԿՆԵՐՈՒՄ ԿԱՏԱՐՎՈՂ ՓՈՓՈԽՈՒԹՅՈՒՆՆԵՐԸ ԵՎ ԼՐԱՑՈՒՄՆԵՐԸ
A7: Աղյուսակ 9․13
C8: ՀՀ կրթության, գիտության, մշակույթի և սպորտի նախարարություն
B9: ՄԱՍ 2. ՊԵՏԱԿԱՆ ՄԱՐՄՆԻ ԳԾՈՎ ԱՐԴՅՈՒՆՔԱՅԻՆ (ԿԱՏԱՐՈՂԱԿԱՆ) ՑՈՒՑԱՆԻՇՆԵՐԸ
B12: Ծրագրի դասիչը | C12: Ծրագրի անվանումը
B13: 1041 | C13: Մեծ նվաճումների սպորտ
B15: Ծրագրի միջոցառումները
B16: Ծրագրի դասիչը՝ | C16: 1041 | D16: Ցուցանիշների փոփոխությունը (ավելացումները նշված են դրական նշանով)
B17: Միջոցառման դասիչը՝ | C17: 32001 | D17: Ինն ամիս | E17: Տարի
B18: Միջոցառման անվանումը՝ | C18: Մանկապատանեկան մարզադպրոցներին, մարզաձևերի ազգային ֆեդերացիաներին և այլ մարզական հասարակական կազմակերպություններին գույքով ապահովում
B19: Նկարագրությունը՝ | C19: Սպորտի զարգացման նպատակով մարզադպրոցներին, ազգային ֆեդերացիաներին և այլ մարզական հասարակական կազմակերպություններին մարզական և այլ անհրաժեշտ գույքի տրամադրում
B20: Միջոցառման տեսակը՝ | C20: Այլ պետական կազմակերպությունների կողմից օգտագործվող ոչ ֆինանսական ակտիվների հետ գործառնություններ
B21: Ակտիվն օգտագործող կազմակերպությունների անվանումները | C21: Մարզական հաստատություններ
B22: Արդյունքի չափորոշիչներ
B23: Միջոցառման վրա կատարվող ծախսը (հազար դրամ) | D23: =+'Հավելված N 3'!D23 -> 600540.5 | E23: =+'Հավելված N 3'!E23 -> 931442.18
B25: Ծրագրի դասիչը | C25: Ծրագրի անվանումը
B26: 1045 | C26: Նախնական (արհեստագործական) և միջին մասնագիտական կրթություն
B28: Ծրագրի միջոցառումները
B29: Ծրագրի դասիչը՝ | C29: 1045 | D29: Ցուցանիշների փոփոխությունը (ավելացումները նշված են դրական նշանով, իսկ նվազեցումները՝ փակագծերում)
B30: Միջոցառման դասիչը՝ | C30: 32001 | D30: Ինն ամիս | E30: Տարի
B31: Միջոցառման անվանումը՝ | C31: Նախնական մասնագիտական (արհեստագործական) և միջին մասնագիտական ուսումնական հաստատությունների շենքային պայմանների բարելավում
B32: Նկարագրությունը՝ | C32: ՆՄՄԿՈՒ հաստատությունների շենքերի հիմնանորոգման և նախագծման (շինարարական աշխատանքներ, ջեռուցման համակարգի ստեղծում, ներքին հարդարում, տարածքի բարեկարգում) աշխատանքների իրականացում
B33: Միջոցառման տեսակը՝ | C33: Այլ պետական կազմակերպությունների կողմից օգտագործվող ոչ ֆինանսական ակտիվների հետ գործառնություններ
B34: Ակտիվն օգտագործող կազմակերպությունների անվանումները | C34: Նախնական մասնագիտական (արհեստագործական) և միջին մասնագիտական ուսումնական հաստատություններ
B35: Արդյունքի չափորոշիչներ
B36: Հիմնանորոգվող միջին մասնագիտական ուսումնական հաստատությունների քանակ, հատ | E36: 1
B37: Հաստատությունների քանակ, որոնց շինարարական աշխատանքների ավարտվածության աստիճանը 100% է, հատ | E37: 1
B38: Միջոցառման վրա կատարվող ծախսը (հազար դրամ) | D38: =+'Հավելված N 3'!D36 -> -129825.2 | E38: =+'Հավելված N 3'!E36 -> -217911.4
B40: Ծրագրի միջոցառումները
B41: Ծրագրի դասիչը՝ | C41: 1045 | D41: Ցուցանիշների փոփոխությունը (ավելացումները նշված են դրական նշանով)
B42: Միջոցառման դասիչը՝ | C42: 32004 | D42: Ինն ամիս | E42: Տարի
B43: Միջոցառման անվանումը՝ | C43: Նախնական մասնագիտական (արհեստագործական) և միջին մասնագիտական ուսումնական հաստատություններում ուսումնարտադրական բազայով ապահովում
B44: Նկարագրությունը՝ | C44: ՆՄՄԿՈՒ հաստատություններում ուսումնարտադրական բազայով ապահովման աշխատանքների իրականացում
B45: Միջոցառման տեսակը՝ | C45: Այլ պետական կազմակերպությունների կողմից օգտագործվող ոչ ֆինանսական ակտիվների հետ գործառնություններ
B46: Ակտիվն օգտագործող կազմակերպությունների անվանումները | C46: Նախնական մասնագիտական (արհեստագործական) և միջին մասնագիտական ուսումնական հաստատություններ
B47: Արդյունքի չափորոշիչներ
B48: ՆՄՄԿՈՒ հաստատությունների քանակ, որտեղ կատարվում են ներդրումները, հատ_x000D_ | E48: 2
B49: Միջոցառման վրա կատարվող ծախսը (հազար դրամ) | D49: =+'Հավելված N 3'!D42 -> 0 | E49: =+'Հավելված N 3'!E42 -> 60165.1
B51: Ծրագրի միջոցառումները
B52: Ծրագրի դասիչը՝ | C52: 1045 | D52: Ցուցանիշների փոփոխությունը (նվազեցումները նշված են փակագծերում)
B53: Միջոցառման դասիչը՝ | C53: 32005 | D53: Ինն ամիս | E53: Տարի
B54: Միջոցառման անվանումը՝ | C54: Նախնական մասնագիտական (արհեստագործական) և միջին մասնագիտական ուսումնական հաստատությունների շենքերի կառուցում
B55: Նկարագրությունը՝ | C55: ՆՄՄԿՈՒ հաստատությունների շենքերի (մասնաշենքերի) կառուցման և նախագծման աշխատանքների իրականացում
B56: Միջոցառման տեսակը՝ | C56: Այլ պետական կազմակերպությունների կողմից օգտագործվող ոչ ֆինանսական ակտիվների հետ գործառնություններ
B57: Ակտիվն օգտագործող կազմակերպությունների անվանումները | C57: Նախնական մասնագիտական (արհեստագործական) և միջին մասնագիտական ուսումնական հաստատություններ
B58: Արդյունքի չափորոշիչներ
B59: Միջոցառման վրա կատարվող ծախսը (հազար դրամ) | D59: =+'Հավելված N 3'!D48 -> -59798.9 | E59: =+'Հավելված N 3'!E48 -> -176098.9
B61: Ծրագրի դասիչը | C61: Ծրագրի անվանումը
B62: 1075 | C62: Մշակութային ժառանգության ծրագիր
B64: Ծրագրի միջոցառումները
B65: Ծրագրի դասիչը՝ | C65: 1075 | D65: Ցուցանիշների փոփոխությունը (ավելացումները նշված են դրական նշանով)
B66: Միջոցառման դասիչը՝ | C66: 21001 | D66: Ինն ամիս | E66: Տարի
B67: Միջոցառման անվանումը՝ | C67: Հուշարձանների ամրակայում, նորոգում և վերականգնում
B68: Նկարագրությունը՝ | C68: Հուշարձանների գիտանախագծային փաստաթղթերի կազմում, հրատապ ուսումնասիրում, վավերագրման և ուսումնասիրման աշխատանքներ, հետախուզում և հնագիտական պեղում, ամրակայում, նորոգում և վերականգնում
B69: Միջոցառման տեսակը՝ | C69: Հանրության կողմից անմիջականորեն օգտագործվող ակտիվների հետ կապված միջոցառումներ
B70: Միջոցառումն իրականացնողի անվանումը | C70: Մասնագիտացված կազմակերպություն
B71: Արդյունքի չափորոշիչներ
B72: Հուշարձանների ուսումնասիրման (այդ թվում` հետախուզում և պեղում) և նախագծման, փորձաքննության աշխատանքներ, քանակ | E72: 1
B73: Միջոցառման վրա կատարվող ծախսը (հազար դրամ) | D73: =+'Հավելված N 3'!D61 -> 1734 | E73: =+'Հավելված N 3'!E61 -> 4505.7
B75: Ծրագրի միջոցառումները
B76: Ծրագրի դասիչը՝ | C76: 1075 | D76: Ցուցանիշների փոփոխությունը (ավելացումները նշված են դրական նշանով)
B77: Միջոցառման դասիչը՝ | C77: 32008 | D77: Ինն ամիս | E77: Տարի
B78: Միջոցառման անվանումը՝ | C78: Թանգարանների և պատկերասրահների գույքային և տեխնիկական հագեցվածության բարելավում
B79: Նկարագրությունը՝ | C79: Թանգարանների և պատկերասրահների համար անհրաժեշտ գույքի, տեխնիկայի և սարքավորումների ձեռքբերում
B80: Միջոցառման տեսակը՝ | C80: Այլ պետական կազմակերպությունների կողմից օգտագործվող ոչ ֆինանսական ակտիվների հետ գործառնություններ
B81: Ակտիվն օգտագործող կազմակերպությունների անվանումները | C81: Թանգարաններ և պատկերասրահներ
B82: Արդյունքի չափորոշիչներ
B83: Թանգարանների թիվը, որտեղ կատարվում են ներդրումները, հատ | E83: 19
B84: Միջոցառման վրա կատարվող ծախսը (հազար դրամ) | D84: =+'Հավելված N 3'!D67 -> 0 | E84: =+'Հավելված N 3'!E67 -> 43600
B86: Ծրագրի միջոցառումները
B87: Ծրագրի դասիչը՝ | C87: 1075 | D87: Ցուցանիշների փոփոխությունը (ավելացումները նշված են դրական նշանով)
B88: Միջոցառման դասիչը՝ | C88: 32009 | D88: Ինն ամիս | E88: Տարի
B89: Միջոցառման անվանումը՝ | C89: Պատմամշակութային ժառանգության ոլորտի կազմակերպությունների գույքային ապահովվածության բարելավում
B90: Նկարագրությունը՝ | C90: Պատմամշակութային ժառանգության ոլորտի կազմակերպությունների գույքով և տեխնիկաով ապահովում
B91: Միջոցառման տեսակը՝ | C91: Այլ պետական կազմակերպությունների կողմից օգտագործվող ոչ ֆինանսական ակտիվների հետ գործառնություններ
B92: Ակտիվն օգտագործող կազմակերպությունների անվանումները | C92: Պատմամշակութային ժառանգության ոլորտի կազմակերպություններ
B93: Արդյունքի չափորոշիչներ
B94: Կազմակերպությունների թիվը, որտեղ կատարվում են ներդրումները, հատ | E94: 1
B95: Միջոցառման վրա կատարվող ծախսը (հազար դրամ) | D95: =+'Հավելված N 3'!D73 -> 0 | E95: =+'Հավելված N 3'!E73 -> 11381.1
B97: Ծրագրի դասիչը | C97: Ծրագրի անվանումը
B98: 1111 | C98: Բարձրագույն և հետբուհական մասնագիտական կրթության ծրագիր
B100: Ծրագրի միջոցառումները
B101: Ծրագրի դասիչը՝ | C101: 1111 | D101: Ցուցանիշների փոփոխությունը (նվազեցումները նշված են փակագծերում)
B102: Միջոցառման դասիչը՝ | C102: 32001 | D102: Ինն ամիս | E102: Տարի
B103: Միջոցառման անվանումը՝ | C103: Բարձրագույն ուսումնական հաստատությունների և «Զեյթուն» ուսանողական ավան» հիմնադրամի շենքային պայմանների բարելավում
B104: Նկարագրությունը՝ | C104: Բարձրագույն ուսումնական հաստատությունների և «Զեյթուն» ուսանողական ավան» հիմնադրամի շենքային պայմանների բարելավում
B105: Միջոցառման տեսակը՝ | C105: Այլ պետական կազմակերպությունների կողմից օգտագործվող ոչ ֆինանսական ակտիվների հետ գործառնություններ
B106: Ակտիվն օգտագործող կազմակերպությունների անվանումները | C106: Բարձրագույն ուսումնական հաստատություններ
B107: Արդյունքի չափորոշիչներ
B108: Միջոցառման վրա կատարվող ծախսը (հազար դրամ) | D108: =+'Հավելված N 3'!D86 -> -103032.6 | E108: =+'Հավելված N 3'!E86 -> -206065.2
B110: Ծրագրի դասիչը | C110: Ծրագրի անվանումը
B111: 1124 | C111: Գրահրատարակչության և գրադարանների ծրագիր
B113: Ծրագրի միջոցառումները
B114: Ծրագրի դասիչը՝ | C114: 1124 | D114: Ցուցանիշների փոփոխությունը (ավելացումները նշված են դրական նշանով)
B115: Միջոցառման դասիչը՝ | C115: 32001 | D115: Ինն ամիս | E115: Տարի
B116: Միջոցառման անվանումը՝ | C116: Հանրային գրադարանների նյութատեխնիկական բազայի զարգացում
B117: Նկարագրությունը՝ | C117: Հանրային գրադարանների նյութատեխնիկական բազայի զարգացում
...

Sheet Հավելված N 10
C1: Հավելված N 10
C2: ՀՀ կառավարության 2022 թվականի
C3: ______________ ի ___Ն որոշման
B6: ՀԱՅԱՍՏԱՆԻ ՀԱՆՐԱՊԵՏՈՒԹՅԱՆ ԿԱՌԱՎԱՐՈՒԹՅԱՆ 2021 ԹՎԱԿԱՆԻ ԴԵԿՏԵՄԲԵՐԻ 23-Ի N 2121-Ն ՈՐՈՇՄԱՆ N 9.1 ՀԱՎԵԼՎԱԾԻ N 9.1.14, 9.1.42, 9.1.52 ԵՎ 9․1.59 ԱՂՅՈՒՍԱԿՆԵՐՈՒՄ ԿԱՏԱՐՎՈՂ ՓՈՓՈԽՈՒԹՅՈՒՆՆԵՐԸ ԵՎ ԼՐԱՑՈՒՄՆԵՐԸ
A9: Աղյուսակ 9․1.14
C10: ՀՀ կրթության, գիտության, մշակույթի և սպորտի նախարարություն
B11: ՄԱՍ 1. ՊԵՏԱԿԱՆ ՄԱՐՄՆԻ ԳԾՈՎ ԱՐԴՅՈՒՆՔԱՅԻՆ (ԿԱՏԱՐՈՂԱԿԱՆ) ՑՈՒՑԱՆԻՇՆԵՐԸ
B14: Ծրագրի դասիչը | C14: Ծրագրի անվանումը
B15: 1041 | C15: Մեծ նվաճումների սպորտ
B17: Ծրագրի միջոցառումները
B18: Ծրագրի դասիչը՝ | C18: 1041 | D18: Ցուցանիշների փոփոխությունը (ավելացումները նշված են դրական նշանով)
B19: Միջոցառման դասիչը՝ | C19: 32001 | D19: Ինն ամիս | E19: Տարի
B20: Միջոցառման անվանումը՝ | C20: Մանկապատանեկան մարզադպրոցներին, մարզաձևերի ազգային ֆեդերացիաներին և այլ մարզական հասարակական կազմակերպություններին գույքով ապահովում
B21: Նկարագրությունը՝ | C21: Սպորտի զարգացման նպատակով մարզադպրոցներին, ազգային ֆեդերացիաներին և այլ մարզական հասարակական կազմակերպություններին մարզական և այլ անհրաժեշտ գույքի տրամադրում
B22: Միջոցառման տեսակը՝ | C22: Այլ պետական կազմակերպությունների կողմից օգտագործվող ոչ ֆինանսական ակտիվների հետ գործառնություններ
B23: Ակտիվն օգտագործող կազմակերպությունների անվանումները | C23: Մարզական հաստատություններ
B24: Արդյունքի չափորոշիչներ
B25: Միջոցառման վրա կատարվող ծախսը (հազար դրամ) | D25: =+'Հավելված N 4'!G25 -> 600540.5 | E25: =+'Հավելված N 4'!H25 -> 931442.18
B27: Ծրագրի դասիչը | C27: Ծրագրի անվանումը
B28: 1045 | C28: Նախնական (արհեստագործական) և միջին մասնագիտական կրթություն
B30: Ծրագրի միջոցառումները
B31: Ծրագրի դասիչը՝ | C31: 1045 | D31: Ցուցանիշների փոփոխությունը (ավելացումները նշված են դրական նշանով, իսկ նվազեցումները՝ փակագծերում)
B32: Միջոցառման դասիչը՝ | C32: 32001 | D32: Ինն ամիս | E32: Տարի
B33: Միջոցառման անվանումը՝ | C33: Նախնական մասնագիտական (արհեստագործական) և միջին մասնագիտական ուսումնական հաստատությունների շենքային պայմանների բարելավում
B34: Նկարագրությունը՝ | C34: ՆՄՄԿՈՒ հաստատությունների շենքերի հիմնանորոգման և նախագծման (շինարարական աշխատանքներ, ջեռուցման համակարգի ստեղծում, ներքին հարդարում, տարածքի բարեկարգում) աշխատանքների իրականացում
B35: Միջոցառման տեսակը՝ | C35: Այլ պետական կազմակերպությունների կողմից օգտագործվող ոչ ֆինանսական ակտիվների հետ գործառնություններ
B36: Ակտիվն օգտագործող կազմակերպությունների անվանումները | C36: Նախնական մասնագիտական (արհեստագործական) և միջին մասնագիտական ուսումնական հաստատություններ
B37: Արդյունքի չափորոշիչներ
B38: Հիմնանորոգվող միջին մասնագիտական ուսումնական հաստատությունների քանակ, հատ | E38: 1
B39: Հաստատությունների քանակ, որոնց շինարարական աշխատանքների ավարտվածության աստիճանը 100% է, հատ | E39: 1
B40: Միջոցառման վրա կատարվող ծախսը (հազար դրամ) | D40: =+'Հավելված N 4'!G153 -> 0 | E40: =+'Հավելված N 4'!H153 -> 41739
B42: Ծրագրի միջոցառումները
B43: Ծրագրի դասիչը՝ | C43: 1045 | D43: Ցուցանիշների փոփոխությունը (ավելացումները նշված են դրական նշանով)
B44: Միջոցառման դասիչը՝ | C44: 32004 | D44: Ինն ամիս | E44: Տարի
B45: Միջոցառման անվանումը՝ | C45: Նախնական մասնագիտական (արհեստագործական) և միջին մասնագիտական ուսումնական հաստատություններում ուսումնարտադրական բազայով ապահովում
B46: Նկարագրությունը՝ | C46: ՆՄՄԿՈՒ հաստատություններում ուսումնարտադրական բազայով ապահովման աշխատանքների իրականացում
B47: Միջոցառման տեսակը՝ | C47: Այլ պետական կազմակերպությունների կողմից օգտագործվող ոչ ֆինանսական ակտիվների հետ գործառնություններ
B48: Ակտիվն օգտագործող կազմակերպությունների անվանումները | C48: Նախնական մասնագիտական (արհեստագործական) և միջին մասնագիտական ուսումնական հաստատություններ
B49: Արդյունքի չափորոշիչներ
B50: ՆՄՄԿՈՒ հաստատությունների քանակ, որտեղ կատարվում են ներդրումները, հատ_x000D_ | E50: 2
B51: Միջոցառման վրա կատարվող ծախսը (հազար դրամ) | D51: =+'Հավելված N 4'!G169 -> 0 | E51: =+'Հավելված N 4'!H169 -> 60165.1
B53: Ծրագրի դասիչը | C53: Ծրագրի անվանումը
B54: 1075 | C54: Մշակութային ժառանգության ծրագիր
B56: Ծրագրի միջոցառումները
B57: Ծրագրի դասիչը՝ | C57: 1075 | D57: Ցուցանիշների փոփոխությունը (ավելացումները նշված են դրական նշանով)
B58: Միջոցառման դասիչը՝ | C58: 21001 | D58: Ինն ամիս | E58: Տարի
B59: Միջոցառման անվանումը՝ | C59: Հուշարձանների ամրակայում, նորոգում և վերականգնում
B60: Նկարագրությունը՝ | C60: Հուշարձանների գիտանախագծային փաստաթղթերի կազմում, հրատապ ուսումնասիրում, վավերագրման և ուսումնասիրման աշխատանքներ, հետախուզում և հնագիտական պեղում, ամրակայում, նորոգում և վերականգնում
B61: Միջոցառման տեսակը՝ | C61: Հանրության կողմից անմիջականորեն օգտագործվող ակտիվների հետ կապված միջոցառումներ
B62: Միջոցառումն իրականացնողի անվանումը | C62: Մասնագիտացված կազմակերպություն
B63: Արդյունքի չափորոշիչներ
B64: Հուշարձանների ուսումնասիրման (այդ թվում` հետախուզում և պեղում) և նախագծման, փորձաքննության աշխատանքներ, քանակ | E64: 1
B65: Միջոցառման վրա կատարվող ծախսը (հազար դրամ) | D65: =+'Հավելված N 4'!G115 -> 1734 | E65: =+'Հավելված N 4'!H115 -> 4505.7
B67: Ծրագրի միջոցառումները
B68: Ծրագրի դասիչը՝ | C68: 1075 | D68: Ցուցանիշների փոփոխությունը (ավելացումները նշված են դրական նշանով)
B69: Միջոցառման դասիչը՝ | C69: 32008 | D69: Ինն ամիս | E69: Տարի
B70: Միջոցառման անվանումը՝ | C70: Թանգարանների և պատկերասրահների գույքային և տեխնիկական հագեցվածության բարելավում
B71: Նկարագրությունը՝ | C71: Թանգարանների և պատկերասրահների համար անհրաժեշտ գույքի, տեխնիկայի և սարքավորումների ձեռքբերում
B72: Միջոցառման տեսակը՝ | C72: Այլ պետական կազմակերպությունների կողմից օգտագործվող ոչ ֆինանսական ակտիվների հետ գործառնություններ
B73: Ակտիվն օգտագործող կազմակերպությունների անվանումները | C73: Թանգարաններ և պատկերասրահներ
B74: Արդյունքի չափորոշիչներ
B75: Թանգարանների թիվը, որտեղ կատարվում են ներդրումները, հատ | E75: 19
B76: Միջոցառման վրա կատարվող ծախսը (հազար դրամ) | D76: =+'Հավելված N 4'!G70 -> 0 | E76: =+'Հավելված N 4'!H70 -> 43600
B78: Ծրագրի միջոցառումները
B79: Ծրագրի դասիչը՝ | C79: 1075 | D79: Ցուցանիշների փոփոխությունը (ավելացումները նշված են դրական նշանով)
B80: Միջոցառման դասիչը՝ | C80: 32009 | D80: Ինն ամիս | E80: Տարի
B81: Միջոցառման անվանումը՝ | C81: Պատմամշակութային ժառանգության ոլորտի կազմակերպությունների գույքային ապահովվածության բարելավում
B82: Նկարագրությունը՝ | C82: Պատմամշակութային ժառանգության ոլորտի կազմակերպությունների գույքով և տեխնիկաով ապահովում
B83: Միջոցառման տեսակը՝ | C83: Այլ պետական կազմակերպությունների կողմից օգտագործվող ոչ ֆինանսական ակտիվների հետ գործառնություններ
B84: Ակտիվն օգտագործող կազմակերպությունների անվանումները | C84: Պատմամշակութային ժառանգության ոլորտի կազմակերպություններ
B85: Արդյունքի չափորոշիչներ
B86: Կազմակերպությունների թիվը, որտեղ կատարվում են ներդրումները, հատ | E86: 1
B87: Միջոցառման վրա կատարվող ծախսը (հազար դրամ) | D87: =+'Հավելված N 4'!G85 -> 0 | E87: =+'Հավելված N 4'!H85 -> 11381.1
B89: Ծրագրի դասիչը | C89: Ծրագրի անվանումը
B90: 1124 | C90: Գրահրատարակչության և գրադարանների ծրագիր
B92: Ծրագրի միջոցառումները
B93: Ծրագրի դասիչը՝ | C93: 1124 | D93: Ցուցանիշների փոփոխությունը (ավելացումները նշված են դրական նշանով)
B94: Միջոցառման դասիչը՝ | C94: 32001 | D94: Ինն ամիս | E94: Տարի
B95: Միջոցառման անվանումը՝ | C95: Հանրային գրադարանների նյութատեխնիկական բազայի զարգացում
B96: Նկարագրությունը՝ | C96: Հանրային գրադարանների նյութատեխնիկական բազայի զարգացում
B97: Միջոցառման տեսակը՝ | C97: Այլ պետական կազմակերպությունների կողմից օգտագործվող ոչ ֆինանսական ակտիվների հետ գործառնություններ
B98: Ակտիվն օգտագործող կազմակերպությունների անվանումները | C98: Հանրային գրադարաններ
B99: Արդյունքի չափորոշիչներ
B100: Վերազինվող գրադարանների թիվը | E100: 2
B101: Միջոցառման վրա կատարվող ծախսը (հազար դրամ) | D101: =+'Հավելված N 4'!G46 -> 0 | E101: =+'Հավելված N 4'!H46 -> 43800
B103: Ծրագրի միջոցառումները
B104: Ծրագրի դասիչը՝ | C104: 1124 | D104: Ցուցանիշների փոփոխությունը (ավելացումները նշված են դրական նշանով)
B105: Միջոցառման դասիչը՝ | C105: 32002 | D105: Ինն ամիս | E105: Տարի
B106: Միջոցառման անվանումը՝ | C106: Ներդրումներ գրադարանների հիմնանորոգման համար
B107: Նկարագրությունը՝ | C107: Գրադարանների շենքերի, մասնաշենքերի հիմնանորոգում, համաշինարարական աշխատանքներ, ջեռուցման համակարգի իրականացում, ներքին հարդարում, տարածքի բարեկարգում և նախագծում
B108: Միջոցառման տեսակը՝ | C108: Այլ պետական կազմակերպությունների կողմից օգտագործվող ոչ ֆինանսական ակտիվների հետ գործառնություններ
B109: Ակտիվն օգտագործող կազմակերպությունների անվանումները | C109: Հանրային գրադարաններ
B110: Արդյունքի չափորոշիչներ
B111: Գրադարանների թիվը, որտեղ կատարվում են ներդրումները, հատ | E111: 1
B112: Հաստատությունների քանակ, որոնց շինարարական աշխատանքների ավարտվածության աստիճանը 100% է, հատ | E112: 1
B113: Միջոցառման վրա կատարվող ծախսը (հազար դրամ) | D113: =+'Հավելված N 4'!G55 -> 0 | E113: =+'Հավելված N 4'!H55 -> 59833.8
B115: Ծրագրի դասիչը | C115: Ծրագրի անվանումը
B116: 1148 | C116: Արտադպրոցական դաստիարակության ծրագիր
B118: Ծրագրի միջոցառումները
B119: Ծրագրի դասիչը՝ | C119: 1148 | D119: Ցուցանիշների փոփոխությունը (ավելացումները նշված են դրական նշանով)
...

Sheet Հավելված N 11
H1: Հավելված N 11
H2: ՀՀ կառավարության 2022 թվականի
H3: ______________ ի ___Ն որոշման
A5: ՀԱՅԱՍՏԱՆԻ ՀԱՆՐԱՊԵՏՈՒԹՅԱՆ ԿԱՌԱՎԱՐՈՒԹՅԱՆ 2021 ԹՎԱԿԱՆԻ ԴԵԿՏԵՄԲԵՐԻ 23-Ի N 2121-Ն ՈՐՈՇՄԱՆ N 10 ՀԱՎԵԼՎԱԾՈՒՄ ԿԱՏԱՐՎՈՂ ՓՈՓՈԽՈՒԹՅՈՒՆՆԵՐԸ ԵՎ ԼՐԱՑՈՒՄՆԵՐԸ
A7: Կոդը | B7: Անվանումը | E7: Գնման ձևը | F7: Չափման միավորը | G7: Միավորի գինը | H7: Ցուցանիշների փոփոխությունը (ավելացումները նշված են դրական նշանով, իսկ նվազեցումները՝ փակագծերում)
H8: Քանակը | I8: Գումարը (հազար դրամ)
A9: 1 | B9: 2 | E9: 3 | F9: 4 | G9: 5 | H9: 6 | I9: 7
A10: ՀՀ կրթության, գիտության, մշակույթի և սպորտի նախարարություն | I10: =+I11+I112+I123+I127+I147+I157+I162+I169 -> 656175.08
A11: Բաժին N 08 | B11: Խումբ N 01 | C11: Դաս N 01 | D11: Հանգստի և սպորտի ծառայություններ | I11: =+I12 -> 330901.68
A12: 1041-32001 | B12: Մանկապատանեկան մարզադպրոցներին, մարզաձևերի ազգային ֆեդերացիաներին և այլ մարզական հասարակական կազմակերպություններին գույքով ապահովում | I12: =+I13 -> 330901.68
B13: ՄԱՍ I. ԱՊՐԱՆՔՆԵՐ | I13: =SUM(I14:I111) -> 330901.68
A14: 37411630 | B14: թեթև աթլետիկայի սարքեր | E14: ԷԱՃ | F14: հատ | G14: 174000 | H14: 12 | I14: =+G14*H14/1000 -> 2088
A15: 37451620 | B15: նիզակներ նետման համար | E15: ԷԱՃ | F15: հատ | G15: 196000 | H15: 1 | I15: =+G15*H15/1000 -> 196
A16: 37451620 | B16: նիզակներ նետման համար | E16: ԷԱՃ | F16: հատ | G16: 188000 | H16: 4 | I16: =+G16*H16/1000 -> 752
A17: 37411630 | B17: թեթև աթլետիկայի սարքեր | E17: ԷԱՃ | F17: հատ | G17: 7200000 | H17: 1 | I17: =+G17*H17/1000 -> 7200
A18: 37411630 | B18: թեթև աթլետիկայի սարքեր | E18: ԷԱՃ | F18: հատ | G18: 131000 | H18: 4 | I18: =+G18*H18/1000 -> 524
A19: 39531700 | B19: ուղեգորգեր | E19: ԷԱՃ | F19: մ2 | G19: 28817 | H19: 93 | I19: =+G19*H19/1000 -> 2679.981
A20: 37411130 | B20: դահուկներ | E20: ԷԱՃ | F20: հատ | G20: 266400 | H20: 14 | I20: =+G20*H20/1000 -> 3729.6
A21: 37411130 | B21: դահուկներ | E21: ԷԱՃ | F21: հատ | G21: 279000 | H21: 14 | I21: =+G21*H21/1000 -> 3906
A22: 34521140 | B22: այլ մասնագիտացված նավակներ | E22: ԷԱՃ | F22: հատ | G22: 2976000 | H22: 2 | I22: =+G22*H22/1000 -> 5952
A23: 34521140 | B23: այլ մասնագիտացված նավակներ | E23: ԷԱՃ | F23: հատ | G23: 3390000 | H23: 2 | I23: =+G23*H23/1000 -> 6780
A24: 37451413 | B24: բասկետբոլի կանգնակ | E24: ԷԱՃ | F24: զույգ | G24: 96000 | H24: 10 | I24: =+G24*H24/1000 -> 960
A25: 37451420 | B25: բասկետբոլի ամբողջական խաղային կոմպլեքսներ | E25: ԷԱՃ | F25: հատ | G25: 950000 | H25: 2 | I25: =+G25*H25/1000 -> 1900
... A111: 35321110 | B111: ատրճանակներ | E111: ԳՀ | F111: հատ | G111: 1110000 | H111: 1 | I111: =+G111*H111/1000 -> 1110
A112: Բաժին N 08 | B112: Խումբ N 02 | C112: Դաս N 01 | D112: Գրադարաններ | I112: =+I113+I117 -> 103633.8
A113: 1124-32001 | B113: Հանրային գրադարանների նյութատեխնիկական բազայի զարգացում | I113: =+I114 -> 43800
B114: ՄԱՍ I. ԱՊՐԱՆՔՆԵՐ | I114: =SUM(I115:I116) -> 43800
A115: 48821200 | B115: համակարգչային սերվերեր | E115: ԷԱՃ | F115: հատ | G115: 34200000 | H115: 1 | I115: =+H115*G115/1000 -> 34200
A116: 30211280 | B116: համակարգիչ ամբողջը մեկում | E116: ԷԱՃ | F116: հատ | G116: 400000 | H116: 24 | I116: =+H116*G116/1000 -> 9600
A117: 1124-32002 | B117: Ներդրումներ գրադարանների հիմնանորոգման համար | I117: =+I118+I120 -> 59833.8
B118: ՄԱՍ II. ԱՇԽԱՏԱՆՔՆԵՐ | I118: =+I119 -> 58522.4
A119: 45231129 | B119: ջեռուցման հետ կապված աշխատանքներ | E119: ԳՀ | F119: դրամ | G119: 58522380 | H119: 1 | I119: 58522.4
B120: ՄԱՍ III. ԾԱՌԱՅՈՒԹՅՈՒՆՆԵՐ | I120: =SUM(I121:I122) -> 1311.4
A121: 71351540 | B121: տեխնիկական հսկողության ծառայություններ | E121: ԳՀ | F121: դրամ | G121: 1008780 | H121: 1 | I121: 1008.8
A122: 98111140 | B122: հեղինակային հսկողության ծառայություններ | E122: ՄԱ | F122: դրամ | G122: 302630 | H122: 1 | I122: 302.6
A123: Բաժին N 08 | B123: Խումբ N 02 | C123: Դաս N 02 | D123: Թանգարաններ | I123: =+I124 -> 43600
A124: 1075-32008 | B124: Թանգարանների և պատկերասրահների գույքային և տեխնիկական հագեցվածության բարելավում | I124: =+I125 -> 43600
B125: ՄԱՍ I. ԱՊՐԱՆՔՆԵՐ | I125: =SUM(I126:I126) -> 43600
A126: 30211280 | B126: համակարգիչ ամբողջը մեկում | E126: ԷԱՃ | F126: հատ | G126: 400000 | H126: 109 | I126: =+H126*G126/1000 -> 43600
A127: Բաժին N 08 | B127: Խումբ N 02 | C127: Դաս N 04 | D127: Այլ մշակութային կազմակերպություններ | I127: =+I128 -> 11381.1
A128: 1075-32009 | B128: Պատմամշակութային ժառանգության ոլորտի կազմակերպությունների գույքային ապահովվածության բարելավում | I128: =+I129 -> 11381.1
B129: ՄԱՍ I. ԱՊՐԱՆՔՆԵՐ | I129: =SUM(I130:I146) -> 11381.1
A130: 30211280 | B130: համակարգիչ ամբողջը մեկում | E130: ԷԱՃ | F130: հատ | G130: 400000 | H130: 10 | I130: =+H130*G130/1000 -> 4000
A131: 30211220 | B131: սեղանի համակարգիչներ | E131: ԷԱՃ | F131: հատ | G131: 348500 | H131: 2 | I131: =+H131*G131/1000 -> 697
A132: 30237490 | B132: համակարգչային մոնիտոր | E132: ԷԱՃ | F132: հատ | G132: 129900 | H132: 2 | I132: =+H132*G132/1000 -> 259.8
A133: 30211200 | B133: դյուրակիր համակարգիչներ | E133: ԷԱՃ | F133: հատ | G133: 328600 | H133: 2 | I133: =+H133*G133/1000 -> 657.2
A134: 39714220 | B134: օդորակիչ,12000 BTU | E134: ԷԱՃ | F134: հատ | G134: 232000 | H134: 2 | I134: =+H134*G134/1000 -> 464
A135: 31151120 | B135: անխափան սնուցման աղբյուրներ | E135: ԷԱՃ | F135: հատ | G135: 50000 | H135: 2 | I135: =+H135*G135/1000 -> 100
A136: 30216110 | B136: սկաներներ համակարգիչների համար | E136: ԷԱՃ | F136: հատ | G136: 692610 | H136: 1 | I136: =+H136*G136/1000 -> 692.61
A137: 30239220 | B137: տպիչ սարք, բազմաֆունկցիոնալ, A3, 17 էջ/րոպե արագության | E137: ԷԱՃ | F137: հատ | G137: 364500 | H137: 2 | I137: =+H137*G137/1000 -> 729
A138: 30239130 | B138: տպիչ սարք, բազմաֆունկցիոնալ, A4, 28 էջ/րոպե արագության | E138: ԷԱՃ | F138: հատ | G138: 145900 | H138: 4 | I138: =+H138*G138/1000 -> 583.6
A139: 30232130 | B139: գունավոր տպիչներ | E139: ԷԱՃ | F139: հատ | G139: 106990 | H139: 1 | I139: =+H139*G139/1000 -> 106.99
A140: 30232120 | B140: մատրիցային տպիչներ | E140: ԷԱՃ | F140: հատ | G140: 57900 | H140: 1 | I140: =+H140*G140/1000 -> 57.9
A141: 30232480 | B141: տեղեկությունների պահպանման կրիչներ | E141: ԷԱՃ | F141: հատ | G141: 32600 | H141: 4 | I141: =+H141*G141/1000 -> 130.4
... A146: 34721500 | B146: անօդաչու թռչող սարքեր | E146: ԳՀ | F146: դրամ | G146: 429900 | H146: 1 | I146: =+H146*G146/1000 -> 429.9
A147: Բաժին N 08 | B147: Խումբ N 02 | C147: Դաս N 05 | D147: Արվեստ | I147: =+I148 -> 16227
A148: 1168-32007 | B148: Թատերահամերգային կազմակերպությունների նյութատեխնիկական բազայի համալրում | I148: =+I149 -> 16227
B149: ՄԱՍ I. ԱՊՐԱՆՔՆԵՐ | I149: =SUM(I150:I156) -> 16227
A150: 39111140 | B150: աթոռներ | E150: ԷԱՃ | F150: հատ | G150: 26900 | H150: 130 | I150: =+H150*G150/1000 -> 3497
A151: 39111180 | B151: աթոռ` գրասենյակային | E151: ԷԱՃ | F151: հատ | G151: 17000 | H151: 100 | I151: =+H151*G151/1000 -> 1700
A152: 39714200 | B152: օդորակիչ | E152: ԷԱՃ | F152: հատ | G152: 920000 | H152: 4 | I152: =+H152*G152/1000 -> 3680
A153: 39714220 | B153: օդորակիչ,12000 BTU | E153: ԷԱՃ | F153: հատ | G153: 232000 | H153: 15 | I153: =+H153*G153/1000 -> 3480
A154: 39121100 | B154: գրասեղաններ | E154: ԷԱՃ | F154: հատ | G154: 57000 | H154: 10 | I154: =+H154*G154/1000 -> 570
A155: 30211280 | B155: համակարգիչ ամբողջը մեկում | E155: ԷԱՃ | F155: հատ | G155: 400000 | H155: 4 | I155: =+H155*G155/1000 -> 1600
A156: 30239170 | B156: բազմաֆունկցիոնալ սարք` լազերային | E156: ԷԱՃ | F156: հատ | G156: 1700000 | H156: 1 | I156: =+H156*G156/1000 -> 1700
A157: Բաժին N 08 | B157: Խումբ N 02 | C157: Դաս N 07 | D157: Հուշարձանների և մշակութային արժեքների վերականգնում և պահպանում | I157: =+I158 -> 4505.7
A158: 1075-21001 | B158: Հուշարձանների ամրակայում, նորոգում և վերականգնում | I158: =+I159 -> 4505.7
B159: ՄԱՍ III. ԾԱՌԱՅՈՒԹՅՈՒՆՆԵՐ | I159: =SUM(I160:I161) -> 4505.7
A160: 71241200 | B160: նախագծերի պատրաստում, ծախսերի գնահատում | E160: ՀՄԱ | F160: դրամ | G160: 3886000 | H160: 1 | I160: 3886
A161: 50531140 | B161: փորձաքննության ծառայություններ | E161: ԳՀ | F161: դրամ | G161: 619700 | H161: 1 | I161: 619.7
A162: Բաժին N 09 | B162: Խումբ N 05 | C162: Դաս N 01 | D162: Արտադպրոցական դաստիարակություն | I162: =+I164 -> 26940
A163: 1148-32004 | B163: Արտադպրոցական հաստատությունների գույքային և տեխնիկական ապահովվածության բարելավում | I163: =+I164 -> 26940
B164: ՄԱՍ I. ԱՊՐԱՆՔՆԵՐ | I164: =SUM(I165:I168) -> 26940
A165: 30211280 | B165: համակարգիչ ամբողջը մեկում | E165: ԷԱՃ | F165: հատ | G165: 400000 | H165: 35 | I165: =+H165*G165/1000 -> 14000
A166: 30239170 | B166: բազմաֆունկցիոնալ սարք` լազերային | E166: ԷԱՃ | F166: հատ | G166: 170000 | H166: 32 | I166: =+H166*G166/1000 -> 5440
A167: 31151120 | B167: անխափան սնուցման աղբյուրներ | E167: ԷԱՃ | F167: հատ | G167: 50000 | H167: 35 | I167: =+H167*G167/1000 -> 1750
A168: 48441300 | B168: հաշվապահական համակարգչային ծրագրային փաթեթներ | E168: ԷԱՃ | F168: հատ | G168: 250000 | H168: 23 | I168: =+H168*G168/1000 -> 5750
A169: Բաժին N 09 | B169: Խումբ N 06 | C169: Դաս N 01 | D169: Կրթությանը տրամադրվող օժանդակ ծառայություններ | I169: =+I170+I176+I182 -> 118985.8
A170: 1045-32001 | B170: Նախնական մասնագիտական (արհեստագործական) և միջին մասնագիտական ուսումնական հաստատությունների շենքային պայմանների բարելավում | I170: =+I171+I173 -> 41739
B171: ՄԱՍ II. ԱՇԽԱՏԱՆՔՆԵՐ | I171: =SUM(I172:I172) -> 40681.3
A172: 45611100 | B172: կրթական օբյեկտների հիմնանորոգում | E172: ԳՀ | F172: դրամ | G172: 40681260 | H172: 1 | I172: 40681.3
B173: ՄԱՍ III. ԾԱՌԱՅՈՒԹՅՈՒՆՆԵՐ | I173: =SUM(I174:I175) -> 1057.7
A174: 71351540-1 | B174: տեխնիկական հսկողության ծառայություններ | E174: ԳՀ | F174: դրամ | G174: 813620 | H174: 1 | I174: 813.6
A175: 98111140-1 | B175: հեղինակային հսկողության ծառայություններ | E175: ՄԱ | F175: դրամ | G175: 244090 | H175: 1 | I175: 244.1
A176: 1045-32004 | B176: Նախնական մասնագիտական (արհեստագործական) և միջին մասնագիտական ուսումնական հաստատություններում ուսումնարտադրական բազայով ապահովում | I176: =+I177 -> 60165.1
B177: ՄԱՍ I. ԱՊՐԱՆՔՆԵՐ | I177: =SUM(I178:I181) -> 60165.1
A178: 80491120 | B178: ուսումնական լսարան | E178: ԳՀ | F178: հատ | G178: 59545100 | H178: 1 | I178: =+H178*G178/1000 -> 59545.1
A179: 30211280 | B179: համակարգիչ ամբողջը մեկում | E179: ԷԱՃ | F179: հատ | G179: 400000 | H179: 1 | I179: =+H179*G179/1000 -> 400
A180: 30239170 | B180: բազմաֆունկցիոնալ սարք` լազերային | E180: ԷԱՃ | F180: հատ | G180: 170000 | H180: 1 | I180: =+H180*G180/1000 -> 170
A181: 31151120 | B181: անխափան սնուցման աղբյուրներ | E181: ԷԱՃ | F181: հատ | G181: 50000 | H181: 1 | I181: =+H181*G181/1000 -> 50
A182: 1183-32001 | B182: Կրթական օբյեկտների շենքային պայմանների բարելավում | I182: =+I183+I185 -> 17081.7
B183: ՄԱՍ II. ԱՇԽԱՏԱՆՔՆԵՐ | I183: =+I184 -> 16648.8
A184: 45231129 | B184: ջեռուցման հետ կապված աշխատանքներ | E184: ԳՀ | F184: դրամ | G184: 16648780 | H184: 1 | I184: 16648.8
B185: ՄԱՍ III. ԾԱՌԱՅՈՒԹՅՈՒՆՆԵՐ | I185: =SUM(I186:I187) -> 432.9
A186: 71351540 | B186: տեխնիկական հսկողության ծառայություններ | E186: ԳՀ | F186: դրամ | G186: 332980 | H186: 1 | I186: 333
A187: 98111140 | B187: հեղինակային հսկողության ծառայություններ | E187: ՄԱ | F187: դրամ | G187: 99890 | H187: 1 | I187: 99.9
A190: ՀՀ քաղաքաշինության կոմիտե | I190: =+I191 -> -2478503.9
A191: Բաժին N 09 | B191: Խումբ N 06 | C191: Դաս N 01 | D191: Կրթությանը տրամադրվող օժանդակ ծառայություններ | I191: =+I192+I198+I204+I210+I246+I250+I256+I259+I268+I277 -> -2478503.9
A192: 1045-32001 | B192: Նախնական մասնագիտական (արհեստագործական) և միջին մասնագիտական ուսումնական հաստատությունների շենքային պայմանների բարելավում | I192: =+I193+I195 -> -259650.4
B193: ՄԱՍ II. ԱՇԽԱՏԱՆՔՆԵՐ | I193: =+I194 -> -250000
...

Sheet Հավելված N 12
C1: Հավելված N 12
C2: ՀՀ կառավարության 2022 թվականի
C3: ______________ ի ___Ն որոշման
A6: «ՀԱՅԱUՏԱՆԻ ՀԱՆՐԱՊԵՏՈՒԹՅԱՆ 2022 ԹՎԱԿԱՆԻ ՊԵՏԱԿԱՆ ԲՅՈՒՋԵԻ ՄԱUԻՆ» ՀԱՅԱUՏԱՆԻ ՀԱՆՐԱՊԵՏՈՒԹՅԱՆ OՐԵՆՔԻ N 6 ՀԱՎԵԼՎԱԾՈՒՄ ԿԱՏԱՐՎՈՂ ՓՈՓՈԽՈՒԹՅՈՒՆՆԵՐԸ
B7: հազար դրամներով
B8: ԲԳԿ/Միջոցառում | C8: Ցուցանիշների փոփոխությունը (նվազեցումները նշված են փակագծերում)
C9: Ընդամենը
B10: ԸՆԴԱՄԵՆԸ | C10: =+C12 -> -59827
B11: այդ թվում՝
A12: 6 | B12: ՀՀ կրթության, գիտության, մշակույթի և սպորտի նախարարություն | C12: =SUM(C14:C15) -> -59827
B13: այդ թվում`
A14: 6.3 | B14: Թանգարանների և պատկերասրահների գույքային և տեխնիկական հագեցվածության բարելավում | C14: =-'Հավելված N 3'!E67 -> -43600
A15: 6.8 | B15: Թատերահամերգային կազմակերպությունների նյութատեխնիկական բազայի համալրում | C15: =-'Հավելված N 3'!E163 -> -16227

Sheet Հավելված N 13
G1: Հավելված N 13
H2: ՀՀ կառավարության 2022 թվականի
H3: ______________ ի ___Ն որոշման
A6: ՀԱՅԱՍՏԱՆԻ ՀԱՆՐԱՊԵՏՈՒԹՅԱՆ 2022 ԹՎԱԿԱՆԻ ՊԵՏԱԿԱՆ ԲՅՈՒՋԵՈՎ ՆԱԽԱՏԵՍՎԱԾ՝ ՀԱՅԱՍՏԱՆԻ ՀԱՆՐԱՊԵՏՈՒԹՅԱՆ ԿԱՌԱՎԱՐՈՒԹՅԱՆ ՊԱՀՈՒՍՏԱՅԻՆ ՖՈՆԴԻՑ ՀԱՏԿԱՑՈՒՄՆԵՐ ԿԱՏԱՐԵԼՈՒ ՎԵՐԱԲԵՐՅԱԼ
H9: հազ. դրամներով
A10: Գործառական դասիչը | D10: Ծրագրային դասիչը | F10: Բյուջետային հատկացումների գլխավոր կարգադրիչների, ծրագրերի, միջոցառումների և միջոցառումները կատարող պետական մարմինների անվանումները | G10: Ցուցանիշների փոփոխությունը (ավելացումները նշված են դրական նշանով, իսկ նվազեցումները՝ փակագծերում)
A11: Բաժին | B11: Խումբ | C11: Դաս | D11: Ծրագիր | E11: Միջոցառում | G11: Ինն ամիս | H11: Տարի
F12: ԸՆԴԱՄԵՆԸ | G12: =+G34+G14 -> 0 | H12: =+H34+H14 -> 0
F13: այդ թվում
F14: ՀՀ ԿԱՌԱՎԱՐՈՒԹՅՈՒՆ | G14: =+G15 -> -600540.5 | H14: =+H15 -> -1073197.1
A15: 11 | F15: ՀԻՄՆԱԿԱՆ ԲԱԺԻՆՆԵՐԻՆ ՉԴԱՍՎՈՂ ՊԱՀՈՒՍՏԱՅԻՆ ՖՈՆԴԵՐ | G15: =+G17 -> -600540.5 | H15: =+H17 -> -1073197.1
F16: այդ թվում`
B17: 01 | F17: ՀՀ կառավարության և համայնքների պահուստային ֆոնդ | G17: =+G19 -> -600540.5 | H17: =+H19 -> -1073197.1
F18: այդ թվում`
C19: 01 | F19: ՀՀ կառավարության պահուստային ֆոնդ | G19: =+G21 -> -600540.5 | H19: =+H21 -> -1073197.1
F20: այդ թվում`
F21: ՀՀ կառավարություն | G21: =+G23 -> -600540.5 | H21: =+H23 -> -1073197.1
F22: այդ թվում`
D23: 1139 | E23: ՀՀ կառավարության պահուստային ֆոնդ | F23: ՀՀ կառավարության պահուստային ֆոնդ | G23: =+G25 -> -600540.5 | H23: =+H25 -> -1073197.1
F24: այդ թվում`
E25: 11001 | F25: ՀՀ կառավարության պահուստային ֆոնդ | G25: =+G27 -> -600540.5 | H25: =+H27 -> -1073197.1
F26: այդ թվում` ըստ կատարողների
F27: ՀՀ կառավարություն | G27: =+G29 -> -600540.5 | H27: =+H29 -> -1073197.1
F28: այդ թվում` բյուջետային ծախսերի տնտեսագիտական դասակարգման հոդվածներ
F29: ԸՆԴԱՄԵՆԸ ԾԱԽՍԵՐ | G29: =+G30 -> -600540.5 | H29: =+H30 -> -1073197.1
F30: ԸՆԹԱՑԻԿ ԾԱԽՍԵՐ | G30: =+G31 -> -600540.5 | H30: =+H31 -> -1073197.1
F31: ԱՅԼ ԾԱԽՍԵՐ | G31: =+G32 -> -600540.5 | H31: =+H32 -> -1073197.1
F32: Պահուստային միջոցներ | G32: =+'Հավելված N 4'!G335 -> -600540.5 | H32: =+'Հավելված N 4'!H335 -> -1073197.1
F34: ՀՀ ԿՐԹՈՒԹՅԱՆ, ԳԻՏՈՒԹՅԱՆ, ՄՇԱԿՈՒՅԹԻ ԵՎ ՍՊՈՐՏԻ ՆԱԽԱՐԱՐՈՒԹՅՈՒՆ | G34: =+G35+G105 -> 600540.5 | H34: =+H35+H105 -> 1073197.1
A35: 08 | F35: ՀԱՆԳԻՍՏ, ՄՇԱԿՈՒՅԹ ԵՎ ԿՐՈՆ | G35: =+G37+G58 -> 600540.5 | H35: =+H37+H58 -> 1046257.1
F36: այդ թվում`
B37: 01 | F37: Հանգստի և սպորտի ծառայություններ | G37: =+G39 -> 600540.5 | H37: =+H39 -> 931442.18
F38: այդ թվում`
C39: 01 | F39: Հանգստի և սպորտի ծառայություններ | G39: =+G41 -> 600540.5 | H39: =+H41 -> 931442.18
F40: այդ թվում`
F41: ՀՀ կրթության, գիտության, մշակույթի և սպորտի նախարարություն | G41: =+G43 -> 600540.5 | H41: =+H43 -> 931442.18
F42: այդ թվում`
D43: 1041 | E43: Մեծ նվաճումների սպորտ | G43: =+G45 -> 600540.5 | H43: =+H45 -> 931442.18
F44: այդ թվում`
E45: 32001 | F45: Մանկապատանեկան մարզադպրոցներին, մարզաձևերի ազգային ֆեդերացիաներին և այլ մարզական հասարակական կազմակերպություններին գույքով ապահովում | G45: =+G47 -> 600540.5 | H45: =+H47 -> 931442.18
F46: այդ թվում` ըստ կատարողների
F47: ՀՀ կրթության, գիտության, մշակույթի և սպորտի նախարարություն | G47: =+G49 -> 600540.5 | H47: =+H49 -> 931442.18
F48: այդ թվում՝ բյուջետային ծախսերի տնտեսագիտական դասակարգման հոդվածներ
F49: ԸՆԴԱՄԵՆԸ ԾԱԽՍԵՐ | G49: =+G50+G54 -> 600540.5 | H49: =+H50+H54 -> 931442.18
F50: ԸՆԹԱՑԻԿ ԾԱԽՍԵՐ | G50: =+G51 -> 600540.5 | H50: =+H51 -> 600540.5
F51: ԴՐԱՄԱՇՆՈՐՀՆԵՐ | G51: =+G52 -> 600540.5 | H51: =+H52 -> 600540.5
F52: ԸՆԹԱՑԻԿ ԴՐԱՄԱՇՆՈՐՀՆԵՐ ՊԵՏԱԿԱՆ ՀԱՏՎԱԾԻ ԱՅԼ ՄԱԿԱՐԴԱԿՆԵՐԻՆ | G52: =+G53 -> 600540.5 | H52: =+H53 -> 600540.5
F53: - Այլ կապիտալ դրամաշնորհներ | G53: =+'Հավելված N 4'!G31 -> 600540.5 | H53: =+'Հավելված N 4'!H31 -> 600540.5
F54: ՈՉ ՖԻՆԱՆՍԱԿԱՆ ԱԿՏԻՎՆԵՐԻ ԳԾՈՎ ԾԱԽՍԵՐ | G54: =+G55 -> 0 | H54: =+H55 -> 330901.68
F55: ՀԻՄՆԱԿԱՆ ՄԻՋՈՑՆԵՐ | G55: =+G56 -> 0 | H55: =+H56 -> 330901.68
F56: ՄԵՔԵՆԱՆԵՐ ԵՎ ՍԱՐՔԱՎՈՐՈՒՄՆԵՐ | G56: =+G57 -> 0 | H56: =+H57 -> 330901.68
F57: - Վարչական սարքավորումներ | G57: =+'Հավելված N 4'!G35 -> 0 | H57: =+'Հավելված N 4'!H35 -> 330901.68
B58: 02 | F58: Մշակութային ծառայություններ | G58: =+G60+G75+G90 -> 0 | H58: =+H60+H75+H90 -> 114814.9
F59: այդ թվում`
C60: 01 | F60: Գրադարաններ | G60: =+G62 -> 0 | H60: =+H62 -> 59833.8
F61: այդ թվում`
F62: ՀՀ կրթության, գիտության, մշակույթի և սպորտի նախարարություն | G62: =+G64 -> 0 | H62: =+H64 -> 59833.8
F63: այդ թվում`
D64: 1124 | E64: Գրահրատարակչության և գրադարանների ծրագիր | G64: =+G66 -> 0 | H64: =+H66 -> 59833.8
F65: այդ թվում`
E66: 32002 | F66: Ներդրումներ գրադարանների հիմնանորոգման համար | G66: =+G68 -> 0 | H66: =+H68 -> 59833.8
F67: այդ թվում` ըստ կատարողների
F68: ՀՀ կրթության, գիտության, մշակույթի և սպորտի նախարարություն | G68: =+G70 -> 0 | H68: =+H70 -> 59833.8
F69: այդ թվում՝ բյուջետային ծախսերի տնտեսագիտական դասակարգման հոդվածներ
F70: ԸՆԴԱՄԵՆԸ ԾԱԽՍԵՐ | G70: =+G71 -> 0 | H70: =+H71 -> 59833.8
F71: ՈՉ ՖԻՆԱՆՍԱԿԱՆ ԱԿՏԻՎՆԵՐԻ ԳԾՈՎ ԾԱԽՍԵՐ | G71: =+G72 -> 0 | H71: =+H72 -> 59833.8
F72: ՀԻՄՆԱԿԱՆ ՄԻՋՈՑՆԵՐ | G72: =+G73 -> 0 | H72: =+H73 -> 59833.8
F73: ՇԵՆՔԵՐ ԵՎ ՇԻՆՈՒԹՅՈՒՆՆԵՐ | G73: =+G74 -> 0 | H73: =+H74 -> 59833.8
F74: - Շենքերի և շինությունների կապիտալ վերանորոգում | G74: =+'Հավելված N 4'!G61 -> 0 | H74: =+'Հավելված N 4'!H61 -> 59833.8
C75: 02 | F75: Թանգարաններ և ցուցասրահներ | G75: =+G77 -> 0 | H75: =+H77 -> 43600
F76: այդ թվում`
F77: ՀՀ կրթության, գիտության, մշակույթի և սպորտի նախարարություն | G77: =+G79 -> 0 | H77: =+H79 -> 43600
F78: այդ թվում`
D79: 1075 | E79: Մշակութային ժառանգության ծրագիր | G79: =+G81 -> 0 | H79: =+H81 -> 43600
F80: այդ թվում`
E81: 32008 | F81: Թանգարանների և պատկերասրահների գույքային և տեխնիկական հագեցվածության բարելավում | G81: =+G83 -> 0 | H81: =+H83 -> 43600
F82: այդ թվում` ըստ կատարողների
F83: ՀՀ կրթության, գիտության, մշակույթի և սպորտի նախարարություն | G83: =+G85 -> 0 | H83: =+H85 -> 43600
F84: այդ թվում՝ բյուջետային ծախսերի տնտեսագիտական դասակարգման հոդվածներ
F85: ԸՆԴԱՄԵՆԸ ԾԱԽՍԵՐ | G85: =+G86 -> 0 | H85: =+H86 -> 43600
F86: ՈՉ ՖԻՆԱՆՍԱԿԱՆ ԱԿՏԻՎՆԵՐԻ ԳԾՈՎ ԾԱԽՍԵՐ | G86: =+G87 -> 0 | H86: =+H87 -> 43600
F87: ՀԻՄՆԱԿԱՆ ՄԻՋՈՑՆԵՐ | G87: =+G88 -> 0 | H87: =+H88 -> 43600
F88: ՄԵՔԵՆԱՆԵՐ ԵՎ ՍԱՐՔԱՎՈՐՈՒՄՆԵՐ | G88: =+G89 -> 0 | H88: =+H89 -> 43600
F89: - Վարչական սարքավորումներ | G89: =+'Հավելված N 4'!G76 -> 0 | H89: =+'Հավելված N 4'!H76 -> 43600
C90: 04 | F90: Այլ մշակութային կազմակերպություններ | G90: =+G92 -> 0 | H90: =+H92 -> 11381.1
F91: այդ թվում`
F92: ՀՀ կրթության, գիտության, մշակույթի և սպորտի նախարարություն | G92: =+G96 -> 0 | H92: =+H96 -> 11381.1
F93: այդ թվում`
D94: 1075 | E94: Մշակութային ժառանգության ծրագիր | G94: =+G96 -> 0 | H94: =+H96 -> 11381.1
F95: այդ թվում`
E96: 32009 | F96: Պատմամշակութային ժառանգության ոլորտի կազմակերպությունների գույքային ապահովվածության բարելավում | G96: =+G98 -> 0 | H96: =+H98 -> 11381.1
F97: այդ թվում` ըստ կատարողների
F98: ՀՀ կրթության, գիտության, մշակույթի և սպորտի նախարարություն | G98: =+G100 -> 0 | H98: =+H100 -> 11381.1
F99: այդ թվում՝ բյուջետային ծախսերի տնտեսագիտական դասակարգման հոդվածներ
F100: ԸՆԴԱՄԵՆԸ ԾԱԽՍԵՐ | G100: =+G101 -> 0 | H100: =+H101 -> 11381.1
F101: ՈՉ ՖԻՆԱՆՍԱԿԱՆ ԱԿՏԻՎՆԵՐԻ ԳԾՈՎ ԾԱԽՍԵՐ | G101: =+G102 -> 0 | H101: =+H102 -> 11381.1
F102: ՀԻՄՆԱԿԱՆ ՄԻՋՈՑՆԵՐ | G102: =+G103 -> 0 | H102: =+H103 -> 11381.1
F103: ՄԵՔԵՆԱՆԵՐ ԵՎ ՍԱՐՔԱՎՈՐՈՒՄՆԵՐ | G103: =+G104 -> 0 | H103: =+H104 -> 11381.1
F104: - Վարչական սարքավորումներ | G104: =+'Հավելված N 4'!G91 -> 0 | H104: =+'Հավելված N 4'!H91 -> 11381.1
A105: 09 | F105: ԿՐԹՈՒԹՅՈՒՆ | G105: =+G107+G124 -> 0 | H105: =+H107+H124 -> 26940
...
