Workbook
Name AgencyCode: #REF!
Name AgencyCode: #REF!
Name AgencyName: #REF!
Name AgencyName: #REF!
Name davit: #REF!
Name davit: #REF!
Name Functional1: #REF!
Name Functional1: #REF!
Name ggg: #REF!
Name ggg: #REF!
Name PANature: #REF!
Name PANature: #REF!
Name PAType: #REF!
Name PAType: #REF!
Name Performance2: #REF!
Name Performance2: #REF!
Name PerformanceType: #REF!
Name PerformanceType: #REF!
Name Հավելված: #REF!
Name Հավելված: #REF!
Name Մաս: #REF!
Name Մաս: #REF!
Name շախմատիստ: #REF!
Name շախմատիստ: #REF!

Sheet h1
E2: Հավելված 1
D3: ՀՀ կառավարության 2022 թվականի
D4: ______________ ի ___Ն որոշման
A6: «ՀԱՅԱՍՏԱՆԻ ՀԱՆՐԱՊԵՏՈՒԹՅԱՆ 2022 ԹՎԱԿԱՆԻ ՊԵՏԱԿԱՆ ԲՅՈՒՋԵԻ ՄԱՍԻՆ» ՕՐԵՆՔԻ N 1 ՀԱՎԵԼՎԱԾԻ N 2 ԱՂՅՈՒՍԱԿՈՒՄ ՎԵՐԱԲԱՇԽՈՒՄ ԵՎ ՀԱՅԱՍՏԱՆԻ ՀԱՆՐԱՊԵՏՈՒԹՅԱՆ ԿԱՌԱՎԱՐՈՒԹՅԱՆ 2021 ԹՎԱԿԱՆԻ ԴԵԿՏԵՄԲԵՐԻ 23-Ի N 2121-Ն ՈՐՈՇՄԱՆ N 5 ՀԱՎԵԼՎԱԾԻ N 1 ԱՂՅՈՒՍԱԿՈՒՄ ԿԱՏԱՐՎՈՂ ՓՈՓՈԽՈՒԹՅՈՒՆՆԵՐԸ ԵՎ ԼՐԱՑՈՒՄՆԵՐԸ
E8: հազար դրամներով
A9: Ծրագրային դասիչը | C9: Բյուջետային հատկացումների գլխավոր կարգադրիչների, ծրագրերի և միջոցառումների անվանումները | D9: Ցուցանիշների փոփոխությունը (ավելացումները նշված են դրական նշանով, իսկ նվազեցումները` փակագծերում)
A10: Ծրագիր | B10: Միջոցառում | D10: Ինն ամիս | E10: Տարի
B11: ԸՆԴԱՄԵՆԸ | D11: 0 | E11: 0
C12: ՀՀ տարածքային կառավարման և ենթակառուցվածքների նախարարություն | D12: =+D13+D25 -> 0 | E12: =+E13+E25 -> 0
A13: 1049 | C13: Ծրագրի անվանումը` | D13: -2000 | E13: -40000
C14: Ճանապարհային ցանցի բարելավում
C15: Ծրագրի նպատակը`
C16: Ճանապարհային ցանցի բարելավում և անվտանգ երթևեկության ապահովում
C17: Վերջնական արդյունքի նկարագրությունը`
C18: Ճանապարհների ծածկի որակի և փոխադրումների արդյունավետության բարելավում, ճանապարհների վիճակով պայմանավորված պատահարների նվազում
B19: 11015 | C19: Միջոցառման անվանումը` | D19: -2000 | E19: -40000
C20: Եվրոպական ներդրումային բանկի աջակցությամբ իրականացվող Հյուսիս-հարավ միջանցքի զարգացման ծրագրի համակարգում և կառավարում (Տրանշ 3)
C21: Միջոցառման նկարագրությունը`
C22: Եվրոպական ներդրումային բանկի աջակցությամբ իրականացվող Հյուսիս-հարավ միջանցքի զարգացման ծրագրի իրականացման համար ճանապարհային երթևեկության անվտանգության բարելավման նպատակով խորհրդատվության տրամադրում: Լանջիկ-Գյումրի հատված (Տրանշ 3)
C23: Միջոցառման տեսակը
C24: Ծառայությունների մատուցում
A25: 1232 | C25: Ծրագրի անվանումը` | D25: 2000 | E25: 40000
C26: Էներգաարդյունավետության ծրագիր
C27: Ծրագրի նպատակը`
C28: Էներգախնայողության և վերականգնվող էներգետիկայի ներուժի առավելագույն իրացում
C29: Վերջնական արդյունքի նկարագրությունը`
C30: Էներգախնայողության մակարդակի բարձրացում և վերականգնվող էներգետիկայի մասնաբաժնի աճ
A31: Ծրագրի միջոցառումներ
B32: 12002 | C32: Միջոցառման անվանումը` | D32: 2000 | E32: 40000
C33: Պետական աջակցություն բնակարանների և անհատական բնակելի տների էներգաարդյունավետ վերանորոգման աշխատանքների իրականացմանը
C34: Միջոցառման նկարագրությունը`
C35: Բնակարանների և անհատական բնակելի տների էներգաարդյունավետ վերանորոգման համար շահառուներին տրամադրվող վարկերի սուբսիդավորման իրականացում
C36: Միջոցառման տեսակը
C37: Ծառայությունների մատուցում
C38: ՀՀ կառավարություն | D38: =+D39 -> 0 | E38: =+E39 -> 0
A39: 1139 | C39: Ծրագրի անվանումը` | D39: =+D45+D51 -> 0 | E39: =+E45+E51 -> 0
C40: ՀՀ կառավարության պահուստային ֆոնդ
C41: Ծրագրի նպատակը`
C42: Պետական բյուջեում չկանխատեսված՝ ինչպես նաև բյուջետային երաշխիքների ապահովման ծախսերի ֆինանսավորման ապահովում
C43: Վերջնական արդյունքի նկարագրությունը`
...

Sheet h2
I1: Հավելված N2
I2: ՀՀ կառավարության 2021 թվականի
I3: ______________N______-Ն որոշման
A5: «ՀԱՅԱՍՏԱՆԻ ՀԱՆՐԱՊԵՏՈՒԹՅԱՆ 2022 ԹՎԱԿԱՆԻ ՊԵՏԱԿԱՆ ԲՅՈՒՋԵԻ ՄԱՍԻՆ» ՕՐԵՆՔԻ N1 ՀԱՎԵԼՎԱԾԻ N4 ԱՂՅՈՒՍԱԿՈՒՄ ԵՎ ՀԱՅԱՍՏԱՆԻ ՀԱՆՐԱՊԵՏՈՒԹՅԱՆ ԿԱՌԱՎԱՐՈՒԹՅԱՆ 2021 ԹՎԱԿԱՆԻ ԴԵԿՏԵՄԲԵՐԻ 23-Ի N2121-Ն ՈՐՈՇՄԱՆ N 5 ՀԱՎԵԼՎԱԾԻ N3 ԱՂՅՈՒՍԱԿՈՒՄ ԿԱՏԱՐՎՈՂ ՓՈՓՈԽՈՒԹՅՈՒՆՆԵՐԸ
I6: հազար դրամներով
A7: Ծրագրային դասիչը | C7: Բյուջետային հատկացումների գլխավոր կարգադրիչների, ծրագրերի, միջոցառումների և միջոցառումները կատարող պետական մարմինների անվանումները | D7: Ցուցանիշների փոփոխությունը (նվազեցումները նշված են փակագծերում)
D8: Ինն ամիս | G8: Տարի
A9: Ծրագիր | B9: Միջոցառում | D9: Ընդամենը | E9: այդ թվում | G9: Ընդամենը | H9: այդ թվում
E10: Վարկային միջոցներ | F10: Համաֆինան սավորում | H10: Վարկային միջոցներ | I10: Համաֆինան սավորում
C11: ԸՆԴԱՄԵՆԸ_x000D_ | D11: -2000 | E11: - | F11: -2000 | G11: -40000 | H11: - | I11: -40000
C12: այդ թվում`
C13: ԸՆԹԱՑԻԿ ԾԱԽՍԵՐ | D13: -2000 | E13: - | F13: -2000 | G13: -40000 | H13: - | I13: -40000
C14: ՀՀ ՏԱՐԱԾՔԱՅԻՆ ԿԱՌԱՎԱՐՄԱՆ ԵՎ ԵՆԹԱԿԱՌՈՒՑՎԱԾՔՆԵՐԻ ՆԱԽԱՐԱՐՈՒԹՅՈՒՆ_x000D_ | D14: -2000 | E14: - | F14: -2000 | G14: -40000 | H14: - | I14: -40000
C15: այդ թվում`
A16: 1049 | C16: Ճանապարհային ցանցի բարելավում | D16: -2000 | E16: - | F16: -2000 | G16: -40000 | H16: - | I16: -40000
C17: այդ թվում`
B18: 11015 | C18: Եվրոպական ներդրումային բանկի աջակցությամբ իրականացվող Հյուսիս-հարավ միջանցքի զարգացման ծրագրի համակարգում և կառավարում (Տրանշ 3) | D18: -2000 | E18: - | F18: -2000 | G18: -40000 | H18: - | I18: -40000
C19: այդ թվում` ըստ կատարողների
C20: ՀՀ տարածքային կառավարման և ենթակառուցվածքների նախարարություն | D20: -2000 | E20: - | F20: -2000 | G20: -40000 | H20: - | I20: -40000
C21: այդ թվում` բյուջետային ծախսերի տնտեսագիտական դասակարգման հոդվածներ
C22: ԸՆԴԱՄԵՆԸ ԾԱԽՍԵՐ | D22: -2000 | E22: - | F22: -2000 | G22: -40000 | H22: - | I22: -40000
C23: ԸՆԹԱՑԻԿ ԾԱԽՍԵՐ | D23: -2000 | E23: - | F23: -2000 | G23: -40000 | H23: - | I23: -40000
C24: ԱՅԼ ԾԱԽՍԵՐ | D24: -2000 | E24: - | F24: -2000 | G24: -40000 | H24: - | I24: -40000
C25: Այլ ծախսեր | D25: -2000 | E25: - | F25: -2000 | G25: -40000 | H25: - | I25: -40000

Sheet h3
G1: Հավելված 3
F2: ՀՀ կառավարության 2022 թվականի
F3: ______________ ի ___Ն որոշման
A5: ՀԱՅԱՍՏԱՆԻ ՀԱՆՐԱՊԵՏՈՒԹՅԱՆ ԿԱՌԱՎԱՐՈՒԹՅԱՆ 2021 ԹՎԱԿԱՆԻ ԴԵԿՏԵՄԲԵՐԻ 23-Ի N 2121-Ն ՈՐՈՇՄԱՆ NN 3 ԵՎ 4 ՀԱՎԵԼՎԱԾՆԵՐՈՒՄ ԿԱՏԱՐՎՈՂ ՓՈՓՈԽՈՒԹՅՈՒՆՆԵՐԸ ԵՎ ԼՐԱՑՈՒՄՆԵՐԸ
H7: հազար դրամներով
A8: Գործառական դասիչը | D8: Ծրագրային դասիչը | F8: Բյուջետային ծախսերի գործառական դասակարգման բաժինների, խմբերի և դասերի, բյուջետային ծրագրերի, միջոցառումների բյուջետային հատկացումնեյի գլխավոր կարկադրիչների անվանումները | G8: Ցուցանիշների փոփոխությունը (ավելացումները նշված են դրական նշանով, իսկ նվազեցումները` փակագծերում)
A9: Բաժին | B9: Խումբ | C9: Դաս | D9: Ծրագիր | E9: Միջոցառում | G9: Ինն ամիս | H9: Տարի
F10: ԸՆԴԱՄԵՆԸ | G10: 0 | H10: 0
A11: 04 | F11: ՏՆՏԵՍԱԿԱՆ ՀԱՐԱԲԵՐՈՒԹՅՈՒՆՆԵՐ | G11: =+G13+G27 -> 0 | H11: =+H13+H27 -> 0
F12: այդ թվում`
B13: 05 | F13: Տրանսպորտ | G13: -2000 | H13: -40000
F14: այդ թվում`
C15: 01 | F15: Ճանապարհային տրանսպորտ | G15: -2000 | H15: -40000
F16: այդ թվում`
D17: 1049 | F17: Ճանապարհային ցանցի բարելավում | G17: -2000 | H17: -40000
F18: այդ թվում`
E19: 11015 | F19: Եվրոպական ներդրումային բանկի աջակցությամբ իրականացվող Հյուսիս-հարավ միջանցքի զարգացման ծրագրի համակարգում և կառավարում (Տրանշ 3) | G19: -2000 | H19: -40000
F20: այդ թվում` ըստ կատարողների
F21: ՀՀ տարածքային կառավարման և ենթակառուցվածքների նախարարություն | G21: -2000 | H21: -40000
F22: այդ թվում` բյուջետային ծախսերի տնտեսագիտական դասակարգման հոդվածներ
F23: ԸՆԴԱՄԵՆԸ ԾԱԽՍԵՐ | G23: -2000 | H23: -40000
F24: ԸՆԹԱՑԻԿ ԾԱԽՍԵՐ | G24: -2000 | H24: -40000
F25: ԱՅԼ ԾԱԽՍԵՐ | G25: -2000 | H25: -40000
F26: Այլ ծախսեր | G26: -2000 | H26: -40000
B27: 01 | F27: Ընդհանուր բնույթի տնտեսական, առևտրային և աշխատանքի գծով հարաբերություններ | G27: 2000 | H27: 40000
F28: այդ թվում`
C29: 01 | F29: Ընդհանուր բնույթի տնտեսական և առևտրային հարաբերություններ | G29: 2000 | H29: 40000
F30: այդ թվում`
F31: ՀՀ տարածքային կառավարման և ենթակառուցվածքների նախարարություն | G31: 2000 | H31: 40000
F32: այդ թվում`
D33: 1232 | F33: էներգաարդյունավետության ծրագիր | G33: 2000 | H33: 40000
F34: այդ թվում`
E35: 12002 | F35: Պետական աջակցություն բնակարանների և անհատական բնակելի տների էներգաարդյունավետ վերանորոգման աշխատանքների իրականացմանը | G35: 2000 | H35: 40000
F36: այդ թվում` ըստ կատարողների
F37: ՀՀ տարածքային կառավարման և ենթակառուցվածքների նախարարություն | G37: 2000 | H37: 40000
F38: այդ թվում` բյուջետային ծախսերի տնտեսագիտական դասակարգման հոդվածներ
F39: ԸՆԴԱՄԵՆԸ ԾԱԽՍԵՐ | G39: 2000 | H39: 40000
F40: ԸՆԹԱՑԻԿ ԾԱԽՍԵՐ | G40: 2000 | H40: 40000
F41: ՍՈՒԲՍԻԴԻԱՆԵՐ | G41: 2000 | H41: 40000
F42: Սուբսիդիաներ ոչ պետական կազմակերպությունների | G42: 2000 | H42: 40000
...

Sheet h4
F1: Հավելված N 4
F2: ՀՀ կառավարության 2022 թվականի
F3: ______________ ի ___Ն որոշման
B6: ՀԱՅԱՍՏԱՆԻ ՀԱՆՐԱՊԵՏՈՒԹՅԱՆ ԿԱՌԱՎԱՐՈՒԹՅԱՆ 2021 ԹՎԱԿԱՆԻ ԴԵԿՏԵՄԲԵՐԻ 23-Ի N 2121-Ն ՈՐՈՇՄԱՆ N 9 ՀԱՎԵԼՎԱԾԻ N 9.7 ԵՎ N 9.47 ԱՂՅՈՒՍԱԿՆԵՐՈՒՄ ԿԱՏԱՐՎՈՂ ԼՐԱՑՈՒՄՆԵՐԸ ԵՎ ՓՈՓՈԽՈՒԹՅՈՒՆՆԵՐԸ
E8: Աղյուսակ 9.7
B10: ՀՀ տարածքային կառավարման և ենթակառուցվածքների նախարարություն
B11: ՄԱՍ 2. ՊԵՏԱԿԱՆ ՄԱՐՄՆԻ ԳԾՈՎ ԱՐԴՅՈՒՆՔԱՅԻՆ (ԿԱՏԱՐՈՂԱԿԱՆ) ՑՈՒՑԱՆԻՇՆԵՐԸ
B13: Ծրագրի դասիչը | C13: Ծրագրի անվանումը
B14: 1232 | C14: ='h1'!C26 -> Էներգաարդյունավետության ծրագիր
B16: Ծրագրի միջոցառումները
B17: Ծրագրի դասիչը` | C17: 1232 | D17: Ցուցանիշների փոփոխությունը (ավելացումները նշված են դրական նշանով)
B18: Միջոցառման դասիչը` | C18: 12002 | D18: Ինն ամիս | E18: Տարի
B19: Միջոցառման անվանումը` | C19: ='h1'!C33 -> Պետական աջակցություն բնակարանների և անհատական բնակելի տների էներգաարդյունավետ վերանորոգման աշխատանքների իրականացմանը
B20: Նկարագրությունը` | C20: ='h1'!C35 -> Բնակարանների և անհատական բնակելի տների էներգաարդյունավետ վերանորոգման համար շահառուներին տրամադրվող վարկերի սուբսիդավորման իրականացում
B21: Միջոցառման տեսակը` | C21: Տրանսֆերտների տրամադրում
B22: Շահառուների ընտրության չափանիշները՝ | C22: ՀՀ կառավարության 2022թ. ապրիլի 15-ի 520 - Լ որոշմամբ հաստատված «Բնակարանների և անհատական բնակելի տների էներգաարդյունավետ վերանորոգման աշխատանքների պետական աջակցության ծրագրով» և մայիսի 26-ի № 775 - Լ որոշմամբ հաստատված «Բնակարանների և անհատական բնակելի տների էներգաարդյունավետ վերանորոգման աշխատանքների պետական աջակցության ծրագրի իրականացման կարգով» ընտրված շահառուներ
B23: Արդյունքի չափորոշիչներ
B24: Շահառուներ, քանակ | D24: 30 | E24: 200
B25: Միջոցառման վրա կատարվող ծախսը (հազար դրամ) | D25: ='h3'!G70 -> 2000 | E25: 40000
B29: Ծրագրի դասիչը | C29: Ծրագրի անվանումը
B30: =C33 -> 1049 | C30: ='h1'!C14 -> Ճանապարհային ցանցի բարելավում
B32: Ծրագրի միջոցառումները
B33: Ծրագրի դասիչը` | C33: 1049 | D33: =D51 -> Ցուցանիշների փոփոխությունը (նվազեցումները նշված են փակագծերում)
B34: Միջոցառման դասիչը` | C34: 11015 | D34: Ինն ամիս | E34: Տարի
B35: Միջոցառման անվանումը` | C35: Եվրոպական ներդրումային բանկի աջակցությամբ իրականացվող Հյուսիս-հարավ միջանցքի զարգացման ծրագրի համակարգում և կառավարում (Տրանշ 3)
B36: Նկարագրությունը` | C36: Եվրոպական ներդրումային բանկի աջակցությամբ իրականացվող Հյուսիս-հարավ միջանցքի զարգացման ծրագրի իրականացման համար ճանապարհային երթևեկության անվտանգության բարելավման նպատակով խորհրդատվության տրամադրում: Լանջիկ-Գյումրի հատված (Տրանշ 3)
B37: Միջոցառման տեսակը` | C37: Ծառայությունների մատուցում
B38: Միջոցառումն իրականացնողի անվանումը՛ | C38: Մասնագիտացված միավոր
B39: Արդյունքի չափորոշիչներ
B40: Միջոցառման վրա կատարվող ծախսը (հազար դրամ) | D40: ='h2'!D20 -> -2000 | E40: -40000
D42: Աղյուսակ 9.47
C43: ՀՀ ԿԱՌԱՎԱՐՈՒԹՅՈՒՆ
B46: Ծրագրի դասիչը | C46: Ծրագրի անվանումը
B47: 1139 | C47: ՀՀ կառավարության պահուստային ֆոնդ
B49: Ծրագրի միջոցառումները
B51: Ծրագրի դասիչը՝ | C51: 1139 | D51: Ցուցանիշների փոփոխությունը (նվազեցումները նշված են փակագծերում)
B52: Միջոցառման դասիչը՝ | C52: 11001 | D52: Ինն ամիս | E52: Տարի
B53: Միջոցառման անվանումը՝ | C53: ՀՀ կառավարության պահուստային ֆոնդ
B54: Նկարագրությունը՝ | C54: ՀՀ պետական բյուջեում նախատեսված ելքերի լրացուցիչ ֆինանսավորման՝ պետական բյուջեում չկանխատեսված ելքերի՝ ինչպես նաև բյուջետային երաշխիքների ապահովման ելքերի ֆինանսավորման ապահովում
B55: Միջոցառման տեսակը՝ | C55: Ծառայությունների մատուցում
...

Sheet h5
D2: Հավելված 5
C3: ՀՀ կառավարության 2022 թվականի
D4: ______________ ի ___Ն որոշման
A7: ՀԱՅԱՍՏԱՆԻ ՀԱՆՐԱՊԵՏՈՒԹՅԱՆ ԿԱՌԱՎԱՐՈՒԹՅԱՆ 2021 ԹՎԱԿԱՆԻ ԴԵԿՏԵՄԲԵՐԻ 23-Ի N 2121-Ն ՈՐՈՇՄԱՆ N 9.1 ՀԱՎԵԼՎԱԾՆԵՐԻ N 9.1.8 ԵՎ 9.1.59 ԱՂՅՈՒՍԱԿՆԵՐՈՒՄ ԿԱՏԱՐՎՈՂ ՓՈՓՈԽՈՒԹՅՈՒՆՆԵՐԸ ԵՎ ԼՐԱՑՈՒՄՆԵՐԸ
D8: Աղյուսակ 9.1.8
A9: ՀՀ տարածքային կառավարման և ենթակառուցվածքների նախարարություն
A11: ՄԱՍ 1. ՊԵՏԱԿԱՆ ՄԱՐՄՆԻ ԳԾՈՎ ԱՐԴՅՈՒՆՔԱՅԻՆ (ԿԱՏԱՐՈՂԱԿԱՆ) ՑՈՒՑԱՆԻՇՆԵՐԸ
B13: Ծրագրի դասիչը | C13: Ծրագրի անվանումը
B14: 1049 | C14: էներգաարդյունավետության ծրագիր
B15: Ծրագրի միջոցառումներ
B16: Ծրագրի դասիչը` | C16: 1232 | D16: Ցուցանիշներերի փոփոխությունը (ավելացումները նշված են դրական նշանով)
B17: Միջոցառման դասիչը` | C17: 12002 | D17: ='h1'!D10 -> Ինն ամիս | E17: Տարի
B18: Միջոցառման անվանումը` | C18: Պետական աջակցություն բնակարանների և անհատական բնակելի տների էներգաարդյունավետ վերանորոգման աշխատանքների իրականացմանը
B19: Նկարագրությունը` | C19: Բնակարանների և անհատական բնակելի տների էներգաարդյունավետ վերանորոգման համար շահառուներին տրամադրվող վարկերի սուբսիդավորման իրականացում
B20: Միջոցառման տեսակը` | C20: Տրանսֆերտների տրամադրում
B21: Շահառուների ընտրության չափանիշները՝ | C21: =+'h4'!C22 -> ՀՀ կառավարության 2022թ. ապրիլի 15-ի 520 - Լ որոշմամբ հաստատված «Բնակարանների և անհատական բնակելի տների էներգաարդյունավետ վերանորոգման աշխատանքների պետական աջակցության ծրագրով» և մայիսի 26-ի № 775 - Լ որոշմամբ հաստատված «Բնակարանների և անհատական բնակելի տների էներգաարդյունավետ վերանորոգման աշխատանքների պետական աջակցության ծրագրի իրականացման կարգով» ընտրված շահառուներ
B22: Արդյունքի չափորոշիչներ
B23: ='h4'!B24 -> Շահառուներ, քանակ | D23: ='h4'!D24 -> 30 | E23: 200
B24: Միջոցառման վրա կատարվող ծախսը (հազար դրամ) | D24: ='h3'!G35 -> 2000 | E24: 40000
B27: Ծրագրի դասիչը | C27: Ծրագրի անվանումը
B28: 1049 | C28: ='h1'!C14 -> Ճանապարհային ցանցի բարելավում
B29: Ծրագրի միջոցառումներ
B30: Ծրագրի դասիչը՝ | C30: 1049 | D30: Ցուցանիշների փոփոխությունը (նվազեցումները նշված են փակագծերում)
B31: Միջոցառման դասիչը՝ | C31: 11015 | D31: =D17 -> Ինն ամիս | E31: Տարի
B32: Միջոցառման անվանումը՝ | C32: Եվրոպական ներդրումային բանկի աջակցությամբ իրականացվող Հյուսիս-հարավ միջանցքի զարգացման ծրագրի համակարգում և կառավարում (Տրանշ 3)
B33: Նկարագրությունը՝ | C33: Եվրոպական ներդրումային բանկի աջակցությամբ իրականացվող Հյուսիս-հարավ միջանցքի զարգացման ծրագրի իրականացման համար ճանապարհային երթևեկության անվտանգության բարելավման նպատակով խորհրդատվության տրամադրում: Լանջիկ-Գյումրի հատված (Տրանշ 3)
B34: Միջոցառման տեսակը՝ | C34: Ծառայությունների մատուցում
B35: Միջոցառումն իրականացնողի անվանումը | C35: Մասնագիտացված միավոր
B36: Արդյունքի չափորոշիչներ
B37: Միջոցառման վրա կատարվող ծախսը (հազար դրամ) | D37: ='h3'!G26 -> -2000 | E37: -40000
D39: Աղյուսակ 9.1.59
A41: ՀՀ կառավարություն
B43: Ծրագրի դասիչը | C43: Ծրագրի անվանումը
B44: 1139 | C44: ՀՀ կառավարության պահուստային ֆոնդ
B46: Ծրագրի միջոցառումները
B48: Ծրագրի դասիչը՝ | C48: 1139 | D48: Ցուցանիշների փոփոխությունը (ավելացումները նշված են դրական նշանով)
B49: Միջոցառման դասիչը՝ | C49: 11001 | D49: Ինն ամիս | E49: Տարի
B50: Միջոցառման անվանումը՝ | C50: ՀՀ կառավարության պահուստային ֆոնդ
B51: Նկարագրությունը՝ | C51: ՀՀ պետական բյուջեում նախատեսված ելքերի լրացուցիչ ֆինանսավորման՝ պետական բյուջեում չկանխատեսված ելքերի՝ ինչպես նաև բյուջետային երաշխիքների ապահովման ելքերի ֆինանսավորման ապահովում
B52: Միջոցառման տեսակը՝ | C52: Ծառայությունների մատուցում
...
