Workbook
Name շախմատիստ: #REF!

Sheet Հավելված N 1
D1: Հավելված N 1
D2: ՀՀ կառավարության 2022 թվականի
D3: ______________ ի ___Ն որոշման
A4: «ՀԱՅԱՍՏԱՆԻ ՀԱՆՐԱՊԵՏՈՒԹՅԱՆ 2022 ԹՎԱԿԱՆԻ ՊԵՏԱԿԱՆ ԲՅՈՒՋԵԻ ՄԱՍԻՆ» ՕՐԵՆՔԻ N 1 ՀԱՎԵԼՎԱԾԻ N 2 ԱՂՅՈՒՍԱԿՈՒՄ ԿԱՏԱՐՎՈՂ ՎԵՐԱԲԱՇԽՈՒՄԸ ԵՎ ՀԱՅԱՍՏԱՆԻ ՀԱՆՐԱՊԵՏՈՒԹՅԱՆ ԿԱՌԱՎԱՐՈՒԹՅԱՆ 2021 ԹՎԱԿԱՆԻ ԴԵԿՏԵՄԲԵՐԻ 23-Ի N 2121-Ն ՈՐՈՇՄԱՆ N 5 ՀԱՎԵԼՎԱԾԻ N 1 ԱՂՅՈՒՍԱԿՈՒՄ ԿԱՏԱՐՎՈՂ ՓՈՓՈԽՈՒԹՅՈՒՆՆԵՐԸ ԵՎ ԼՐԱՑՈՒՄՆԵՐԸ
D5: հազար դրամ
A6: Ծրագրային դասիչը | C6: Բյուջետային հատկացումների գլխավոր կարգադրիչների, ծրագրերի և միջոցառումների անվանումները | D6: Ցուցանիշների փոփոխությունը (ավելացումները նշված են դրական նշանով, իսկ նվազեցումները՝ փակագծերում)
A7: ծրագիր | B7: միջոցառում | D7: Ինն ամիս | E7: Տարի
C8: ԸՆԴԱՄԵՆԸ | D8: =D11 -> 0 | E8: =E11 -> 0
A9: ՀՀ կրթության, գիտության, մշակույթի և սպորտի նախարարություն
A10: 1111 | C10: Ծրագրի անվանումը`
C11: Բարձրագույն և հետբուհական մասնագիտական կրթության ծրագիր | D11: =D18+D24 -> 0 | E11: =E18+E24 -> 0
C12: Ծրագրի նպատակը`
C13: Ապահովել մատչելի, որակյալ և մրցունակ բարձրագույն և հետբուհական մասնագիտական կրթություն
C14: Վերջնական արդյունքի նկարագրությունը`
C15: Գիտելիքների տնտեսության և գիտության զարգացման արդի պահանջներին համապատասխան բարձրագույն և հետբուհական մասնագիտական որակավորում ունեցող մասնագետների պատրաստում
A16: Ծրագրի միջոցառումներ
B17: 12004 | C17: Միջոցառման անվանումը`
C18: Բարձրագույն մասնագիտական կրթության գծով ուսանողական նպաստների տրամադրում | D18: -52380.3 | E18: -52380.3
C19: Միջոցառման նկարագրությունը`
C20: Բարձրագույն մասնագիտական կրթություն ստացող ուսանողների նպաստներ
C21: Միջոցառման տեսակը
C22: Տրանսֆերտների տրամադրում
B23: 11004 | C23: Միջոցառման անվանումը`
C24: Ռազմական դրությամբ պայմանավորված բարձրագույն կրթական ծրագրեր իրականացնող ուսումնական հաստատությունների սովորողների ուսման վարձի փոխհատուցում | D24: 52380.3 | E24: 52380.3
C25: Միջոցառման նկարագրությունը`
C26: 27.09.2020թ. սանձազերծված պատերազմի ընթացքում բարձրագույն ուսումնական հաստատությունների մարտական գործողությունների մասնակից ուսանողների, ուսանող երեխաների և ամուսինների՝ 1 ուս. տարվա 1 կիսամյակի ուսման վարձի փոխհատուցում
C27: Միջոցառման տեսակը
C28: Տրանսֆերտների տրամադրում

Sheet Հավելված N 2
G1: Հավելված N 2
G2: ՀՀ կառավարության 2022 թվականի
G3: ______________ ի ___Ն որոշման
A4: ՀԱՅԱՍՏԱՆԻ ՀԱՆՐԱՊԵՏՈՒԹՅԱՆ ԿԱՌԱՎԱՐՈՒԹՅԱՆ 2021 ԹՎԱԿԱՆԻ ԴԵԿՏԵՄԲԵՐԻ 23-Ի N 2121-Ն ՈՐՈՇՄԱՆ N 3 և N 4 ՀԱՎԵԼՎԱԾՆԵՐՈՒՄ ԿԱՏԱՐՎՈՂ ՓՈՓՈԽՈՒԹՅՈՒՆՆԵՐԸ ԵՎ ԼՐԱՑՈՒՄՆԵՐ
G5: հազար դրամ
A6: Գործառական դասիչը | D6: Ծրագրային դասիչը | F6: Բյուջետային ծախսերի գործառական դասակարգման բաժինների, խմբերի և դասերի, բյուջետային ծրագրերի միջոցառումների, բյուջետային հատկացումների գլխավոր կարգադրիչների անվանումները | G6: Ցուցանիշների փոփոխություն (ավելացումները նշված են դրական նշանով, իսկ նվազեցումները՝ փակագծերում )
A7: Բաժին | B7: Խումբ | C7: Դաս | D7: Ծրագիր | E7: Միջոցառում | G7: Ինն ամիս | H7: Տարի
F8: ԸՆԴԱՄԵՆԸ | G8: 0 | H8: 0
F9: այդ թվում`
F10: ՀՀ Կրթության, գիտության, մշակույթի և սպորտի նախարարություն | G10: - | H10: -
F11: այդ թվում`
A12: 09 | E12: 11010 | F12: ԿՐԹՈՒԹՅՈՒՆ | G12: - | H12: -
F13: այդ թվում`
B14: 04 | F14: Բարձրագույն կրթություն | G14: =G16 -> 0 | H14: =H16 -> 0
F15: այդ թվում`
C16: 01 | F16: Բարձրագույն մասնագիտական կրթություն | G16: =G18 -> 0 | H16: =H18 -> 0
F17: այդ թվում`
D18: 1111 | F18: Բարձրագույն և հետբուհական մասնագիտական կրթության ծրագիր | G18: =G20+G29 -> 0 | H18: =H20+H29 -> 0
F19: այդ թվում`
E20: 12004 | F20: Բարձրագույն մասնագիտական կրթության գծով ուսանողական նպաստների տրամադրում | G20: =+G22 -> -52380.3 | H20: =+H22 -> -52380.3
F21: այդ թվում` ըստ կատարողների
F22: ՀՀ կրթության , գիտության, մշակույթի և սպորտի նախարարություն | G22: =+G24 -> -52380.3 | H22: =+H24 -> -52380.3
F23: այդ թվում` բյուջետային ծախսերի տնտեսագիտական դասակարգման հոդվածներ
F24: ԸՆԴԱՄԵՆԸ ԾԱԽՍԵՐ | G24: =+G25 -> -52380.3 | H24: =+H25 -> -52380.3
F25: ԸՆԹԱՑԻԿ ԾԱԽՍԵՐ | G25: =+G26 -> -52380.3 | H25: =+H26 -> -52380.3
F26: ՍՈՑԻԱԼԱԿԱՆ ՆՊԱՍՏՆԵՐ ԵՎ ԿԵՆՍԱԹՈՇԱԿՆԵՐ | G26: =+G27 -> -52380.3 | H26: =+H27 -> -52380.3
F27: Սոցւալական օգնության դրամական արտահայտությամբ նպաստներ (բյուջեից) | G27: =+G28 -> -52380.3 | H27: =+H28 -> -52380.3
F28: - Այլ նպաստներ բյուջեից | G28: ='Հավելված N 1'!D18 -> -52380.3 | H28: ='Հավելված N 1'!E18 -> -52380.3
E29: 11004 | F29: Ռազմական դրությամբ պայմանավորված բարձրագույն կրթական ծրագրեր իրականացնող ուսումնական հաստատությունների սովորողների ուսման վարձի փոխհատուցում | G29: =G31 -> 52380.3 | H29: =H31 -> 52380.3
F30: այդ թվում` ըստ կատարողների
F31: ՀՀ կրթության , գիտության, մշակույթի և սպորտի նախարարություն | G31: =G33 -> 52380.3 | H31: =H33 -> 52380.3
F32: այդ թվում` բյուջետային ծախսերի տնտեսագիտական դասակարգման հոդվածներ
F33: ԸՆԴԱՄԵՆԸ ԾԱԽՍԵՐ | G33: =G34 -> 52380.3 | H33: =H34 -> 52380.3
F34: ԸՆԹԱՑԻԿ ԾԱԽՍԵՐ | G34: =G35 -> 52380.3 | H34: =H35 -> 52380.3
F35: ՍՈՑԻԱԼԱԿԱՆ ՆՊԱՍՏՆԵՐ ԵՎ ԿԵՆՍԱԹՈՇԱԿՆԵՐ | G35: =G36 -> 52380.3 | H35: =H36 -> 52380.3
F36: Սոցւալական օգնության դրամական արտահայտությամբ նպաստներ (բյուջեից) | G36: =G37 -> 52380.3 | H36: =H37 -> 52380.3
F37: - Այլ նպաստներ բյուջեից | G37: ='Հավելված N 1'!D24 -> 52380.3 | H37: ='Հավելված N 1'!E24 -> 52380.3

Sheet Հավելված N 3
C1: Հավելված N 3
C2: ՀՀ կառավարության 2022 թվականի
C3: ______________ ի ___Ն որոշման
A5: ՀԱՅԱՍՏԱՆԻ ՀԱՆՐԱՊԵՏՈՒԹՅԱՆ ԿԱՌԱՎԱՐՈՒԹՅԱՆ 2021 ԹՎԱԿԱՆԻ ԴԵԿՏԵՄԲԵՐԻ 23-Ի N 2121-Ն ՈՐՈՇՄԱՆ N 9 ԵՎ N 9.1 ՀԱՎԵԼՎԱԾՆԵՐԻ N 9.13 ԵՎ N 9.1.14 ԱՂՅՈՒՍԱԿՆԵՐՈՒՄ ԿԱՏԱՐՎՈՂ ՓՈՓՈԽՈՒԹՅՈՒՆՆԵՐԸ ԵՎ ԼՐԱՑՈՒՄՆԵՐԸ
A6: ՀՀ կրթության, գիտության, մշակույթի և սպորտի նախարարություն
A7: ՄԱՍ 2. ՊԵՏԱԿԱՆ ՄԱՐՄՆԻ ԳԾՈՎ ԱՐԴՅՈՒՆՔԱՅԻՆ (ԿԱՏԱՐՈՂԱԿԱՆ) ՑՈՒՑԱՆԻՇՆԵՐԸ
A9: Ծրագրի դասիչը | B9: Ծրագրի անվանումը
A10: 1111 | B10: Բարձրագույն և հետբուհական մասնագիտական կրթության ծրագիր
A11: Ծրագրի միջոցառումները
A13: Ծրագրի դասիչը` | B13: 1111 | C13: Ցուցանիշների փոփոխություն (նվազեցումները նշված են փակագծերում )
A14: Միջոցառման դասիչը` | B14: 12004 | C14: Ինն ամիս | D14: Տարի
A15: Միջոցառման անվանումը` | B15: Բարձրագույն մասնագիտական կրթության գծով ուսանողական նպաստների տրամադրում
A16: Նկարագրությունը` | B16: Բարձրագույն մասնագիտական կրթություն ստացող ուսանողների նպաստներ
A17: Միջոցառման տեսակը` | B17: Տրանսֆերտների տրամադրում
A18: Շահառուների ընտրության չափորոշիչը | B18: Բարձրագույն մասնագիտական կրթություն ստացող ուսանողներ
A19: Արդյունքի չափորոշիչներ
A20: Միջոցառման վրա կատարվող ծախսը (հազար դրամ) | C20: =+'Հավելված N 2'!G20 -> -52380.3 | D20: =+'Հավելված N 2'!H20 -> -52380.3
A22: Ծրագրի դասիչը` | B22: 1111 | C22: Ցուցանիշների փոփոխություն (ավելացումները նշված են դրական նշանով )
A23: Միջոցառման դասիչը` | B23: 11004 | C23: Ինն ամիս | D23: Տարի
A24: Միջոցառման անվանումը` | B24: Ռազմական դրությամբ պայմանավորված բարձրագույն կրթական ծրագրեր իրականացնող ուսումնական հաստատությունների սովորողների ուսման վարձի փոխհատուցում
A25: Նկարագրությունը` | B25: 27.09.2020թ. սանձազերծված պատերազմի ընթացքում բարձրագույն ուսումնական հաստատությունների մարտական գործողությունների մասնակից ուսանողների, ուսանող երեխաների և ամուսինների՝ 1 ուս. տարվա 1 կիսամյակի ուսման վարձի փոխհատուցում:
A26: Միջոցառման տեսակը` | B26: Տրանսֆերտների տրամադրում
A27: Շահառուների ընտրության չափորոշիչը | B27: Բարձրագույն և հետբուհական մասնագիտական կրթություն ստացող ուսանողներ
A28: Արդյունքի չափորոշիչներ
A29: Շահառուների թիվ, մարդ | C29: 221 | D29: 221
A30: Միջոցառման վրա կատարվող ծախսը (հազար դրամ) | C30: ='Հավելված N 2'!G37 -> 52380.3 | D30: ='Հավելված N 2'!H37 -> 52380.3

Sheet Հավելված N 4
H1: Հավելված N 4
G2: ՀՀ կառավարության 2022 թվականի
G3: ------------ Ի -------Ն որոշման
A4: ՀԱՅԱՍՏԱՆԻ ՀԱՆՐԱՊԵՏՈՒԹՅԱՆ ԿԱՌԱՎԱՐՈՒԹՅԱՆ 2021 ԹՎԱԿԱՆԻ ԴԵԿՏԵՄԲԵՐԻ 23-Ի N 2121-Ն ՈՐՈՇՄԱՆ N 10 ՀԱՎԵԼՎԱԾՈՒՄ ԿԱՏԱՐՎՈՂ ՓՈՓՈԽՈՒԹՅՈՒՆՆԵՐԸ
A5: Գնման առարկայի | I5: Գումարը (հազար դրամով) Ցուցանիշների փոփոխությունները (ծախսերի ավելացումները նշված են դրական նշանով, իսկ նվազեցումները՝ փակագծերում)
A6: Կոդը | B6: Անվանումը | E6: Գնման ձևը | F6: Չափման միավորը | G6: Միավորի գինը | H6: Քանակը
A7: ՀՀ կրթության, գիտության, մշակույթի և սպորտի նախարարություն | I7: =I8 -> 0
A8: Բաժին N 09 | B8: Խումբ N 06 | C8: Դաս N 01 | D8: Կրթությանը տրամադրվող օժանդակ ծառայություններ | I8: =I9+I13 -> 0
A9: 1215 11001 | B9: Համահայկական կրթական խորհրդաժողովի անցկացում | I9: =I10 -> 0
B10: ՄԱՍ III. ԾԱՌԱՅՈՒԹՅՈՒՆՆԵՐ | I10: =I11+I12 -> 0
A11: 79951100/501 | B11: Միջոցառումների հետ կապված ծառայություններ | E11: ԷԱՃ | F11: դրամ | G11: 15660000 | H11: -1 | I11: =G11*H11/1000 -> -15660
A12: 79951100/502 | B12: Միջոցառումների հետ կապված ծառայություններ | E12: ԷԱՃ | F12: դրամ | G12: 15660000 | H12: 1 | I12: =G12*H12/1000 -> 15660
A13: 1215 12002 | B13: Մանկապատանեկան և երիտասարդական կրթական ու կրթամշակութային միջոցառումների կազմակերպում | I13: =I14 -> 0
B14: ՄԱՍ III. ԾԱՌԱՅՈՒԹՅՈՒՆՆԵՐ | I14: =I15+I16 -> 0
A15: 79951100/502 | B15: Միջոցառումների հետ կապված ծառայություններ | E15: ԷԱՃ | F15: դրամ | G15: 10800000 | H15: -1 | I15: =G15*H15/1000 -> -10800
A16: 79951100/501 | B16: Միջոցառումների հետ կապված ծառայություններ | E16: ԷԱՃ | F16: դրամ | G16: 10800000 | H16: 1 | I16: =G16*H16/1000 -> 10800
J17: =#REF!+#REF!+#REF!+#REF!+#REF!+#REF!+#REF!+#REF! -> #REF!
