Workbook
Name _tab10: #REF!
Name _tab10: #REF!
Name _tab10: #REF!
Name _tab11: #REF!
Name _tab11: #REF!
Name _tab11: #REF!
Name _tab12: #REF!
Name _tab12: #REF!
Name _tab12: #REF!
Name _tab13: #REF!
Name _tab13: #REF!
Name _tab13: #REF!
Name _tab14: #REF!
Name _tab14: #REF!
Name _tab14: #REF!
Name _tab15: #REF!
Name _tab15: #REF!
Name _tab15: #REF!
Name _tab16: #REF!
Name _tab16: #REF!
Name _tab16: #REF!
Name _tab17: #REF!
Name _tab17: #REF!
Name _tab17: #REF!
Name _tab18: #REF!
Name _tab18: #REF!
Name _tab18: #REF!
Name _tab19: #REF!
Name _tab19: #REF!
Name _tab19: #REF!
Name _tab20: #REF!
Name _tab20: #REF!
Name _tab20: #REF!
Name _tab21: #REF!
Name _tab21: #REF!
Name _tab21: #REF!
Name _tab22: #REF!
Name _tab22: #REF!
Name _tab22: #REF!
Name _tab23: #REF!
Name _tab23: #REF!
Name _tab23: #REF!
Name _tab24: #REF!
Name _tab24: #REF!
Name _tab24: #REF!
Name _tab5: #REF!
Name _tab5: #REF!
Name _tab5: #REF!
Name _tab6: #REF!
Name _tab6: #REF!
Name _tab6: #REF!
Name _tab7: #REF!
Name _tab7: #REF!
Name _tab7: #REF!
Name _tab8: #REF!
Name _tab8: #REF!
Name _tab8: #REF!
Name _tab9: #REF!
Name _tab9: #REF!
Name _tab9: #REF!

Sheet 1
E1: Հավելված N 1
E2: ՀՀ կառավարության 2022 թվականի
C3: -----------------ի N -----------Ն որոշման
A5: ՀԱՅԱՍՏԱՆԻ ՀԱՆՐԱՊԵՏՈՒԹՅԱՆ 2022 ԹՎԱԿԱՆԻ ՊԵՏԱԿԱՆ ԲՅՈՒՋԵԻ ՄԱՍԻՆ» ՕՐԵՆՔԻ N 1 ՀԱՎԵԼՎԱԾԻ N 2 ԱՂՅՈՒՍԱԿՈՒՄ ԿԱՏԱՐՎՈՂ ՎԵՐԱԲԱՇԽՈՒՄԸ ԵՎ ՀԱՅԱՍՏԱՆԻ ՀԱՆՐԱՊԵՏՈՒԹՅԱՆ ԿԱՌԱՎԱՐՈՒԹՅԱՆ 2021 ԹՎԱԿԱՆԻ ԴԵԿՏԵՄԲԵՐԻ 23-Ի N 2221-Ն ՈՐՈՇՄԱՆ N 5 ՀԱՎԵԼՎԱԾԻ N 1 ԱՂՅՈՒՍԱԿՈՒՄ ԿԱՏԱՐՎՈՂ ՓՈՓՈԽՈՒԹՅՈՒՆՆԵՐԸ
E6: հազար դրամ
A7: Ծրագրային դասիչը | C7: Բյուջետային հատկացումների գլխավոր կարգադրիչների, ծրագրերի և միջոցառումների անվանումները | D7: Ցուցանիշների փոփոխությունները (ավելացումները նշված են դրական նշանով,իսկ նվազեցումները՝ փակագծերում)
A8: Ծրագիր | B8: Միջոցառում | D8: Ինն ամիս | E8: Տարի
C9: ԸՆԴԱՄԵՆԸ | D9: =D10+D43 -> 0 | E9: =E10+E43 -> 0
C10: ՀՀ աշխատանքի և սոցիալական հարցերի նախարարություն | D10: =D11+D30 -> 8650830 | E10: =E11+E30 -> 8650830
A11: 1102 | C11: Ծրագրի անվանումը` | D11: =+D18+D24 -> 8051130 | E11: =+E18+E24 -> 8051130
C12: Կենսաթոշակային ապահովություն
C13: Ծրագրի նպատակը`
C14: Կենսաթոշակի իրավունքի իրացում
C15: Վերջնական արդյունքի նկարագրությունը`
C16: Կենսաթոշակների նշանակման և վճարման գործընթացի ապահովում
A17: Ծրագրի միջոցառումներ
B18: 12001 | C18: Միջոցառման անվանումը` | D18: 625920 | E18: 625920
C19: Սպայական անձնակազմի և նրանց ընտանիքների անդամների կենսաթոշակներ
C20: Միջոցառման նկարագրությունը`
C21: Սպայական անձնակազմի զինծառայողներին երկարամյա ծառայության, հաշմանդամության և զինծառայողի մահվան դեպքում նրա ընտանիքի անդամներին կերակրողին կորցնելու դեպքում զինվորական կենսաթոշակների տրամադրում
C22: Միջոցառման տեսակը
C23: Տրանսֆերտների տրամադրում
B24: 12003 | C24: Միջոցառման անվանումը` | D24: 7425210 | E24: 7425210
C25: Աշխատանքային կենսաթոշակներ
C26: Միջոցառման նկարագրությունը`
C27: Աշխատանքային կենսաթոշակների (տարիքային, հաշմանդամության, արտոնյալ պայմաններով, երկարամյա ծառայության, մասնակի, կերակրողին կորցնելու դեպքում կենսաթոշակների) տրամադրում
C28: Միջոցառման տեսակը
C29: Տրանսֆերտների տրամադրում
A30: 1205 | C30: Ծրագրի անվանումը` | D30: =D37 -> 599700 | E30: =E37 -> 599700
C31: Սոցիալական ապահովություն
C32: Ծրագրի նպատակը`
C33: Սոցիալական ապահովության իրավունքի իրականացման ապահովում
C34: Վերջնական արդյունքի նկարագրությունը`
C35: Սոցիալական ապահովության իրավունքի իրականացում
A36: Ծրագրի միջոցառումներ
B37: 12001 | C37: Միջոցառման անվանումը` | D37: 599700 | E37: 599700
C38: Ծերության, հաշմանդամության, կերակրողին կորցնելու դեպքում նպաստներ
C39: Միջոցառման նկարագրությունը`
C40: Ծերության, հաշմանդամության, կերակրողին կորցնելու դեպքում սոցիալական նպաստների տրամադրում
C41: Միջոցառման տեսակը
...

Sheet 2
H1: Հավելված N 2
H2: ՀՀ կառավարության 2022 թվականի
H3: -----------------ի N -----------Ն որոշման
A5: ՀԱՅԱՍՏԱՆԻ ՀԱՆՐԱՊԵՏՈՒԹՅԱՆ ԿԱՌԱՎԱՐՈՒԹՅԱՆ 2021 ԹՎԱԿԱՆԻ ԴԵԿՏԵՄԲԵՐԻ 23-Ի N 2121-Ն ՈՐՈՇՄԱՆ N 3, N 4 ՀԱՎԵԼՎԱԾՈՒՄ ԿԱՏԱՐՎՈՂ ՓՈՓՈԽՈՒԹՅՈՒՆՆԵՐԸ
H6: հազար դրամ
A7: Գործառական դասիչը | D7: Ծրագրային դասիչը | F7: Բյուջետային ծախսերի գործառական դասակարգման բաժինների, խմբերի և դասերի, բյուջետային ծրագրերի միջոցառումների, բյուջետային հատկացումների գլխավոր կարգադրիչների անվանումները | G7: Ցուցանիշների փոփոխությունները (ավելացումները նշված են դրական նշանով,իսկ նվազեցումները՝ փակագծերում)
A8: Բաժինը | B8: Խումբը | C8: Դասը | D8: Ծրագիր | E8: Միջոցառում | G8: ='1'!D8 -> Ինն ամիս | H8: ='1'!E8 -> Տարի
F9: ԸՆԴԱՄԵՆԸ ԾԱԽՍԵՐ | G9: =G11+G50 -> 0 | H9: =H11+H50 -> 0
F10: այդ թվում`
A11: 10 | F11: ՍՈՑԻԱԼԱԿԱՆ ՊԱՇՏՊԱՆՈՒԹՅՈՒՆ | G11: =G13 -> 8650830 | H11: =H13 -> 8650830
F12: այդ թվում`
B13: 02 | F13: Ծերություն | G13: =G15 -> 8650830 | H13: =H15 -> 8650830
F14: այդ թվում`
C15: 01 | F15: Ծերություն | G15: =G17 -> 8650830 | H15: =H17 -> 8650830
F16: այդ թվում`
F17: ՀՀ աշխատանքի և սոցիալական հարցերի նախարարություն | G17: =G18+G38 -> 8650830 | H17: =H18+H38 -> 8650830
D18: 1102 | F18: Կենսաթոշակային ապահովություն | G18: =G20+G29 -> 8051130 | H18: =H20+H29 -> 8051130
F19: այդ թվում`
E20: 12001 | F20: Սպայական անձնակազմի և նրանց ընտանիքների անդամների կենսաթոշակներ | G20: =+G22 -> 625920 | H20: =+H22 -> 625920
F21: այդ թվում` ըստ կատարողների
F22: ՀՀ աշխատանքի և սոցիալական հարցերի նախարարության միասնական սոցիալական ծառայություն | G22: =G24 -> 625920 | H22: =H24 -> 625920
F23: այդ թվում` բյուջետային ծախսերի տնտեսագիտական դասակարգման հոդվածներ
F24: ԸՆԴԱՄԵՆԸ ԾԱԽՍԵՐ | G24: =G25 -> 625920 | H24: =H25 -> 625920
F25: ԸՆԹԱՑԻԿ ԾԱԽՍԵՐ | G25: =G26 -> 625920 | H25: =H26 -> 625920
F26: ՍՈՑԻԱԼԱԿԱՆ ՆՊԱՍՏՆԵՐ ԵՎ ԿԵՆՍԱԹՈՇԱԿՆԵՐ | G26: =G27 -> 625920 | H26: =H27 -> 625920
F27: Կենսաթոշակներ | G27: =G28 -> 625920 | H27: =H28 -> 625920
F28: - Կենսաթոշակներ | G28: ='1'!D18 -> 625920 | H28: ='1'!E18 -> 625920
E29: 12003 | F29: Աշխատանքային կենսաթոշակներ | G29: =+G31 -> 7425210 | H29: =+H31 -> 7425210
F30: այդ թվում` ըստ կատարողների
F31: ՀՀ աշխատանքի և սոցիալական հարցերի նախարարության միասնական սոցիալական ծառայություն | G31: =G33 -> 7425210 | H31: =H33 -> 7425210
F32: այդ թվում` բյուջետային ծախսերի տնտեսագիտական դասակարգման հոդվածներ
F33: ԸՆԴԱՄԵՆԸ ԾԱԽՍԵՐ | G33: =G34 -> 7425210 | H33: =H34 -> 7425210
F34: ԸՆԹԱՑԻԿ ԾԱԽՍԵՐ | G34: =G35 -> 7425210 | H34: =H35 -> 7425210
F35: ՍՈՑԻԱԼԱԿԱՆ ՆՊԱՍՏՆԵՐ ԵՎ ԿԵՆՍԱԹՈՇԱԿՆԵՐ | G35: =G36 -> 7425210 | H35: =H36 -> 7425210
F36: Կենսաթոշակներ | G36: =G37 -> 7425210 | H36: =H37 -> 7425210
F37: - Կենսաթոշակներ | G37: ='1'!D24 -> 7425210 | H37: ='1'!E24 -> 7425210
D38: 1205 | F38: Սոցիալական ապահովություն | G38: =G40 -> 599700 | H38: =H40 -> 599700
F39: այդ թվում`
E40: 12001 | F40: Ծերության, հաշմանդամության, կերակրողին կորցնելու դեպքում նպաստներ | G40: =G42 -> 599700 | H40: =H42 -> 599700
F41: այդ թվում` ըստ կատարողների
...

Sheet 3
D1: Հավելված N 3
D2: ՀՀ կառավարության 2022 թվականի
D3: -----------------ի N -----------Ն որոշման
A4: ՀԱՅԱՍՏԱՆԻ ՀԱՆՐԱՊԵՏՈՒԹՅԱՆ ԿԱՌԱՎԱՐՈՒԹՅԱՆ 2020 ԹՎԱԿԱՆԻ ԴԵԿՏԵՄԲԵՐԻ 30-Ի N 2215-Ն ՈՐՈՇՄԱՆ N 9 ՀԱՎԵԼՎԱԾԻ N 9.1.20 ԱՂՅՈՒՍԱԿՈՒՄ ԿԱՏԱՐՎՈՂ ՓՈՓՈԽՈՒԹՅՈՒՆՆԵՐԸ
A5: ՀԱՅԱՍՏԱՆԻ ՀԱՆՐԱՊԵՏՈՒԹՅԱՆ ԿԱՌԱՎԱՐՈՒԹՅԱՆ 2021 ԹՎԱԿԱՆԻ ԴԵԿՏԵՄԲԵՐԻ 23-Ի N 2121-Ն ՈՐՈՇՄԱՆ N 9 ՀԱՎԵԼՎԱԾԻ N 9.15 ԵՎ 9.47 ԱՂՅՈՒՍԱԿՆԵՐՈՒՄ ԿԱՏԱՐՎՈՂ ՓՈՓՈԽՈՒԹՅՈՒՆՆԵՐԸ
A6: Հայաստանի Հանրապետության աշխատանքի և սոցիալական հարցերի նախարարություն
A7: ՄԱՍ 2. ՊԵՏԱԿԱՆ ՄԱՐՄՆԻ ԳԾՈՎ ԱՐԴՅՈՒՆՔԱՅԻՆ (ԿԱՏԱՐՈՂԱԿԱՆ) ՑՈՒՑԱՆԻՇՆԵՐԸ
A9: Ծրագրի դասիչը | B9: Ծրագրի անվանումը
A10: 1102 | B10: Կենսաթոշակային ապահովություն
A11: Ծրագրի միջոցառումները
A13: Ծրագրի դասիչը` | B13: 1102 | C13: Ցուցանիշների փոփոխությունները (ավելացումները նշված են դրական նշանով)
A14: Միջոցառման դասիչը` | B14: 12001 | C14: ='1'!D8 -> Ինն ամիս | D14: ='1'!E8 -> Տարի
A15: Միջոցառման անվանումը` | B15: Սպայական անձնակազմի և նրանց ընտանիքների անդամների կենսաթոշակներ
A16: Նկարագրությունը` | B16: Սպայական անձնակազմի զինծառայողներին երկարամյա ծառայության, հաշմանդամության և զինծառայողի մահվան դեպքում նրա ընտանիքի անդամներին կերակրողին կորցնելու դեպքում զինվորական կենսաթոշակների տրամադրում
A17: Միջոցառման տեսակը` | B17: Տրանսֆերտների տրամադրում
A18: Շահառուների ընտրության չափանիշները | B18: Սպայական անձնակազմին և նրանց ընտանիքների անդամներին երկարամյա ծառայության, հաշմանդամության և կերակրողին կորցնելու դեպքում կենսաթոշակների տրամադրում 22.12.2010թ.ՀՕ-243-Ն օրենքի 18-րդ, 20-րդ, 22-րդ հոդվածներով
A19: Արդյունքի չափորոշիչներ
A20: Միջոցառման վրա կատարվող ծախսը (հազար դրամ) | C20: ='1'!D18 -> 625920 | D20: ='1'!E18 -> 625920
A23: Ծրագրի դասիչը` | B23: 1102 | C23: Ցուցանիշների փոփոխությունները (ավելացումները նշված են դրական նշանով)
A24: Միջոցառման դասիչը` | B24: 12003 | C24: ='1'!D8 -> Ինն ամիս | D24: ='1'!E8 -> Տարի
A25: Միջոցառման անվանումը` | B25: Աշխատանքային կենսաթոշակներ
A26: Նկարագրությունը` | B26: Աշխատանքային կենսաթոշակների (տարիքային, հաշմանդամության, արտոնյալ պայմաններով, երկարամյա ծառայության, մասնակի, կերակրողին կորցնելու դեպքում կենսաթոշակների) տրամադրում
A27: Միջոցառման տեսակը` | B27: Տրանսֆերտների տրամադրում
A28: Շահառուների ընտրության չափանիշները | B28: Տարիքային աշխատանքային` առնվազն 10 տարվա աշխատանքային ստաժ, հաշմանդամության աշխատանքային` ըստ սանդղակի աշխատանքային ստաժ, արտոնյալ, մասնակի երկարամյա ծառայության` պահանջվող մասնագիտությամբ աշխատանքային ստաժ
A29: Արդյունքի չափորոշիչներ
A30: Միջոցառման վրա կատարվող ծախսը (հազար դրամ) | C30: ='1'!D24 -> 7425210 | D30: ='1'!E24 -> 7425210
A32: Ծրագրի դասիչը | B32: Ծրագրի անվանումը
A33: 1205 | B33: Սոցիալական ապահովություն
A34: Ծրագրի միջոցառումները
A36: Ծրագրի դասիչը` | B36: 1205 | C36: Ցուցանիշների փոփոխությունները (ավելացումները նշված են դրական նշանով)
A37: Միջոցառման դասիչը` | B37: 12001 | C37: ='1'!D8 -> Ինն ամիս | D37: ='1'!E8 -> Տարի
A38: Միջոցառման անվանումը` | B38: Ծերության, հաշմանդամության, կերակրողին կորցնելու դեպքում նպաստներ
A39: Նկարագրությունը` | B39: Ծերության, հաշմանդամության, կերակրողին կորցնելու դեպքում սոցիալական նպաստների տրամադրում
A40: Միջոցառման տեսակը` | B40: Տրանսֆերտների տրամադրում
A41: Շահառուների ընտրության չափանիշները | B41: Կենսաթոշակի իրավունք չունեցող հաշմանդամներ, կերակրողին կորցրած անձիք և օրենքով սահմանված տարիքը լրացած և պահանջվող ստաժ չունեցող անձիք
A42: Արդյունքի չափորոշիչներ
A43: Միջոցառման վրա կատարվող ծախսը (հազար դրամ) | C43: ='1'!D37 -> 599700 | D43: ='1'!E37 -> 599700
A45: ՀՀ կառավարություն
A46: ՄԱՍ 2. ՊԵՏԱԿԱՆ ՄԱՐՄՆԻ ԳԾՈՎ ԱՐԴՅՈՒՆՔԱՅԻՆ (ԿԱՏԱՐՈՂԱԿԱՆ) ՑՈՒՑԱՆԻՇՆԵՐԸ
A47: Ծրագրի դասիչը | B47: Ծրագրի անվանումը
...

Sheet 4
D1: Հավելված N 4
D2: ՀՀ կառավարության 2022 թվականի
D3: -----------------ի N -----------Ն որոշման
A4: ՀԱՅԱՍՏԱՆԻ ՀԱՆՐԱՊԵՏՈՒԹՅԱՆ ԿԱՌԱՎԱՐՈՒԹՅԱՆ 2020 ԹՎԱԿԱՆԻ ԴԵԿՏԵՄԲԵՐԻ 30-Ի N 2215-Ն ՈՐՈՇՄԱՆ N 9 ՀԱՎԵԼՎԱԾԻ N 9.1.20 ԱՂՅՈՒՍԱԿՈՒՄ ԿԱՏԱՐՎՈՂ ՓՈՓՈԽՈՒԹՅՈՒՆՆԵՐԸ
A5: ՀԱՅԱՍՏԱՆԻ ՀԱՆՐԱՊԵՏՈՒԹՅԱՆ ԿԱՌԱՎԱՐՈՒԹՅԱՆ 2021 ԹՎԱԿԱՆԻ ԴԵԿՏԵՄԲԵՐԻ 23-Ի N 2121-Ն ՈՐՈՇՄԱՆ N 9.1 ՀԱՎԵԼՎԱԾԻ N 9.1.20 ԱՂՅՈՒՍԱԿՈՒՄ ԿԱՏԱՐՎՈՂ ՓՈՓՈԽՈՒԹՅՈՒՆՆԵՐԸ
A6: ՄԱՍ 1. ՊԵՏԱԿԱՆ ՄԱՐՄՆԻ ԳԾՈՎ ԱՐԴՅՈՒՆՔԱՅԻՆ (ԿԱՏԱՐՈՂԱԿԱՆ) ՑՈՒՑԱՆԻՇՆԵՐԸ
A8: ՀՀ աշխատանքի և սոցիալական հարցերի նախարարության միասնական սոցիալական ծառայություն
A9: Ծրագրի դասիչը | B9: Ծրագրի անվանումը
A10: 1102 | B10: Կենսաթոշակային ապահովություն
A11: Ծրագրի միջոցառումները
A13: Ծրագրի դասիչը` | B13: 1102 | C13: Ցուցանիշների փոփոխությունները (ավելացումները նշված են դրական նշանով)
A14: Միջոցառման դասիչը` | B14: 12001 | C14: ='1'!D8 -> Ինն ամիս | D14: ='1'!E8 -> Տարի
A15: Միջոցառման անվանումը` | B15: Սպայական անձնակազմի և նրանց ընտանիքների անդամների կենսաթոշակներ
A16: Նկարագրությունը` | B16: Սպայական անձնակազմի զինծառայողներին երկարամյա ծառայության, հաշմանդամության և զինծառայողի մահվան դեպքում նրա ընտանիքի անդամներին կերակրողին կորցնելու դեպքում զինվորական կենսաթոշակների տրամադրում
A17: Միջոցառման տեսակը` | B17: Տրանսֆերտների տրամադրում
A18: Շահառուների ընտրության չափանիշները | B18: Սպայական անձնակազմին և նրանց ընտանիքների անդամներին երկարամյա ծառայության, հաշմանդամության և կերակրողին կորցնելու դեպքում կենսաթոշակների տրամադրում 22.12.2010թ.ՀՕ-243-Ն օրենքի 18-րդ, 20-րդ, 22-րդ հոդվածներով
A19: Արդյունքի չափորոշիչներ
A20: Միջոցառման վրա կատարվող ծախսը (հազար դրամ) | C20: ='1'!D18 -> 625920 | D20: ='1'!E18 -> 625920
A23: Ծրագրի դասիչը` | B23: 1102 | C23: Ցուցանիշների փոփոխությունները (ավելացումները նշված են դրական նշանով)
A24: Միջոցառման դասիչը` | B24: 12003 | C24: ='1'!D8 -> Ինն ամիս | D24: ='1'!E8 -> Տարի
A25: Միջոցառման անվանումը` | B25: Աշխատանքային կենսաթոշակներ
A26: Նկարագրությունը` | B26: Աշխատանքային կենսաթոշակների (տարիքային, հաշմանդամության, արտոնյալ պայմաններով, երկարամյա ծառայության, մասնակի, կերակրողին կորցնելու դեպքում կենսաթոշակների) տրամադրում
A27: Միջոցառման տեսակը` | B27: Տրանսֆերտների տրամադրում
A28: Շահառուների ընտրության չափանիշները | B28: Տարիքային աշխատանքային` առնվազն 10 տարվա աշխատանքային ստաժ, հաշմանդամության աշխատանքային` ըստ սանդղակի աշխատանքային ստաժ, արտոնյալ, մասնակի երկարամյա ծառայության` պահանջվող մասնագիտությամբ աշխատանքային ստաժ
A29: Արդյունքի չափորոշիչներ
A30: Միջոցառման վրա կատարվող ծախսը (հազար դրամ) | C30: ='1'!D24 -> 7425210 | D30: ='1'!E24 -> 7425210
A32: Ծրագրի դասիչը | B32: Ծրագրի անվանումը
A33: 1205 | B33: Սոցիալական ապահովություն
A34: Ծրագրի միջոցառումները
A36: Ծրագրի դասիչը` | B36: 1205 | C36: Ցուցանիշների փոփոխությունները (ավելացումները նշված են դրական նշանով)
A37: Միջոցառման դասիչը` | B37: 12001 | C37: ='1'!D8 -> Ինն ամիս | D37: ='1'!E8 -> Տարի
A38: Միջոցառման անվանումը` | B38: Ծերության, հաշմանդամության, կերակրողին կորցնելու դեպքում նպաստներ
A39: Նկարագրությունը` | B39: Ծերության, հաշմանդամության, կերակրողին կորցնելու դեպքում սոցիալական նպաստների տրամադրում
A40: Միջոցառման տեսակը` | B40: Տրանսֆերտների տրամադրում
A41: Շահառուների ընտրության չափանիշները | B41: Կենսաթոշակի իրավունք չունեցող հաշմանդամներ, կերակրողին կորցրած անձիք և օրենքով սահմանված տարիքը լրացած և պահանջվող ստաժ չունեցող անձիք
A42: Արդյունքի չափորոշիչներ
A43: Միջոցառման վրա կատարվող ծախսը (հազար դրամ) | C43: ='1'!D37 -> 599700 | D43: ='1'!E37 -> 599700
A45: ՀՀ կառավարություն
A46: ՄԱՍ 2. ՊԵՏԱԿԱՆ ՄԱՐՄՆԻ ԳԾՈՎ ԱՐԴՅՈՒՆՔԱՅԻՆ (ԿԱՏԱՐՈՂԱԿԱՆ) ՑՈՒՑԱՆԻՇՆԵՐԸ
A47: Ծրագրի դասիչը | B47: Ծրագրի անվանումը
...

Sheet 5
H1: Հավելված N 5
H2: ՀՀ կառավարության 2022 թվականի
H3: -----------------ի N -----------Ն որոշման
A5: ՀԱՅԱՍՏԱՆԻ ՀԱՆՐԱՊԵՏՈՒԹՅԱՆ 2022 ԹՎԱԿԱՆԻ ՊԵՏԱԿԱՆ ԲՅՈՒՋԵՈՎ ՆԱԽԱՏԵՍՎԱԾ ՀԱՅԱՍՏԱՆԻ ՀԱՆՐԱՊԵՏՈՒԹՅԱՆ ԿԱՌԱՎԱՐՈՒԹՅԱՆ ՊԱՀՈՒՍՏԱՅԻՆ ՖՈՆԴԻՑ ՀԱՏԿԱՑՈՒՄՆԵՐ ԿԱՏԱՐԵԼՈՒ ՎԵՐԱԲԵՐՅԱԼ
H6: հազար դրամ
A7: Գործառական դասիչը | D7: Ծրագրային դասիչը | F7: Բյուջետային ծախսերի գործառական դասակարգման բաժինների, խմբերի և դասերի, բյուջետային ծրագրերի միջոցառումների, բյուջետային հատկացումների գլխավոր կարգադրիչների անվանումները | G7: Ցուցանիշների փոփոխությունները (ավելացումները նշված են դրական նշանով,իսկ նվազեցումները՝ փակագծերում)
A8: Բաժինը | B8: Խումբը | C8: Դասը | D8: Ծրագիր | E8: Միջոցառում | G8: ='1'!D8 -> Ինն ամիս | H8: ='1'!E8 -> Տարի
F9: ԸՆԴԱՄԵՆԸ ԾԱԽՍԵՐ | G9: =G11 -> 8650830 | H9: =H11 -> 8650830
F10: այդ թվում`
A11: 10 | F11: ՍՈՑԻԱԼԱԿԱՆ ՊԱՇՏՊԱՆՈՒԹՅՈՒՆ | G11: =G13 -> 8650830 | H11: =H13 -> 8650830
F12: այդ թվում`
B13: 02 | F13: Ծերություն | G13: =G15 -> 8650830 | H13: =H15 -> 8650830
F14: այդ թվում`
C15: 01 | F15: Ծերություն | G15: =G17 -> 8650830 | H15: =H17 -> 8650830
F16: այդ թվում`
F17: ՀՀ աշխատանքի և սոցիալական հարցերի նախարարություն | G17: =G18+G38 -> 8650830 | H17: =H18+H38 -> 8650830
D18: 1102 | F18: Կենսաթոշակային ապահովություն | G18: =G20+G29 -> 8051130 | H18: =H20+H29 -> 8051130
F19: այդ թվում`
E20: 12001 | F20: Սպայական անձնակազմի և նրանց ընտանիքների անդամների կենսաթոշակներ | G20: =+G22 -> 625920 | H20: =+H22 -> 625920
F21: այդ թվում` ըստ կատարողների
F22: ՀՀ աշխատանքի և սոցիալական հարցերի նախարարության միասնական սոցիալական ծառայություն | G22: =G24 -> 625920 | H22: =H24 -> 625920
F23: այդ թվում` բյուջետային ծախսերի տնտեսագիտական դասակարգման հոդվածներ
F24: ԸՆԴԱՄԵՆԸ ԾԱԽՍԵՐ | G24: =G25 -> 625920 | H24: =H25 -> 625920
F25: ԸՆԹԱՑԻԿ ԾԱԽՍԵՐ | G25: =G26 -> 625920 | H25: =H26 -> 625920
F26: ՍՈՑԻԱԼԱԿԱՆ ՆՊԱՍՏՆԵՐ ԵՎ ԿԵՆՍԱԹՈՇԱԿՆԵՐ | G26: =G27 -> 625920 | H26: =H27 -> 625920
F27: Կենսաթոշակներ | G27: =G28 -> 625920 | H27: =H28 -> 625920
F28: - Կենսաթոշակներ | G28: ='1'!D18 -> 625920 | H28: ='1'!E18 -> 625920
E29: 12003 | F29: Աշխատանքային կենսաթոշակներ | G29: =+G31 -> 7425210 | H29: =+H31 -> 7425210
F30: այդ թվում` ըստ կատարողների
F31: ՀՀ աշխատանքի և սոցիալական հարցերի նախարարության միասնական սոցիալական ծառայություն | G31: =G33 -> 7425210 | H31: =H33 -> 7425210
F32: այդ թվում` բյուջետային ծախսերի տնտեսագիտական դասակարգման հոդվածներ
F33: ԸՆԴԱՄԵՆԸ ԾԱԽՍԵՐ | G33: =G34 -> 7425210 | H33: =H34 -> 7425210
F34: ԸՆԹԱՑԻԿ ԾԱԽՍԵՐ | G34: =G35 -> 7425210 | H34: =H35 -> 7425210
F35: ՍՈՑԻԱԼԱԿԱՆ ՆՊԱՍՏՆԵՐ ԵՎ ԿԵՆՍԱԹՈՇԱԿՆԵՐ | G35: =G36 -> 7425210 | H35: =H36 -> 7425210
F36: Կենսաթոշակներ | G36: =G37 -> 7425210 | H36: =H37 -> 7425210
F37: - Կենսաթոշակներ | G37: ='1'!D24 -> 7425210 | H37: ='1'!E24 -> 7425210
D38: 1205 | F38: Սոցիալական ապահովություն | G38: =G40 -> 599700 | H38: =H40 -> 599700
F39: այդ թվում`
E40: 12001 | F40: Ծերության, հաշմանդամության, կերակրողին կորցնելու դեպքում նպաստներ | G40: =G42 -> 599700 | H40: =H42 -> 599700
F41: այդ թվում` ըստ կատարողների
...
