Workbook
Name _tab10: #REF!
Name _tab10: #REF!
Name _tab10: #REF!
Name _tab11: #REF!
Name _tab11: #REF!
Name _tab11: #REF!
Name _tab12: #REF!
Name _tab12: #REF!
Name _tab12: #REF!
Name _tab13: #REF!
Name _tab13: #REF!
Name _tab13: #REF!
Name _tab14: #REF!
Name _tab14: #REF!
Name _tab14: #REF!
Name _tab15: #REF!
Name _tab15: #REF!
Name _tab15: #REF!
Name _tab16: #REF!
Name _tab16: #REF!
Name _tab16: #REF!
Name _tab17: #REF!
Name _tab17: #REF!
Name _tab17: #REF!
Name _tab18: #REF!
Name _tab18: #REF!
Name _tab18: #REF!
Name _tab19: #REF!
Name _tab19: #REF!
Name _tab19: #REF!
Name _tab20: #REF!
Name _tab20: #REF!
Name _tab20: #REF!
Name _tab21: #REF!
Name _tab21: #REF!
Name _tab21: #REF!
Name _tab22: #REF!
Name _tab22: #REF!
Name _tab22: #REF!
Name _tab23: #REF!
Name _tab23: #REF!
Name _tab23: #REF!
Name _tab24: #REF!
Name _tab24: #REF!
Name _tab24: #REF!
Name _tab5: #REF!
Name _tab5: #REF!
Name _tab5: #REF!
Name _tab6: #REF!
Name _tab6: #REF!
Name _tab6: #REF!
Name _tab7: #REF!
Name _tab7: #REF!
Name _tab7: #REF!
Name _tab8: #REF!
Name _tab8: #REF!
Name _tab8: #REF!
Name _tab9: #REF!
Name _tab9: #REF!
Name _tab9: #REF!

Sheet 1
E1: Հավելված N 1
E2: ՀՀ կառավարության 2022 թվականի
C3: -----------------ի N -----------Ն որոշման
A5: ՀԱՅԱՍՏԱՆԻ ՀԱՆՐԱՊԵՏՈՒԹՅԱՆ 2022 ԹՎԱԿԱՆԻ ՊԵՏԱԿԱՆ ԲՅՈՒՋԵԻ ՄԱՍԻՆ» ՕՐԵՆՔԻ N 1 ՀԱՎԵԼՎԱԾԻ N 2 ԱՂՅՈՒՍԱԿՈՒՄ ԿԱՏԱՐՎՈՂ ՎԵՐԱԲԱՇԽՈՒՄԸ ԵՎ ՀԱՅԱՍՏԱՆԻ ՀԱՆՐԱՊԵՏՈՒԹՅԱՆ ԿԱՌԱՎԱՐՈՒԹՅԱՆ 2021 ԹՎԱԿԱՆԻ ԴԵԿՏԵՄԲԵՐԻ 23-Ի N 2221-Ն ՈՐՈՇՄԱՆ N 5 ՀԱՎԵԼՎԱԾԻ N 1 ԱՂՅՈՒՍԱԿՈՒՄ ԿԱՏԱՐՎՈՂ ՓՈՓՈԽՈՒԹՅՈՒՆՆԵՐԸ
E6: հազար դրամ
A7: Ծրագրային դասիչը | C7: Բյուջետային հատկացումների գլխավոր կարգադրիչների, ծրագրերի և միջոցառումների անվանումները | D7: Ցուցանիշների փոփոխությունները (ավելացումները նշված են դրական նշանով,իսկ նվազեցումները՝ փակագծերում)
A8: Ծրագիր | B8: Միջոցառում | D8: Ինն ամիս | E8: Տարի
C9: ԸՆԴԱՄԵՆԸ | D9: =D10+D43 -> 0 | E9: =E10+E43 -> 0
C10: ՀՀ աշխատանքի և սոցիալական հարցերի նախարարություն | D10: =D11+D30 -> 8650830 | E10: =E11+E30 -> 8650830
A11: 1102 | C11: Ծրագրի անվանումը` | D11: =+D18+D24 -> 8051130 | E11: =+E18+E24 -> 8051130
C12: Կենսաթոշակային ապահովություն
C13: Ծրագրի նպատակը`
C14: Կենսաթոշակի իրավունքի իրացում
C15: Վերջնական արդյունքի նկարագրությունը`
C16: Կենսաթոշակների նշանակման և վճարման գործընթացի ապահովում
A17: Ծրագրի միջոցառումներ
B18: 12001 | C18: Միջոցառման անվանումը` | D18: 625920 | E18: 625920
C19: Սպայական անձնակազմի և նրանց ընտանիքների անդամների կենսաթոշակներ
C20: Միջոցառման նկարագրությունը`
C21: Սպայական անձնակազմի զինծառայողներին երկարամյա ծառայության, հաշմանդամության և զինծառայողի մահվան դեպքում նրա ընտանիքի անդամներին կերակրողին կորցնելու դեպքում զինվորական կենսաթոշակների տրամադրում
C22: Միջոցառման տեսակը
C23: Տրանսֆերտների տրամադրում
B24: 12003 | C24: Միջոցառման անվանումը` | D24: 7425210 | E24: 7425210
C25: Աշխատանքային կենսաթոշակներ
C26: Միջոցառման նկարագրությունը`
C27: Աշխատանքային կենսաթոշակների (տարիքային, հաշմանդամության, արտոնյալ պայմաններով, երկարամյա ծառայության, մասնակի, կերակրողին կորցնելու դեպքում կենսաթոշակների) տրամադրում
C28: Միջոցառման տեսակը
C29: Տրանսֆերտների տրամադրում
A30: 1205 | C30: Ծրագրի անվանումը` | D30: =D37 -> 599700 | E30: =E37 -> 599700
C31: Սոցիալական ապահովություն
C32: Ծրագրի նպատակը`
C33: Սոցիալական ապահովության իրավունքի իրականացման ապահովում
C34: Վերջնական արդյունքի նկարագրությունը`
C35: Սոցիալական ապահովության իրավունքի իրականացում
A36: Ծրագրի միջոցառումներ
B37: 12001 | C37: Միջոցառման անվանումը` | D37: 599700 | E37: 599700
C38: Ծերության, հաշմանդամության, կերակրողին կորցնելու դեպքում նպաստներ
C39: Միջոցառման նկարագրությունը`
C40: Ծերության, հաշմանդամության, կերակրողին կորցնելու դեպքում սոցիալական նպաստների տրամադրում
C41: Միջոցառման տեսակը
C42: Տրանսֆերտների տրամադրում
A43: 1139 | C43: Ծրագրի անվանումը` | D43: =D50 -> -8650830 | E43: =E50 -> -8650830
C44: ՀՀ կառավարության պահուստային ֆոնդ
C45: Ծրագրի նպատակը`
C46: Պետական բյուջեում չկանխատեսված, ինչպես նաեւ բյուջետային երաշխիքների ապահովման ծախսերի ֆինանսավորման ապահովում
C47: Վերջնական արդյունքի նկարագրությունը`
C48: Պահուստային ֆոնդի կառավարման արդյունավետության և թափանցիկության ապահովում
A49: Ծրագրի միջոցառումներ
B50: 11001 | C50: Միջոցառման անվանումը` | D50: =-D10 -> -8650830 | E50: =-E10 -> -8650830
C51: ՀՀ կառավարության պահուստային ֆոնդ
C52: Միջոցառման նկարագրությունը`
C53: ՀՀ պետական բյուջեում նախատեսված ելքերի լրացուցիչ ֆինանսավորման, պետական բյուջեում չկանխատեսված ելքերի, ինչպես նաև բյուջետային երաշխիքների ապահովման ելքերի ֆինանսավորման ապահովում
C54: Միջոցառման տեսակը
C55: Ծառայությունների մատուցում

Sheet 2
H1: Հավելված N 2
H2: ՀՀ կառավարության 2022 թվականի
H3: -----------------ի N -----------Ն որոշման
A5: ՀԱՅԱՍՏԱՆԻ ՀԱՆՐԱՊԵՏՈՒԹՅԱՆ ԿԱՌԱՎԱՐՈՒԹՅԱՆ 2021 ԹՎԱԿԱՆԻ ԴԵԿՏԵՄԲԵՐԻ 23-Ի N 2121-Ն ՈՐՈՇՄԱՆ N 3, N 4 ՀԱՎԵԼՎԱԾՈՒՄ ԿԱՏԱՐՎՈՂ ՓՈՓՈԽՈՒԹՅՈՒՆՆԵՐԸ
H6: հազար դրամ
A7: Գործառական դասիչը | D7: Ծրագրային դասիչը | F7: Բյուջետային ծախսերի գործառական դասակարգման բաժինների, խմբերի և դասերի, բյուջետային ծրագրերի միջոցառումների, բյուջետային հատկացումների գլխավոր կարգադրիչների անվանումները | G7: Ցուցանիշների փոփոխությունները (ավելացումները նշված են դրական նշանով,իսկ նվազեցումները՝ փակագծերում)
A8: Բաժինը | B8: Խումբը | C8: Դասը | D8: Ծրագիր | E8: Միջոցառում | G8: ='1'!D8 -> Ինն ամիս | H8: ='1'!E8 -> Տարի
F9: ԸՆԴԱՄԵՆԸ ԾԱԽՍԵՐ | G9: =G11+G50 -> 0 | H9: =H11+H50 -> 0
F10: այդ թվում`
A11: 10 | F11: ՍՈՑԻԱԼԱԿԱՆ ՊԱՇՏՊԱՆՈՒԹՅՈՒՆ | G11: =G13 -> 8650830 | H11: =H13 -> 8650830
F12: այդ թվում`
B13: 02 | F13: Ծերություն | G13: =G15 -> 8650830 | H13: =H15 -> 8650830
F14: այդ թվում`
C15: 01 | F15: Ծերություն | G15: =G17 -> 8650830 | H15: =H17 -> 8650830
F16: այդ թվում`
F17: ՀՀ աշխատանքի և սոցիալական հարցերի նախարարություն | G17: =G18+G38 -> 8650830 | H17: =H18+H38 -> 8650830
D18: 1102 | F18: Կենսաթոշակային ապահովություն | G18: =G20+G29 -> 8051130 | H18: =H20+H29 -> 8051130
F19: այդ թվում`
E20: 12001 | F20: Սպայական անձնակազմի և նրանց ընտանիքների անդամների կենսաթոշակներ | G20: =+G22 -> 625920 | H20: =+H22 -> 625920
F21: այդ թվում` ըստ կատարողների
F22: ՀՀ աշխատանքի և սոցիալական հարցերի նախարարության միասնական սոցիալական ծառայություն | G22: =G24 -> 625920 | H22: =H24 -> 625920
F23: այդ թվում` բյուջետային ծախսերի տնտեսագիտական դասակարգման հոդվածներ
F24: ԸՆԴԱՄԵՆԸ ԾԱԽՍԵՐ | G24: =G25 -> 625920 | H24: =H25 -> 625920
F25: ԸՆԹԱՑԻԿ ԾԱԽՍԵՐ | G25: =G26 -> 625920 | H25: =H26 -> 625920
F26: ՍՈՑԻԱԼԱԿԱՆ ՆՊԱՍՏՆԵՐ ԵՎ ԿԵՆՍԱԹՈՇԱԿՆԵՐ | G26: =G27 -> 625920 | H26: =H27 -> 625920
F27: Կենսաթոշակներ | G27: =G28 -> 625920 | H27: =H28 -> 625920
F28: - Կենսաթոշակներ | G28: ='1'!D18 -> 625920 | H28: ='1'!E18 -> 625920
E29: 12003 | F29: Աշխատանքային կենսաթոշակներ | G29: =+G31 -> 7425210 | H29: =+H31 -> 7425210
F30: այդ թվում` ըստ կատարողների
F31: ՀՀ աշխատանքի և սոցիալական հարցերի նախարարության միասնական սոցիալական ծառայություն | G31: =G33 -> 7425210 | H31: =H33 -> 7425210
F32: այդ թվում` բյուջետային ծախսերի տնտեսագիտական դասակարգման հոդվածներ
F33: ԸՆԴԱՄԵՆԸ ԾԱԽՍԵՐ | G33: =G34 -> 7425210 | H33: =H34 -> 7425210
F34: ԸՆԹԱՑԻԿ ԾԱԽՍԵՐ | G34: =G35 -> 7425210 | H34: =H35 -> 7425210
F35: ՍՈՑԻԱԼԱԿԱՆ ՆՊԱՍՏՆԵՐ ԵՎ ԿԵՆՍԱԹՈՇԱԿՆԵՐ | G35: =G36 -> 7425210 | H35: =H36 -> 7425210
F36: Կենսաթոշակներ | G36: =G37 -> 7425210 | H36: =H37 -> 7425210
F37: - Կենսաթոշակներ | G37: ='1'!D24 -> 7425210 | H37: ='1'!E24 -> 7425210
D38: 1205 | F38: Սոցիալական ապահովություն | G38: =G40 -> 599700 | H38: =H40 -> 599700
F39: այդ թվում`
E40: 12001 | F40: Ծերության, հաշմանդամության, կերակրողին կորցնելու դեպքում նպաստներ | G40: =G42 -> 599700 | H40: =H42 -> 599700
F41: այդ թվում` ըստ կատարողների
F42: ՀՀ աշխատանքի և սոցիալական հարցերի նախարարության միասնական սոցիալական ծառայություն | G42: =G44 -> 599700 | H42: =H44 -> 599700
F43: այդ թվում` բյուջետային ծախսերի տնտեսագիտական դասակարգման հոդվածներ
F44: ԸՆԴԱՄԵՆԸ ԾԱԽՍԵՐ | G44: =G45 -> 599700 | H44: =H45 -> 599700
F45: ԸՆԹԱՑԻԿ ԾԱԽՍԵՐ | G45: =G46 -> 599700 | H45: =H46 -> 599700
F46: ՍՈՑԻԱԼԱԿԱՆ ՆՊԱՍՏՆԵՐ ԵՎ ԿԵՆՍԱԹՈՇԱԿՆԵՐ | G46: =G47 -> 599700 | H46: =H47 -> 599700
F47: Սոցիալական օգնության դրամական արտահայտությամբ նպաստներ (բյուջեից) | G47: =G48 -> 599700 | H47: =H48 -> 599700
F48: - Այլ նպաստներ բյուջեից | G48: ='1'!D37 -> 599700 | H48: ='1'!E37 -> 599700
F49: ՀՀ կառավարություն | G49: =G50 -> -8650830 | H49: =H50 -> -8650830
A50: 11 | F50: ՀԻՄՆԱԿԱՆ ԲԱԺԻՆՆԵՐԻՆ ՉԴԱՍՎՈՂ ՊԱՀՈՒՍՏԱՅԻՆ ՖՈՆԴԵՐ | G50: =G52 -> -8650830 | H50: =H52 -> -8650830
F51: այդ թվում`
B52: 01 | F52: ՀՀ կառավարության և համայնքների պահուստային ֆոնդ | G52: =G54 -> -8650830 | H52: =H54 -> -8650830
F53: այդ թվում`
C54: 01 | F54: ՀՀ կառավարության պահուստային ֆոնդ | G54: =G56 -> -8650830 | H54: =H56 -> -8650830
F55: այդ թվում`
D56: 1102 | F56: ՀՀ կառավարություն | G56: =G58 -> -8650830 | H56: =H58 -> -8650830
F57: այդ թվում`
E58: 11001 | F58: ՀՀ կառավարության պահուստային ֆոնդ | G58: =G60 -> -8650830 | H58: =H60 -> -8650830
F59: այդ թվում`
F60: ՀՀ կառավարության պահուստային ֆոնդ | G60: =G62 -> -8650830 | H60: =H62 -> -8650830
F61: այդ թվում` ըստ կատարողների
F62: ՀՀ կառավարություն | G62: =G64 -> -8650830 | H62: =H64 -> -8650830
F63: այդ թվում` բյուջետային ծախսերի տնտեսագիտական դասակարգման հոդվածներ
F64: ԸՆԴԱՄԵՆԸ ԾԱԽՍԵՐ | G64: =G65 -> -8650830 | H64: =H65 -> -8650830
F65: ԸՆԹԱՑԻԿ ԾԱԽՍԵՐ | G65: =G66 -> -8650830 | H65: =H66 -> -8650830
F66: ԱՅԼ ԾԱԽՍԵՐ | G66: =G67 -> -8650830 | H66: =H67 -> -8650830
F67: Պահուստային միջոցներ | G67: ='1'!D50 -> -8650830 | H67: ='1'!E50 -> -8650830
F70: 1005 | G70: =G36++#REF! -> #REF! | H70: =H36++#REF! -> #REF!
F71: 1011 | G71: =#REF!+G63 -> #REF! | H71: =#REF!+H63 -> #REF!
F72: 1068 | G72: =G66+#REF! -> #REF! | H72: =H66+#REF! -> #REF!
F73: 1102 | G73: =+G20 -> 625920 | H73: =+H20 -> 625920
F74: 1205 | G74: =+#REF! -> #REF! | H74: =+#REF! -> #REF!

Sheet 3
D1: Հավելված N 3
D2: ՀՀ կառավարության 2022 թվականի
D3: -----------------ի N -----------Ն որոշման
A4: ՀԱՅԱՍՏԱՆԻ ՀԱՆՐԱՊԵՏՈՒԹՅԱՆ ԿԱՌԱՎԱՐՈՒԹՅԱՆ 2020 ԹՎԱԿԱՆԻ ԴԵԿՏԵՄԲԵՐԻ 30-Ի N 2215-Ն ՈՐՈՇՄԱՆ N 9 ՀԱՎԵԼՎԱԾԻ N 9.1.20 ԱՂՅՈՒՍԱԿՈՒՄ ԿԱՏԱՐՎՈՂ ՓՈՓՈԽՈՒԹՅՈՒՆՆԵՐԸ
A5: ՀԱՅԱՍՏԱՆԻ ՀԱՆՐԱՊԵՏՈՒԹՅԱՆ ԿԱՌԱՎԱՐՈՒԹՅԱՆ 2021 ԹՎԱԿԱՆԻ ԴԵԿՏԵՄԲԵՐԻ 23-Ի N 2121-Ն ՈՐՈՇՄԱՆ N 9 ՀԱՎԵԼՎԱԾԻ N 9.15 ԵՎ 9.47 ԱՂՅՈՒՍԱԿՆԵՐՈՒՄ ԿԱՏԱՐՎՈՂ ՓՈՓՈԽՈՒԹՅՈՒՆՆԵՐԸ
A6: Հայաստանի Հանրապետության աշխատանքի և սոցիալական հարցերի նախարարություն
A7: ՄԱՍ 2. ՊԵՏԱԿԱՆ ՄԱՐՄՆԻ ԳԾՈՎ ԱՐԴՅՈՒՆՔԱՅԻՆ (ԿԱՏԱՐՈՂԱԿԱՆ) ՑՈՒՑԱՆԻՇՆԵՐԸ
A9: Ծրագրի դասիչը | B9: Ծրագրի անվանումը
A10: 1102 | B10: Կենսաթոշակային ապահովություն
A11: Ծրագրի միջոցառումները
A13: Ծրագրի դասիչը` | B13: 1102 | C13: Ցուցանիշների փոփոխությունները (ավելացումները նշված են դրական նշանով)
A14: Միջոցառման դասիչը` | B14: 12001 | C14: ='1'!D8 -> Ինն ամիս | D14: ='1'!E8 -> Տարի
A15: Միջոցառման անվանումը` | B15: Սպայական անձնակազմի և նրանց ընտանիքների անդամների կենսաթոշակներ
A16: Նկարագրությունը` | B16: Սպայական անձնակազմի զինծառայողներին երկարամյա ծառայության, հաշմանդամության և զինծառայողի մահվան դեպքում նրա ընտանիքի անդամներին կերակրողին կորցնելու դեպքում զինվորական կենսաթոշակների տրամադրում
A17: Միջոցառման տեսակը` | B17: Տրանսֆերտների տրամադրում
A18: Շահառուների ընտրության չափանիշները | B18: Սպայական անձնակազմին և նրանց ընտանիքների անդամներին երկարամյա ծառայության, հաշմանդամության և կերակրողին կորցնելու դեպքում կենսաթոշակների տրամադրում 22.12.2010թ.ՀՕ-243-Ն օրենքի 18-րդ, 20-րդ, 22-րդ հոդվածներով
A19: Արդյունքի չափորոշիչներ
A20: Միջոցառման վրա կատարվող ծախսը (հազար դրամ) | C20: ='1'!D18 -> 625920 | D20: ='1'!E18 -> 625920
A23: Ծրագրի դասիչը` | B23: 1102 | C23: Ցուցանիշների փոփոխությունները (ավելացումները նշված են դրական նշանով)
A24: Միջոցառման դասիչը` | B24: 12003 | C24: ='1'!D8 -> Ինն ամիս | D24: ='1'!E8 -> Տարի
A25: Միջոցառման անվանումը` | B25: Աշխատանքային կենսաթոշակներ
A26: Նկարագրությունը` | B26: Աշխատանքային կենսաթոշակների (տարիքային, հաշմանդամության, արտոնյալ պայմաններով, երկարամյա ծառայության, մասնակի, կերակրողին կորցնելու դեպքում կենսաթոշակների) տրամադրում
A27: Միջոցառման տեսակը` | B27: Տրանսֆերտների տրամադրում
A28: Շահառուների ընտրության չափանիշները | B28: Տարիքային աշխատանքային` առնվազն 10 տարվա աշխատանքային ստաժ, հաշմանդամության աշխատանքային` ըստ սանդղակի աշխատանքային ստաժ, արտոնյալ, մասնակի երկարամյա ծառայության` պահանջվող մասնագիտությամբ աշխատանքային ստաժ
A29: Արդյունքի չափորոշիչներ
A30: Միջոցառման վրա կատարվող ծախսը (հազար դրամ) | C30: ='1'!D24 -> 7425210 | D30: ='1'!E24 -> 7425210
A32: Ծրագրի դասիչը | B32: Ծրագրի անվանումը
A33: 1205 | B33: Սոցիալական ապահովություն
A34: Ծրագրի միջոցառումները
A36: Ծրագրի դասիչը` | B36: 1205 | C36: Ցուցանիշների փոփոխությունները (ավելացումները նշված են դրական նշանով)
A37: Միջոցառման դասիչը` | B37: 12001 | C37: ='1'!D8 -> Ինն ամիս | D37: ='1'!E8 -> Տարի
A38: Միջոցառման անվանումը` | B38: Ծերության, հաշմանդամության, կերակրողին կորցնելու դեպքում նպաստներ
A39: Նկարագրությունը` | B39: Ծերության, հաշմանդամության, կերակրողին կորցնելու դեպքում սոցիալական նպաստների տրամադրում
A40: Միջոցառման տեսակը` | B40: Տրանսֆերտների տրամադրում
A41: Շահառուների ընտրության չափանիշները | B41: Կենսաթոշակի իրավունք չունեցող հաշմանդամներ, կերակրողին կորցրած անձիք և օրենքով սահմանված տարիքը լրացած և պահանջվող ստաժ չունեցող անձիք
A42: Արդյունքի չափորոշիչներ
A43: Միջոցառման վրա կատարվող ծախսը (հազար դրամ) | C43: ='1'!D37 -> 599700 | D43: ='1'!E37 -> 599700
A45: ՀՀ կառավարություն
A46: ՄԱՍ 2. ՊԵՏԱԿԱՆ ՄԱՐՄՆԻ ԳԾՈՎ ԱՐԴՅՈՒՆՔԱՅԻՆ (ԿԱՏԱՐՈՂԱԿԱՆ) ՑՈՒՑԱՆԻՇՆԵՐԸ
A47: Ծրագրի դասիչը | B47: Ծրագրի անվանումը
A48: 1139 | B48: ՀՀ կառավարության պահուստային ֆոնդ
A49: Ծրագրի միջոցառումները
A51: Ծրագրի դասիչը` | B51: 1139 | C51: Ցուցանիշների փոփոխությունները (նվազեցումները նշված են փակագծերում)
A52: Միջոցառման դասիչը` | B52: 11001 | C52: ='1'!D8 -> Ինն ամիս | D52: ='1'!E8 -> Տարի
A53: Միջոցառման անվանումը` | B53: ՀՀ կառավարության պահուստային ֆոնդ
A54: Նկարագրությունը` | B54: ՀՀ պետական բյուջեում նախատեսված ելքերի լրացուցիչ ֆինանսավորման, պետական բյուջեում չկանխատեսված ելքերի, ինչպես նաև բյուջետային երաշխիքների ապահովման ելքերի ֆինանսավորման ապահովում
A55: Միջոցառման տեսակը` | B55: Ծառայությունների մատուցում
A56: Արդյունքի չափորոշիչներ
A57: Միջոցառման վրա կատարվող ծախսը (հազար դրամ) | C57: ='1'!D50 -> -8650830 | D57: ='1'!E50 -> -8650830

Sheet 4
D1: Հավելված N 4
D2: ՀՀ կառավարության 2022 թվականի
D3: -----------------ի N -----------Ն որոշման
A4: ՀԱՅԱՍՏԱՆԻ ՀԱՆՐԱՊԵՏՈՒԹՅԱՆ ԿԱՌԱՎԱՐՈՒԹՅԱՆ 2020 ԹՎԱԿԱՆԻ ԴԵԿՏԵՄԲԵՐԻ 30-Ի N 2215-Ն ՈՐՈՇՄԱՆ N 9 ՀԱՎԵԼՎԱԾԻ N 9.1.20 ԱՂՅՈՒՍԱԿՈՒՄ ԿԱՏԱՐՎՈՂ ՓՈՓՈԽՈՒԹՅՈՒՆՆԵՐԸ
A5: ՀԱՅԱՍՏԱՆԻ ՀԱՆՐԱՊԵՏՈՒԹՅԱՆ ԿԱՌԱՎԱՐՈՒԹՅԱՆ 2021 ԹՎԱԿԱՆԻ ԴԵԿՏԵՄԲԵՐԻ 23-Ի N 2121-Ն ՈՐՈՇՄԱՆ N 9.1 ՀԱՎԵԼՎԱԾԻ N 9.1.20 ԱՂՅՈՒՍԱԿՈՒՄ ԿԱՏԱՐՎՈՂ ՓՈՓՈԽՈՒԹՅՈՒՆՆԵՐԸ
A6: ՄԱՍ 1. ՊԵՏԱԿԱՆ ՄԱՐՄՆԻ ԳԾՈՎ ԱՐԴՅՈՒՆՔԱՅԻՆ (ԿԱՏԱՐՈՂԱԿԱՆ) ՑՈՒՑԱՆԻՇՆԵՐԸ
A8: ՀՀ աշխատանքի և սոցիալական հարցերի նախարարության միասնական սոցիալական ծառայություն
A9: Ծրագրի դասիչը | B9: Ծրագրի անվանումը
A10: 1102 | B10: Կենսաթոշակային ապահովություն
A11: Ծրագրի միջոցառումները
A13: Ծրագրի դասիչը` | B13: 1102 | C13: Ցուցանիշների փոփոխությունները (ավելացումները նշված են դրական նշանով)
A14: Միջոցառման դասիչը` | B14: 12001 | C14: ='1'!D8 -> Ինն ամիս | D14: ='1'!E8 -> Տարի
A15: Միջոցառման անվանումը` | B15: Սպայական անձնակազմի և նրանց ընտանիքների անդամների կենսաթոշակներ
A16: Նկարագրությունը` | B16: Սպայական անձնակազմի զինծառայողներին երկարամյա ծառայության, հաշմանդամության և զինծառայողի մահվան դեպքում նրա ընտանիքի անդամներին կերակրողին կորցնելու դեպքում զինվորական կենսաթոշակների տրամադրում
A17: Միջոցառման տեսակը` | B17: Տրանսֆերտների տրամադրում
A18: Շահառուների ընտրության չափանիշները | B18: Սպայական անձնակազմին և նրանց ընտանիքների անդամներին երկարամյա ծառայության, հաշմանդամության և կերակրողին կորցնելու դեպքում կենսաթոշակների տրամադրում 22.12.2010թ.ՀՕ-243-Ն օրենքի 18-րդ, 20-րդ, 22-րդ հոդվածներով
A19: Արդյունքի չափորոշիչներ
A20: Միջոցառման վրա կատարվող ծախսը (հազար դրամ) | C20: ='1'!D18 -> 625920 | D20: ='1'!E18 -> 625920
A23: Ծրագրի դասիչը` | B23: 1102 | C23: Ցուցանիշների փոփոխությունները (ավելացումները նշված են դրական նշանով)
A24: Միջոցառման դասիչը` | B24: 12003 | C24: ='1'!D8 -> Ինն ամիս | D24: ='1'!E8 -> Տարի
A25: Միջոցառման անվանումը` | B25: Աշխատանքային կենսաթոշակներ
A26: Նկարագրությունը` | B26: Աշխատանքային կենսաթոշակների (տարիքային, հաշմանդամության, արտոնյալ պայմաններով, երկարամյա ծառայության, մասնակի, կերակրողին կորցնելու դեպքում կենսաթոշակների) տրամադրում
A27: Միջոցառման տեսակը` | B27: Տրանսֆերտների տրամադրում
A28: Շահառուների ընտրության չափանիշները | B28: Տարիքային աշխատանքային` առնվազն 10 տարվա աշխատանքային ստաժ, հաշմանդամության աշխատանքային` ըստ սանդղակի աշխատանքային ստաժ, արտոնյալ, մասնակի երկարամյա ծառայության` պահանջվող մասնագիտությամբ աշխատանքային ստաժ
A29: Արդյունքի չափորոշիչներ
A30: Միջոցառման վրա կատարվող ծախսը (հազար դրամ) | C30: ='1'!D24 -> 7425210 | D30: ='1'!E24 -> 7425210
A32: Ծրագրի դասիչը | B32: Ծրագրի անվանումը
A33: 1205 | B33: Սոցիալական ապահովություն
A34: Ծրագրի միջոցառումները
A36: Ծրագրի դասիչը` | B36: 1205 | C36: Ցուցանիշների փոփոխությունները (ավելացումները նշված են դրական նշանով)
A37: Միջոցառման դասիչը` | B37: 12001 | C37: ='1'!D8 -> Ինն ամիս | D37: ='1'!E8 -> Տարի
A38: Միջոցառման անվանումը` | B38: Ծերության, հաշմանդամության, կերակրողին կորցնելու դեպքում նպաստներ
A39: Նկարագրությունը` | B39: Ծերության, հաշմանդամության, կերակրողին կորցնելու դեպքում սոցիալական նպաստների տրամադրում
A40: Միջոցառման տեսակը` | B40: Տրանսֆերտների տրամադրում
A41: Շահառուների ընտրության չափանիշները | B41: Կենսաթոշակի իրավունք չունեցող հաշմանդամներ, կերակրողին կորցրած անձիք և օրենքով սահմանված տարիքը լրացած և պահանջվող ստաժ չունեցող անձիք
A42: Արդյունքի չափորոշիչներ
A43: Միջոցառման վրա կատարվող ծախսը (հազար դրամ) | C43: ='1'!D37 -> 599700 | D43: ='1'!E37 -> 599700
A45: ՀՀ կառավարություն
A46: ՄԱՍ 2. ՊԵՏԱԿԱՆ ՄԱՐՄՆԻ ԳԾՈՎ ԱՐԴՅՈՒՆՔԱՅԻՆ (ԿԱՏԱՐՈՂԱԿԱՆ) ՑՈՒՑԱՆԻՇՆԵՐԸ
A47: Ծրագրի դասիչը | B47: Ծրագրի անվանումը
A48: 1139 | B48: ՀՀ կառավարության պահուստային ֆոնդ
A49: Ծրագրի միջոցառումները
A51: Ծրագրի դասիչը` | B51: 1139 | C51: Ցուցանիշների փոփոխությունները (նվազեցումները նշված են փակագծերում)
A52: Միջոցառման դասիչը` | B52: 11001 | C52: ='1'!D8 -> Ինն ամիս | D52: ='1'!E8 -> Տարի
A53: Միջոցառման անվանումը` | B53: ՀՀ կառավարության պահուստային ֆոնդ
A54: Նկարագրությունը` | B54: ՀՀ պետական բյուջեում նախատեսված ելքերի լրացուցիչ ֆինանսավորման, պետական բյուջեում չկանխատեսված ելքերի, ինչպես նաև բյուջետային երաշխիքների ապահովման ելքերի ֆինանսավորման ապահովում
A55: Միջոցառման տեսակը` | B55: Ծառայությունների մատուցում
A56: Արդյունքի չափորոշիչներ
A57: Միջոցառման վրա կատարվող ծախսը (հազար դրամ) | C57: ='1'!D50 -> -8650830 | D57: ='1'!E50 -> -8650830

Sheet 5
H1: Հավելված N 5
H2: ՀՀ կառավարության 2022 թվականի
H3: -----------------ի N -----------Ն որոշման
A5: ՀԱՅԱՍՏԱՆԻ ՀԱՆՐԱՊԵՏՈՒԹՅԱՆ 2022 ԹՎԱԿԱՆԻ ՊԵՏԱԿԱՆ ԲՅՈՒՋԵՈՎ ՆԱԽԱՏԵՍՎԱԾ ՀԱՅԱՍՏԱՆԻ ՀԱՆՐԱՊԵՏՈՒԹՅԱՆ ԿԱՌԱՎԱՐՈՒԹՅԱՆ ՊԱՀՈՒՍՏԱՅԻՆ ՖՈՆԴԻՑ ՀԱՏԿԱՑՈՒՄՆԵՐ ԿԱՏԱՐԵԼՈՒ ՎԵՐԱԲԵՐՅԱԼ
H6: հազար դրամ
A7: Գործառական դասիչը | D7: Ծրագրային դասիչը | F7: Բյուջետային ծախսերի գործառական դասակարգման բաժինների, խմբերի և դասերի, բյուջետային ծրագրերի միջոցառումների, բյուջետային հատկացումների գլխավոր կարգադրիչների անվանումները | G7: Ցուցանիշների փոփոխությունները (ավելացումները նշված են դրական նշանով,իսկ նվազեցումները՝ փակագծերում)
A8: Բաժինը | B8: Խումբը | C8: Դասը | D8: Ծրագիր | E8: Միջոցառում | G8: ='1'!D8 -> Ինն ամիս | H8: ='1'!E8 -> Տարի
F9: ԸՆԴԱՄԵՆԸ ԾԱԽՍԵՐ | G9: =G11 -> 8650830 | H9: =H11 -> 8650830
F10: այդ թվում`
A11: 10 | F11: ՍՈՑԻԱԼԱԿԱՆ ՊԱՇՏՊԱՆՈՒԹՅՈՒՆ | G11: =G13 -> 8650830 | H11: =H13 -> 8650830
F12: այդ թվում`
B13: 02 | F13: Ծերություն | G13: =G15 -> 8650830 | H13: =H15 -> 8650830
F14: այդ թվում`
C15: 01 | F15: Ծերություն | G15: =G17 -> 8650830 | H15: =H17 -> 8650830
F16: այդ թվում`
F17: ՀՀ աշխատանքի և սոցիալական հարցերի նախարարություն | G17: =G18+G38 -> 8650830 | H17: =H18+H38 -> 8650830
D18: 1102 | F18: Կենսաթոշակային ապահովություն | G18: =G20+G29 -> 8051130 | H18: =H20+H29 -> 8051130
F19: այդ թվում`
E20: 12001 | F20: Սպայական անձնակազմի և նրանց ընտանիքների անդամների կենսաթոշակներ | G20: =+G22 -> 625920 | H20: =+H22 -> 625920
F21: այդ թվում` ըստ կատարողների
F22: ՀՀ աշխատանքի և սոցիալական հարցերի նախարարության միասնական սոցիալական ծառայություն | G22: =G24 -> 625920 | H22: =H24 -> 625920
F23: այդ թվում` բյուջետային ծախսերի տնտեսագիտական դասակարգման հոդվածներ
F24: ԸՆԴԱՄԵՆԸ ԾԱԽՍԵՐ | G24: =G25 -> 625920 | H24: =H25 -> 625920
F25: ԸՆԹԱՑԻԿ ԾԱԽՍԵՐ | G25: =G26 -> 625920 | H25: =H26 -> 625920
F26: ՍՈՑԻԱԼԱԿԱՆ ՆՊԱՍՏՆԵՐ ԵՎ ԿԵՆՍԱԹՈՇԱԿՆԵՐ | G26: =G27 -> 625920 | H26: =H27 -> 625920
F27: Կենսաթոշակներ | G27: =G28 -> 625920 | H27: =H28 -> 625920
F28: - Կենսաթոշակներ | G28: ='1'!D18 -> 625920 | H28: ='1'!E18 -> 625920
E29: 12003 | F29: Աշխատանքային կենսաթոշակներ | G29: =+G31 -> 7425210 | H29: =+H31 -> 7425210
F30: այդ թվում` ըստ կատարողների
F31: ՀՀ աշխատանքի և սոցիալական հարցերի նախարարության միասնական սոցիալական ծառայություն | G31: =G33 -> 7425210 | H31: =H33 -> 7425210
F32: այդ թվում` բյուջետային ծախսերի տնտեսագիտական դասակարգման հոդվածներ
F33: ԸՆԴԱՄԵՆԸ ԾԱԽՍԵՐ | G33: =G34 -> 7425210 | H33: =H34 -> 7425210
F34: ԸՆԹԱՑԻԿ ԾԱԽՍԵՐ | G34: =G35 -> 7425210 | H34: =H35 -> 7425210
F35: ՍՈՑԻԱԼԱԿԱՆ ՆՊԱՍՏՆԵՐ ԵՎ ԿԵՆՍԱԹՈՇԱԿՆԵՐ | G35: =G36 -> 7425210 | H35: =H36 -> 7425210
F36: Կենսաթոշակներ | G36: =G37 -> 7425210 | H36: =H37 -> 7425210
F37: - Կենսաթոշակներ | G37: ='1'!D24 -> 7425210 | H37: ='1'!E24 -> 7425210
D38: 1205 | F38: Սոցիալական ապահովություն | G38: =G40 -> 599700 | H38: =H40 -> 599700
F39: այդ թվում`
E40: 12001 | F40: Ծերության, հաշմանդամության, կերակրողին կորցնելու դեպքում նպաստներ | G40: =G42 -> 599700 | H40: =H42 -> 599700
F41: այդ թվում` ըստ կատարողների
F42: ՀՀ աշխատանքի և սոցիալական հարցերի նախարարության միասնական սոցիալական ծառայություն | G42: =G44 -> 599700 | H42: =H44 -> 599700
F43: այդ թվում` բյուջետային ծախսերի տնտեսագիտական դասակարգման հոդվածներ
F44: ԸՆԴԱՄԵՆԸ ԾԱԽՍԵՐ | G44: =G45 -> 599700 | H44: =H45 -> 599700
F45: ԸՆԹԱՑԻԿ ԾԱԽՍԵՐ | G45: =G46 -> 599700 | H45: =H46 -> 599700
F46: ՍՈՑԻԱԼԱԿԱՆ ՆՊԱՍՏՆԵՐ ԵՎ ԿԵՆՍԱԹՈՇԱԿՆԵՐ | G46: =G47 -> 599700 | H46: =H47 -> 599700
F47: Սոցիալական օգնության դրամական արտահայտությամբ նպաստներ (բյուջեից) | G47: =G48 -> 599700 | H47: =H48 -> 599700
F48: - Այլ նպաստներ բյուջեից | G48: ='1'!D37 -> 599700 | H48: ='1'!E37 -> 599700
F51: 1005 | G51: =G36++#REF! -> #REF! | H51: =H36++#REF! -> #REF!
F52: 1011 | G52: =#REF!+#REF! -> #REF! | H52: =#REF!+#REF! -> #REF!
F53: 1068 | G53: =#REF!+#REF! -> #REF! | H53: =#REF!+#REF! -> #REF!
F54: 1102 | G54: =+G20 -> 625920 | H54: =+H20 -> 625920
F55: 1205 | G55: =+#REF! -> #REF! | H55: =+#REF! -> #REF!
