Workbook
Name AgencyCode: #REF!
Name AgencyName: #REF!
Name åû: #REF!
Name davit: #REF!
Name Functional1: #REF!
Name ggg: #REF!
Name mas: #REF!
Name mass: #REF!
Name PANature: #REF!
Name PAType: #REF!
Name Performance2: #REF!
Name PerformanceType: #REF!
Name x: #REF!
Name Հավելված: #REF!
Name Մաս: #REF!
Name շախմատիստ: #REF!

Sheet 1
E1: Հավելված N 1
E2: ՀՀ կառավարության 2022 թվականի
E3: -ի N -Ն որոշման
A4: «ՀԱՅԱՍՏԱՆԻ ՀԱՆՐԱՊԵՏՈՒԹՅԱՆ 2022 ԹՎԱԿԱՆԻ ՊԵՏԱԿԱՆ ԲՅՈՒՋԵԻ ՄԱՍԻՆ» ՀԱՅԱՍՏԱՆԻ ՀԱՆՐԱՊԵՏՈՒԹՅԱՆ ՕՐԵՆՔԻ N 1 ՀԱՎԵԼՎԱԾԻ N 2 ԱՂՅՈՒՍԱԿՈՒՄ ԿԱՏԱՐՎՈՂ ՎԵՐԱԲԱՇԽՈՒՄԸ, ՓՈՓՈԽՈՒԹՅՈՒՆՆԵՐԸ , ՀԱՅԱՍՏԱՆԻ ՀԱՆՐԱՊԵՏՈՒԹՅԱՆ ԿԱՌԱՎԱՐՈՒԹՅԱՆ 2021 ԹՎԱԿԱՆԻ ԴԵԿՏԵՄԲԵՐԻ 23-Ի N 2121-Ն ՈՐՈՇՄԱՆ N 5 ՀԱՎԵԼՎԱԾԻ N 1 ԱՂՅՈՒՍԱԿՈՒՄ ԿԱՏԱՐՎՈՂ ՓՈՓՈԽՈՒԹՅՈՒՆՆԵՐԸ
E6: (հազ. դրամ)
A7: Ծրագրային դասիչը | C7: Բյուջետային գլխավոր կարգադրիչների, ծրագրերի և միջոցառումների անվանումները | D7: Ցուցանիշների փոփոխությունը (ավելացումները նշված են դրական նշանով, իսկ նվազեցումները՝ փակագծերում)
A8: Ծրագիր | B8: Միջոցառում | D8: Ինն ամիս | E8: Տարի
C9: ԸՆԴԱՄԵՆԸ | D9: =D10 -> 0 | E9: =E10 -> 0
C10: ՀՀ տարածքային կառավարման և ենթակառուցվածքների նախարարություն | D10: =D11+D72 -> 0 | E10: =E11+E72 -> 0
A11: 1004 | C11: Ծրագրի անվանումը` | D11: =D18+D24+D36+D42+D48+D54+D60+D66+D30 -> 256490 | E11: =E18+E24+E36+E42+E48+E54+E60+E66+E30 -> 288064
C12: Ոռոգման համակարգի առողջացում
C13: Ծրագրի նպատակը`
C14: Ոռոգման ծառայությունների հասանելիության և մատչելիության ապահովում
C15: Վերջնական արդյունքի նկարագրությունը`
C16: Ոռոգման ջրի մատակարարման արդյունավետության և հասանելիության բարելավում՝ կորուստների կրճատում
A17: Ծրագրի միջոցառումներ
B18: 11002 | C18: Միջոցառման անվանումը` | D18: ='3'!G22 -> 1451419.3 | E18: ='3'!H22 -> 1451419.3
C19: Ոռոգման ծառայություններ մատուցող ընկերություններին ֆինանսական աջակցության տրամադրում
C20: Միջոցառման նկարագրությունը`
C21: Ոռոգման ոլորտի սուբսիդավորում ՋՕԸ-ների համար սահմանված ոռոգման ջրի սակագնի և նվազագույն շահավետ գնի տարբերության չափով
C22: Միջոցառման տեսակը
C23: Ծառայությունների մատուցում
B24: 11011 | C24: Միջոցառման անվանումը` | D24: ='3'!G31 -> -18399.4 | E24: ='3'!H31 -> -24532.5
C25: Զարգացման ֆրանսիական գործակալության աջակցությամբ իրականացվող ոռոգման ոլորտի ֆինանսական կայունության և ոռոգման կառավարման կարողությունների բարելավման դրամաշնորհային ծրագրի խորհրդատվություն և կառավարում
C26: Միջոցառման նկարագրությունը`
C27: Զարգացման ֆրանսիական գործակալության աջակցությամբ իրականացվող ոռոգման ոլորտի ֆինանսական կայունության և ոռոգման կառավարման կարողությունների բար»լավման ծրագրի համակարգում և ղ»կավարում
C28: Միջոցառման տեսակը
C29: Ծառայությունների մատուցում
B30: 11013 | C30: Միջոցառման անվանումը` | D30: ='3'!G47 -> -26020 | E30: ='3'!H47 -> -26020
C31: Փոքր և միջին ջրամբարների կառուցման խորհրդատվություն և կառավարում
C32: Միջոցառման նկարագրությունը`
C33: Փոքր և միջին ջրամբարների կառուցման համակարգում և ղեկավարում
C34: Միջոցառման տեսակը
C35: Ծառայությունների մատուցում
B36: 31002 | C36: Միջոցառման անվանումը` | D36: ='3'!G48 -> -478849 | E36: ='3'!H48 -> -132336.1
C37: Ոռոգման համակարգերի հիմնանորոգում
C38: Միջոցառման նկարագրությունը`
C39: Ոռոգման համակարգերի հիմնանորոգում
C40: Միջոցառման տեսակը
C41: Պետական մարմինների կողմից օգտագործվող ոչ ֆինանսական ակտիվների հետ գործառնություններ
...

Sheet 2
A1: Հավելված N 2
A2: ՀՀ կառավարության 2022 թվականի
A3: -ի N -Ն որոշման
A4: «ՀԱՅԱՍՏԱՆԻ ՀԱՆՐԱՊԵՏՈՒԹՅԱՆ 2022 ԹՎԱԿԱՆԻ ՊԵՏԱԿԱՆ ԲՅՈՒՋԵԻ ՄԱՍԻՆ» ՀԱՅԱՍՏԱՆԻ ՀԱՆՐԱՊԵՏՈՒԹՅԱՆ ՕՐԵՆՔԻ N 1 ՀԱՎԵԼՎԱԾԻ N 3 ԱՂՅՈՒՍԱԿՈՒՄ ԿԱՏԱՐՎՈՂ ՓՈՓՈԽՈՒԹՅՈՒՆՆԵՐԸ
G5: (հազ. դրամ)
A6: Ծրագրային դասիչ | C6: Բյուջետային գլխավոր կարգադրիչների, ծրագրերի, միջոցառումների և ուղղությունների անվանումները | D6: Ցուցանիշների փոփոխությունը (ավելացումները նշված են դրական նշանով, իսկ նվազեցումները՝ փակագծերում)
D7: Ընդամենը, | E7: այդ թվում՝
A8: Ծրագիր | B8: Միջոցառում | E8: Կառուցման աշխատանքներ | F8: Վերակառուցման, վերանորոգման և վերականգնման աշխատանքներ | G8: Նախագծահե- տազոտական, գեոդեզիա- քարտեզագրա- կան աշխա- տանքներ | H8: Ոչ ֆինանսական այլ ակտիվների ձեռքբերում
C9: ԸՆԴԱՄԵՆԸ | D9: =SUM(E9:H9) -> -1400866.8 | E9: =E11 -> -380265 | F9: =F11 -> -920777.5 | G9: =G11 -> -99824.3 | H9: =H11 -> 0
C10: այդ թվում՝
C11: ՀՀ ՏԱՐԱԾՔԱՅԻՆ ԿԱՌԱՎԱՐՄԱՆ ԵՎ ԵՆԹԱԿԱՌՈՒՑՎԱԾՔՆԵՐԻ ՆԱԽԱՐԱՐՈՒԹՅՈՒՆ | D11: =SUM(E11:H11) -> -1400866.8 | E11: =E13+E20+E21+E22+E28+E32+E36 -> -380265 | F11: =F13+F20+F21+F22+F28+F32+F36 -> -920777.5 | G11: =G13+G20+G21+G22+G28+G32+G36 -> -99824.3 | H11: =H13+H20+H21+H22+H28+H32+H36 -> 0
C12: այդ թվում`
A13: 1004 | B13: 31002 | C13: Ոռոգման համակարգերի հիմնանորոգում | D13: =SUM(E13:H13) -> -132336.1 | E13: =SUM(E15:E19) -> 0 | F13: =SUM(F15:F19) -> -132336.1 | G13: =SUM(G15:G19) -> 0 | H13: =SUM(H15:H19) -> 0
C14: այդ թվում`
C15: «Արմաշ» պ/կայանի IV գոտու հեռացնող ջրատարի վերականգնում | D15: =SUM(E15:H15) -> -39511.2 | F15: ='4'!E17 -> -39511.2
C16: Սուրենավան III գոտու ջրագծի հիմնանորոգման աշխատանքներ | D16: =SUM(E16:H16) -> -105997.3 | F16: ='4'!E18 -> -105997.3
C17: ՀՀ Արարատի մարզի Քաղցրաշեն պ/կայան 2 մղման խողովակի տեղադրում | D17: =SUM(E17:H17) -> -6554.2 | F17: -6554.2
C18: ՀՀ Արագածոտնի մարզի Թալինի ջրանցքի ձախ ճյուղի հիմնանորոգման աշխատանքներ | D18: =SUM(E18:H18) -> -1387.1 | F18: ='4'!E20 -> -1387.1
C19: ՀՀ Սյունիքի մարզի Որոտանի մայր ջրանցքի Հարթաշենի դյուկերի վթարված հատվածի վերականգնման աշխատանքներ | D19: =SUM(E19:H19) -> 21113.7 | F19: ='4'!E21 -> 21113.7
A20: 1004 | B20: 31007 | C20: Ջրային տնտեսության հիդրոտեխնիկական սարքավորումների տեղադրման աշխատանքներ | D20: =SUM(E20:H20) -> -92201 | E20: ='4'!E22 -> -92201
A21: 1004 | B21: 31009 | C21: Օրվա կարգավորման ջրավազանների կառուցում և վերակառուցում | D21: =SUM(E21:H21) -> -99824.3 | G21: ='4'!E27 -> -99824.3
A22: 1004 | B22: 31011 | C22: Խորքային հորերի վերականգնում | D22: =SUM(E22:H22) -> -49497.7 | E22: =SUM(E24:E27) -> 0 | F22: =SUM(F24:F27) -> -49497.7 | G22: =SUM(G24:G27) -> 0 | H22: =SUM(H24:H27) -> 0
C23: այդ թվում`
C24: Բամբակաշատ համայնքի գազի կալոնկա խոր-քային հորի վերականգնում | D24: =SUM(E24:H24) -> -11081.3 | F24: ='4'!E32 -> -11081.3
C25: Մյասնիկյան խորքային հորի վերականգնում | D25: =SUM(E25:H25) -> -17113.3 | F25: ='4'!E33 -> -17113.3
C26: Շենավան համայնքի Վարդանյանի բաժանա-րարի խորքային հորի վերականգնում | D26: =SUM(E26:H26) -> -10510.5 | F26: ='4'!E34 -> -10510.5
C27: Գետաշեն համայնքի /Կոմսոմոլի այգի/ խորքային հորի վերականգնում | D27: =SUM(E27:H27) -> -10792.6 | F27: ='4'!E35 -> -10792.6
A28: 1004 | B28: 31014 | C28: Ջրամբարների վերականգնման և վերազինման աշխատանքներ | D28: =SUM(E28:H28) -> -738943.7 | E28: =E30+E31 -> 0 | F28: =F30+F31 -> -738943.7 | G28: =G30+G31 -> 0 | H28: =H30+H31 -> 0
C29: այդ թվում`
C30: ՀՀ Շիրակի մարզի Արփի լճի ջրամբարի վերականգնման աշխատանքներ | D30: =SUM(E30:H30) -> -729713.8 | F30: ='4'!E45 -> -729713.8
C31: Ազատի ջրամբարի հատակային ջրթող կառուցվածքի ստորջրյա ջրառման հանգույցի ժամանակավոր անջրպետման աշխատանքներ | D31: =SUM(E31:H31) -> -9229.9 | F31: ='4'!E47 -> -9229.9
A32: 1072 | B32: 31008 | C32: Պարտադիր կապիտալ աշխատանքների ծրագրի շրջանակներում ջրամատակարարման և ջրահեռացման ենթակառուցվածքների հիմնանորոգում | D32: =SUM(D34:D35) -> -182573.7 | E32: =SUM(E34:E35) -> -182573.7 | F32: =SUM(F34:F35) -> 0 | G32: =SUM(G34:G35) -> 0 | H32: =SUM(H34:H35) -> 0
C33: այդ թվում`
C34: «Սառնակունք գյուղի մոտ Մուխութուրյանի ջրատարի ջրաքանակի համար քլորակայանի կառուցում» | D34: =SUM(E34:H34) -> -81603.9 | E34: ='4'!E52 -> -81603.9
C35: «Ղազանչի ջրաղբյուրների սանիտարական գոտում նոր, հեղուկ քլորով շահագործվող քլորակայանի կառուցում» | D35: =SUM(E35:H35) -> -100969.8 | E35: ='4'!E53 -> -100969.8
A36: 1072 | B36: 31009 | C36: ՀՀ-ի տարածքում Վարձակալի կողմից չսպասարկվող շուրջ 560 բնակավայրերում ջրամատակարարման և ջրահեռացման համակարգերի կառուցում | D36: =SUM(E36:H36) -> -105490.3 | E36: ='4'!E56 -> -105490.3

Sheet 3
G1: Հավելված N3
A2: ՀՀ կառավարության 2022 թվականի
A3: -ի N -Ն որոշման
A4: ՀԱՅԱՍՏԱՆԻ ՀԱՆՐԱՊԵՏՈՒԹՅԱՆ ԿԱՌԱՎԱՐՈՒԹՅԱՆ 2021 ԹՎԱԿԱՆԻ ԴԵԿՏԵՄԲԵՐԻ 23-Ի N 2121-Ն ՈՐՈՇՄԱՆ N 3 ԵՎ N 4 ՀԱՎԵԼՎԱԾՆԵՐՈՒՄ ԿԱՏԱՐՎՈՂ ՓՈՓՈԽՈՒԹՅՈՒՆՆԵՐԸ
H6: (հազ. դրամ)
A7: Գործառական դասիչը | D7: Ծրագրային դասիչը | F7: Բյուջետային ծախսերի գործառական դասակարգման բաժինների, խմբերի և դասերի, բյուջետային ծրագրերի միջոցառումների, բյուջետային հատկացումների գլխավոր կարգադրիչների անվանումները | G7: Ցուցանիշների փոփոխությունը (ավելացումները նշված են դրական նշանով, իսկ նվազեցումները՝ փակագծերում)
G8: Ինն ամիս | H8: Տարի
A9: Բաժին | B9: Խումբ | C9: Դաս | D9: Ծրագիր | E9: Միջոցառում
F10: ԸՆԴԱՄԵՆԸ ԾԱԽՍԵՐ | G10: =G12+G102 -> 0 | H10: =H12+H102 -> 0
F11: այդ թվում`
A12: 04 | F12: ՏՆՏԵՍԱԿԱՆ ՀԱՐԱԲԵՐՈՒԹՅՈՒՆՆԵՐ | G12: =G14 -> 256490 | H12: =H14 -> 288064
F13: այդ թվում`
B14: 02 | F14: Գյուղատնտեսություն, անտառային տնտեսություն, ձկնորսություն և որսորդություն | G14: =G16 -> 256490 | H14: =H16 -> 288064
F15: այդ թվում`
C16: 04 | F16: Ոռոգում | G16: =G18 -> 256490 | H16: =H18 -> 288064
F17: այդ թվում`
F18: ՀՀ տարածքային կառավարման և ենթակառուցվածքների նախարարություն | G18: =G20 -> 256490 | H18: =H20 -> 288064
F19: այդ թվում`
D20: 1004 | F20: Ոռոգման համակարգի առողջացում | G20: =G22+G31+G48+G57+G66+G75+G84+G93+G39 -> 256490 | H20: =H22+H31+H48+H57+H66+H75+H84+H93+H39 -> 288064
F21: այդ թվում`
E22: 11002 | F22: Ոռոգման ծառայություններ մատուցող ընկերություններին ֆինանսական աջակցության տրամադրում | G22: =G26 -> 1451419.3 | H22: =H26 -> 1451419.3
F23: այդ թվում` ըստ կատարողների
F24: ՀՀ տարածքային կառավարման և ենթակառուցվածքների նախարարության ջրային կոմիտե | G24: =G26 -> 1451419.3 | H24: =H26 -> 1451419.3
F25: այդ թվում` բյուջետային ծախսերի տնտեսագիտական դասակարգման հոդվածներ
F26: ԸՆԴԱՄԵՆԸ ԾԱԽՍԵՐ | G26: =G27 -> 1451419.3 | H26: =H27 -> 1451419.3
F27: ԸՆԹԱՑԻԿ ԾԱԽՍԵՐ | G27: =G28 -> 1451419.3 | H27: =H28 -> 1451419.3
F28: ՍՈՒԲՍԻԴԻԱՆԵՐ | G28: =G29 -> 1451419.3 | H28: =H29 -> 1451419.3
F29: Սուբսիդիաներ ոչ պետական կազմակերպություններին | G29: =G30 -> 1451419.3 | H29: =H30 -> 1451419.3
F30: - Սուբսիդիաներ ոչ պետական ոչ ֆինանսական կազմակերպություններին | G30: =1669809.4-218390.1 -> 1451419.3 | H30: =1669809.4-218390.1 -> 1451419.3
E31: 11011 | F31: Զարգացման ֆրանսիական գործակալության աջակցությամբ իրականացվող ոռոգման ոլորտի ֆինանսական կայունության և ոռոգման կառավարման կարողությունների բարելավման դրամաշնորհային ծրագրի խորհրդատվություն և կառավարում | G31: =G33 -> -18399.4 | H31: =H33 -> -24532.5
F32: այդ թվում` ըստ կատարողների
F33: ՀՀ տարածքային կառավարման և ենթակառուցվածքների նախարարության ջրային կոմիտե | G33: =G35 -> -18399.4 | H33: =H35 -> -24532.5
F34: այդ թվում` բյուջետային ծախսերի տնտեսագիտական դասակարգման հոդվածներ
F35: ԸՆԴԱՄԵՆԸ ԾԱԽՍԵՐ | G35: =G36 -> -18399.4 | H35: =H36 -> -24532.5
F36: ԸՆԹԱՑԻԿ ԾԱԽՍԵՐ | G36: =G37 -> -18399.4 | H36: =H37 -> -24532.5
F37: ԱՅԼ ԾԱԽՍԵՐ | G37: =G38 -> -18399.4 | H37: =H38 -> -24532.5
F38: Այլ ծախսեր | G38: -18399.4 | H38: -24532.5
E39: 11013 | F39: Փոքր և միջին ջրամբարների կառուցման խորհրդատվություն և կառավարում | G39: =G41 -> -26020 | H39: =H41 -> -26020
F40: այդ թվում` ըստ կատարողների
F41: ՀՀ տարածքային կառավարման և ենթակառուցվածքների նախարարության ջրային կոմիտե | G41: =G43 -> -26020 | H41: =H43 -> -26020
...

Sheet 4
A1: Հավելված N 4
A2: ՀՀ կառավարության 2022 թվականի
A3: -ի N -Ն որոշման
A4: ՀԱՅԱՍՏԱՆԻ ՀԱՆՐԱՊԵՏՈՒԹՅԱՆ ԿԱՌԱՎԱՐՈՒԹՅԱՆ 2021 ԹՎԱԿԱՆԻ ԴԵԿՏԵՄԲԵՐԻ 23-Ի N 2121-Ն ՈՐՈՇՄԱՆ N 5 ՀԱՎԵԼՎԱԾԻ N 2 ԱՂՅՈՒՍԱԿՈՒՄ ԿԱՏԱՐՎՈՂ ՓՈՓՈԽՈՒԹՅՈՒՆՆԵՐԸ
E5: (հազ. դրամ)
A6: Ծրագրային դասիչ | C6: Բյուջետային գլխավոր կարգադրիչների, ծրագրերի, միջոցառումների, միջոցառումները կատարող պետական մարմինների և ուղղությունների անվանումները | D6: Ցուցանիշների փոփոխությունը (ավելացումները նշված են դրական նշանով, իսկ նվազեցումները՝ փակագծերում)
D7: Ինն ամիս | E7: Տարի
A8: Ծրագիր | B8: Միջոցառում
C9: ԸՆԴԱՄԵՆԸ | D9: =D11 -> -1406999.9 | E9: =E11 -> -1400866.8
C10: այդ թվում՝
C11: ՀՀ ՏԱՐԱԾՔԱՅԻՆ ԿԱՌԱՎԱՐՄԱՆ ԵՎ ԵՆԹԱԿԱՌՈՒՑՎԱԾՔՆԵՐԻ ՆԱԽԱՐԱՐՈՒԹՅՈՒՆ | D11: =D13+D22+D25+D28+D36+D41+D48+D54 -> -1406999.9 | E11: =E13+E22+E25+E28+E36+E41+E48+E54 -> -1400866.8
C12: այդ թվում`
A13: 1004 | B13: 31002 | C13: Ոռոգման համակարգերի հիմնանորոգում | D13: =D15 -> -478849 | E13: =E15 -> -132336.1
C14: այդ թվում` ըստ կատարողների
C15: ՀՀ տարածքային կառավարման և ենթակառուցվածքների նախարարության ջրային կոմիտե | D15: =SUM(D17:D21) -> -478849 | E15: =SUM(E17:E21) -> -132336.1
C16: այդ թվում` ըստ ուղղությունների
C17: «Արմաշ» պ/կայանի IV գոտու հեռացնող ջրատարի վերականգնում | D17: -39511.2 | E17: -39511.2
C18: Սուրենավան III գոտու ջրագծի հիմնանորոգման աշխատանքներ | D18: -105997.3 | E18: -105997.3
C19: ՀՀ Արարատի մարզի Քաղցրաշեն պ/կայան 2 մղման խողովակի տեղադրում | D19: -89556 | E19: -6554.2
C20: ՀՀ Արագածոտնի մարզի Թալինի ջրանցքի ձախ ճյուղի հիմնանորոգման աշխատանքներ | D20: -195527.2 | E20: -1387.1
C21: ՀՀ Սյունիքի մարզի Որոտանի մայր ջրանցքի Հարթաշենի դյուկերի վթարված հատվածի վերականգնման աշխատանքներ | D21: -48257.3 | E21: 21113.7
A22: 1004 | B22: 31007 | C22: Ջրային տնտեսության հիդրոտեխնիկական սարքավորումների տեղադրման աշխատանքներ | D22: =D24 -> -129699 | E22: =E24 -> -92201
C23: այդ թվում` ըստ կատարողների
C24: ՀՀ տարածքային կառավարման և ենթակառուցվածքների նախարարության ջրային կոմիտե | D24: -129699 | E24: -92201
A25: 1004 | B25: 31009 | C25: Օրվա կարգավորման ջրավազանների կառուցում և վերակառուցում | D25: =D27 -> -99824.3 | E25: =E27 -> -99824.3
C26: այդ թվում` ըստ կատարողների
C27: ՀՀ տարածքային կառավարման և ենթակառուցվածքների նախարարության ջրային կոմիտե | D27: -99824.3 | E27: -99824.3
A28: 1004 | B28: 31011 | C28: Խորքային հորերի վերականգնում | D28: =D30 -> -12000 | E28: =E30 -> -49497.7
C29: այդ թվում` ըստ կատարողների
C30: ՀՀ տարածքային կառավարման և ենթակառուցվածքների նախարարության ջրային կոմիտե | D30: =SUM(D32:D35) -> -12000 | E30: =SUM(E32:E35) -> -49497.7
C31: այդ թվում` ըստ ուղղությունների
C32: Բամբակաշատ համայնքի գազի կալոնկա խոր-քային հորի վերականգնում | D32: -2600 | E32: -11081.3
C33: Մյասնիկյան խորքային հորի վերականգնում | D33: -4200 | E33: -17113.3
C34: Շենավան համայնքի Վարդանյանի բաժանա-րարի խորքային հորի վերականգնում | D34: -2600 | E34: -10510.5
C35: Գետաշեն համայնքի /Կոմսոմոլի այգի/ խորքային հորի վերականգնում | D35: -2600 | E35: -10792.6
A36: 1004 | B36: 31012 | C36: Գետերի և հեղեղատարների տեղամասերի ամրացման և մաքրման աշխատանքներ | D36: =D38 -> -23822.6 | E36: 0
C37: այդ թվում` ըստ կատարողների
C38: ՀՀ տարածքային կառավարման և ենթակառուցվածքների նախարարության ջրային կոմիտե | D38: =SUM(D40:D40) -> -23822.6 | E38: 0
C39: այդ թվում` ըստ ուղղությունների
C40: Տանձուտ և Փամբակ գետերի ափապաշտպան հենապատերի վերականգնում մոտ 600 մ երկարությամբ հատվածում | D40: -23822.6 | E40: 0
...

Sheet 5
I1: Հավելված 5
I2: ՀՀ կառավարության 2022 թվականի
I3: ______________ ի ___Ն որոշման
A5: «ՀԱՅԱՍՏԱՆԻ ՀԱՆՐԱՊԵՏՈՒԹՅԱՆ 2021 ԹՎԱԿԱՆԻ ՊԵՏԱԿԱՆ ԲՅՈՒՋԵԻ ՄԱՍԻՆ» ՀԱՅԱՍՏԱՆԻ ՀԱՆՐԱՊԵՏՈՒԹՅԱՆ ՕՐԵՆՔԻ N 1 ՀԱՎԵԼՎԱԾԻ N 5 ԱՂՅՈՒՍԱԿՈՒՄ ԵՎ ՀԱՅԱՍՏԱՆԻ ՀԱՆՐԱՊԵՏՈՒԹՅԱՆ ԿԱՌԱՎԱՐՈՒԹՅԱՆ 2021 ԹՎԱԿԱՆԻ ԴԵԿՏԵՄԲԵՐԻ 30-Ի N 2121-Ն ՈՐՈՇՄԱՆ N5 ՀԱՎԵԼՎԱԾԻ N 4 ԱՂՅՈՒՍԱԿՈՒՄ ԿԱՏԱՐՎՈՂ ՓՈՓՈԽՈՒԹՅՈՒՆՆԵՐԸ
I7: (հազ. դրամ)
A8: Ծրագրային դասիչը | C8: Բյուջետային հատկացումների գլխավոր կարգադրիչների, ծրագրերի, միջոցառումների և միջոցառումները կատարող պետական մարմինների անվանումները | D8: Ցուցանիշների փոփոխությունը ( նվազեցումները նշված են փակագծերում)
D9: Ինն ամիս | G9: Տարի
A10: ծրագիրը | B10: միջոցառումը | D10: ընդամենը | E10: այդ թվում՝ | G10: ընդամենը | H10: այդ թվում՝
E11: Դրամաշնորհային միջոցներ | F11: համաֆինան_x000D_ սավորում | H11: Դրամաշնորհային միջոցներ | I11: համաֆինան_x000D_ սավորում
C12: ԸՆԴԱՄԵՆԸ այդ թվում` | D12: =SUM(E12:F12) -> -18399.4 | E12: =E14+E13 -> 0 | F12: =F14+F13 -> -18399.4 | G12: =SUM(H12:I12) -> -24532.5 | H12: =H14+H13 -> 0 | I12: =I14+I13 -> -24532.5
C13: - ԸՆԹԱՑԻԿ ԾԱԽՍԵՐ | D13: =SUM(E13:F13) -> 0 | G13: =SUM(H13:I13) -> 0
C14: - ՈՉ ՖԻՆԱՆՍԱԿԱՆ ԱԿՏԻՎՆԵՐԻ ԳԾՈՎ ԾԱԽՍԵՐ | D14: =SUM(E14:F14) -> -18399.4 | E14: =E15 -> 0 | F14: =F15 -> -18399.4 | G14: =SUM(H14:I14) -> -24532.5 | H14: =H15 -> 0 | I14: =I15 -> -24532.5
C15: ՀՀ ՏԱՐԱԾՔԱՅԻՆ ԿԱՌԱՎԱՐՄԱՆ ԵՎ ԵՆԹԱԿԱՌՈՒՑՎԱԾՔՆԵՐԻ ՆԱԽԱՐԱՐՈՒԹՅՈՒՆ այդ թվում` | D15: =SUM(E15:F15) -> -18399.4 | E15: =E16 -> 0 | F15: =F16 -> -18399.4 | G15: =SUM(H15:I15) -> -24532.5 | H15: =H16 -> 0 | I15: =I16 -> -24532.5
A16: 1004 | C16: Ոռոգման համակարգի առողջացում | D16: =SUM(E16:F16) -> -18399.4 | E16: =E18 -> 0 | F16: =F18 -> -18399.4 | G16: =SUM(H16:I16) -> -24532.5 | H16: =H18 -> 0 | I16: =I18 -> -24532.5
C17: այդ թվում` | D17: =SUM(E17:F17) -> 0 | G17: =SUM(H17:I17) -> 0
B18: 11011 | C18: Զարգացման ֆրանսիական գործակալության աջակցությամբ իրականացվող ոռոգման ոլորտի ֆինանսական կայունության և ոռոգման կառավարման կարողությունների բարելավման դրամաշնորհային ծրագրի խորհրդատվություն և կառավարում | D18: =SUM(E18:F18) -> -18399.4 | E18: =E20 -> 0 | F18: =F20 -> -18399.4 | G18: =SUM(H18:I18) -> -24532.5 | H18: =H20 -> 0 | I18: =I20 -> -24532.5
C19: այդ թվում` ըստ կատարողների | D19: =SUM(E19:F19) -> 0 | G19: =SUM(H19:I19) -> 0
C20: ՀՀ տարածքային կառավարման և ենթակառուցվածքների նախարարության ջրային կոմիտե | D20: =SUM(E20:F20) -> -18399.4 | E20: =E22 -> 0 | F20: =F22 -> -18399.4 | G20: =SUM(H20:I20) -> -24532.5 | H20: =H22 -> 0 | I20: =I22 -> -24532.5
C21: այդ թվում` բյուջետային ծախսերի տնտեսագիտական դասակարգման հոդվածներ | D21: =SUM(E21:F21) -> 0 | G21: =SUM(H21:I21) -> 0
C22: ԸՆԴԱՄԵՆԸ ԾԱԽՍԵՐ | D22: =SUM(E22:F22) -> -18399.4 | E22: =E23 -> 0 | F22: =F23 -> -18399.4 | G22: =SUM(H22:I22) -> -24532.5 | H22: =H23 -> 0 | I22: =I23 -> -24532.5
C23: ԸՆԹԱՑԻԿ ԾԱԽՍԵՐ | D23: =SUM(E23:F23) -> -18399.4 | E23: =E24 -> 0 | F23: =F24 -> -18399.4 | G23: =SUM(H23:I23) -> -24532.5 | H23: =H24 -> 0 | I23: =I24 -> -24532.5
C24: ԱՅԼ ԾԱԽՍԵՐ | D24: =SUM(E24:F24) -> -18399.4 | E24: =E25 -> 0 | F24: =F25 -> -18399.4 | G24: =SUM(H24:I24) -> -24532.5 | H24: =H25 -> 0 | I24: =I25 -> -24532.5
C25: Այլ ծախսեր | D25: =SUM(E25:F25) -> -18399.4 | E25: 0 | F25: -18399.4 | G25: =SUM(H25:I25) -> -24532.5 | H25: 0 | I25: -24532.5

Sheet 6-1
D1: Հավելված N 6
D2: ՀՀ կառավարության 2022 թվականի
D3: -ի N -Ն որոշման
D4: Աղյուսակ 1
A5: ՀԱՅԱՍՏԱՆԻ ՀԱՆՐԱՊԵՏՈՒԹՅԱՆ ԿԱՌԱՎԱՐՈՒԹՅԱՆ 2021 ԹՎԱԿԱՆԻ ԴԵԿՏԵՄԲԵՐԻ 23-Ի N 2121-Ն ՈՐՈՇՄԱՆ N 9 ՀԱՎԵԼՎԱԾԻ N 9.7 ԱՂՅՈՒՍԱԿՈՒՄ ԿԱՏԱՐՎՈՂ ՓՈՓՈԽՈՒԹՅՈՒՆՆԵՐԸ
D7: Աղյուսակ 9.7
A8: ՀՀ տարածքային կառավարման և ենթակառուցվածքների նախարարություն
A9: Ծրագրի դասիչը | B9: Ծրագրի անվանումը
A10: 1004 | B10: Ոռոգման համակարգի առողջացում
A11: Ծրագրի միջոցառումները
A14: Ծրագրի դասիչը` | B14: 1004 | C14: Ցուցանիշների փոփոխությունը (ավելացումները նշված են դրական նշանով)
A16: Միջոցառման դասիչը` | B16: 11002 | C16: Ինն ամիս | D16: Տարի
A17: Միջոցառման անվանումը` | B17: Ոռոգման ծառայություններ մատուցող ընկերություններին ֆինանսական աջակցության տրամադրում
A18: Նկարագրությունը` | B18: Ոռոգման ոլորտի սուբսիդավորում ՋՕԸ-ների համար սահմանված ոռոգման ջրի սակագնի և նվազագույն շահավետ գնի տարբերության չափով
A19: Միջոցառման տեսակը` | B19: Ծառայությունների մատուցում
A20: Միջոցառումն իրականացնողի անվանումը | B20: Ջրօգտագործողների ընկերություններ
A21: Արդյունքի չափորոշիչներ
A22: Միջոցառման վրա կատարվող ծախսը (հազար դրամ) | C22: ='1'!D18 -> 1451419.3 | D22: ='1'!E18 -> 1451419.3
A24: Ծրագրի դասիչը` | B24: 1004 | C24: Ցուցանիշների փոփոխությունը (նվազեցումները նշված են փակագծերում)
A26: Միջոցառման դասիչը` | B26: 11011 | C26: Ինն ամիս | D26: Տարի
A27: Միջոցառման անվանումը` | B27: Զարգացման ֆրանսիական գործակալության աջակցությամբ իրականացվող ոռոգման ոլորտի ֆինանսական կայունության և ոռոգման կառավարման կարողությունների բարելավման դրամաշնորհային ծրագրի խորհրդատվություն և կառավարում
A28: Նկարագրությունը` | B28: Զարգացման ֆրանսիական գործակալության աջակցությամբ իրականացվող ոռոգման ոլորտի ֆինանսական կայունության և ոռոգման կառավարման կարողությունն»րի բար»լավման ծրագրի համակարգում և ղ»կավարում
A29: Միջոցառման տեսակը` | B29: Ծառայությունների մատուցում
A30: Միջոցառումն իրականացնողի անվանումը | B30: Մասնագիտացված միավոր
A31: Արդյունքի չափորոշիչներ
A32: Կառավարվող/վերահսկվող խորհրդատվական պայմանագրերի քանակը, հատ | C32: -1 | D32: -1
A33: Միջոցառման վրա կատարվող ծախսը (հազար դրամ) | C33: ='1'!D24 -> -18399.4 | D33: ='1'!E24 -> -24532.5
A35: Ծրագրի դասիչը` | B35: 1004 | C35: Ցուցանիշների փոփոխությունը (նվազեցումները նշված են փակագծերում)
A37: Միջոցառման դասիչը` | B37: 11013 | C37: Ինն ամիս | D37: Տարի
A38: Միջոցառման անվանումը` | B38: Փոքր և միջին ջրամբարների կառուցման խորհրդատվություն և կառավարում
A39: Նկարագրությունը` | B39: Փոքր և միջին ջրամբարների կառուցման համակարգում և ղեկավարում
A40: Միջոցառման տեսակը` | B40: Ծառայությունների մատուցում
A41: Միջոցառումն իրականացնողի անվանումը | B41: ՀՀ ՏԿԵՆ ջրային կոմիտե
A42: Արդյունքի չափորոշիչներ
A43: Միջոցառման վրա կատարվող ծախսը (հազար դրամ) | C43: ='1'!D30 -> -26020 | D43: ='1'!E30 -> -26020
A46: Ծրագրի դասիչը` | B46: 1004 | C46: Ցուցանիշների փոփոխությունը (նվազեցումները նշված են փակագծերում)
A48: Միջոցառման դասիչը` | B48: 31002 | C48: Ինն ամիս | D48: Տարի
A49: Միջոցառման անվանումը` | B49: Ոռոգման համակարգերի հիմնանորոգում
A50: Նկարագրությունը` | B50: Ոռոգման համակարգերի հիմնանորոգում
A51: Միջոցառման տեսակը` | B51: Պետական մարմինների կողմից օգտագործվող ոչ ֆինանսական ակտիվների հետ գործառնություններ
...

Sheet 6-2
C1: Աղյուսակ 2
A2: ՀԱՅԱՍՏԱՆԻ ՀԱՆՐԱՊԵՏՈՒԹՅԱՆ ԿԱՌԱՎԱՐՈՒԹՅԱՆ 2021 ԹՎԱԿԱՆԻ ԴԵԿՏԵՄԲԵՐԻ 23-Ի N 2121-Ն ՈՐՈՇՄԱՆ N 9.1 ՀԱՎԵԼՎԱԾԻ N 9.1.26 ԱՂՅՈՒՍԱԿՈՒՄ ԿԱՏԱՐՎՈՂ ՓՈՓՈԽՈՒԹՅՈՒՆՆԵՐԸ
D4: Աղյուսակ 9.1.26
A5: ՀՀ տարածքային կառավարման և ենթակառուցվածքների նախարարության ջրային կոմիտե
A6: Ծրագրի դասիչը | B6: Ծրագրի անվանումը
A7: 1004 | B7: Ոռոգման համակարգի առողջացում
A8: Ծրագրի միջոցառումները
A11: Ծրագրի դասիչը` | B11: 1004 | C11: Ցուցանիշների փոփոխությունը (ավելացումները նշված են դրական նշանով)
A13: Միջոցառման դասիչը` | B13: 11002 | C13: Ինն ամիս | D13: Տարի
A14: Միջոցառման անվանումը` | B14: Ոռոգման ծառայություններ մատուցող ընկերություններին ֆինանսական աջակցության տրամադրում
A15: Նկարագրությունը` | B15: Ոռոգման ոլորտի սուբսիդավորում ՋՕԸ-ների համար սահմանված ոռոգման ջրի սակագնի և նվազագույն շահավետ գնի տարբերության չափով
A16: Միջոցառման տեսակը` | B16: Ծառայությունների մատուցում
A17: Միջոցառումն իրականացնողի անվանումը | B17: Ջրօգտագործողների ընկերություններ
A18: Արդյունքի չափորոշիչներ
A19: Միջոցառման վրա կատարվող ծախսը (հազար դրամ) | C19: ='6-1'!C22 -> 1451419.3 | D19: ='6-1'!D22 -> 1451419.3
A21: Ծրագրի դասիչը` | B21: 1004 | C21: Ցուցանիշների փոփոխությունը (նվազեցումները նշված են փակագծերում)
A23: Միջոցառման դասիչը` | B23: 11011 | C23: Ինն ամիս | D23: Տարի
A24: Միջոցառման անվանումը` | B24: Զարգացման ֆրանսիական գործակալության աջակցությամբ իրականացվող ոռոգման ոլորտի ֆինանսական կայունության և ոռոգման կառավարման կարողությունների բարելավման դրամաշնորհային ծրագրի խորհրդատվություն և կառավարում
A25: Նկարագրությունը` | B25: Զարգացման ֆրանսիական գործակալության աջակցությամբ իրականացվող ոռոգման ոլորտի ֆինանսական կայունության և ոռոգման կառավարման կարողությունն»րի բար»լավման ծրագրի համակարգում և ղ»կավարում
A26: Միջոցառման տեսակը` | B26: Ծառայությունների մատուցում
A27: Միջոցառումն իրականացնողի անվանումը | B27: Մասնագիտացված միավոր
A28: Արդյունքի չափորոշիչներ
A29: Կառավարվող/վերահսկվող խորհրդատվական պայմանագրերի քանակը, հատ | C29: -1 | D29: -1
A30: Միջոցառման վրա կատարվող ծախսը (հազար դրամ) | C30: ='6-1'!C33 -> -18399.4 | D30: ='6-1'!D33 -> -24532.5
A32: Ծրագրի դասիչը` | B32: 1004 | C32: Ցուցանիշների փոփոխությունը (նվազեցումները նշված են փակագծերում)
A34: Միջոցառման դասիչը` | B34: 11013 | C34: Ինն ամիս | D34: Տարի
A35: Միջոցառման անվանումը` | B35: Փոքր և միջին ջրամբարների կառուցման խորհրդատվություն և կառավարում
A36: Նկարագրությունը` | B36: Փոքր և միջին ջրամբարների կառուցման համակարգում և ղեկավարում
A37: Միջոցառման տեսակը` | B37: Ծառայությունների մատուցում
A38: Միջոցառումն իրականացնողի անվանումը | B38: ՀՀ ՏԿԵՆ ջրային կոմիտե
A39: Արդյունքի չափորոշիչներ
A40: Միջոցառման վրա կատարվող ծախսը (հազար դրամ) | C40: ='6-1'!C43 -> -26020 | D40: ='6-1'!D43 -> -26020
A43: Ծրագրի դասիչը` | B43: 1004 | C43: Ցուցանիշների փոփոխությունը (նվազեցումները նշված են փակագծերում)
A45: Միջոցառման դասիչը` | B45: 31002 | C45: Ինն ամիս | D45: Տարի
A46: Միջոցառման անվանումը` | B46: Ոռոգման համակարգերի հիմնանորոգում
A47: Նկարագրությունը` | B47: Ոռոգման համակարգերի հիմնանորոգում
A48: Միջոցառման տեսակը` | B48: Պետական մարմինների կողմից օգտագործվող ոչ ֆինանսական ակտիվների հետ գործառնություններ
A49: Ակտիվն օգտագործող կազմակերպության(ների) անվանում(ները)՛ | B49: ՀՀ ՏԿԵՆ ջրային կոմիտե
A50: Արդյունքի չափորոշիչներ
A51: Միջոցառման վրա կատարվող ծախսը (հազար դրամ) | C51: ='6-1'!C54 -> -478849 | D51: ='6-1'!D54 -> -132336.1
...

Sheet 7
A2: Հավելված N 7
A3: ՀՀ կառավարության 2022 թվականի
A4: -ի N -Ն որոշման
A6: ՀՀ ԿԱՌԱՎԱՐՈՒԹՅԱՆ 2021 ԹՎԱԿԱՆԻ ԴԵԿՏԵՄԲԵՐԻ 23-Ի N 2121-Ն ՈՐՈՇՄԱՆ N 10 ՀԱՎԵԼՎԱԾՈՒՄ ԿԱՏԱՐՎՈՂ ՓՈՓՈԽՈՒԹՅՈՒՆԸ
A8: Կոդը | B8: Անվանումը | C8: Գնման ձևը | D8: Չափի միավորը | E8: Ցուցանիշների փոփոխությունը (ավելացումները նշված են դրական նշանով, իսկ նվազեցումները՝ փակագծերում)
E9: Միավորի գինը | F9: քանակը | G9: գումարը (հազ. դրամ)
A10: ՀՀ տարածքային կառավարման և ենթակառուցվածքների նախարարության ջրային կոմիտե | G10: =G12+G32+G40+G43+G55+G65+G74+G26 -> -1400866.8
A11: Բաժին N 04 | B11: Խումբ N 02 | C11: Դաս N 04 | D11: Ոռոգում
A12: 1004 31002 | B12: Ոռոգման համակարգերի հիմնանորոգում | G12: =G13+G18 -> -153449.8
B13: ՄԱՍ II ԱՇԽԱՏԱՆՔՆԵՐ | G13: =SUM(G14:G17) -> -147664.2
A14: 45231132/1 | B14: ջրատարների վերականգնման շինարարական աշխատանքներ | C14: ԲՄ | D14: դրամ | G14: -38585.2
A15: 45231132/2 | B15: ջրատարների վերականգնման շինարարական աշխատանքներ | C15: ԲՄ | D15: դրամ | G15: -103715.6
A16: 45231132/3 | B16: ջրատարների վերականգնման շինարարական աշխատանքներ | C16: ԲՄ | D16: դրամ | G16: -5361.3
A17: 45231132/5 | B17: ջրատարների վերականգնման շինարարական աշխատանքներ | C17: ԲՄ | D17: դրամ | G17: -2.1
B18: ՄԱՍ III ԾԱՌԱՅՈՒԹՅՈՒՆՆԵՐ | G18: =SUM(G19:G24) -> -5785.6
A19: 71351540/1 | B19: տեխնիկական հսկողության ծառայություններ | C19: ԳՀ | D19: դրամ | G19: -771.7
A20: 71351540/2 | B20: տեխնիկական հսկողության ծառայություններ | C20: ԳՀ | D20: դրամ | G20: -1866.9
A21: 71351540/3 | B21: տեխնիկական հսկողության ծառայություններ | C21: ԳՀ | D21: դրամ | G21: -1192.9
A22: 71351540/5 | B22: տեխնիկական հսկողության ծառայություններ | C22: ԳՀ | D22: դրամ | G22: -1385
A23: 98111140/1 | B23: հեղինակային հսկողության ծառայություններ | C23: ՄԱ | D23: դրամ | G23: -154.3
A24: 98111140/2 | B24: հեղինակային հսկողության ծառայություններ | C24: ՄԱ | D24: դրամ | G24: -414.8
A25: Բաժին N 04 | B25: Խումբ N 02 | C25: Դաս N 04 | D25: Ոռոգում
A26: 1004 31002 | B26: Ոռոգման համակարգերի հիմնանորոգում | G26: =G27+G29 -> 21113.7
B27: ՄԱՍ II ԱՇԽԱՏԱՆՔՆԵՐ | G27: =G28 -> 20612.6
A28: 45231132/8 | B28: ջրատարների վերականգնման շինարարական աշխատանքներ | C28: ՀԲՄ | D28: դրամ | G28: 20612.6
B29: ՄԱՍ III ԾԱՌԱՅՈՒԹՅՈՒՆՆԵՐ | G29: =G30+G31 -> 501.1
A30: 71351540/6 | B30: տեխնիկական հսկողության ծառայություններ | C30: ԳՀ | D30: դրամ | G30: 417.6
A31: 98111140/6 | B31: հեղինակային հսկողության ծառայություններ | C31: ՄԱ | D31: դրամ | G31: 83.5
A32: 1004 31007 | B32: Ջրային տնտեսության հիդրոտեխնիկական սարքավորումների տեղադրման | G32: =G33+G38 -> -92201
B33: ՄԱՍ II ԱՇԽԱՏԱՆՔՆԵՐ | G33: =G34+G35+G36+G37 -> -89789.1
A34: 45241152/521 | B34: շինարարական աշխատանքներ հիդրոմեխանիկական կառույցների համար | C34: ԲՄ | D34: դրամ | G34: -18783.2
A35: 45241152/524 | B35: շինարարական աշխատանքներ հիդրոմեխանիկական կառույցների համար | C35: ԲՄ | D35: դրամ | G35: -10
A36: 45241152/525 | B36: շինարարական աշխատանքներ հիդրոմեխանիկական կառույցների համար | C36: ԲՄ | D36: դրամ | G36: -70984.7
A37: 45241152/526 | B37: շինարարական աշխատանքներ հիդրոմեխանիկական կառույցների համար | C37: ԲՄ | D37: դրամ | G37: -11.2
B38: ՄԱՍ III ԾԱՌԱՅՈՒԹՅՈՒՆՆԵՐ | G38: =SUM(G39) -> -2411.9
A39: 71351540/1 | B39: տեխնիկական հսկողության ծառայություններ | C39: ԳՀ | D39: դրամ | G39: -2411.9
A40: 1004 31009 | B40: Օրվա կարգավորման ջրավազանների կառուցում և վերակառուցում | G40: =G41 -> -99824.3
B41: ՄԱՍ III ԾԱՌԱՅՈՒԹՅՈՒՆՆԵՐ | G41: =G42 -> -99824.3
A42: 71241200/1 | B42: նախագծերի պատրաստում, ծախսերի գնահատում | C42: ԵՄ | D42: դրամ | G42: -99824.3
A43: 1004 31011 | B43: Խորքային հորերի վերականգնում | G43: =G44+G49 -> -49497.71
...
