Workbook
Name AgencyCode: #REF!
Name AgencyCode: #REF!
Name AgencyCode: #REF!
Name AgencyCode: #REF!
Name AgencyCode: #REF!
Name AgencyCode: #REF!
Name AgencyCode: #REF!
Name AgencyCode: #REF!
Name AgencyName: #REF!
Name AgencyName: #REF!
Name AgencyName: #REF!
Name AgencyName: #REF!
Name AgencyName: #REF!
Name AgencyName: #REF!
Name åû: #REF!
Name åû: #REF!
Name åû: #REF!
Name davit: #REF!
Name davit: #REF!
Name davit: #REF!
Name Functional1: #REF!
Name Functional1: #REF!
Name Functional1: #REF!
Name Functional1: #REF!
Name Functional1: #REF!
Name Functional1: #REF!
Name ggg: #REF!
Name ggg: #REF!
Name ggg: #REF!
Name mas: #REF!
Name mas: #REF!
Name mas: #REF!
Name mass: #REF!
Name mass: #REF!
Name mass: #REF!
Name PANature: #REF!
Name PANature: #REF!
Name PANature: #REF!
Name PANature: #REF!
Name PANature: #REF!
Name PANature: #REF!
Name PAType: #REF!
Name PAType: #REF!
Name PAType: #REF!
Name PAType: #REF!
Name PAType: #REF!
Name PAType: #REF!
Name Performance2: #REF!
Name Performance2: #REF!
Name Performance2: #REF!
Name Performance2: #REF!
Name Performance2: #REF!
Name Performance2: #REF!
Name PerformanceType: #REF!
Name PerformanceType: #REF!
Name PerformanceType: #REF!
Name PerformanceType: #REF!
Name PerformanceType: #REF!
Name PerformanceType: #REF!
Name x: #REF!

Sheet 1
F1: Հավելված N1
F2: ՀՀ կառավարության 2022 թվականի
F3: ______________ ի ___Ն որոշման
B5: «ՀԱՅԱUՏԱՆԻ ՀԱՆՐԱՊԵՏՈՒԹՅԱՆ 2022 ԹՎԱԿԱՆԻ ՊԵՏԱԿԱՆ ԲՅՈՒՋԵԻ ՄԱUԻՆ» OՐԵՆՔԻ N 1 ՀԱՎԵԼՎԱԾԻ N 2 ԱՂՅՈՒՍԱԿՈՒՄ ԿԱՏԱՐՎՈՂ ՎԵՐԱԲԱՇԽՈՒՄԸ ԵՎ ՀԱՅԱՍՏԱՆԻ ՀԱՆՐԱՊԵՏՈՒԹՅԱՆ ԿԱՌԱՎԱՐՈՒԹՅԱՆ 2021 ԹՎԱԿԱՆԻ ԴԵԿՏԵՄԲԵՐԻ 23-Ի N 2121-Ն ՈՐՈՇՄԱՆ N 5 ՀԱՎԵԼՎԱԾԻ N 1 ԱՂՅՈՒՍԱԿՈՒՄ ԿԱՏԱՐՎՈՂ ՓՈՓՈԽՈՒԹՅՈՒՆՆԵՐԸ ԵՎ ԼՐԱՑՈՒՄՆԵՐԸ
F6: հազ. դրամ
B7: Ծրագրային դասիչը | D7: Բյուջետային հատկացումների գլխավոր կարգադրիչների, ծրագրերի և միջոցառումների անվանումները | E7: Ցուցանիշների փոփոխությունը (ավելացումները նշված են դրական նշանով, իսկ նվազեցումները` փակագծերում)
B8: Ծրագիր | C8: Միջոցառում | E8: Ինն ամիս | F8: Տարի
B9: 1192 | D9: ԸՆԴԱՄԵՆԸ | E9: 0 | F9: =+F11+F139+F125 -> 0
D10: այդ թվում
C11: ՀՀ տարածքային կառավարման և ենթակառուցվածքների նախարարություն | E11: =+E13+E26+E44+E75+E94 -> -1370551.7 | F11: =+F13+F26+F44+F75+F94 -> 3633871.7
B12: 1049 | D12: Ծրագրի անվանումը`
D13: Ճանապարհային ցանցի բարելավում | E13: =+E20 -> 0 | F13: =+F20 -> 5445225.8
D14: Ծրագրի նպատակը`
D15: Ճանապարհային ցանցի բարելավում և անվտանգ երթևեկության ապահովում
D16: Վերջնական արդյունքի նկարագրությունը`
D17: Ճանապարհների ծածկի որակի և փոխադրումների արդյունավետության բարելավում, ճանապարհների վիճակով պայմանավորված պատահարների նվազում
C18: Ծրագրի միջոցառումներ
C19: 21001 | D19: Միջոցառման անվանումը`
D20: Պետական նշանակության ավտոճանապարհների հիմնանորոգում | E20: =+'3'!H24 -> 0 | F20: =+'3'!I24 -> 5445225.8
D21: Միջոցառման նկարագրությունը`
D22: Միջպետական, հանրապետական և մարզային նշանակության ավտոճոնապարհների քայքայված ծածկի վերանորոգում, մաշված ծածկի փոխարինում
D23: Միջոցառման տեսակը
D24: Հանրության կողմից անմիջականորեն օգտագործվող ակտիվների հետ կապված միջոցառումներ
B25: 1157 | D25: Ծրագրի անվանումը`
D26: Քաղաքային զարգացում | E26: =+E33+E39 -> -84075.8 | F26: =+F33+F39 -> -105310
D27: Ծրագրի նպատակը`
D28: Քաղաքային ենթակառուցվածքների զարգացում
D29: Վերջնական արդյունքի նկարագրությունը`
D30: Քաղաքային ենթակառուցվածքների արդիականացում և բարելավում
D31: Ծրագրի միջոցառումներ
C32: =+'3'!F42 -> 12016 | D32: Միջոցառման անվանումը`
D33: Վերակառուցման և զարգացման եվրոպական բանկի աջակցությամբ իրականացվող Գյումրու քաղաքային ճանապարհների տեխնիկական համագործակցության դրամաշնորհային ծրագիր | E33: =+'3'!H42 -> -40075.8 | F33: =+'3'!I42 -> -51075.8
D34: Միջոցառման նկարագրությունը`
D35: Գյումրու ճանապարհների վերակառուցմանը և փողոցային լուսավորության արդիականացմանը խորհրդատվական աջակցություն
D36: Միջոցառման տեսակը
D37: Տրանսֆերտների տրամադրում
C38: =+'3'!F50 -> 12018 | D38: Միջոցառման անվանումը`
D39: Վերակառուցման և զարգացման եվրոպական բանկի աջակցությամբ իրականացվող Գյումրու քաղաքային ճանապարհների դրամաշնորհային ծրագիր (Տրանշ Ա, Բ, Գ) | E39: =+'3'!H50 -> -44000 | F39: =+'3'!I50 -> -54234.2
D40: Միջոցառման նկարագրությունը`
D41: Գյումրու փողոցային լուսավորության արդիականացում՛ փողոցային լուսավորության այլ ավտոմատ կառավարման համակարգի տեղադրում
D42: Միջոցառման տեսակը
D43: Տրանսֆերտների տրամադրում
B44: 1004 | D44: Ծրագրի անվանումը` | E44: =+E51+E57+E63+E69 -> -945063 | F44: =+F51+F57+F63+F69 -> -1214383.3
D45: Ոռոգման համակարգի առողջացում
D46: Ծրագրի նպատակը`
D47: Ոռոգման ծառայությունների հասանելիության և մատչելիության ապահովում
D48: Վերջնական արդյունքի նկարագրությունը`
D49: Ոռոգման ջրի մատակարարման արդյունավետության և հասանելիության բարելավում, կորուստների կրճատում
D50: Ծրագրի միջոցառումներ
C51: 11009 | D51: Միջոցառման անվանումը` | E51: =+'5'!E56 -> -5576.9 | F51: =+'5'!H56 -> -5576.9
D52: Գերմանիայի զարգացման վարկերի բանկի աջակցությամբ իրականացվող Ախուրյան գետի ջրային ռեսուրսների ինտեգրացված կառավարման դրամաշնորհային ծրագիր
D53: Միջոցառման նկարագրությունը`
D54: Գերմանիայի զարգացման վարկերի բանկի աջակցությամբ իրականացվող Ախուրյան գետի ջրային ռեսուրսների ինտեգրացված կառավարման դրամաշնորհային ծրագրի համակարգում և ղեկավարում
D55: Միջոցառման տեսակը
D56: Ծառայությունների մատուցում
C57: 12002 | D57: Միջոցառման անվանումը` | E57: =+'4'!E26 -> -323792.5 | F57: =+'4'!H26 -> -323792.5
D58: Գերմանիայի զարգացման բանկի աջակցությամբ իրականացվող Ախուրյան գետի ջրային ռեսուրսների ինտեգրված կառավարման փուլ 1 ծրագրով Ջրաձոր գյուղի վերաբնակեցման համար ենթակառուցվածքների և բնակելի տների կառուցում
D59: Միջոցառման նկարագրությունը`
D60: Գերմանիայի զարգացման բանկի աջակցությամբ իրականացվող Ախուրյան գետի ջրային ռեսուրսների ինտեգրված կառավարման փուլ 1 ծրագիր
D61: Միջոցառման տեսակը
D62: Տրանսֆերտների տրամադրում
C63: 31004 | D63: Միջոցառման անվանումը` | E63: =+'4'!E17 -> -614554.1 | F63: =+'4'!H17 -> -883874.4
D64: Գերմանիայի զարգացման վարկերի բանկի աջակցությամբ իրականացվող Ախուրյան գետի ջրային ռեսուրսների ինտեգրված կառավարման ծրագրի շրջանակներում ջրային տնտեսության ենթակառուցվածքների հիմնանորոգում
D65: Միջոցառման նկարագրությունը`
D66: Գերմանիայի զարգացման վարկերի բանկի աջակցությամբ իրականացվող Ախուրյան գետի ջրային ռեսուրսների ինտեգրված կառավարման ծրագիր
D67: Միջոցառման տեսակը
D68: Պետական մարմինների կողմից օգտագործվող ոչ ֆինանսական ակտիվների հետ գործառնություններ
C69: =+'5'!C64 -> 11012 | D69: Միջոցառման անվանումը` | E69: =+'5'!E64 -> -1139.5 | F69: =+'5'!H64 -> -1139.5
D70: Ֆրանսիայի Հանրապետության կառավարության աջակցությամբ իրականացվող՛ Վեդու ջրամբարի կառուցման դրամաշնորհային ծրագիր
D71: Միջոցառման նկարագրությունը`
D72: Ֆրանսիայի Հանրապետության կառավարության աջակցությամբ իրականացվող՛ Վեդու ջրամբարի կառուցման դրամաշնորհային ծրագրի համակարգում և ղեկավարում
D73: Միջոցառման տեսակը
D74: Ծառայությունների մատուցում
B75: 1040 | D75: Ծրագրի անվանումը` | E75: =+E82+E88 -> -68694.5 | F75: =+F82+F88 -> -143497.9
D76: Կոշտ թափոնների կառավարում
D77: Ծրագրի նպատակը`
D78: Կենցաղային թափոնների արդյունավետ կառավարում սոցիալական և բնապահպանական խնդիրների լուծում
D79: Վերջնական արդյունքի նկարագրությունը`
D80: Կենցաղային թափոնների արդյունավետ կառավարում
D81: Ծրագրի միջոցառումներ
C82: 12002 | D82: Միջոցառման անվանումը` | E82: =+'5'!E37 -> -7632.4 | F82: =+'5'!H37 -> -22000
D83: Վերակառուցման և զարգացման եվրոպական բանկի աջակցությամբ իրականացվող «Կոտայքի և Գեղարքունիքի մարզի կոշտ թափոնների կառավարման խորհրդատվության համար» դրամաշնորհային ծրագիր
D84: Միջոցառման նկարագրությունը`
D85: Կոշտ թափոննրի կառավարման համակարգի բարելավում և նոր աղբավայրի ստեղծում
D86: Միջոցառման տեսակը
D87: Տրանսֆերտների տրամադրում
C88: 32004 | D88: Միջոցառման անվանումը` | E88: =+'5'!E45 -> -61062.1 | F88: =+'5'!H45 -> -121497.9
D89: Վերակառուցման և զարգացման եվրոպական բանկի աջակցությամբ իրականացվող «Կոտայքի և Գեղարքունիքի մարզի կոշտ թափոնների կառավարման» դրամաշնորհային ծրագիր
D90: Միջոցառման նկարագրությունը`
D91: Կոշտ թափոնների կառավարման համակարգի բարելավում և նոր աղբավայրի ստեղծում
D92: Միջոցառման տեսակը
D93: Այլ պետական կազմակերպությունների կողմից օգտագործվող ոչ ֆինանսական ակտիվների հետ գործառնություններ
B94: 1072 | D94: Ծրագրի անվանումը` | E94: =+E101+E107+E113+E119 -> -272718.4 | F94: =+F101+F107+F113+F119 -> -348162.9
D95: Ջրամատակարարաման և ջրահեռացման բարելավում
D96: Ծրագրի նպատակը`
D97: Ջրամատակարարման ծառայությունների հասանելիության և մատչելիության ապահովում
D98: Վերջնական արդյունքի նկարագրությունը`
D99: Խմելու ջրի մատակարարման և ջրահեռացման համակարգի բարելավում, կորուստների կրճատում
D100: Ծրագրի միջոցառումներ
C101: 11004 | D101: Միջոցառման անվանումը` | E101: =+'5'!E74 -> -1145.8 | F101: =+'5'!H76 -> -1145.8
...

Sheet 2
I1: Հավելված N2
I2: ՀՀ կառավարության 2022 թվականի
I3: ______________ ի ___Ն որոշման
B4: «ՀԱՅԱՍՏԱՆԻ ՀԱՆՐԱՊԵՏՈՒԹՅԱՆ 2022 ԹՎԱԿԱՆԻ ՊԵՏԱԿԱՆ ԲՅՈՒՋԵԻ ՄԱՍԻՆ» ՕՐԵՆՔԻ N 1 ՀԱՎԵԼՎԱԾԻ N 3 ԱՂՅՈՒՍԱԿՈՒՄ ԿԱՏԱՐՎՈՂ ՓՈՓՈԽՈՒԹՅՈՒՆՆԵՐԸ ԵՎ ԼՐԱՑՈՒՄՆԵՐԸ
H5: հազ. դրամ
B6: Ծրագրային դասիչ | D6: Բյուջետային գլխավոր կարգադրիչների, ծրագրերի, միջոցառումների և ուղղությունների անվանումները | E6: Ցուցանիշների փոփոխությունը (ավելացումները նշված են դրական նշանով)
E7: Ընդամենը, | F7: այդ թվում՝
B8: Ծրագիր | C8: Միջոցառում | F8: Կառուցման աշխատանքներ | G8: Վերակառուցման, վերանորոգման և վերականգնման աշխատանքներ | H8: Նախագծահե- տազոտական, գեոդեզիա- քարտեզագրա- կան աշխա- տանքներ | I8: Ոչ ֆինանսական այլ ակտիվների ձեռքբերում
D9: ԸՆԴԱՄԵՆԸ | E9: =+F9+G9+H9+I9 -> 5445225.8 | F9: 0 | G9: =+G11 -> 5445225.8 | H9: 0 | I9: 0
D10: այդ թվում՝
D11: ՀՀ ՏԱՐԱԾՔԱՅԻՆ ԿԱՌԱՎԱՐՄԱՆ ԵՎ ԵՆԹԱԿԱՌՈՒՑՎԱԾՔՆԵՐԻ ՆԱԽԱՐԱՐՈՒԹՅՈՒՆ | E11: =+F11+G11+H11+I11 -> 5445225.8 | F11: 0 | G11: =+G13 -> 5445225.8 | H11: 0 | I11: 0
D12: այդ թվում`
B13: 1049 | C13: 21001 | D13: Պետական նշանակության ավտոճանապարհների հիմնանորոգում | E13: =+F13+G13+H13+I13 -> 5445225.8 | F13: =+F15+F19 -> 0 | G13: =+G15+G19 -> 5445225.8 | H13: =+H15+H19 -> 0 | I13: =+I15+I19 -> 0
D14: այդ թվում`
C15: =+'6'!C17 -> 3 | D15: =+'6'!D17 -> Մարզային նշանակության ավտոճանապարհներ, այդ թվում | E15: =+F15+G15+H15+I15 -> 5551808.2 | F15: =+F16+F17+F18 -> 0 | G15: =+G16+G17+G18 -> 5551808.2 | H15: =+H16+H17+H18 -> 0 | I15: =+I16+I17+I18 -> 0
D16: =+'6'!D18 -> /Մ-12/-Կոռնիձոր-ԱՀ սահման ավտոճանապարհի կմ0+000-կմ 4+000 հատվածի վերակառուցում | E16: =+F16+G16+H16+I16 -> 360519.3 | F16: 0 | G16: 360519.3 | H16: 0 | I16: 0
D17: =+'6'!D19 -> /Մ-12/-Կոռնիձոր-ԱՀ սահման ավտոճանապարհի կմ4+000-կմ 9+000 հատվածի վերակառուցում | E17: =+F17+G17+H17+I17 -> 2364112.7 | F17: 0 | G17: 2364112.7 | H17: 0 | I17: 0
D18: =+'6'!D20 -> /Մ-12/-Կոռնիձոր-ԱՀ սահման ավտոճանապարհի կմ9+000- կմ11+779.75 հատվածի վերակառուցում | E18: =+F18+G18+H18+I18 -> 2827176.2 | F18: 0 | G18: 2827176.2 | H18: 0 | I18: 0
B19: 1049 | C19: 21001 | D19: Պետական նշանակության ավտոճանապարհների հիմնանորոգում | E19: =+F19+G19+H19+I19 -> -106582.4 | F19: 0 | G19: =+'3'!I32 -> -106582.4 | H19: =+H21 -> 0 | I19: =+I21 -> 0

Sheet 3
B1: Հավելված N3
B2: ՀՀ կառավարության 2022 թվականի
B3: ______________ ի ___Ն որոշման
B5: ՀԱՅԱՍՏԱՆԻ ՀԱՆՐԱՊԵՏՈՒԹՅԱՆ ԿԱՌԱՎԱՐՈՒԹՅԱՆ 2021 ԹՎԱԿԱՆԻ ԴԵԿՏԵՄԲԵՐԻ 23-Ի N 2121-Ն ՈՐՈՇՄԱՆ N 3 ԵՎ N 4 ՀԱՎԵԼՎԱԾՆԵՐՈՒՄ ԿԱՏԱՐՎՈՂ ՓՈՓՈԽՈՒԹՅՈՒՆՆԵՐԸ ԵՎ ԼՐԱՑՈՒՄՆԵՐԸ
H7: հազ. դրամ
B8: Գործառական դասիչը | E8: Ծրագրային դասիչը | G8: Բյուջետային ծախսերի գործառական դասակարգման բաժինների, խմբերի և դասերի, բյուջետային հատկացումների գլխավոր կարգադրիչների, ծրագրերի, միջոցառումների և միջոցառումները կատարող պետական մարմինների անվանումները | H8: Ցուցանիշների փոփոխությունը (ավելացումները նշված են դրական նշանով, իսկ նվազեցումները` փակագծերում)
B9: Բաժին | C9: Խումբ | D9: Դաս | E9: Ծրագիր | F9: Միջոցառում | H9: Ինն ամիս | I9: Տարի
G10: ԸՆԴԱՄԵՆԸ ԾԱԽՍԵՐ | H10: =+H12+H198 -> 0 | I10: =+I12+I198 -> 0
G11: այդ թվում`
G12: ՀՀ ՏԱՐԱԾՔԱՅԻՆ ԿԱՌԱՎԱՐՄԱՆ ԵՎ ԵՆԹԱԿԱՌՈՒՑՎԱԾՔՆԵՐԻ ՆԱԽԱՐԱՐՈՒԹՅՈՒՆ | H12: =+H14+H149+H122 -> -1370551.7 | I12: =+I14+I149+I122 -> 3544061.8
G13: այդ թվում`
B14: 04 | G14: ՏՆՏԵՍԱԿԱՆ ՀԱՐԱԲԵՐՈՒԹՅՈՒՆՆԵՐ | H14: =+H16+H59+H105 -> -1029138.8 | I14: =+I16+I59+I105 -> 4035722.6
G15: այդ թվում`
C16: 05 | G16: Տրանսպորտ | H16: =+H18 -> -84075.8 | I16: =+I18 -> 5339915.8
G17: այդ թվում`
D18: 01 | G18: Ճանապարհային տրանսպորտ | H18: =+H20 -> -84075.8 | I18: =+I20 -> 5339915.8
G19: այդ թվում`
G20: ՀՀ ՏԱՐԱԾՔԱՅԻՆ ԿԱՌԱՎԱՐՄԱՆ ԵՎ ԵՆԹԱԿԱՌՈՒՑՎԱԾՔՆԵՐԻ ՆԱԽԱՐԱՐՈՒԹՅՈՒՆ | H20: =+H22+H40 -> -84075.8 | I20: =+I22+I40 -> 5339915.8
G21: այդ թվում`
E22: 1049 | G22: Ճանապարհային ցանցի բարելավում | H22: =+H24 -> 0 | I22: =+I24 -> 5445225.8
G23: այդ թվում`
F24: 21001 | G24: ='[1]1'!C13 -> Պետական նշանակության ավտոճանապարհների հիմնանորոգում | H24: =H26+H33 -> 0 | I24: =I26+I33 -> 5445225.8
G25: այդ թվում` ըստ կատարողների
G26: ՀՀ կառավարություն | H26: =+H28 -> -40563.5 | I26: =+I28 -> -106582.4
G27: այդ թվում` բյուջետային ծախսերի տնտեսագիտական դասակարգման հոդվածների
G28: ԸՆԴԱՄԵՆԸ ԾԱԽՍԵՐ | H28: =+H29 -> -40563.5 | I28: =+I29 -> -106582.4
G29: ՈՉ ՖԻՆԱՆՍԱԿԱՆ ԱԿՏԻՎՆԵՐԻ ԳԾՈՎ ԾԱԽՍԵՐ | H29: =+H30 -> -40563.5 | I29: =+I30 -> -106582.4
G30: ՀԻՄՆԱԿԱՆ ՄԻՋՈՑՆԵՐ | H30: =+H31 -> -40563.5 | I30: =+I31 -> -106582.4
G31: ՇԵՆՔԵՐ ԵՎ ՇԻՆՈՒԹՅՈՒՆՆԵՐ | H31: =+H32 -> -40563.5 | I31: =+I32 -> -106582.4
G32: - Շենքերի և շինությունների կապիտալ վերանորոգում | H32: =+'6'!E21 -> -40563.5 | I32: =+'6'!F21 -> -106582.4
G33: ՀՀ տարածքային կառավարման և ենթակառուցվածքների նախարարություն | H33: =+H35 -> 40563.5 | I33: =+I35 -> 5551808.2
G34: այդ թվում` բյուջետային ծախսերի տնտեսագիտական դասակարգման հոդվածների
G35: ԸՆԴԱՄԵՆԸ ԾԱԽՍԵՐ | H35: =+H36 -> 40563.5 | I35: =+I36 -> 5551808.2
G36: ՈՉ ՖԻՆԱՆՍԱԿԱՆ ԱԿՏԻՎՆԵՐԻ ԳԾՈՎ ԾԱԽՍԵՐ | H36: =+H37 -> 40563.5 | I36: =+I37 -> 5551808.2
G37: ՀԻՄՆԱԿԱՆ ՄԻՋՈՑՆԵՐ | H37: =+H38 -> 40563.5 | I37: =+I38 -> 5551808.2
G38: ՇԵՆՔԵՐ ԵՎ ՇԻՆՈՒԹՅՈՒՆՆԵՐ | H38: =+H39 -> 40563.5 | I38: =+I39 -> 5551808.2
G39: - Շենքերի և շինությունների կապիտալ վերանորոգում | H39: =+'6'!E15 -> 40563.5 | I39: =+'6'!F15 -> 5551808.2
E40: 1157 | G40: Քաղաքային զարգացում | H40: =+H42+H50 -> -84075.8 | I40: =+I42+I50 -> -105310
G41: այդ թվում`
F42: 12016 | G42: Վերակառուցման և զարգացման եվրոպական բանկի աջակցությամբ իրականացվող Գյումրու քաղաքային ճանապարհների տեխնիկական համագործակցության դրամաշնորհային ծրագիր | H42: =+H44 -> -40075.8 | I42: =+I44 -> -51075.8
G43: այդ թվում` ըստ կատարողների
G44: ՀՀ տարածքային կառավարման և ենթակառուցվածքների նախարարություն | H44: =+H46 -> -40075.8 | I44: =+I46 -> -51075.8
G45: այդ թվում` բյուջետային ծախսերի տնտեսագիտական դասակարգման հոդվածներ
G46: ԸՆԴԱՄԵՆԸ ԾԱԽՍԵՐ | H46: =+H47 -> -40075.8 | I46: =+I47 -> -51075.8
G47: ԸՆԹԱՑԻԿ ԾԱԽՍԵՐ | H47: =+H48 -> -40075.8 | I47: =+I48 -> -51075.8
G48: ԱՅԼ ԾԱԽՍԵՐ | H48: =+H49 -> -40075.8 | I48: =+I49 -> -51075.8
G49: Այլ ծախսեր | H49: =+'5'!E18 -> -40075.8 | I49: =+'5'!H18 -> -51075.8
F50: 12018 | G50: Վերակառուցման և զարգացման եվրոպական բանկի աջակցությամբ իրականացվող Գյումրու քաղաքային ճանապարհների դրամաշնորհային ծրագիր (Տրանշ Ա, Բ, Գ) | H50: =+H52 -> -44000 | I50: =+I52 -> -54234.2
G51: այդ թվում` ըստ կատարողների
G52: ՀՀ տարածքային կառավարման և ենթակառուցվածքների նախարարություն | H52: =+H54 -> -44000 | I52: =+I54 -> -54234.2
G53: այդ թվում` բյուջետային ծախսերի տնտեսագիտական դասակարգման հոդվածներ
G54: ԸՆԴԱՄԵՆԸ ԾԱԽՍԵՐ | H54: =+H55 -> -44000 | I54: =+I55 -> -54234.2
G55: ՈՉ ՖԻՆԱՆՍԱԿԱՆ ԱԿՏԻՎՆԵՐԻ ԳԾՈՎ ԾԱԽՍԵՐ | H55: =+H56 -> -44000 | I55: =+I56 -> -54234.2
G56: ՀԻՄՆԱԿԱՆ ՄԻՋՈՑՆԵՐ | H56: =+H57 -> -44000 | I56: =+I57 -> -54234.2
G57: ՄԵՔԵՆԱՆԵՐ ԵՎ ՍԱՐՔԱՎՈՐՈՒՄՆԵՐ | H57: =+H58 -> -44000 | I57: =+I58 -> -54234.2
G58: - Այլ մեքենաներ և սարքավորումներ | H58: =+'5'!E34 -> -44000 | I58: =+'5'!H34 -> -54234.2
C59: 02 | G59: Գյուղատնտեսություն, անտառային տնտեսություն, ձկնորսություն և որսորդություն | H59: =+H61 -> -945063 | I59: =+I61 -> -1214383.3
G60: այդ թվում`
D61: 04 | G61: Ոռոգում | H61: =+H65 -> -945063 | I61: =+I65 -> -1214383.3
G62: այդ թվում`
G63: ՀՀ ՏԱՐԱԾՔԱՅԻՆ ԿԱՌԱՎԱՐՄԱՆ ԵՎ ԵՆԹԱԿԱՌՈՒՑՎԱԾՔՆԵՐԻ ՆԱԽԱՐԱՐՈՒԹՅՈՒՆ | H63: =+H65 -> -945063 | I63: =+I65 -> -1214383.3
G64: այդ թվում`
E65: =+'4'!B15 -> 1004 | G65: =+'4'!D15 -> Ոռոգման համակարգի առողջացում | H65: =+H67+H75+H83+H92 -> -945063 | I65: =+I67+I75+I83+I92 -> -1214383.3
G66: այդ թվում`
F67: 11009 | G67: Գերմանիայի զարգացման վարկերի բանկի աջակցությամբ իրականացվող Ախուրյան գետի ջրային ռեսուրսների ինտեգրացված կառավարման դրամաշնորհային ծրագիր | H67: =+H69 -> -5576.9 | I67: =+I69 -> -5576.9
G68: այդ թվում` ըստ կատարողների
G69: ՀՀ տարածքային կառավարման և ենթակառուցվածքների նախարարության ջրային կոմիտե | H69: =+H71 -> -5576.9 | I69: =+I71 -> -5576.9
G70: այդ թվում` բյուջետային ծախսերի տնտեսագիտական դասակարգման հոդվածներ
G71: ԸՆԴԱՄԵՆԸ ԾԱԽՍԵՐ | H71: =+H72 -> -5576.9 | I71: =+I72 -> -5576.9
G72: ԸՆԹԱՑԻԿ ԾԱԽՍԵՐ | H72: =+H73 -> -5576.9 | I72: =+I73 -> -5576.9
G73: ԱՅԼ ԾԱԽՍԵՐ | H73: =+H74 -> -5576.9 | I73: =+I74 -> -5576.9
G74: Այլ ծախսեր | H74: =+'5'!E56 -> -5576.9 | I74: =+'5'!H56 -> -5576.9
F75: 11012 | G75: Ֆրանսիայի Հանրապետության կառավարության աջակցությամբ իրականացվող՝ Վեդու ջրամբարի կառուցման դրամաշնորհային ծրագիր | H75: =+H77 -> -1139.5 | I75: =+I77 -> -1139.5
G76: այդ թվում` ըստ կատարողների
G77: ՀՀ տարածքային կառավարման և ենթակառուցվածքների նախարարության ջրային կոմիտե | H77: =+H79 -> -1139.5 | I77: =+I79 -> -1139.5
G78: այդ թվում` բյուջետային ծախսերի տնտեսագիտական դասակարգման հոդվածներ
G79: ԸՆԴԱՄԵՆԸ ԾԱԽՍԵՐ | H79: =+H80 -> -1139.5 | I79: =+I80 -> -1139.5
G80: ԸՆԹԱՑԻԿ ԾԱԽՍԵՐ | H80: =+H81 -> -1139.5 | I80: =+I81 -> -1139.5
G81: ԱՅԼ ԾԱԽՍԵՐ | H81: =+H82 -> -1139.5 | I81: =+I82 -> -1139.5
G82: Այլ ծախսեր | H82: =+'5'!E64 -> -1139.5 | I82: =+'5'!H71 -> -1139.5
F83: =+'4'!C17 -> 31004 | G83: =+'4'!D17 -> Գերմանիայի զարգացման վարկերի բանկի աջակցությամբ իրականացվող Ախուրյան գետի ջրային ռեսուրսների ինտեգրված կառավարման ծրագրի շրջանակներում ջրային տնտեսության ենթակառուցվածքների հիմնանորոգում | H83: =+H85 -> -614554.1 | I83: =+I85 -> -883874.4
G84: =+'4'!D18 -> այդ թվում` ըստ կատարողների
G85: =+'4'!D19 -> ՀՀ տարածքային կառավարման և ենթակառուցվածքների նախարարության ջրային կոմիտե | H85: =+H87 -> -614554.1 | I85: =+I87 -> -883874.4
G86: =+'4'!D20 -> այդ թվում` բյուջետային ծախսերի տնտեսագիտական դասակարգման հոդվածներ
G87: =+'4'!D21 -> ԸՆԴԱՄԵՆԸ ԾԱԽՍԵՐ | H87: =+H88 -> -614554.1 | I87: =+I88 -> -883874.4
G88: =+'4'!D22 -> ՈՉ ՖԻՆԱՆՍԱԿԱՆ ԱԿՏԻՎՆԵՐԻ ԳԾՈՎ ԾԱԽՍԵՐ | H88: =+H89 -> -614554.1 | I88: =+I89 -> -883874.4
G89: =+'4'!D23 -> ՀԻՄՆԱԿԱՆ ՄԻՋՈՑՆԵՐ | H89: =+H90 -> -614554.1 | I89: =+I90 -> -883874.4
G90: =+'4'!D24 -> ՇԵՆՔԵՐ ԵՎ ՇԻՆՈՒԹՅՈՒՆՆԵՐ | H90: =+H91 -> -614554.1 | I90: =+I91 -> -883874.4
G91: =+'4'!D25 -> - Շենքերի և շինությունների շինարարություն | H91: =+'4'!E17 -> -614554.1 | I91: =+'4'!H17 -> -883874.4
F92: =+'4'!C26 -> 12002 | G92: =+'4'!D26 -> Գերմանիայի զարգացման բանկի աջակցությամբ իրականացվող Ախուրյան գետի ջրային ռեսուրսների ինտեգրված կառավարման փուլ 1 ծրագրով Ջրաձոր գյուղի վերաբնակեցման համար ենթակառուցվածքների և բնակելի տների կառուցում | H92: =+H94 -> -323792.5 | I92: =+I94 -> -323792.5
G93: =+'4'!D27 -> այդ թվում` ըստ կատարողների
G94: =+'4'!D28 -> ՀՀ տարածքային կառավարման և ենթակառուցվածքների նախարարության ջրային կոմիտե | H94: =+H96 -> -323792.5 | I94: =+I96 -> -323792.5
G95: =+'4'!D29 -> այդ թվում` բյուջետային ծախսերի տնտեսագիտական դասակարգման հոդվածներ
G96: =+'4'!D30 -> ԸՆԴԱՄԵՆԸ ԾԱԽՍԵՐ | H96: =+H97 -> -323792.5 | I96: =+I97 -> -323792.5
G97: =+'4'!D31 -> ՈՉ ՖԻՆԱՆՍԱԿԱՆ ԱԿՏԻՎՆԵՐԻ ԳԾՈՎ ԾԱԽՍԵՐ | H97: =+H98 -> -323792.5 | I97: =+I98 -> -323792.5
G98: =+'4'!D32 -> ՀԻՄՆԱԿԱՆ ՄԻՋՈՑՆԵՐ | H98: =+H99+H101+H103 -> -323792.5 | I98: =+I99+I101+I103 -> -323792.5
G99: =+'4'!D33 -> ՇԵՆՔԵՐ ԵՎ ՇԻՆՈՒԹՅՈՒՆՆԵՐ | H99: =+H100 -> -176185.3 | I99: =+I100 -> -176185.3
G100: =+'4'!D34 -> - Շենքերի և շինությունների շինարարություն | H100: =+'4'!E34 -> -176185.3 | I100: =+'4'!H34 -> -176185.3
G101: =+'4'!D35 -> ՄԵՔԵՆԱՆԵՐ ԵՎ ՍԱՐՔԱՎՈՐՈՒՄՆԵՐ | H101: =+H102 -> -64221.7 | I101: =+I102 -> -64221.7
G102: =+'4'!D36 -> - Այլ մեքենաներ և սարքավորումներ | H102: =+'4'!E36 -> -64221.7 | I102: =+'4'!H36 -> -64221.7
...

Sheet 4
J1: Հավելված N4
J2: ՀՀ կառավարության 2022 թվականի
J3: ______________ ի ___Ն որոշման
B5: «ՀԱՅԱUՏԱՆԻ ՀԱՆՐԱՊԵՏՈՒԹՅԱՆ 2022 ԹՎԱԿԱՆԻ ՊԵՏԱԿԱՆ ԲՅՈՒՋԵԻ ՄԱUԻՆ» OՐԵՆՔԻ N 1 ՀԱՎԵԼՎԱԾԻ N 4 ԱՂՅՈՒՍԱԿՈՒՄ ԵՎ ՀԱՅԱՍՏԱՆԻ ՀԱՆՐԱՊԵՏՈՒԹՅԱՆ ԿԱՌԱՎԱՐՈՒԹՅԱՆ 2021 ԹՎԱԿԱՆԻ ԴԵԿՏԵՄԲԵՐԻ 23-Ի N 2121-Ն ՈՐՈՇՄԱՆ N 5 ՀԱՎԵԼՎԱԾԻ N 3 ԱՂՅՈՒՍԱԿՈՒՄ ԿԱՏԱՐՎՈՂ ՓՈՓՈԽՈՒԹՅՈՒՆՆԵՐԸ
J6: հազ. դրամ
B7: Ծրագրային դասիչը | D7: Բյուջետային գլխավոր կարգադրիչների, ծրագրերի և միջոցառումների անվանումները | E7: Ցուցանիշների փոփոխությունը (նվազեցումները նշված են փակագծերում)
E8: Ինն ամիս | H8: Տարի
E9: Ընդամենը | F9: այդ թվում` | H9: Ընդամենը | I9: այդ թվում`
B10: Ծրագիր | C10: Միջոց առում | F10: Վարկային միջոցներ | G10: Համաֆինան սավորում | I10: Վարկային միջոցներ | J10: Համաֆինան սավորում
D11: ԸՆԴԱՄԵՆԸ | E11: =+F11+G11 -> -981370.1 | F11: =+F14+F50 -> 0 | G11: =+G14+G50 -> -981370.1 | H11: =+I11+J11 -> -1340500.3 | I11: =+I14+I50 -> 0 | J11: =+J14+J50 -> -1340500.3
D12: այդ թվում`
D13: ՈՉ ՖԻՆԱՆՍԱԿԱՆ ԱԿՏԻՎՆԵՐԻ ԳԾՈՎ ԾԱԽՍԵՐ | E13: =+F13+G13 -> -981370.1 | F13: =+F22+F31+F46+F59 -> 0 | G13: =+G22+G31+G46+G59 -> -981370.1 | H13: =+I13+J13 -> -1340500.3 | I13: =+I22+I31+I46+I59 -> 0 | J13: =+J22+J31+J46+J59 -> -1340500.3
D14: ՀՀ ՏԱՐԱԾՔԱՅԻՆ ԿԱՌԱՎԱՐՄԱՆ ԵՎ ԵՆԹԱԿԱՌՈՒՑՎԱԾՔՆԵՐԻ ՆԱԽԱՐԱՐՈՒԹՅՈՒՆ | E14: =+F14+G14 -> -981370.1 | F14: =+F15+F39 -> 0 | G14: =+G15+G39 -> -981370.1 | H14: =+I14+J14 -> -1250690.4 | I14: =+I15+I39 -> 0 | J14: =+J15+J39 -> -1250690.4
B15: 1004 | D15: Ոռոգման համակարգի առողջացում | E15: =+F15+G15 -> -938346.6 | F15: =+F17+F26 -> 0 | G15: =+G17+G26 -> -938346.6 | H15: =+I15+J15 -> -1207666.9 | I15: =+I17+I26 -> 0 | J15: =+J17+J26 -> -1207666.9
B16: այդ թվում՛
C17: 31004 | D17: Գերմանիայի զարգացման վարկերի բանկի աջակցությամբ իրականացվող Ախուրյան գետի ջրային ռեսուրսների ինտեգրված կառավարման ծրագրի շրջանակներում ջրային տնտեսության ենթակառուցվածքների հիմնանորոգում | E17: =+F17+G17 -> -614554.1 | F17: 0 | G17: =+G19 -> -614554.1 | H17: =+I17+J17 -> -883874.4 | I17: 0 | J17: =+J19 -> -883874.4
D18: այդ թվում` ըստ կատարողների
D19: ՀՀ տարածքային կառավարման և ենթակառուցվածքների նախարարության ջրային կոմիտե | E19: =+F19+G19 -> -614554.1 | F19: 0 | G19: =+G21 -> -614554.1 | H19: =+I19+J19 -> -883874.4 | I19: 0 | J19: =+J21 -> -883874.4
D20: այդ թվում` բյուջետային ծախսերի տնտեսագիտական դասակարգման հոդվածներ
D21: ԸՆԴԱՄԵՆԸ ԾԱԽՍԵՐ | E21: =+F21+G21 -> -614554.1 | F21: 0 | G21: =+G22 -> -614554.1 | H21: =+I21+J21 -> -883874.4 | I21: 0 | J21: =+J22 -> -883874.4
D22: ՈՉ ՖԻՆԱՆՍԱԿԱՆ ԱԿՏԻՎՆԵՐԻ ԳԾՈՎ ԾԱԽՍԵՐ | E22: =+F22+G22 -> -614554.1 | F22: 0 | G22: =+G23 -> -614554.1 | H22: =+I22+J22 -> -883874.4 | I22: 0 | J22: =+J23 -> -883874.4
D23: ՀԻՄՆԱԿԱՆ ՄԻՋՈՑՆԵՐ | E23: =+F23+G23 -> -614554.1 | F23: 0 | G23: =+G24 -> -614554.1 | H23: =+I23+J23 -> -883874.4 | I23: 0 | J23: =+J24 -> -883874.4
D24: ՇԵՆՔԵՐ ԵՎ ՇԻՆՈՒԹՅՈՒՆՆԵՐ | E24: =+F24+G24 -> -614554.1 | F24: 0 | G24: =+G25 -> -614554.1 | H24: =+I24+J24 -> -883874.4 | I24: 0 | J24: =+J25 -> -883874.4
D25: - Շենքերի և շինությունների շինարարություն | E25: =+F25+G25 -> -614554.1 | F25: 0 | G25: -614554.1 | H25: =+I25+J25 -> -883874.4 | I25: 0 | J25: -883874.4
C26: 12002 | D26: Գերմանիայի զարգացման բանկի աջակցությամբ իրականացվող Ախուրյան գետի ջրային ռեսուրսների ինտեգրված կառավարման փուլ 1 ծրագրով Ջրաձոր գյուղի վերաբնակեցման համար ենթակառուցվածքների և բնակելի տների կառուցում | E26: =+F26+G26 -> -323792.5 | F26: 0 | G26: =+G28 -> -323792.5 | H26: =+I26+J26 -> -323792.5 | I26: 0 | J26: =+J28 -> -323792.5
D27: այդ թվում` ըստ կատարողների
D28: ՀՀ տարածքային կառավարման և ենթակառուցվածքների նախարարության ջրային կոմիտե | E28: =+F28+G28 -> -323792.5 | F28: 0 | G28: =+G30 -> -323792.5 | H28: =+I28+J28 -> -323792.5 | I28: 0 | J28: =+J30 -> -323792.5
D29: այդ թվում` բյուջետային ծախսերի տնտեսագիտական դասակարգման հոդվածներ
D30: ԸՆԴԱՄԵՆԸ ԾԱԽՍԵՐ | E30: =+F30+G30 -> -323792.5 | F30: 0 | G30: =+G31 -> -323792.5 | H30: =+I30+J30 -> -323792.5 | I30: 0 | J30: =+J31 -> -323792.5
D31: ՈՉ ՖԻՆԱՆՍԱԿԱՆ ԱԿՏԻՎՆԵՐԻ ԳԾՈՎ ԾԱԽՍԵՐ | E31: =+F31+G31 -> -323792.5 | F31: 0 | G31: =+G32 -> -323792.5 | H31: =+I31+J31 -> -323792.5 | I31: 0 | J31: =+J32 -> -323792.5
D32: ՀԻՄՆԱԿԱՆ ՄԻՋՈՑՆԵՐ | E32: =+F32+G32 -> -323792.5 | F32: 0 | G32: =+G33+G35+G37 -> -323792.5 | H32: =+I32+J32 -> -323792.5 | I32: 0 | J32: =+J33+J35+J37 -> -323792.5
D33: ՇԵՆՔԵՐ ԵՎ ՇԻՆՈՒԹՅՈՒՆՆԵՐ | E33: =+F33+G33 -> -176185.3 | F33: 0 | G33: =+G34 -> -176185.3 | H33: =+I33+J33 -> -176185.3 | I33: 0 | J33: =+J34 -> -176185.3
D34: - Շենքերի և շինությունների շինարարություն | E34: =+F34+G34 -> -176185.3 | F34: 0 | G34: -176185.3 | H34: =+I34+J34 -> -176185.3 | I34: 0 | J34: -176185.3
D35: ՄԵՔԵՆԱՆԵՐ ԵՎ ՍԱՐՔԱՎՈՐՈՒՄՆԵՐ | E35: =+F35+G35 -> -64221.7 | F35: 0 | G35: =+G36 -> -64221.7 | H35: =+I35+J35 -> -64221.7 | I35: 0 | J35: =+J36 -> -64221.7
D36: - Այլ մեքենաներ և սարքավորումներ | E36: =+F36+G36 -> -64221.7 | F36: 0 | G36: -64221.7 | H36: =+I36+J36 -> -64221.7 | I36: 0 | J36: -64221.7
D37: ՉԱՐՏԱԴՐՎԱԾ ԱԿՏԻՎՆԵՐ | E37: =+F37+G37 -> -83385.5 | F37: 0 | G37: =+G38 -> -83385.5 | H37: =+I37+J37 -> -83385.5 | I37: 0 | J37: =+J38 -> -83385.5
D38: ՀՈՂ | E38: =+F38+G38 -> -83385.5 | F38: 0 | G38: -83385.5 | H38: =+I38+J38 -> -83385.5 | I38: 0 | J38: -83385.5
B39: 1072 | D39: Ջրամատակարարաման և ջրահեռացման բարելավում | E39: =+F39+G39 -> -43023.5 | F39: =+F63 -> 0 | G39: =+G41 -> -43023.5 | H39: =+I39+J39 -> -43023.5 | I39: =+I63 -> 0 | J39: =+J41 -> -43023.5
D40: այդ թվում`
C41: 31005 | D41: Գերմանիայի զարգացման վարկերի բանկի աջակցությամբ իրականացվող Լոռու (Վանաձորի) մարզի ջրամատակարարման և ջրահեռացման համակարգերի վերականգնման ծրագիր՛ երկրորդ փուլ | E41: =+E43 -> -43023.5 | F41: =+F43 -> 0 | G41: =+G43 -> -43023.5 | H41: =+H43 -> -43023.5 | I41: =+I43 -> 0 | J41: =+J43 -> -43023.5
D42: այդ թվում` ըստ կատարողների
D43: ՀՀ տարածքային կառավարման և ենթակառուցվածքների նախարարության ջրային կոմիտե | E43: =+E45 -> -43023.5 | F43: =+F45 -> 0 | G43: =+G45 -> -43023.5 | H43: =+H45 -> -43023.5 | I43: =+I45 -> 0 | J43: =+J45 -> -43023.5
D44: այդ թվում` բյուջետային ծախսերի տնտեսագիտական դասակարգման հոդվածներ
D45: ԸՆԴԱՄԵՆԸ ԾԱԽՍԵՐ | E45: =+F45+G45 -> -43023.5 | F45: 0 | G45: =+G46 -> -43023.5 | H45: =+I45+J45 -> -43023.5 | I45: 0 | J45: =+J46 -> -43023.5
D46: ՈՉ ՖԻՆԱՆՍԱԿԱՆ ԱԿՏԻՎՆԵՐԻ ԳԾՈՎ ԾԱԽՍԵՐ | E46: =+F46+G46 -> -43023.5 | F46: 0 | G46: =+G47 -> -43023.5 | H46: =+I46+J46 -> -43023.5 | I46: 0 | J46: =+J47 -> -43023.5
D47: ՀԻՄՆԱԿԱՆ ՄԻՋՈՑՆԵՐ | E47: =+F47+G47 -> -43023.5 | F47: 0 | G47: =+G48 -> -43023.5 | H47: =+I47+J47 -> -43023.5 | I47: 0 | J47: =+J48 -> -43023.5
D48: ՇԵՆՔԵՐ ԵՎ ՇԻՆՈՒԹՅՈՒՆՆԵՐ | E48: =+F48+G48 -> -43023.5 | F48: 0 | G48: =+G49 -> -43023.5 | H48: =+I48+J48 -> -43023.5 | I48: 0 | J48: =+J49 -> -43023.5
D49: - Շենքերի և շինությունների շինարարություն | E49: =+F49+G49 -> -43023.5 | F49: 0 | G49: -43023.5 | H49: =+I49+J49 -> -43023.5 | I49: 0 | J49: -43023.5
D50: ՀՀ էկոնոմիկայի նախարարություն | E50: =+F50+G50 -> 0 | F50: =+F52 -> 0 | G50: =+G52 -> 0 | H50: =+I50+J50 -> -89809.9 | I50: =+I52 -> 0 | J50: =+J52 -> -89809.9
D51: այդ թվում`
B52: 1190 | D52: Զբոսաշրջության զարգացման ծրագիր | E52: =+F52+G52 -> 0 | F52: =+F54 -> 0 | G52: =+G54 -> 0 | H52: =+I52+J52 -> -89809.9 | I52: =+I54 -> 0 | J52: =+J54 -> -89809.9
D53: այդ թվում`
C54: 12001 | D54: Համաշխարհային բանկի աջակցությամբ իրականացվող Տեղական տնտեսության և ենթակառուցվածքների զարգացման ծրագրի շրջանակներում ՀՀ տարբեր մարզերում զբոսաշրջության հետ կապված ենթակառուցվածքների բարելավմանն ուղղված միջոցառումներ | E54: =+F54+G54 -> 0 | F54: =+F56 -> 0 | G54: =+G56 -> 0 | H54: =+I54+J54 -> -89809.9 | I54: =+I56 -> 0 | J54: =+J56 -> -89809.9
D55: այդ թվում` ըստ կատարողների
D56: ՀՀ էկոնոմիկայի նախարարություն | E56: =+F56+G56 -> 0 | F56: =+F58 -> 0 | G56: =+G58 -> 0 | H56: =+I56+J56 -> -89809.9 | I56: =+I58 -> 0 | J56: =+J58 -> -89809.9
D57: այդ թվում` բյուջետային ծախսերի տնտեսագիտական դասակարգման հոդվածներ
D58: ԸՆԴԱՄԵՆԸ ԾԱԽՍԵՐ | E58: =+F58+G58 -> 0 | F58: =+F59 -> 0 | G58: =+G59 -> 0 | H58: =+I58+J58 -> -89809.9 | I58: =+I59 -> 0 | J58: =+J59 -> -89809.9
D59: ՈՉ ՖԻՆԱՆՍԱԿԱՆ ԱԿՏԻՎՆԵՐԻ ԳԾՈՎ ԾԱԽՍԵՐ | E59: =+F59+G59 -> 0 | F59: =+F60 -> 0 | G59: =+G60 -> 0 | H59: =+I59+J59 -> -89809.9 | I59: =+I60 -> 0 | J59: =+J60 -> -89809.9
D60: ՀԻՄՆԱԿԱՆ ՄԻՋՈՑՆԵՐ | E60: =+F60+G60 -> 0 | F60: =+F61 -> 0 | G60: =+G61 -> 0 | H60: =+I60+J60 -> -89809.9 | I60: =+I61 -> 0 | J60: =+J61 -> -89809.9
D61: ՇԵՆՔԵՐ ԵՎ ՇԻՆՈՒԹՅՈՒՆՆԵՐ | E61: =+F61+G61 -> 0 | F61: =+F62 -> 0 | G61: =+G62 -> 0 | H61: =+I61+J61 -> -89809.9 | I61: =+I62 -> 0 | J61: =+J62 -> -89809.9
D62: - Շենքերի և շինությունների շինարարություն | E62: =+F62+G62 -> 0 | F62: 0 | G62: 0 | H62: =+I62+J62 -> -89809.9 | I62: 0 | J62: =+'1'!F133 -> -89809.9

Sheet 5
J1: Հավելված N5
J2: ՀՀ կառավարության 2022 թվականի
J3: ______________ ի ___Ն որոշման
B5: «ՀԱՅԱUՏԱՆԻ ՀԱՆՐԱՊԵՏՈՒԹՅԱՆ 2022 ԹՎԱԿԱՆԻ ՊԵՏԱԿԱՆ ԲՅՈՒՋԵԻ ՄԱUԻՆ» OՐԵՆՔԻ N 1 ՀԱՎԵԼՎԱԾԻ N 5 ԱՂՅՈՒՍԱԿՈՒՄ ԵՎ ՀԱՅԱՍՏԱՆԻ ՀԱՆՐԱՊԵՏՈՒԹՅԱՆ ԿԱՌԱՎԱՐՈՒԹՅԱՆ 2021 ԹՎԱԿԱՆԻ ԴԵԿՏԵՄԲԵՐԻ 23-Ի N 2121-Ն ՈՐՈՇՄԱՆ N 5 ՀԱՎԵԼՎԱԾԻ N 4 ԱՂՅՈՒՍԱԿՈՒՄ ԿԱՏԱՐՎՈՂ ՓՈՓՈԽՈՒԹՅՈՒՆՆԵՐԸ
J6: հազ. դրամ
B7: Ծրագրային դասիչը | D7: Բյուջետային գլխավոր կարգադրիչների, ծրագրերի և միջոցառումների անվանումները | E7: Ցուցանիշների փոփոխությունը (նվազեցումները նշված են փակագծերում)
E8: Ինն ամիս | H8: Տարի
E9: Ընդամենը | F9: այդ թվում` | H9: Ընդամենը | I9: այդ թվում`
B10: Ծրագիր | C10: Միջոց առում | F10: Դրամաշնորհային միջոցներ | G10: Համաֆինան սավորում | I10: Դրամաշնորհային միջոցներ | J10: Համաֆինան սավորում
D11: ԸՆԴԱՄԵՆԸ | E11: =+F11+G11 -> -389181.6 | F11: =+F15 -> 0 | G11: =+G15 -> -389181.6 | H11: =+I11+J11 -> -560663.7 | I11: =+I15 -> 0 | J11: =+J15 -> -560663.7
D12: այդ թվում`
D13: ԸՆԹԱՑԻԿ ԾԱԽՍԵՐ | E13: =+F13+G13 -> -55570.4 | F13: =+F23+F42+F61+F69+F79 -> 0 | G13: =+G23+G42+G61+G69+G79 -> -55570.4 | H13: =+I13+J13 -> -80938 | I13: =+I23+I42+I61+I69+I79 -> 0 | J13: =+J23+J42+J61+J69+J79 -> -80938
D14: ՈՉ ՖԻՆԱՆՍԱԿԱՆ ԱԿՏԻՎՆԵՐԻ ԳԾՈՎ ԾԱԽՍԵՐ | E14: =+F14+G14 -> -333611.2 | F14: =+F31+F50+F87+F96 -> 0 | G14: =+G31+G50+G87+G96 -> -333611.2 | H14: =+I14+J14 -> -479725.7 | I14: =+I31+I50+I87+I96 -> 0 | J14: =+J31+J50+J87+J96 -> -479725.7
D15: ՀՀ ՏԱՐԱԾՔԱՅԻՆ ԿԱՌԱՎԱՐՄԱՆ ԵՎ ԵՆԹԱԿԱՌՈՒՑՎԱԾՔՆԵՐԻ ՆԱԽԱՐԱՐՈՒԹՅՈՒՆ | E15: =+F15+G15 -> -389181.6 | F15: =+F16+F35+F54+F72 -> 0 | G15: =+G16+G35+G54+G72 -> -389181.6 | H15: =+I15+J15 -> -560663.7 | I15: =+I16+I35+I54+I72 -> 0 | J15: =+J16+J35+J54+J72 -> -560663.7
B16: 1157 | D16: Քաղաքային զարգացում | E16: =+F16+G16 -> -84075.8 | F16: =+F27 -> 0 | G16: =+G18+G26 -> -84075.8 | H16: =+I16+J16 -> -105310 | I16: =+I27 -> 0 | J16: =+J18+J26 -> -105310
B17: այդ թվում՛
C18: 12016 | D18: Վերակառուցման և զարգացման եվրոպական բանկի աջակցությամբ իրականացվող Գյումրու քաղաքային ճանապարհների տեխնիկական համագործակցության դրամաշնորհային ծրագիր | E18: =+E20 -> -40075.8 | F18: =+F20 -> 0 | G18: =+G20 -> -40075.8 | H18: =+H20 -> -51075.8 | I18: =+I20 -> 0 | J18: =+J20 -> -51075.8
D19: այդ թվում` ըստ կատարողների
D20: ՀՀ տարածքային կառավարման և ենթակառուցվածքների նախարարություն | E20: =+E22 -> -40075.8 | F20: =+F22 -> 0 | G20: =+G22 -> -40075.8 | H20: =+H22 -> -51075.8 | I20: =+I22 -> 0 | J20: =+J22 -> -51075.8
D21: այդ թվում` բյուջետային ծախսերի տնտեսագիտական դասակարգման հոդվածներ
D22: ԸՆԴԱՄԵՆԸ ԾԱԽՍԵՐ | E22: =+F22+G22 -> -40075.8 | F22: 0 | G22: =+G23 -> -40075.8 | H22: =+I22+J22 -> -51075.8 | I22: 0 | J22: =+J23 -> -51075.8
D23: ԸՆԹԱՑԻԿ ԾԱԽՍԵՐ | E23: =+F23+G23 -> -40075.8 | F23: 0 | G23: =+G24 -> -40075.8 | H23: =+I23+J23 -> -51075.8 | I23: 0 | J23: =+J24 -> -51075.8
D24: ԱՅԼ ԾԱԽՍԵՐ | E24: =+F24+G24 -> -40075.8 | F24: 0 | G24: =+G25 -> -40075.8 | H24: =+I24+J24 -> -51075.8 | I24: 0 | J24: =+J25 -> -51075.8
D25: Այլ ծախսեր | E25: =+F25+G25 -> -40075.8 | F25: 0 | G25: =-39675.8-400 -> -40075.8 | H25: =+I25+J25 -> -51075.8 | I25: 0 | J25: -51075.8
C26: 12018 | D26: Վերակառուցման և զարգացման եվրոպական բանկի աջակցությամբ իրականացվող Գյումրու քաղաքային ճանապարհների դրամաշնորհային ծրագիր (Տրանշ Ա, Բ, Գ) | E26: =+E28 -> -44000 | F26: =+F28 -> 0 | G26: =+G28 -> -44000 | H26: =+H28 -> -54234.2 | I26: =+I28 -> 0 | J26: =+J28 -> -54234.2
D27: այդ թվում` ըստ կատարողների
D28: ՀՀ տարածքային կառավարման և ենթակառուցվածքների նախարարություն | E28: =+E30 -> -44000 | F28: =+F30 -> 0 | G28: =+G30 -> -44000 | H28: =+H30 -> -54234.2 | I28: =+I30 -> 0 | J28: =+J30 -> -54234.2
D29: այդ թվում` բյուջետային ծախսերի տնտեսագիտական դասակարգման հոդվածներ
D30: ԸՆԴԱՄԵՆԸ ԾԱԽՍԵՐ | E30: =+F30+G30 -> -44000 | F30: =+F31 -> 0 | G30: =+G31 -> -44000 | H30: =+I30+J30 -> -54234.2 | I30: =+I31 -> 0 | J30: =+J31 -> -54234.2
D31: ՈՉ ՖԻՆԱՆՍԱԿԱՆ ԱԿՏԻՎՆԵՐԻ ԳԾՈՎ ԾԱԽՍԵՐ | E31: =+F31+G31 -> -44000 | F31: =+F32 -> 0 | G31: =+G32 -> -44000 | H31: =+I31+J31 -> -54234.2 | I31: =+I32 -> 0 | J31: =+J32 -> -54234.2
D32: ՀԻՄՆԱԿԱՆ ՄԻՋՈՑՆԵՐ | E32: =+F32+G32 -> -44000 | F32: =+F33 -> 0 | G32: =+G33 -> -44000 | H32: =+I32+J32 -> -54234.2 | I32: =+I33 -> 0 | J32: =+J33 -> -54234.2
D33: ՄԵՔԵՆԱՆԵՐ ԵՎ ՍԱՐՔԱՎՈՐՈՒՄՆԵՐ | E33: =+F33+G33 -> -44000 | F33: =+F34 -> 0 | G33: =+G34 -> -44000 | H33: =+I33+J33 -> -54234.2 | I33: =+I34 -> 0 | J33: =+J34 -> -54234.2
D34: - Այլ մեքենաներ և սարքավորումներ | E34: =+F34+G34 -> -44000 | F34: 0 | G34: -44000 | H34: =+I34+J34 -> -54234.2 | I34: 0 | J34: -54234.2
B35: 1040 | D35: Կոշտ թափոնների կառավարում | E35: =+F35+G35 -> -68694.5 | F35: =+F46 -> 0 | G35: =+G37+G45 -> -68694.5 | H35: =+I35+J35 -> -143497.9 | I35: =+I46 -> 0 | J35: =+J37+J45 -> -143497.9
D36: այդ թվում`
C37: 12002 | D37: Վերակառուցման և զարգացման եվրոպական բանկի աջակցությամբ իրականացվող «Կոտայքի և Գեղարքունիքի մարզի կոշտ թափոնների կառավարման խորհրդատվության համար» դրամաշնորհային ծրագիր | E37: =+E39 -> -7632.4 | F37: =+F39 -> 0 | G37: =+G39 -> -7632.4 | H37: =+H39 -> -22000 | I37: =+I39 -> 0 | J37: =+J39 -> -22000
D38: այդ թվում` ըստ կատարողների
D39: ՀՀ տարածքային կառավարման և ենթակառուցվածքների նախարարություն | E39: =+E41 -> -7632.4 | F39: =+F41 -> 0 | G39: =+G41 -> -7632.4 | H39: =+H41 -> -22000 | I39: =+I41 -> 0 | J39: =+J41 -> -22000
D40: այդ թվում` բյուջետային ծախսերի տնտեսագիտական դասակարգման հոդվածներ
D41: ԸՆԴԱՄԵՆԸ ԾԱԽՍԵՐ | E41: =+F41+G41 -> -7632.4 | F41: 0 | G41: =+G42 -> -7632.4 | H41: =+I41+J41 -> -22000 | I41: 0 | J41: =+J42 -> -22000
D42: ԸՆԹԱՑԻԿ ԾԱԽՍԵՐ | E42: =+F42+G42 -> -7632.4 | F42: 0 | G42: =+G43 -> -7632.4 | H42: =+I42+J42 -> -22000 | I42: 0 | J42: =+J43 -> -22000
D43: ԱՅԼ ԾԱԽՍԵՐ | E43: =+F43+G43 -> -7632.4 | F43: 0 | G43: =+G44 -> -7632.4 | H43: =+I43+J43 -> -22000 | I43: 0 | J43: =+J44 -> -22000
D44: Այլ ծախսեր | E44: =+F44+G44 -> -7632.4 | F44: 0 | G44: -7632.4 | H44: =+I44+J44 -> -22000 | I44: 0 | J44: -22000
C45: 32004 | D45: Վերակառուցման և զարգացման եվրոպական բանկի աջակցությամբ իրականացվող «Կոտայքի և Գեղարքունիքի մարզի կոշտ թափոնների կառավարման» դրամաշնորհային ծրագիր | E45: =+E47 -> -61062.1 | F45: =+F47 -> 0 | G45: =+G47 -> -61062.1 | H45: =+H47 -> -121497.9 | I45: =+I47 -> 0 | J45: =+J47 -> -121497.9
D46: այդ թվում` ըստ կատարողների
D47: ՀՀ տարածքային կառավարման և ենթակառուցվածքների նախարարություն | E47: =+E49 -> -61062.1 | F47: =+F49 -> 0 | G47: =+G49 -> -61062.1 | H47: =+H49 -> -121497.9 | I47: =+I49 -> 0 | J47: =+J49 -> -121497.9
D48: այդ թվում` բյուջետային ծախսերի տնտեսագիտական դասակարգման հոդվածներ
D49: ԸՆԴԱՄԵՆԸ ԾԱԽՍԵՐ | E49: =+F49+G49 -> -61062.1 | F49: 0 | G49: =+G50 -> -61062.1 | H49: =+I49+J49 -> -121497.9 | I49: 0 | J49: =+J50 -> -121497.9
D50: ՈՉ ՖԻՆԱՆՍԱԿԱՆ ԱԿՏԻՎՆԵՐԻ ԳԾՈՎ ԾԱԽՍԵՐ | E50: =+F50+G50 -> -61062.1 | F50: 0 | G50: =+G51 -> -61062.1 | H50: =+I50+J50 -> -121497.9 | I50: 0 | J50: =+J51 -> -121497.9
D51: ՀԻՄՆԱԿԱՆ ՄԻՋՈՑՆԵՐ | E51: =+F51+G51 -> -61062.1 | F51: 0 | G51: =+G52 -> -61062.1 | H51: =+I51+J51 -> -121497.9 | I51: 0 | J51: =+J52 -> -121497.9
D52: ՇԵՆՔԵՐ ԵՎ ՇԻՆՈՒԹՅՈՒՆՆԵՐ | E52: =+F52+G52 -> -61062.1 | F52: 0 | G52: =+G53 -> -61062.1 | H52: =+I52+J52 -> -121497.9 | I52: 0 | J52: =+J53 -> -121497.9
D53: - Շենքերի և շինությունների շինարարություն | E53: =+F53+G53 -> -61062.1 | F53: 0 | G53: -61062.1 | H53: =+I53+J53 -> -121497.9 | I53: 0 | J53: -121497.9
B54: 1004 | D54: Ոռոգման համակարգի առողջացում | E54: =+F54+G54 -> -6716.4 | F54: =+F56+F64 -> 0 | G54: =+G56+G64 -> -6716.4 | H54: =+I54+J54 -> -6716.4 | I54: =+I56+I64 -> 0 | J54: =+J56+J64 -> -6716.4
D55: այդ թվում`
C56: 11009 | D56: Գերմանիայի զարգացման վարկերի բանկի աջակցությամբ իրականացվող Ախուրյան գետի ջրային ռեսուրսների ինտեգրացված կառավարման դրամաշնորհային ծրագիր | E56: =+E58 -> -5576.9 | F56: =+F58 -> 0 | G56: =+G58 -> -5576.9 | H56: =+H58 -> -5576.9 | I56: =+I58 -> 0 | J56: =+J58 -> -5576.9
D57: այդ թվում` ըստ կատարողների
D58: ՀՀ տարածքային կառավարման և ենթակառուցվածքների նախարարության ջրային կոմիտե | E58: =+E60 -> -5576.9 | F58: =+F60 -> 0 | G58: =+G60 -> -5576.9 | H58: =+H60 -> -5576.9 | I58: =+I60 -> 0 | J58: =+J60 -> -5576.9
D59: այդ թվում` բյուջետային ծախսերի տնտեսագիտական դասակարգման հոդվածներ
D60: ԸՆԴԱՄԵՆԸ ԾԱԽՍԵՐ | E60: =+F60+G60 -> -5576.9 | F60: =+F61 -> 0 | G60: =+G61 -> -5576.9 | H60: =+I60+J60 -> -5576.9 | I60: =+I61 -> 0 | J60: =+J61 -> -5576.9
D61: ԸՆԹԱՑԻԿ ԾԱԽՍԵՐ | E61: =+F61+G61 -> -5576.9 | F61: =+F62 -> 0 | G61: =+G62 -> -5576.9 | H61: =+I61+J61 -> -5576.9 | I61: =+I62 -> 0 | J61: =+J62 -> -5576.9
D62: ԱՅԼ ԾԱԽՍԵՐ | E62: =+F62+G62 -> -5576.9 | F62: =+F63 -> 0 | G62: =+G63 -> -5576.9 | H62: =+I62+J62 -> -5576.9 | I62: =+I63 -> 0 | J62: =+J63 -> -5576.9
D63: Այլ ծախսեր | E63: =+F63+G63 -> -5576.9 | F63: 0 | G63: -5576.9 | H63: =+I63+J63 -> -5576.9 | I63: 0 | J63: -5576.9
C64: 11012 | D64: Ֆրանսիայի Հանրապետության կառավարության աջակցությամբ իրականացվող՝ Վեդու ջրամբարի կառուցման դրամաշնորհային ծրագիր | E64: =+E66 -> -1139.5 | F64: =+F66 -> 0 | G64: =+G66 -> -1139.5 | H64: =+H66 -> -1139.5 | I64: =+I66 -> 0 | J64: =+J66 -> -1139.5
D65: այդ թվում` ըստ կատարողների
D66: ՀՀ տարածքային կառավարման և ենթակառուցվածքների նախարարության ջրային կոմիտե | E66: =+E68 -> -1139.5 | F66: =+F68 -> 0 | G66: =+G68 -> -1139.5 | H66: =+H68 -> -1139.5 | I66: =+I68 -> 0 | J66: =+J68 -> -1139.5
D67: այդ թվում` բյուջետային ծախսերի տնտեսագիտական դասակարգման հոդվածներ
D68: ԸՆԴԱՄԵՆԸ ԾԱԽՍԵՐ | E68: =+F68+G68 -> -1139.5 | F68: =+F69 -> 0 | G68: =+G69 -> -1139.5 | H68: =+I68+J68 -> -1139.5 | I68: =+I69 -> 0 | J68: =+J69 -> -1139.5
D69: ԸՆԹԱՑԻԿ ԾԱԽՍԵՐ | E69: =+F69+G69 -> -1139.5 | F69: =+F70 -> 0 | G69: =+G70 -> -1139.5 | H69: =+I69+J69 -> -1139.5 | I69: =+I70 -> 0 | J69: =+J70 -> -1139.5
D70: ԱՅԼ ԾԱԽՍԵՐ | E70: =+F70+G70 -> -1139.5 | F70: =+F71 -> 0 | G70: =+G71 -> -1139.5 | H70: =+I70+J70 -> -1139.5 | I70: =+I71 -> 0 | J70: =+J71 -> -1139.5
D71: Այլ ծախսեր | E71: =+F71+G71 -> -1139.5 | F71: 0 | G71: -1139.5 | H71: =+I71+J71 -> -1139.5 | I71: 0 | J71: -1139.5
B72: 1072 | D72: Ջրամատակարարաման և ջրահեռացման բարելավում | E72: =+F72+G72 -> -229694.9 | F72: =+F74+F82+F91 -> 0 | G72: =+G74+G82+G91 -> -229694.9 | H72: =+I72+J72 -> -305139.4 | I72: =+I74+I82+I91 -> 0 | J72: =+J74+J82+J91 -> -305139.4
D73: այդ թվում`
C74: 11004 | D74: Եվրոպական միության հարևանության ներդրումային ծրագրի աջակցությամբ իրականացվող_x000D_ Երևանի ջրամատակարարման բարելավման դրամաշնորհային ծրագիր | E74: =+E76 -> -1145.8 | F74: =+F76 -> 0 | G74: =+G76 -> -1145.8 | H74: =+H76 -> -1145.8 | I74: =+I76 -> 0 | J74: =+J76 -> -1145.8
D75: այդ թվում` ըստ կատարողների
D76: ՀՀ տարածքային կառավարման և ենթակառուցվածքների նախարարության ջրային կոմիտե | E76: =+E78 -> -1145.8 | F76: =+F78 -> 0 | G76: =+G78 -> -1145.8 | H76: =+H78 -> -1145.8 | I76: =+I78 -> 0 | J76: =+J78 -> -1145.8
D77: այդ թվում` բյուջետային ծախսերի տնտեսագիտական դասակարգման հոդվածներ
D78: ԸՆԴԱՄԵՆԸ ԾԱԽՍԵՐ | E78: =+F78+G78 -> -1145.8 | F78: =+F79 -> 0 | G78: =+G79 -> -1145.8 | H78: =+I78+J78 -> -1145.8 | I78: =+I79 -> 0 | J78: =+J79 -> -1145.8
D79: ԸՆԹԱՑԻԿ ԾԱԽՍԵՐ | E79: =+F79+G79 -> -1145.8 | F79: =+F80 -> 0 | G79: =+G80 -> -1145.8 | H79: =+I79+J79 -> -1145.8 | I79: =+I80 -> 0 | J79: =+J80 -> -1145.8
D80: ԱՅԼ ԾԱԽՍԵՐ | E80: =+F80+G80 -> -1145.8 | F80: =+F81 -> 0 | G80: =+G81 -> -1145.8 | H80: =+I80+J80 -> -1145.8 | I80: =+I81 -> 0 | J80: =+J81 -> -1145.8
D81: Այլ ծախսեր | E81: =+F81+G81 -> -1145.8 | F81: 0 | G81: -1145.8 | H81: =+I81+J81 -> -1145.8 | I81: 0 | J81: -1145.8
C82: 31004 | D82: Եվրոպական միության հարևանության ներդրումային ծրագրի աջակցությամբ իրականացվող_x000D_ Երևանի ջրամատակարարման բարելավման դրամաշնորհային ծրագրի շրջանակներում Ջրամատակարարման և ջրահեռացման ենթակառուցվածքների հիմնանորոգում | E82: =+E84 -> -31361 | F82: =+F84 -> 0 | G82: =+G84 -> -31361 | H82: =+H84 -> -106805.5 | I82: =+I84 -> 0 | J82: =+J84 -> -106805.5
D83: այդ թվում` ըստ կատարողների
D84: ՀՀ տարածքային կառավարման և ենթակառուցվածքների նախարարության ջրային կոմիտե | E84: =+E86 -> -31361 | F84: =+F86 -> 0 | G84: =+G86 -> -31361 | H84: =+H86 -> -106805.5 | I84: =+I86 -> 0 | J84: =+J86 -> -106805.5
D85: այդ թվում` բյուջետային ծախսերի տնտեսագիտական դասակարգման հոդվածներ
D86: ԸՆԴԱՄԵՆԸ ԾԱԽՍԵՐ | E86: =+F86+G86 -> -31361 | F86: =+F87 -> 0 | G86: =+G87 -> -31361 | H86: =+I86+J86 -> -106805.5 | I86: =+I87 -> 0 | J86: =+J87 -> -106805.5
D87: ՈՉ ՖԻՆԱՆՍԱԿԱՆ ԱԿՏԻՎՆԵՐԻ ԳԾՈՎ ԾԱԽՍԵՐ | E87: =+F87+G87 -> -31361 | F87: =+F88 -> 0 | G87: =+G88 -> -31361 | H87: =+I87+J87 -> -106805.5 | I87: =+I88 -> 0 | J87: =+J88 -> -106805.5
D88: ՀԻՄՆԱԿԱՆ ՄԻՋՈՑՆԵՐ | E88: =+F88+G88 -> -31361 | F88: =+F89 -> 0 | G88: =+G89 -> -31361 | H88: =+I88+J88 -> -106805.5 | I88: =+I89 -> 0 | J88: =+J89 -> -106805.5
D89: ՇԵՆՔԵՐ ԵՎ ՇԻՆՈՒԹՅՈՒՆՆԵՐ | E89: =+F89+G89 -> -31361 | F89: =+F90 -> 0 | G89: =+G90 -> -31361 | H89: =+I89+J89 -> -106805.5 | I89: =+I90 -> 0 | J89: =+J90 -> -106805.5
D90: - Շենքերի և շինությունների կապիտալ վերանորոգում | E90: =+F90+G90 -> -31361 | F90: 0 | G90: -31361 | H90: =+I90+J90 -> -106805.5 | I90: 0 | J90: -106805.5
C91: 12001 | D91: Գերմանիայի զարգացման և Եվրոպական միության հարևանության ներդրումային բանկի_x000D_ աջակցությամբ իրականացվող ջրամատակարարման և ջրահեռացման ենթակառուցվածքների_x000D_ դրամաշնորհային ծրագիր` երրորդ փուլ | E91: =+E93 -> -197188.1 | F91: =+F93 -> 0 | G91: =+G93 -> -197188.1 | H91: =+H93 -> -197188.1 | I91: =+I93 -> 0 | J91: =+J93 -> -197188.1
D92: այդ թվում` ըստ կատարողների
D93: ՀՀ տարածքային կառավարման և ենթակառուցվածքների նախարարության ջրային կոմիտե | E93: =+E95 -> -197188.1 | F93: =+F95 -> 0 | G93: =+G95 -> -197188.1 | H93: =+H95 -> -197188.1 | I93: =+I95 -> 0 | J93: =+J95 -> -197188.1
D94: այդ թվում` բյուջետային ծախսերի տնտեսագիտական դասակարգման հոդվածներ
D95: ԸՆԴԱՄԵՆԸ ԾԱԽՍԵՐ | E95: =+F95+G95 -> -197188.1 | F95: =+F96 -> 0 | G95: =+G96 -> -197188.1 | H95: =+I95+J95 -> -197188.1 | I95: =+I96 -> 0 | J95: =+J96 -> -197188.1
D96: ՈՉ ՖԻՆԱՆՍԱԿԱՆ ԱԿՏԻՎՆԵՐԻ ԳԾՈՎ ԾԱԽՍԵՐ | E96: =+F96+G96 -> -197188.1 | F96: =+F97 -> 0 | G96: =+G97 -> -197188.1 | H96: =+I96+J96 -> -197188.1 | I96: =+I97 -> 0 | J96: =+J97 -> -197188.1
D97: ՀԻՄՆԱԿԱՆ ՄԻՋՈՑՆԵՐ | E97: =+F97+G97 -> -197188.1 | F97: =+F98+F100 -> 0 | G97: =+G98+G100 -> -197188.1 | H97: =+I97+J97 -> -197188.1 | I97: =+I98+I100 -> 0 | J97: =+J98+J100 -> -197188.1
D98: ՇԵՆՔԵՐ ԵՎ ՇԻՆՈՒԹՅՈՒՆՆԵՐ | E98: =+F98+G98 -> -185674.4 | F98: =+F99 -> 0 | G98: =+G99 -> -185674.4 | H98: =+I98+J98 -> -185674.4 | I98: =+I99 -> 0 | J98: =+J99 -> -185674.4
D99: - Շենքերի և շինությունների շինարարություն | E99: =+F99+G99 -> -185674.4 | F99: 0 | G99: -185674.4 | H99: =+I99+J99 -> -185674.4 | I99: 0 | J99: -185674.4
D100: ԱՅԼ ՀԻՄՆԱԿԱՆ ՄԻՋՈՑՆԵՐ | E100: =+F100+G100 -> -11513.7 | F100: =+F101 -> 0 | G100: =+G101 -> -11513.7 | H100: =+I100+J100 -> -11513.7 | I100: =+I101 -> 0 | J100: =+J101 -> -11513.7
D101: - Նախագծահետազոտական ծախսեր | E101: =+F101+G101 -> -11513.7 | F101: 0 | G101: -11513.7 | H101: =+I101+J101 -> -11513.7 | I101: 0 | J101: -11513.7

Sheet 6
B1: Հավելված N6
B2: ՀՀ կառավարության 2022 թվականի
B3: ______________ ի ___Ն որոշման
B5: ՀԱՅԱՍՏԱՆԻ ՀԱՆՐԱՊԵՏՈՒԹՅԱՆ ԿԱՌԱՎԱՐՈՒԹՅԱՆ 2021 ԹՎԱԿԱՆԻ ԴԵԿՏԵՄԲԵՐԻ 23-Ի N 2121-Ն ՈՐՈՇՄԱՆ N 5 ՀԱՎԵԼՎԱԾԻ N 2 ԱՂՅՈՒՍԱԿՈՒՄ ԿԱՏԱՐՎՈՂ ԼՐԱՑՈՒՄՆԵՐԸ
E6: հազ. դրամ
B7: Ծրագրային դասիչ | D7: Բյուջետային գլխավոր կարգադրիչների, ծրագրերի, միջոցառումների և ուղղությունների անվանումները | E7: Ցուցանիշների փոփոխությունը (ավելացումները նշված են դրական նշանով, իսկ նվազեցումները` փակագծերում)
B8: Ծրագիր | C8: Միջոցառում | E8: Ինն ամիս | F8: Տարի
D9: ԸՆԴԱՄԵՆԸ | E9: =+E11 -> 0 | F9: =+F11 -> 5445225.8
D10: այդ թվում՝
D11: ՀՀ ՏԱՐԱԾՔԱՅԻՆ ԿԱՌԱՎԱՐՄԱՆ ԵՎ ԵՆԹԱԿԱՌՈՒՑՎԱԾՔՆԵՐԻ ՆԱԽԱՐԱՐՈՒԹՅՈՒՆ | E11: =+E13+E21 -> 0 | F11: =+F13+F21 -> 5445225.8
D12: այդ թվում`
B13: 1049 | C13: 21001 | D13: Պետական նշանակության ավտոճանապարհների հիմնանորոգում | E13: =+E15 -> 40563.5 | F13: =+F15 -> 5551808.2
D14: այդ թվում` ըստ կատարողների
D15: ՀՀ տարածքային կառավարման և ենթակառուցվածքների նախարարություն | E15: =+E17 -> 40563.5 | F15: =+F17 -> 5551808.2
D16: այդ թվում՝ ըստ ուղղությունների
C17: 3 | D17: Մարզային նշանակության ավտոճանապարհներ, այդ թվում | E17: =SUM(E18:E20) -> 40563.5 | F17: =SUM(F18:F20) -> 5551808.2
D18: /Մ-12/-Կոռնիձոր-ԱՀ սահման ավտոճանապարհի կմ0+000-կմ 4+000 հատվածի վերակառուցում | E18: 0 | F18: 360519.3
D19: /Մ-12/-Կոռնիձոր-ԱՀ սահման ավտոճանապարհի կմ4+000-կմ 9+000 հատվածի վերակառուցում | E19: 40563.5 | F19: 2364112.7
D20: /Մ-12/-Կոռնիձոր-ԱՀ սահման ավտոճանապարհի կմ9+000- կմ11+779.75 հատվածի վերակառուցում | E20: 0 | F20: 2827176.2
B21: 1049 | C21: 21001 | D21: Պետական նշանակության ավտոճանապարհների հիմնանորոգում | E21: =+E23 -> -40563.5 | F21: =+F23 -> -106582.4
D22: այդ թվում` ըստ կատարողների
D23: ՀՀ կառավարություն | E23: =-E13 -> -40563.5 | F23: -106582.4

Sheet 7
E1: Հավելված N7
B2: ՀՀ կառավարության 2022 թվականի
B3: ______________ ի ___Ն որոշման
B4: ՀԱՅԱՍՏԱՆԻ ՀԱՆՐԱՊԵՏՈՒԹՅԱՆ ԿԱՌԱՎԱՐՈՒԹՅԱՆ 2021 ԹՎԱԿԱՆԻ ԴԵԿՏԵՄԲԵՐԻ 23-Ի N 2121-Ն ՈՐՈՇՄԱՆ N 9 ՀԱՎԵԼՎԱԾԻ NN 9.7, 9.10 ԵՎ 9.47 ԱՂՅՈՒՍԱԿՆԵՐՈՒՄ ԿԱՏԱՐՎՈՂ ՓՈՓՈԽՈՒԹՅՈՒՆՆԵՐԸ ԵՎ ԼՐԱՑՈՒՄՆԵՐԸ
E5: Աղյուսակ 9.7
B6: ՀՀ ՏԱՐԱԾՔԱՅԻՆ ԿԱՌԱՎԱՐՄԱՆ ԵՎ ԵՆԹԱԿԱՌՈՒՑՎԱԾՔՆԵՐԻ ՆԱԽԱՐԱՐՈՒԹՅՈՒՆ
B7: ՄԱՍ 2. ՊԵՏԱԿԱՆ ՄԱՐՄՆԻ ԳԾՈՎ ԱՐԴՅՈՒՆՔԱՅԻՆ (ԿԱՏԱՐՈՂԱԿԱՆ) ՑՈՒՑԱՆԻՇՆԵՐԸ
B8: Ծրագրի դասիչը | C8: Ծրագրի անվանումը
B9: 1049 | C9: Ճանապարհային ցանցի բարելավում
B11: Ծրագրի միջոցառումները
B13: Ծրագրի դասիչը` | C13: 1049 | D13: Ցուցանիշների փոփոխությունը (ավելացումները նշված են դրական նշանով)
B14: Միջոցառման դասիչը` | C14: 21001 | D14: Ինն ամիս | E14: Տարի
B15: Միջոցառման անվանումը` | C15: Պետական նշանակության ավտոճանապարհների հիմնանորոգում
B16: Նկարագրությունը` | C16: Միջպետական՝ հանրապետական և մարզային նշանակության ավտոճանապարհների քայքայված ծածկի վերանորոգում՝ մաշված ծածկի փոխարինում_x000D_
B17: Միջոցառման տեսակը` | C17: Հանրության կողմից անմիջականորեն օգտագործվող ակտիվների հետ կապված միջոցառումներ
B18: Միջոցառումն իրականացնողի անվանումը | C18: Մասնագիտացված միավոր
B19: Արդյունքի չափորոշիչներ
B20: Միջոցառման վրա կատարվող ծախսը (հազար դրամ) | D20: =+'1'!E13 -> 0 | E20: =+'1'!F13 -> 5445225.8
B22: Ծրագրի դասիչը | C22: Ծրագրի անվանումը
B23: =+'3'!E65 -> 1004 | C23: =+'3'!G65 -> Ոռոգման համակարգի առողջացում
B25: Ծրագրի միջոցառումները
B26: Ծրագրի դասիչը` | C26: 1004 | D26: Ցուցանիշների փոփոխությունը (նվազեցումները նշված են փակագծերում)
B27: Միջոցառման դասիչը` | C27: 11009 | D27: Ինն ամիս | E27: Տարի
B28: Միջոցառման անվանումը` | C28: Գերմանիայի զարգացման վարկերի բանկի աջակցությամբ իրականացվող Ախուրյան գետի ջրային ռեսուրսների ինտեգրացված կառավարման դրամաշնորհային ծրագիր
B29: Նկարագրությունը` | C29: Գերմանիայի զարգացման վարկերի բանկի աջակցությամբ իրականացվող Ախուրյան գետի ջրային ռեսուրսների ինտեգրացված կառավարման դրամաշնորհային ծրագրի համակարգում և ղեկավարում
B30: Միջոցառման տեսակը` | C30: Ծառայությունների մատուցում
B31: Միջոցառումն իրականացնողի անվանումը` | C31: Մասնագիտատացված միավոր
B32: Արդյունքի չափորոշիչներ
B33: Միջոցառման վրա կատարված ծախսը (հազար դրամ) | D33: =+'1'!E51 -> -5576.9 | E33: =+'1'!F51 -> -5576.9
B35: Ծրագրի դասիչը` | C35: 1004 | D35: Ցուցանիշների փոփոխությունը (նվազեցումները նշված են փակագծերում)
B36: Միջոցառման դասիչը` | C36: 11012 | D36: Ինն ամիս | E36: Տարի
B37: Միջոցառման անվանումը` | C37: Ֆրանսիայի Հանրապետության կառավարության աջակցությամբ իրականացվող՛ Վեդու ջրամբարի կառուցման դրամաշնորհային ծրագիր
B38: Նկարագրությունը` | C38: Ֆրանսիայի Հանրապետության կառավարության աջակցությամբ իրականացվող՛ Վեդու ջրամբարի կառուցման դրամաշնորհային ծրագրի համակարգում և ղեկավարում
B39: Միջոցառման տեսակը` | C39: Ծառայությունների մատուցում
B40: Ակտիվն օգտագործող կազմակերպության(ների) անվանում(ները)՛ | C40: Մասնագիտացված միավոր
B41: Արդյունքի չափորոշիչներ
B42: Միջոցառման վրա կատարված ծախսը (հազար դրամ) | D42: =+'1'!E69 -> -1139.5 | E42: =+'1'!F69 -> -1139.5
B44: Ծրագրի դասիչը` | C44: 1004 | D44: Ցուցանիշների փոփոխությունը (նվազեցումները նշված են փակագծերում)
B45: Միջոցառման դասիչը` | C45: 12002 | D45: Ինն ամիս | E45: Տարի
B46: Միջոցառման անվանումը` | C46: Գերմանիայի զարգացման բանկի աջակցությամբ իրականացվող Ախուրյան գետի ջրային ռեսուրսների ինտեգրված կառավարման փուլ 1 ծրագրով Ջրաձոր գյուղի վերաբնակեցման համար ենթակառուցվածքների և բնակելի տների կառուցում
B47: Նկարագրությունը` | C47: Գերմանիայի զարգացման բանկի աջակցությամբ իրականացվող Ախուրյան գետի ջրային ռեսուրսների ինտեգրված կառավարման փուլ 1 ծրագիր
B48: Միջոցառման տեսակը` | C48: Տրանսֆերտների տրամադրում
B49: Ակտիվն օգտագործող կազմակերպությունների անվանում | C49: Մասնագիտացված միավոր
B50: Արդյունքի չափորոշիչներ
B51: Նոր կառուցվող բնակելի տներ, հատ | E51: -3
B52: Միջոցառման վրա կատարված ծախսը (հազար դրամ) | D52: =+'1'!E57 -> -323792.5 | E52: =+'1'!F57 -> -323792.5
B54: Ծրագրի դասիչը` | C54: 1004 | D54: Ցուցանիշների փոփոխությունը (նվազեցումները նշված են փակագծերում)
B55: Միջոցառման դասիչը` | C55: 31004 | D55: Ինն ամիս | E55: Տարի
B56: Միջոցառման անվանումը` | C56: Գերմանիայի զարգացման վարկերի բանկի աջակցությամբ իրականացվող Ախուրյան գետի ջրային ռեսուրսների ինտեգրված կառավարման ծրագրի շրջանակներում ջրային տնտեսության ենթակառուցվածքների հիմնանորոգում
B57: Նկարագրությունը` | C57: Գերմանիայի զարգացման վարկերի բանկի աջակցությամբ իրականացվող Ախուրյան գետի ջրային ռեսուրսների ինտեգրված կառավարման ծրագիր
B58: Միջոցառման տեսակը` | C58: Պետական մարմինների կողմից օգտագործվող ոչ ֆինանսական ակտիվների հետ գործառնություններ
B59: Ակտիվն օգտագործող կազմակերպության(ների) անվանում(ները)՛ | C59: Մասնագիտացված միավոր
B60: Արդյունքի չափորոշիչներ
B61: Նոր կառուցվող պատվարի երկարություն, մ | D61: -2 | E61: -2
B62: Միջոցառման վրա կատարված ծախսը (հազար դրամ) | D62: =+'1'!E63 -> -614554.1 | E62: =+'1'!F63 -> -883874.4
B64: Ծրագրի դասիչը | C64: Ծրագրի անվանումը
B65: =+'1'!B75 -> 1040 | C65: =+'1'!D76 -> Կոշտ թափոնների կառավարում
B67: Ծրագրի միջոցառումները
B69: Ծրագրի դասիչը` | C69: 1040 | D69: Ցուցանիշների փոփոխությունը (նվազեցումները նշված են փակագծերում)
B70: Միջոցառման դասիչը` | C70: 12002 | D70: Ինն ամիս | E70: Տարի
B71: Միջոցառման անվանումը` | C71: Վերակառուցման և զարգացման եվրոպական բանկի աջակցությամբ իրականացվող «Կոտայքի և Գեղարքունիքի մարզի կոշտ թափոնների կառավարման խորհրդատվության համար» դրամաշնորհային ծրագիր
B72: Նկարագրությունը` | C72: Կոշտ թափոննրի կառավարման համակարգի բարելավում և նոր աղբավայրի ստեղծում
B73: Միջոցառման տեսակը` | C73: Տրանսֆերտների տրամադրում
B74: Միջոցառումն իրականացնողի անվանումը՛ | C74: ՀՀ տարածքային կառավարման և ենթակառուցվածքների նախարարություն
B75: Արդյունքի չափորոշիչներ
B76: Միջոցառման վրա կատարված ծախսը (հազար դրամ) | D76: =+'1'!E82 -> -7632.4 | E76: =+'1'!F82 -> -22000
B78: Ծրագրի դասիչը` | C78: 1040 | D78: Ցուցանիշների փոփոխությունը (նվազեցումները նշված են փակագծերում)
B79: Միջոցառման դասիչը` | C79: 32004 | D79: Ինն ամիս | E79: Տարի
B80: Միջոցառման անվանումը` | C80: Վերակառուցման և զարգացման եվրոպական բանկի աջակցությամբ իրականացվող «Կոտայքի և Գեղարքունիքի մարզի կոշտ թափոնների կառավարման» դրամաշնորհային ծրագիր
B81: Նկարագրությունը` | C81: Կոշտ թափոնների կառավարման համակարգի բարելավում և նոր աղբավայրի ստեղծում
B82: Միջոցառման տեսակը` | C82: Այլ պետական կազմակերպությունների կողմից օգտագործվող ոչ ֆինանսական ակտիվների հետ գործառնություններ
B83: Միջոցառումն իրականացնողի անվանումը՛ | C83: ՀՀ տարածքային կառավարման և ենթակառուցվածքների նախարարություն
B84: Արդյունքի չափորոշիչներ
B85: Միջոցառման վրա կատարված ծախսը (հազար դրամ) | D85: =+'1'!E88 -> -61062.1 | E85: =+'1'!F88 -> -121497.9
B87: Ծրագրի դասիչը | C87: Ծրագրի անվանումը
B88: =+'3'!E157 -> 1072 | C88: =+'3'!G157 -> Ջրամատակարարաման և ջրահեռացման բարելավում
B90: Ծրագրի միջոցառումները
B92: Ծրագրի դասիչը` | C92: 1072 | D92: Ցուցանիշների փոփոխությունը (նվազեցումները նշված են փակագծերում)
B93: Միջոցառման դասիչը` | C93: 11004 | D93: Ինն ամիս | E93: Տարի
B94: Միջոցառման անվանումը` | C94: Եվրոպական միության հարևանության ներդրումային ծրագրի աջակցությամբ իրականացվող Երևանի ջրամատակարարման բարելավման դրամաշնորհային ծրագիր
B95: Նկարագրությունը` | C95: Երևանի ջրամատակարարման բարելավման ծրագրի աուդիտի իրականացում
B96: Միջոցառման տեսակը` | C96: Ծառայությունների մատուցում
B97: Միջոցառումն իրականացնողի անվանումը` | C97: Մասնագիտացված միավոր
B98: Արդյունքի չափորոշիչներ
B99: Միջոցառման վրա կատարված ծախսը (հազար դրամ) | D99: =+'1'!E101 -> -1145.8 | E99: =+'1'!F101 -> -1145.8
B101: Ծրագրի դասիչը` | C101: 1072 | D101: Ցուցանիշների փոփոխությունը (նվազեցումները նշված են փակագծերում)
B102: Միջոցառման դասիչը` | C102: 12001 | D102: Ինն ամիս | E102: Տարի
B103: Միջոցառման անվանումը` | C103: Գերմանիայի զարգացման և Եվրոպական միության հարևանության ներդրումային բանկի աջակցությամբ իրականացվող ջրամատակարարման և ջրահեռացման ենթակառուցվածքների դրամաշնորհային ծրագիր` երրորդ փուլ
B104: Նկարագրությունը` | C104: 579 գյուղական բնակավայրերից ընտրված որոշ համայնքների ջրամատակարարման և ջրահեռացման համակարգերի հատվածների հրատապ վերականգնման աշխատանքների իրականացում ինչպես նաև՛ Արմավիրի կեղտաջրերի մաքրման կայանի կառուցում
B105: Միջոցառման տեսակը` | C105: Տրանսֆերտների տրամադրում
B106: Միջոցառումն իրականացնողի անվանումը` | C106: Մասնագիտացված միավոր
B107: Արդյունքի չափորոշիչներ
B108: Նորոգվող ջրագծերի երկարություն, կմ | D108: -1.5 | E108: -1.5
B109: Նորոգվող կոյուղագծերի երկարություն, կմ | D109: -0.2 | E109: -0.2
B110: Նորոգվող տնային միացումներ, հատ | D110: -94 | E110: -94
B111: Միջոցառման վրա կատարված ծախսը (հազար դրամ) | D111: =+'1'!E107 -> -197188.1 | E111: =+'1'!F107 -> -197188.1
B113: Ծրագրի դասիչը` | C113: 1072 | D113: Ցուցանիշների փոփոխությունը (նվազեցումները նշված են փակագծերում)
B114: Միջոցառման դասիչը` | C114: 31004 | D114: Ինն ամիս | E114: Տարի
B115: Միջոցառման անվանումը` | C115: Եվրոպական միության հարևանության ներդրումային ծրագրի աջակցությամբ իրականացվող Երևանի ջրամատակարարման բարելավման դրամաշնորհային ծրագրի շրջանակներում Ջրամատակարարման և ջրահեռացման ենթակառուցվածքների հիմնանորոգում
B116: Նկարագրությունը` | C116: Երևանի ջրամատակարարման ցանցի բարելավման աշխատանքներ
...

Sheet 8
E1: Հավելված N 8
B2: ՀՀ կառավարության 2022 թվականի
B3: ______________ ի ___Ն որոշման
B4: ՀԱՅԱՍՏԱՆԻ ՀԱՆՐԱՊԵՏՈՒԹՅԱՆ ԿԱՌԱՎԱՐՈՒԹՅԱՆ 2021 ԹՎԱԿԱՆԻ ԴԵԿՏԵՄԲԵՐԻ 23-Ի N 2121-Ն ՈՐՈՇՄԱՆ N 9.1 ՀԱՎԵԼՎԱԾԻ NN 9.1.8, 9.1.11, 9.1.26 և 9.1.59 ԱՂՅՈՒՍԱԿՆԵՐՈՒՄ ԿԱՏԱՐՎՈՂ ՓՈՓՈԽՈՒԹՅՈՒՆՆԵՐԸ ԵՎ ԼՐԱՑՈՒՄՆԵՐԸ
E5: Աղյուսակ 9.1.8
B6: ՀՀ տարածքային կառավարման և ենթակառուցվածքների նախարարություն
B7: ՄԱՍ 1. ՊԵՏԱԿԱՆ ՄԱՐՄՆԻ ԳԾՈՎ ԱՐԴՅՈՒՆՔԱՅԻՆ (ԿԱՏԱՐՈՂԱԿԱՆ) ՑՈՒՑԱՆԻՇՆԵՐԸ
B8: Ծրագրի դասիչը | C8: Ծրագրի անվանումը
B9: 1049 | C9: Ճանապարհային ցանցի բարելավում
B11: Ծրագրի միջոցառումները
B13: Ծրագրի դասիչը` | C13: 1049 | D13: Ցուցանիշների փոփոխությունը (ավելացումները նշված են դրական նշանով)
B14: Միջոցառման դասիչը` | C14: 21001 | D14: Ինն ամիս | E14: Տարի
B15: Միջոցառման անվանումը` | C15: =+'[1]4'!C19 -> Պետական նշանակության ավտոճանապարհների հիմնանորոգում
B16: Նկարագրությունը` | C16: =+'[1]4'!C21 -> Միջպետական, հանրապետական և մարզային նշանակության ավտոճոնապարհների քայքայված ծածկի վերանորոգում, մաշված ծածկի փոխարինում
B17: Միջոցառման տեսակը` | C17: =+'[1]4'!C23 -> Հանրության կողմից անմիջականորեն օգտագործվող ակտիվների հետ կապված միջոցառումներ
B18: Միջոցառումն իրականացնողի անվանումը | C18: Մասնագիտացված միավոր
B19: Արդյունքի չափորոշիչներ
B20: Միջոցառման վրա կատարվող ծախսը (հազար դրամ) | D20: =+'3'!H33 -> 40563.5 | E20: =+'3'!I33 -> 5551808.2
B22: Ծրագրի դասիչը | C22: Ծրագրի անվանումը
B23: =+'7'!B65 -> 1040 | C23: =+'7'!C65 -> Կոշտ թափոնների կառավարում
B25: Ծրագրի միջոցառումները
B27: Ծրագրի դասիչը` | C27: 1040 | D27: Ցուցանիշների փոփոխությունը (նվազեցումները նշված են փակագծերում)
B28: Միջոցառման դասիչը` | C28: 12002 | D28: Ինն ամիս | E28: Տարի
B29: Միջոցառման անվանումը` | C29: Վերակառուցման և զարգացման եվրոպական բանկի աջակցությամբ իրականացվող «Կոտայքի և Գեղարքունիքի մարզի կոշտ թափոնների կառավարման խորհրդատվության համար» դրամաշնորհային ծրագիր
B30: Նկարագրությունը` | C30: Կոշտ թափոննրի կառավարման համակարգի բարելավում և նոր աղբավայրի ստեղծում
B31: Միջոցառման տեսակը` | C31: Տրանսֆերտների տրամադրում
B32: Միջոցառումն իրականացնողի անվանումը՛ | C32: ՀՀ տարածքային կառավարման և ենթակառուցվածքների նախարարություն
B33: Արդյունքի չափորոշիչներ
B34: Միջոցառման վրա կատարված ծախսը (հազար դրամ) | D34: =+'7'!D76 -> -7632.4 | E34: =+'7'!E76 -> -22000
B36: Ծրագրի դասիչը` | C36: 1040 | D36: Ցուցանիշների փոփոխությունը (նվազեցումները նշված են փակագծերում)
B37: Միջոցառման դասիչը` | C37: 32004 | D37: Ինն ամիս | E37: Տարի
B38: Միջոցառման անվանումը` | C38: Վերակառուցման և զարգացման եվրոպական բանկի աջակցությամբ իրականացվող «Կոտայքի և Գեղարքունիքի մարզի կոշտ թափոնների կառավարման» դրամաշնորհային ծրագիր
B39: Նկարագրությունը` | C39: Կոշտ թափոնների կառավարման համակարգի բարելավում և նոր աղբավայրի ստեղծում
B40: Միջոցառման տեսակը` | C40: Այլ պետական կազմակերպությունների կողմից օգտագործվող ոչ ֆինանսական ակտիվների հետ գործառնություններ
B41: Միջոցառումն իրականացնողի անվանումը՛ | C41: ՀՀ տարածքային կառավարման և ենթակառուցվածքների նախարարություն
B42: Արդյունքի չափորոշիչներ
B43: Միջոցառման վրա կատարված ծախսը (հազար դրամ) | D43: =+'7'!D85 -> -61062.1 | E43: =+'7'!E85 -> -121497.9
B45: Ծրագրի դասիչը | C45: Ծրագրի անվանումը
B46: 1157 | C46: Քաղաքային զարգացում
B48: Ծրագրի միջոցառումները
B49: Ծրագրի դասիչը` | C49: 1157 | D49: Ցուցանիշների փոփոխությունը (նվազեցումները նշված են փակագծերում)
B50: Միջոցառման դասիչը` | C50: 12016 | D50: Ինն ամիս | E50: Տարի
B51: Միջոցառման անվանումը` | C51: Վերակառուցման և զարգացման եվրոպական բանկի աջակցությամբ իրականացվող Գյումրու քաղաքային ճանապարհների տեխնիկական համագործակցության դրամաշնորհային ծրագիր
B52: Նկարագրությունը` | C52: Գյումրու ճանապարհների վերակառուցմանը և փողոցային լուսավորության արդիականացմանը խորհրդատվական աջակցություն
B53: Միջոցառման տեսակը` | C53: Տրանսֆերտների տրամադրում
B54: Շահառուների ընտրության չափանիշները | C54: ՀՀ բնակչություն
B55: Արդյունքի չափորոշիչներ
B56: Ընտրված փողոցների մշակվող նախագծանախահաշվային փաստաթղթերի թիվը՛ հատ | D56: -9 | E56: -9
B57: Ընտրված փողոցների շին աշխատանքների տեխնիկական և հեղինակային հսկողություն՛հատ | D57: -1 | E57: -1
B58: Միջոցառման վրա կատարված ծախսը (հազար դրամ) | D58: =+'7'!D150 -> -40075.8 | E58: =+'7'!E150 -> -51075.8
B60: Ծրագրի դասիչը` | C60: 1157 | D60: Ցուցանիշների փոփոխությունը (նվազեցումները նշված են փակագծերում)
B61: Միջոցառման դասիչը` | C61: 12018 | D61: Ինն ամիս | E61: Տարի
B62: Միջոցառման անվանումը` | C62: Վերակառուցման և զարգացման եվրոպական բանկի աջակցությամբ իրականացվող Գյումրու քաղաքային ճանապարհների դրամաշնորհային ծրագիր (Տրանշ Ա, Բ, Գ)
B63: Նկարագրությունը` | C63: Գյումրու փողոցային լուսավորության արդիականացում՛ փողոցային լուսավորության այլ ավտոմատ կառավարման համակարգի տեղադրում
B64: Միջոցառման տեսակը` | C64: Տրանսֆերտների տրամադրում
B65: Շահառուների ընտրության չափանիշները | C65: Ընտրությունը կատարվել է իրագործելիության ուսումնասիրությունների հիման վրա
B66: Արդյունքի չափորոշիչներ
B67: Քաղաքի 72 փողոցների լուսավորության համակարգի արդիականացում ավտոմատ կառավարման համակարգով՛ լուսակետ՛ հատ | D67: -250 | E67: -400
B68: Միջոցառման վրա կատարված ծախսը (հազար դրամ) | D68: =+'7'!D160 -> -44000 | E68: =+'7'!E160 -> -54234.2
E70: Աղյուսակ 9.1.26
B71: ՀՀ տարածքային կառավարման և ենթակառուցվածքների նախարարության ջրային կոմիտե
B72: ՄԱՍ 1. ՊԵՏԱԿԱՆ ՄԱՐՄՆԻ ԳԾՈՎ ԱՐԴՅՈՒՆՔԱՅԻՆ (ԿԱՏԱՐՈՂԱԿԱՆ) ՑՈՒՑԱՆԻՇՆԵՐԸ
B74: Ծրագրի դասիչը | C74: Ծրագրի անվանումը
B75: =+'7'!B23 -> 1004 | C75: =+'7'!C23 -> Ոռոգման համակարգի առողջացում
B77: Ծրագրի միջոցառումները
B78: Ծրագրի դասիչը` | C78: 1004 | D78: Ցուցանիշների փոփոխությունը (նվազեցումները նշված են փակագծերում)
B79: Միջոցառման դասիչը` | C79: 11009 | D79: Ինն ամիս | E79: Տարի
B80: Միջոցառման անվանումը` | C80: Գերմանիայի զարգացման վարկերի բանկի աջակցությամբ իրականացվող Ախուրյան գետի ջրային ռեսուրսների ինտեգրացված կառավարման դրամաշնորհային ծրագիր
B81: Նկարագրությունը` | C81: Գերմանիայի զարգացման վարկերի բանկի աջակցությամբ իրականացվող Ախուրյան գետի ջրային ռեսուրսների ինտեգրացված կառավարման դրամաշնորհային ծրագրի համակարգում և ղեկավարում
B82: Միջոցառման տեսակը` | C82: Ծառայությունների մատուցում
B83: Միջոցառումն իրականացնողի անվանումը` | C83: Մասնագիտատացված միավոր
B84: Արդյունքի չափորոշիչներ
B85: Միջոցառման վրա կատարված ծախսը (հազար դրամ) | D85: =+'7'!D33 -> -5576.9 | E85: =+'7'!E33 -> -5576.9
B87: Ծրագրի դասիչը` | C87: 1004 | D87: Ցուցանիշների փոփոխությունը (նվազեցումները նշված են փակագծերում)
B88: Միջոցառման դասիչը` | C88: 11012 | D88: Ինն ամիս | E88: Տարի
B89: Միջոցառման անվանումը` | C89: Ֆրանսիայի Հանրապետության կառավարության աջակցությամբ իրականացվող՛ Վեդու ջրամբարի կառուցման դրամաշնորհային ծրագիր
B90: Նկարագրությունը` | C90: Ֆրանսիայի Հանրապետության կառավարության աջակցությամբ իրականացվող՛ Վեդու ջրամբարի կառուցման դրամաշնորհային ծրագրի համակարգում և ղեկավարում
B91: Միջոցառման տեսակը` | C91: Ծառայությունների մատուցում
B92: Ակտիվն օգտագործող կազմակերպության(ների) անվանում(ները)՛ | C92: Մասնագիտացված միավոր
B93: Արդյունքի չափորոշիչներ
B94: Միջոցառման վրա կատարված ծախսը (հազար դրամ) | D94: =+'7'!D42 -> -1139.5 | E94: =+'7'!E42 -> -1139.5
B96: Ծրագրի դասիչը` | C96: 1004 | D96: Ցուցանիշների փոփոխությունը (նվազեցումները նշված են փակագծերում)
B97: Միջոցառման դասիչը` | C97: 12002 | D97: Ինն ամիս | E97: Տարի
B98: Միջոցառման անվանումը` | C98: Գերմանիայի զարգացման բանկի աջակցությամբ իրականացվող Ախուրյան գետի ջրային ռեսուրսների ինտեգրված կառավարման փուլ 1 ծրագրով Ջրաձոր գյուղի վերաբնակեցման համար ենթակառուցվածքների և բնակելի տների կառուցում
B99: Նկարագրությունը` | C99: Գերմանիայի զարգացման բանկի աջակցությամբ իրականացվող Ախուրյան գետի ջրային ռեսուրսների ինտեգրված կառավարման փուլ 1 ծրագիր
B100: Միջոցառման տեսակը` | C100: Տրանսֆերտների տրամադրում
B101: Ակտիվն օգտագործող կազմակերպությունների անվանում | C101: Մասնագիտացված միավոր
B102: Արդյունքի չափորոշիչներ
B103: =+'7'!B51:C51 -> Նոր կառուցվող բնակելի տներ, հատ | D103: =+'7'!D51:E51 -> 0 | E103: =+'7'!E51:F51 -> -3
B104: Միջոցառման վրա կատարված ծախսը (հազար դրամ) | D104: =+'7'!D52 -> -323792.5 | E104: =+'7'!E52 -> -323792.5
B106: Ծրագրի դասիչը` | C106: 1004 | D106: Ցուցանիշների փոփոխությունը (նվազեցումները նշված են փակագծերում)
B107: Միջոցառման դասիչը` | C107: 31004 | D107: Ինն ամիս | E107: Տարի
B108: Միջոցառման անվանումը` | C108: Գերմանիայի զարգացման վարկերի բանկի աջակցությամբ իրականացվող Ախուրյան գետի ջրային ռեսուրսների ինտեգրված կառավարման ծրագրի շրջանակներում ջրային տնտեսության ենթակառուցվածքների հիմնանորոգում
B109: Նկարագրությունը` | C109: Գերմանիայի զարգացման վարկերի բանկի աջակցությամբ իրականացվող Ախուրյան գետի ջրային ռեսուրսների ինտեգրված կառավարման ծրագիր
B110: Միջոցառման տեսակը` | C110: Պետական մարմինների կողմից օգտագործվող ոչ ֆինանսական ակտիվների հետ գործառնություններ
B111: Ակտիվն օգտագործող կազմակերպության(ների) անվանում(ները)՛ | C111: Մասնագիտացված միավոր
B112: Արդյունքի չափորոշիչներ
B113: Նոր կառուցվող պատվարի երկարություն, մ | D113: -2 | E113: -2
B114: Միջոցառման վրա կատարված ծախսը (հազար դրամ) | D114: =+'7'!D62 -> -614554.1 | E114: =+'7'!E62 -> -883874.4
B116: Ծրագրի դասիչը | C116: Ծրագրի անվանումը
...

Sheet 9
B1: Հավելված N 9
B2: ՀՀ կառավարության 2022 թվականի
B3: ______________ ի ___Ն որոշման
B5: ՀԱՅԱՍՏԱՆԻ ՀԱՆՐԱՊԵՏՈՒԹՅԱՆ ԿԱՌԱՎԱՐՈՒԹՅԱՆ 2021 ԹՎԱԿԱՆԻ ԴԵԿՏԵՄԲԵՐԻ 23-Ի N 2121-Ն ՈՐՈՇՄԱՆ N 10 ՀԱՎԵԼՎԱԾՈՒՄ ԿԱՏԱՐՎՈՂ ԼՐԱՑՈՒՄՆԵՐԸ
B6: Կոդը | C6: Անվանումը | D6: Գնման ձևը | E6: Չափման միավորը | F6: Միավորի գինը | G6: Ցուցանիշների փոփոխությունը (ավելացումները նշված են դրական նշանով)
G7: Քանակը | H7: Գումարը (հազար դրամով)
B8: ՀՀ տարածքային կառավարման և ենթակառուցվածքների նախարարություն | H8: =+H9 -> 5551808.1
B9: Բաժին N 04 | C9: Խումբ N 05 | D9: Դաս N 01 | E9: Ճանապարհային տրանսպորտ | H9: =+H10 -> 5551808.1
B10: 1049 21001 | C10: Պետական նշանակության ավտոճանապարհների հիմնանորոգում | H10: =+H11+H15 -> 5551808.1
B11: ՄԱՍ II. ԱՇԽԱՏԱՆՔՆԵՐ | H11: =SUM(H12:H14) -> 5463772.1
B12: 45231177/553 | C12: ճանապարհների վերանորոգման աշխատանքներ | D12: ՀԲՄ | E12: դրամ | F12: 354742015 | G12: 1 | H12: =+G12*F12/1000 -> 354742.02
B13: 45231177/554 | C13: ճանապարհների վերանորոգման աշխատանքներ | D13: ՀԲՄ | E13: դրամ | F13: 2326967771 | G13: 1 | H13: =+G13*F13/1000 -> 2326967.8
B14: 45231177/556 | C14: ճանապարհների վերանորոգման աշխատանքներ | D14: ՀԲՄ | E14: դրամ | F14: 2782062324 | G14: 1 | H14: =+G14*F14/1000 -> 2782062.3
B15: ՄԱՍ III. ԾԱՌԱՅՈՒԹՅՈՒՆՆԵՐ | H15: =SUM(H16:H17) -> 88035.99
B16: 71351540/539 | C16: տեխնիկական հսկողության ծառայություններ | D16: ՀԲՄ | E16: դրամ | F16: 54052443 | G16: 1 | H16: =+G16*F16/1000 -> 54052.443
B17: 98111140 | C17: հեղինակային հսկողության ծառայություններ | D17: ՄԱ | E17: դրամ | F17: 33983547 | G17: 1 | H17: =+G17*F17/1000 -> 33983.547

Sheet 10
B1: Հավելված N10
B2: ՀՀ կառավարության 2022 թվականի
B3: ______________ ի ___Ն որոշման
B5: ՀԱՅԱՍՏԱՆԻ ՀԱՆՐԱՊԵՏՈՒԹՅԱՆ ԿԱՌԱՎԱՐՈՒԹՅԱՆ ՊԱՀՈՒՍՏԱՅԻՆ ՖՈՆԴԻՑ ԿԱՏԱՐՎՈՂ ՀԱՏԿԱՑՈՒՄԸ
H7: հազ. դրամ
B8: Գործառական դասիչը | E8: Ծրագրային դասիչը | G8: Բյուջետային ծախսերի գործառական դասակարգման բաժինների, խմբերի և դասերի, բյուջետային հատկացումների գլխավոր կարգադրիչների, ծրագրերի, միջոցառումների և միջոցառումները կատարող պետական մարմինների անվանումները | H8: Ցուցանիշների փոփոխությունը (ավելացումները նշված են դրական նշանով, իսկ նվազեցումները` փակագծերում)
B9: Բաժին | C9: Խումբ | D9: Դաս | E9: Ծրագիր | F9: Միջոցառում | H9: Ինն ամիս | I9: Տարի
G10: ԸՆԴԱՄԵՆԸ ԾԱԽՍԵՐ | H10: 0 | I10: 0
G11: այդ թվում`
G12: ՀՀ ՏԱՐԱԾՔԱՅԻՆ ԿԱՌԱՎԱՐՄԱՆ ԵՎ ԵՆԹԱԿԱՌՈՒՑՎԱԾՔՆԵՐԻ ՆԱԽԱՐԱՐՈՒԹՅՈՒՆ | H12: 0 | I12: 3544061.8
G13: այդ թվում`
B14: 04 | G14: ՏՆՏԵՍԱԿԱՆ ՀԱՐԱԲԵՐՈՒԹՅՈՒՆՆԵՐ | H14: 0 | I14: 3544061.8
G15: այդ թվում`
C16: 05 | G16: Տրանսպորտ | H16: 0 | I16: 3544061.8
G17: այդ թվում`
D18: 01 | G18: Ճանապարհային տրանսպորտ | H18: 0 | I18: 3544061.8
G19: այդ թվում`
G20: ՀՀ ՏԱՐԱԾՔԱՅԻՆ ԿԱՌԱՎԱՐՄԱՆ ԵՎ ԵՆԹԱԿԱՌՈՒՑՎԱԾՔՆԵՐԻ ՆԱԽԱՐԱՐՈՒԹՅՈՒՆ | H20: 0 | I20: 3544061.8
G21: այդ թվում`
E22: 1049 | G22: Ճանապարհային ցանցի բարելավում | H22: 0 | I22: 3544061.8
G23: այդ թվում`
F24: 21001 | G24: Պետական նշանակության ավտոճանապարհների հիմնանորոգում | H24: 0 | I24: 3544061.8
G25: այդ թվում` ըստ կատարողների
G26: ՀՀ տարածքային կառավարման և ենթակառուցվածքների նախարարություն | H26: 0 | I26: 3544061.8
G27: այդ թվում` բյուջետային ծախսերի տնտեսագիտական դասակարգման հոդվածների
G28: ԸՆԴԱՄԵՆԸ ԾԱԽՍԵՐ | H28: 0 | I28: 3544061.8
G29: ՈՉ ՖԻՆԱՆՍԱԿԱՆ ԱԿՏԻՎՆԵՐԻ ԳԾՈՎ ԾԱԽՍԵՐ | H29: 0 | I29: 3544061.8
G30: ՀԻՄՆԱԿԱՆ ՄԻՋՈՑՆԵՐ | H30: 0 | I30: 3544061.8
G31: ՇԵՆՔԵՐ ԵՎ ՇԻՆՈՒԹՅՈՒՆՆԵՐ | H31: 0 | I31: 3544061.8
G32: - Շենքերի և շինությունների կապիտալ վերանորոգում | H32: 0 | I32: =-I33 -> 3544061.8
G33: ՀՀ կառավարություն | H33: 0 | I33: -3544061.8
G34: այդ թվում`
B35: 11 | G35: ՀԻՄՆԱԿԱՆ ԲԱԺԻՆՆԵՐԻՆ ՉԴԱՍՎՈՂ ՊԱՀՈՒՍՏԱՅԻՆ ՖՈՆԴԵՐ | H35: 0 | I35: -3544061.8
G36: այդ թվում`
C37: 01 | G37: ՀՀ կառավարության և համայնքների պահուստային ֆոնդ | H37: 0 | I37: -3544061.8
G38: այդ թվում`
D39: 01 | G39: ՀՀ կառավարության պահուստային ֆոնդ | H39: 0 | I39: -3544061.8
G40: այդ թվում`
G41: ՀՀ կառավարություն | H41: 0 | I41: -3544061.8
G42: այդ թվում`
E43: 1139 | G43: ՀՀ կառավարության պահուստային ֆոնդ | H43: 0 | I43: -3544061.8
G44: այդ թվում`
F45: 11001 | G45: ՀՀ կառավարության պահուստային ֆոնդ | H45: 0 | I45: -3544061.8
G46: այդ թվում` ըստ կատարողների
G47: ՀՀ կառավարություն | H47: 0 | I47: -3544061.8
G48: այդ թվում` բյուջետային ծախսերի տնտեսագիտական դասակարգման հոդվածներ
G49: ԸՆԴԱՄԵՆԸ ԾԱԽՍԵՐ | H49: 0 | I49: -3544061.8
G50: ԸՆԹԱՑԻԿ ԾԱԽՍԵՐ | H50: 0 | I50: -3544061.8
G51: ԱՅԼ ԾԱԽՍԵՐ | H51: 0 | I51: -3544061.8
G52: Պահուստային միջոցներ | H52: 0 | I52: -3544061.8
