Workbook
Name AgencyCode: #REF!
Name AgencyCode: #REF!
Name AgencyCode: #REF!
Name AgencyCode: #REF!
Name AgencyCode: #REF!
Name AgencyCode: #REF!
Name AgencyCode: #REF!
Name AgencyCode: #REF!
Name AgencyName: #REF!
Name AgencyName: #REF!
Name AgencyName: #REF!
Name AgencyName: #REF!
Name AgencyName: #REF!
Name AgencyName: #REF!
Name åû: #REF!
Name åû: #REF!
Name åû: #REF!
Name davit: #REF!
Name davit: #REF!
Name davit: #REF!
Name Functional1: #REF!
Name Functional1: #REF!
Name Functional1: #REF!
Name Functional1: #REF!
Name Functional1: #REF!
Name Functional1: #REF!
Name ggg: #REF!
Name ggg: #REF!
Name ggg: #REF!
Name mas: #REF!
Name mas: #REF!
Name mas: #REF!
Name mass: #REF!
Name mass: #REF!
Name mass: #REF!
Name PANature: #REF!
Name PANature: #REF!
Name PANature: #REF!
Name PANature: #REF!
Name PANature: #REF!
Name PANature: #REF!
Name PAType: #REF!
Name PAType: #REF!
Name PAType: #REF!
Name PAType: #REF!
Name PAType: #REF!
Name PAType: #REF!
Name Performance2: #REF!
Name Performance2: #REF!
Name Performance2: #REF!
Name Performance2: #REF!
Name Performance2: #REF!
Name Performance2: #REF!
Name PerformanceType: #REF!
Name PerformanceType: #REF!
Name PerformanceType: #REF!
Name PerformanceType: #REF!
Name PerformanceType: #REF!
Name PerformanceType: #REF!
Name x: #REF!

Sheet 1
F1: Հավելված N1
F2: ՀՀ կառավարության 2022 թվականի
F3: ______________ ի ___Ն որոշման
B5: «ՀԱՅԱUՏԱՆԻ ՀԱՆՐԱՊԵՏՈՒԹՅԱՆ 2022 ԹՎԱԿԱՆԻ ՊԵՏԱԿԱՆ ԲՅՈՒՋԵԻ ՄԱUԻՆ» OՐԵՆՔԻ N 1 ՀԱՎԵԼՎԱԾԻ N 2 ԱՂՅՈՒՍԱԿՈՒՄ ԿԱՏԱՐՎՈՂ ՎԵՐԱԲԱՇԽՈՒՄԸ ԵՎ ՀԱՅԱՍՏԱՆԻ ՀԱՆՐԱՊԵՏՈՒԹՅԱՆ ԿԱՌԱՎԱՐՈՒԹՅԱՆ 2021 ԹՎԱԿԱՆԻ ԴԵԿՏԵՄԲԵՐԻ 23-Ի N 2121-Ն ՈՐՈՇՄԱՆ N 5 ՀԱՎԵԼՎԱԾԻ N 1 ԱՂՅՈՒՍԱԿՈՒՄ ԿԱՏԱՐՎՈՂ ՓՈՓՈԽՈՒԹՅՈՒՆՆԵՐԸ ԵՎ ԼՐԱՑՈՒՄՆԵՐԸ
F6: հազ. դրամ
B7: Ծրագրային դասիչը | D7: Բյուջետային հատկացումների գլխավոր կարգադրիչների, ծրագրերի և միջոցառումների անվանումները | E7: Ցուցանիշների փոփոխությունը (ավելացումները նշված են դրական նշանով, իսկ նվազեցումները` փակագծերում)
B8: Ծրագիր | C8: Միջոցառում | E8: Ինն ամիս | F8: Տարի
B9: 1192 | D9: ԸՆԴԱՄԵՆԸ | E9: 0 | F9: =+F11+F139+F125 -> 0
D10: այդ թվում
C11: ՀՀ տարածքային կառավարման և ենթակառուցվածքների նախարարություն | E11: =+E13+E26+E44+E75+E94 -> -1370551.7 | F11: =+F13+F26+F44+F75+F94 -> 3633871.7
B12: 1049 | D12: Ծրագրի անվանումը`
D13: Ճանապարհային ցանցի բարելավում | E13: =+E20 -> 0 | F13: =+F20 -> 5445225.8
D14: Ծրագրի նպատակը`
D15: Ճանապարհային ցանցի բարելավում և անվտանգ երթևեկության ապահովում
D16: Վերջնական արդյունքի նկարագրությունը`
D17: Ճանապարհների ծածկի որակի և փոխադրումների արդյունավետության բարելավում, ճանապարհների վիճակով պայմանավորված պատահարների նվազում
C18: Ծրագրի միջոցառումներ
C19: 21001 | D19: Միջոցառման անվանումը`
D20: Պետական նշանակության ավտոճանապարհների հիմնանորոգում | E20: =+'3'!H24 -> 0 | F20: =+'3'!I24 -> 5445225.8
D21: Միջոցառման նկարագրությունը`
D22: Միջպետական, հանրապետական և մարզային նշանակության ավտոճոնապարհների քայքայված ծածկի վերանորոգում, մաշված ծածկի փոխարինում
D23: Միջոցառման տեսակը
D24: Հանրության կողմից անմիջականորեն օգտագործվող ակտիվների հետ կապված միջոցառումներ
B25: 1157 | D25: Ծրագրի անվանումը`
D26: Քաղաքային զարգացում | E26: =+E33+E39 -> -84075.8 | F26: =+F33+F39 -> -105310
D27: Ծրագրի նպատակը`
D28: Քաղաքային ենթակառուցվածքների զարգացում
D29: Վերջնական արդյունքի նկարագրությունը`
D30: Քաղաքային ենթակառուցվածքների արդիականացում և բարելավում
D31: Ծրագրի միջոցառումներ
C32: =+'3'!F42 -> 12016 | D32: Միջոցառման անվանումը`
D33: Վերակառուցման և զարգացման եվրոպական բանկի աջակցությամբ իրականացվող Գյումրու քաղաքային ճանապարհների տեխնիկական համագործակցության դրամաշնորհային ծրագիր | E33: =+'3'!H42 -> -40075.8 | F33: =+'3'!I42 -> -51075.8
D34: Միջոցառման նկարագրությունը`
D35: Գյումրու ճանապարհների վերակառուցմանը և փողոցային լուսավորության արդիականացմանը խորհրդատվական աջակցություն
D36: Միջոցառման տեսակը
D37: Տրանսֆերտների տրամադրում
C38: =+'3'!F50 -> 12018 | D38: Միջոցառման անվանումը`
D39: Վերակառուցման և զարգացման եվրոպական բանկի աջակցությամբ իրականացվող Գյումրու քաղաքային ճանապարհների դրամաշնորհային ծրագիր (Տրանշ Ա, Բ, Գ) | E39: =+'3'!H50 -> -44000 | F39: =+'3'!I50 -> -54234.2
D40: Միջոցառման նկարագրությունը`
D41: Գյումրու փողոցային լուսավորության արդիականացում՛ փողոցային լուսավորության այլ ավտոմատ կառավարման համակարգի տեղադրում
...

Sheet 2
I1: Հավելված N2
I2: ՀՀ կառավարության 2022 թվականի
I3: ______________ ի ___Ն որոշման
B4: «ՀԱՅԱՍՏԱՆԻ ՀԱՆՐԱՊԵՏՈՒԹՅԱՆ 2022 ԹՎԱԿԱՆԻ ՊԵՏԱԿԱՆ ԲՅՈՒՋԵԻ ՄԱՍԻՆ» ՕՐԵՆՔԻ N 1 ՀԱՎԵԼՎԱԾԻ N 3 ԱՂՅՈՒՍԱԿՈՒՄ ԿԱՏԱՐՎՈՂ ՓՈՓՈԽՈՒԹՅՈՒՆՆԵՐԸ ԵՎ ԼՐԱՑՈՒՄՆԵՐԸ
H5: հազ. դրամ
B6: Ծրագրային դասիչ | D6: Բյուջետային գլխավոր կարգադրիչների, ծրագրերի, միջոցառումների և ուղղությունների անվանումները | E6: Ցուցանիշների փոփոխությունը (ավելացումները նշված են դրական նշանով)
E7: Ընդամենը, | F7: այդ թվում՝
B8: Ծրագիր | C8: Միջոցառում | F8: Կառուցման աշխատանքներ | G8: Վերակառուցման, վերանորոգման և վերականգնման աշխատանքներ | H8: Նախագծահե- տազոտական, գեոդեզիա- քարտեզագրա- կան աշխա- տանքներ | I8: Ոչ ֆինանսական այլ ակտիվների ձեռքբերում
D9: ԸՆԴԱՄԵՆԸ | E9: =+F9+G9+H9+I9 -> 5445225.8 | F9: 0 | G9: =+G11 -> 5445225.8 | H9: 0 | I9: 0
D10: այդ թվում՝
D11: ՀՀ ՏԱՐԱԾՔԱՅԻՆ ԿԱՌԱՎԱՐՄԱՆ ԵՎ ԵՆԹԱԿԱՌՈՒՑՎԱԾՔՆԵՐԻ ՆԱԽԱՐԱՐՈՒԹՅՈՒՆ | E11: =+F11+G11+H11+I11 -> 5445225.8 | F11: 0 | G11: =+G13 -> 5445225.8 | H11: 0 | I11: 0
D12: այդ թվում`
B13: 1049 | C13: 21001 | D13: Պետական նշանակության ավտոճանապարհների հիմնանորոգում | E13: =+F13+G13+H13+I13 -> 5445225.8 | F13: =+F15+F19 -> 0 | G13: =+G15+G19 -> 5445225.8 | H13: =+H15+H19 -> 0 | I13: =+I15+I19 -> 0
D14: այդ թվում`
C15: =+'6'!C17 -> 3 | D15: =+'6'!D17 -> Մարզային նշանակության ավտոճանապարհներ, այդ թվում | E15: =+F15+G15+H15+I15 -> 5551808.2 | F15: =+F16+F17+F18 -> 0 | G15: =+G16+G17+G18 -> 5551808.2 | H15: =+H16+H17+H18 -> 0 | I15: =+I16+I17+I18 -> 0
D16: =+'6'!D18 -> /Մ-12/-Կոռնիձոր-ԱՀ սահման ավտոճանապարհի կմ0+000-կմ 4+000 հատվածի վերակառուցում | E16: =+F16+G16+H16+I16 -> 360519.3 | F16: 0 | G16: 360519.3 | H16: 0 | I16: 0
D17: =+'6'!D19 -> /Մ-12/-Կոռնիձոր-ԱՀ սահման ավտոճանապարհի կմ4+000-կմ 9+000 հատվածի վերակառուցում | E17: =+F17+G17+H17+I17 -> 2364112.7 | F17: 0 | G17: 2364112.7 | H17: 0 | I17: 0
D18: =+'6'!D20 -> /Մ-12/-Կոռնիձոր-ԱՀ սահման ավտոճանապարհի կմ9+000- կմ11+779.75 հատվածի վերակառուցում | E18: =+F18+G18+H18+I18 -> 2827176.2 | F18: 0 | G18: 2827176.2 | H18: 0 | I18: 0
B19: 1049 | C19: 21001 | D19: Պետական նշանակության ավտոճանապարհների հիմնանորոգում | E19: =+F19+G19+H19+I19 -> -106582.4 | F19: 0 | G19: =+'3'!I32 -> -106582.4 | H19: =+H21 -> 0 | I19: =+I21 -> 0

Sheet 3
B1: Հավելված N3
B2: ՀՀ կառավարության 2022 թվականի
B3: ______________ ի ___Ն որոշման
B5: ՀԱՅԱՍՏԱՆԻ ՀԱՆՐԱՊԵՏՈՒԹՅԱՆ ԿԱՌԱՎԱՐՈՒԹՅԱՆ 2021 ԹՎԱԿԱՆԻ ԴԵԿՏԵՄԲԵՐԻ 23-Ի N 2121-Ն ՈՐՈՇՄԱՆ N 3 ԵՎ N 4 ՀԱՎԵԼՎԱԾՆԵՐՈՒՄ ԿԱՏԱՐՎՈՂ ՓՈՓՈԽՈՒԹՅՈՒՆՆԵՐԸ ԵՎ ԼՐԱՑՈՒՄՆԵՐԸ
H7: հազ. դրամ
B8: Գործառական դասիչը | E8: Ծրագրային դասիչը | G8: Բյուջետային ծախսերի գործառական դասակարգման բաժինների, խմբերի և դասերի, բյուջետային հատկացումների գլխավոր կարգադրիչների, ծրագրերի, միջոցառումների և միջոցառումները կատարող պետական մարմինների անվանումները | H8: Ցուցանիշների փոփոխությունը (ավելացումները նշված են դրական նշանով, իսկ նվազեցումները` փակագծերում)
B9: Բաժին | C9: Խումբ | D9: Դաս | E9: Ծրագիր | F9: Միջոցառում | H9: Ինն ամիս | I9: Տարի
G10: ԸՆԴԱՄԵՆԸ ԾԱԽՍԵՐ | H10: =+H12+H198 -> 0 | I10: =+I12+I198 -> 0
G11: այդ թվում`
G12: ՀՀ ՏԱՐԱԾՔԱՅԻՆ ԿԱՌԱՎԱՐՄԱՆ ԵՎ ԵՆԹԱԿԱՌՈՒՑՎԱԾՔՆԵՐԻ ՆԱԽԱՐԱՐՈՒԹՅՈՒՆ | H12: =+H14+H149+H122 -> -1370551.7 | I12: =+I14+I149+I122 -> 3544061.8
G13: այդ թվում`
B14: 04 | G14: ՏՆՏԵՍԱԿԱՆ ՀԱՐԱԲԵՐՈՒԹՅՈՒՆՆԵՐ | H14: =+H16+H59+H105 -> -1029138.8 | I14: =+I16+I59+I105 -> 4035722.6
G15: այդ թվում`
C16: 05 | G16: Տրանսպորտ | H16: =+H18 -> -84075.8 | I16: =+I18 -> 5339915.8
G17: այդ թվում`
D18: 01 | G18: Ճանապարհային տրանսպորտ | H18: =+H20 -> -84075.8 | I18: =+I20 -> 5339915.8
G19: այդ թվում`
G20: ՀՀ ՏԱՐԱԾՔԱՅԻՆ ԿԱՌԱՎԱՐՄԱՆ ԵՎ ԵՆԹԱԿԱՌՈՒՑՎԱԾՔՆԵՐԻ ՆԱԽԱՐԱՐՈՒԹՅՈՒՆ | H20: =+H22+H40 -> -84075.8 | I20: =+I22+I40 -> 5339915.8
G21: այդ թվում`
E22: 1049 | G22: Ճանապարհային ցանցի բարելավում | H22: =+H24 -> 0 | I22: =+I24 -> 5445225.8
G23: այդ թվում`
F24: 21001 | G24: ='[1]1'!C13 -> Պետական նշանակության ավտոճանապարհների հիմնանորոգում | H24: =H26+H33 -> 0 | I24: =I26+I33 -> 5445225.8
G25: այդ թվում` ըստ կատարողների
G26: ՀՀ կառավարություն | H26: =+H28 -> -40563.5 | I26: =+I28 -> -106582.4
G27: այդ թվում` բյուջետային ծախսերի տնտեսագիտական դասակարգման հոդվածների
G28: ԸՆԴԱՄԵՆԸ ԾԱԽՍԵՐ | H28: =+H29 -> -40563.5 | I28: =+I29 -> -106582.4
G29: ՈՉ ՖԻՆԱՆՍԱԿԱՆ ԱԿՏԻՎՆԵՐԻ ԳԾՈՎ ԾԱԽՍԵՐ | H29: =+H30 -> -40563.5 | I29: =+I30 -> -106582.4
G30: ՀԻՄՆԱԿԱՆ ՄԻՋՈՑՆԵՐ | H30: =+H31 -> -40563.5 | I30: =+I31 -> -106582.4
G31: ՇԵՆՔԵՐ ԵՎ ՇԻՆՈՒԹՅՈՒՆՆԵՐ | H31: =+H32 -> -40563.5 | I31: =+I32 -> -106582.4
G32: - Շենքերի և շինությունների կապիտալ վերանորոգում | H32: =+'6'!E21 -> -40563.5 | I32: =+'6'!F21 -> -106582.4
G33: ՀՀ տարածքային կառավարման և ենթակառուցվածքների նախարարություն | H33: =+H35 -> 40563.5 | I33: =+I35 -> 5551808.2
G34: այդ թվում` բյուջետային ծախսերի տնտեսագիտական դասակարգման հոդվածների
G35: ԸՆԴԱՄԵՆԸ ԾԱԽՍԵՐ | H35: =+H36 -> 40563.5 | I35: =+I36 -> 5551808.2
G36: ՈՉ ՖԻՆԱՆՍԱԿԱՆ ԱԿՏԻՎՆԵՐԻ ԳԾՈՎ ԾԱԽՍԵՐ | H36: =+H37 -> 40563.5 | I36: =+I37 -> 5551808.2
G37: ՀԻՄՆԱԿԱՆ ՄԻՋՈՑՆԵՐ | H37: =+H38 -> 40563.5 | I37: =+I38 -> 5551808.2
G38: ՇԵՆՔԵՐ ԵՎ ՇԻՆՈՒԹՅՈՒՆՆԵՐ | H38: =+H39 -> 40563.5 | I38: =+I39 -> 5551808.2
G39: - Շենքերի և շինությունների կապիտալ վերանորոգում | H39: =+'6'!E15 -> 40563.5 | I39: =+'6'!F15 -> 5551808.2
E40: 1157 | G40: Քաղաքային զարգացում | H40: =+H42+H50 -> -84075.8 | I40: =+I42+I50 -> -105310
G41: այդ թվում`
F42: 12016 | G42: Վերակառուցման և զարգացման եվրոպական բանկի աջակցությամբ իրականացվող Գյումրու քաղաքային ճանապարհների տեխնիկական համագործակցության դրամաշնորհային ծրագիր | H42: =+H44 -> -40075.8 | I42: =+I44 -> -51075.8
...

Sheet 4
J1: Հավելված N4
J2: ՀՀ կառավարության 2022 թվականի
J3: ______________ ի ___Ն որոշման
B5: «ՀԱՅԱUՏԱՆԻ ՀԱՆՐԱՊԵՏՈՒԹՅԱՆ 2022 ԹՎԱԿԱՆԻ ՊԵՏԱԿԱՆ ԲՅՈՒՋԵԻ ՄԱUԻՆ» OՐԵՆՔԻ N 1 ՀԱՎԵԼՎԱԾԻ N 4 ԱՂՅՈՒՍԱԿՈՒՄ ԵՎ ՀԱՅԱՍՏԱՆԻ ՀԱՆՐԱՊԵՏՈՒԹՅԱՆ ԿԱՌԱՎԱՐՈՒԹՅԱՆ 2021 ԹՎԱԿԱՆԻ ԴԵԿՏԵՄԲԵՐԻ 23-Ի N 2121-Ն ՈՐՈՇՄԱՆ N 5 ՀԱՎԵԼՎԱԾԻ N 3 ԱՂՅՈՒՍԱԿՈՒՄ ԿԱՏԱՐՎՈՂ ՓՈՓՈԽՈՒԹՅՈՒՆՆԵՐԸ
J6: հազ. դրամ
B7: Ծրագրային դասիչը | D7: Բյուջետային գլխավոր կարգադրիչների, ծրագրերի և միջոցառումների անվանումները | E7: Ցուցանիշների փոփոխությունը (նվազեցումները նշված են փակագծերում)
E8: Ինն ամիս | H8: Տարի
E9: Ընդամենը | F9: այդ թվում` | H9: Ընդամենը | I9: այդ թվում`
B10: Ծրագիր | C10: Միջոց առում | F10: Վարկային միջոցներ | G10: Համաֆինան սավորում | I10: Վարկային միջոցներ | J10: Համաֆինան սավորում
D11: ԸՆԴԱՄԵՆԸ | E11: =+F11+G11 -> -981370.1 | F11: =+F14+F50 -> 0 | G11: =+G14+G50 -> -981370.1 | H11: =+I11+J11 -> -1340500.3 | I11: =+I14+I50 -> 0 | J11: =+J14+J50 -> -1340500.3
D12: այդ թվում`
D13: ՈՉ ՖԻՆԱՆՍԱԿԱՆ ԱԿՏԻՎՆԵՐԻ ԳԾՈՎ ԾԱԽՍԵՐ | E13: =+F13+G13 -> -981370.1 | F13: =+F22+F31+F46+F59 -> 0 | G13: =+G22+G31+G46+G59 -> -981370.1 | H13: =+I13+J13 -> -1340500.3 | I13: =+I22+I31+I46+I59 -> 0 | J13: =+J22+J31+J46+J59 -> -1340500.3
D14: ՀՀ ՏԱՐԱԾՔԱՅԻՆ ԿԱՌԱՎԱՐՄԱՆ ԵՎ ԵՆԹԱԿԱՌՈՒՑՎԱԾՔՆԵՐԻ ՆԱԽԱՐԱՐՈՒԹՅՈՒՆ | E14: =+F14+G14 -> -981370.1 | F14: =+F15+F39 -> 0 | G14: =+G15+G39 -> -981370.1 | H14: =+I14+J14 -> -1250690.4 | I14: =+I15+I39 -> 0 | J14: =+J15+J39 -> -1250690.4
B15: 1004 | D15: Ոռոգման համակարգի առողջացում | E15: =+F15+G15 -> -938346.6 | F15: =+F17+F26 -> 0 | G15: =+G17+G26 -> -938346.6 | H15: =+I15+J15 -> -1207666.9 | I15: =+I17+I26 -> 0 | J15: =+J17+J26 -> -1207666.9
B16: այդ թվում՛
C17: 31004 | D17: Գերմանիայի զարգացման վարկերի բանկի աջակցությամբ իրականացվող Ախուրյան գետի ջրային ռեսուրսների ինտեգրված կառավարման ծրագրի շրջանակներում ջրային տնտեսության ենթակառուցվածքների հիմնանորոգում | E17: =+F17+G17 -> -614554.1 | F17: 0 | G17: =+G19 -> -614554.1 | H17: =+I17+J17 -> -883874.4 | I17: 0 | J17: =+J19 -> -883874.4
D18: այդ թվում` ըստ կատարողների
D19: ՀՀ տարածքային կառավարման և ենթակառուցվածքների նախարարության ջրային կոմիտե | E19: =+F19+G19 -> -614554.1 | F19: 0 | G19: =+G21 -> -614554.1 | H19: =+I19+J19 -> -883874.4 | I19: 0 | J19: =+J21 -> -883874.4
D20: այդ թվում` բյուջետային ծախսերի տնտեսագիտական դասակարգման հոդվածներ
D21: ԸՆԴԱՄԵՆԸ ԾԱԽՍԵՐ | E21: =+F21+G21 -> -614554.1 | F21: 0 | G21: =+G22 -> -614554.1 | H21: =+I21+J21 -> -883874.4 | I21: 0 | J21: =+J22 -> -883874.4
D22: ՈՉ ՖԻՆԱՆՍԱԿԱՆ ԱԿՏԻՎՆԵՐԻ ԳԾՈՎ ԾԱԽՍԵՐ | E22: =+F22+G22 -> -614554.1 | F22: 0 | G22: =+G23 -> -614554.1 | H22: =+I22+J22 -> -883874.4 | I22: 0 | J22: =+J23 -> -883874.4
D23: ՀԻՄՆԱԿԱՆ ՄԻՋՈՑՆԵՐ | E23: =+F23+G23 -> -614554.1 | F23: 0 | G23: =+G24 -> -614554.1 | H23: =+I23+J23 -> -883874.4 | I23: 0 | J23: =+J24 -> -883874.4
D24: ՇԵՆՔԵՐ ԵՎ ՇԻՆՈՒԹՅՈՒՆՆԵՐ | E24: =+F24+G24 -> -614554.1 | F24: 0 | G24: =+G25 -> -614554.1 | H24: =+I24+J24 -> -883874.4 | I24: 0 | J24: =+J25 -> -883874.4
D25: - Շենքերի և շինությունների շինարարություն | E25: =+F25+G25 -> -614554.1 | F25: 0 | G25: -614554.1 | H25: =+I25+J25 -> -883874.4 | I25: 0 | J25: -883874.4
C26: 12002 | D26: Գերմանիայի զարգացման բանկի աջակցությամբ իրականացվող Ախուրյան գետի ջրային ռեսուրսների ինտեգրված կառավարման փուլ 1 ծրագրով Ջրաձոր գյուղի վերաբնակեցման համար ենթակառուցվածքների և բնակելի տների կառուցում | E26: =+F26+G26 -> -323792.5 | F26: 0 | G26: =+G28 -> -323792.5 | H26: =+I26+J26 -> -323792.5 | I26: 0 | J26: =+J28 -> -323792.5
D27: այդ թվում` ըստ կատարողների
D28: ՀՀ տարածքային կառավարման և ենթակառուցվածքների նախարարության ջրային կոմիտե | E28: =+F28+G28 -> -323792.5 | F28: 0 | G28: =+G30 -> -323792.5 | H28: =+I28+J28 -> -323792.5 | I28: 0 | J28: =+J30 -> -323792.5
D29: այդ թվում` բյուջետային ծախսերի տնտեսագիտական դասակարգման հոդվածներ
D30: ԸՆԴԱՄԵՆԸ ԾԱԽՍԵՐ | E30: =+F30+G30 -> -323792.5 | F30: 0 | G30: =+G31 -> -323792.5 | H30: =+I30+J30 -> -323792.5 | I30: 0 | J30: =+J31 -> -323792.5
D31: ՈՉ ՖԻՆԱՆՍԱԿԱՆ ԱԿՏԻՎՆԵՐԻ ԳԾՈՎ ԾԱԽՍԵՐ | E31: =+F31+G31 -> -323792.5 | F31: 0 | G31: =+G32 -> -323792.5 | H31: =+I31+J31 -> -323792.5 | I31: 0 | J31: =+J32 -> -323792.5
D32: ՀԻՄՆԱԿԱՆ ՄԻՋՈՑՆԵՐ | E32: =+F32+G32 -> -323792.5 | F32: 0 | G32: =+G33+G35+G37 -> -323792.5 | H32: =+I32+J32 -> -323792.5 | I32: 0 | J32: =+J33+J35+J37 -> -323792.5
D33: ՇԵՆՔԵՐ ԵՎ ՇԻՆՈՒԹՅՈՒՆՆԵՐ | E33: =+F33+G33 -> -176185.3 | F33: 0 | G33: =+G34 -> -176185.3 | H33: =+I33+J33 -> -176185.3 | I33: 0 | J33: =+J34 -> -176185.3
D34: - Շենքերի և շինությունների շինարարություն | E34: =+F34+G34 -> -176185.3 | F34: 0 | G34: -176185.3 | H34: =+I34+J34 -> -176185.3 | I34: 0 | J34: -176185.3
D35: ՄԵՔԵՆԱՆԵՐ ԵՎ ՍԱՐՔԱՎՈՐՈՒՄՆԵՐ | E35: =+F35+G35 -> -64221.7 | F35: 0 | G35: =+G36 -> -64221.7 | H35: =+I35+J35 -> -64221.7 | I35: 0 | J35: =+J36 -> -64221.7
D36: - Այլ մեքենաներ և սարքավորումներ | E36: =+F36+G36 -> -64221.7 | F36: 0 | G36: -64221.7 | H36: =+I36+J36 -> -64221.7 | I36: 0 | J36: -64221.7
D37: ՉԱՐՏԱԴՐՎԱԾ ԱԿՏԻՎՆԵՐ | E37: =+F37+G37 -> -83385.5 | F37: 0 | G37: =+G38 -> -83385.5 | H37: =+I37+J37 -> -83385.5 | I37: 0 | J37: =+J38 -> -83385.5
D38: ՀՈՂ | E38: =+F38+G38 -> -83385.5 | F38: 0 | G38: -83385.5 | H38: =+I38+J38 -> -83385.5 | I38: 0 | J38: -83385.5
B39: 1072 | D39: Ջրամատակարարաման և ջրահեռացման բարելավում | E39: =+F39+G39 -> -43023.5 | F39: =+F63 -> 0 | G39: =+G41 -> -43023.5 | H39: =+I39+J39 -> -43023.5 | I39: =+I63 -> 0 | J39: =+J41 -> -43023.5
D40: այդ թվում`
C41: 31005 | D41: Գերմանիայի զարգացման վարկերի բանկի աջակցությամբ իրականացվող Լոռու (Վանաձորի) մարզի ջրամատակարարման և ջրահեռացման համակարգերի վերականգնման ծրագիր՛ երկրորդ փուլ | E41: =+E43 -> -43023.5 | F41: =+F43 -> 0 | G41: =+G43 -> -43023.5 | H41: =+H43 -> -43023.5 | I41: =+I43 -> 0 | J41: =+J43 -> -43023.5
...

Sheet 5
J1: Հավելված N5
J2: ՀՀ կառավարության 2022 թվականի
J3: ______________ ի ___Ն որոշման
B5: «ՀԱՅԱUՏԱՆԻ ՀԱՆՐԱՊԵՏՈՒԹՅԱՆ 2022 ԹՎԱԿԱՆԻ ՊԵՏԱԿԱՆ ԲՅՈՒՋԵԻ ՄԱUԻՆ» OՐԵՆՔԻ N 1 ՀԱՎԵԼՎԱԾԻ N 5 ԱՂՅՈՒՍԱԿՈՒՄ ԵՎ ՀԱՅԱՍՏԱՆԻ ՀԱՆՐԱՊԵՏՈՒԹՅԱՆ ԿԱՌԱՎԱՐՈՒԹՅԱՆ 2021 ԹՎԱԿԱՆԻ ԴԵԿՏԵՄԲԵՐԻ 23-Ի N 2121-Ն ՈՐՈՇՄԱՆ N 5 ՀԱՎԵԼՎԱԾԻ N 4 ԱՂՅՈՒՍԱԿՈՒՄ ԿԱՏԱՐՎՈՂ ՓՈՓՈԽՈՒԹՅՈՒՆՆԵՐԸ
J6: հազ. դրամ
B7: Ծրագրային դասիչը | D7: Բյուջետային գլխավոր կարգադրիչների, ծրագրերի և միջոցառումների անվանումները | E7: Ցուցանիշների փոփոխությունը (նվազեցումները նշված են փակագծերում)
E8: Ինն ամիս | H8: Տարի
E9: Ընդամենը | F9: այդ թվում` | H9: Ընդամենը | I9: այդ թվում`
B10: Ծրագիր | C10: Միջոց առում | F10: Դրամաշնորհային միջոցներ | G10: Համաֆինան սավորում | I10: Դրամաշնորհային միջոցներ | J10: Համաֆինան սավորում
D11: ԸՆԴԱՄԵՆԸ | E11: =+F11+G11 -> -389181.6 | F11: =+F15 -> 0 | G11: =+G15 -> -389181.6 | H11: =+I11+J11 -> -560663.7 | I11: =+I15 -> 0 | J11: =+J15 -> -560663.7
D12: այդ թվում`
D13: ԸՆԹԱՑԻԿ ԾԱԽՍԵՐ | E13: =+F13+G13 -> -55570.4 | F13: =+F23+F42+F61+F69+F79 -> 0 | G13: =+G23+G42+G61+G69+G79 -> -55570.4 | H13: =+I13+J13 -> -80938 | I13: =+I23+I42+I61+I69+I79 -> 0 | J13: =+J23+J42+J61+J69+J79 -> -80938
D14: ՈՉ ՖԻՆԱՆՍԱԿԱՆ ԱԿՏԻՎՆԵՐԻ ԳԾՈՎ ԾԱԽՍԵՐ | E14: =+F14+G14 -> -333611.2 | F14: =+F31+F50+F87+F96 -> 0 | G14: =+G31+G50+G87+G96 -> -333611.2 | H14: =+I14+J14 -> -479725.7 | I14: =+I31+I50+I87+I96 -> 0 | J14: =+J31+J50+J87+J96 -> -479725.7
D15: ՀՀ ՏԱՐԱԾՔԱՅԻՆ ԿԱՌԱՎԱՐՄԱՆ ԵՎ ԵՆԹԱԿԱՌՈՒՑՎԱԾՔՆԵՐԻ ՆԱԽԱՐԱՐՈՒԹՅՈՒՆ | E15: =+F15+G15 -> -389181.6 | F15: =+F16+F35+F54+F72 -> 0 | G15: =+G16+G35+G54+G72 -> -389181.6 | H15: =+I15+J15 -> -560663.7 | I15: =+I16+I35+I54+I72 -> 0 | J15: =+J16+J35+J54+J72 -> -560663.7
B16: 1157 | D16: Քաղաքային զարգացում | E16: =+F16+G16 -> -84075.8 | F16: =+F27 -> 0 | G16: =+G18+G26 -> -84075.8 | H16: =+I16+J16 -> -105310 | I16: =+I27 -> 0 | J16: =+J18+J26 -> -105310
B17: այդ թվում՛
C18: 12016 | D18: Վերակառուցման և զարգացման եվրոպական բանկի աջակցությամբ իրականացվող Գյումրու քաղաքային ճանապարհների տեխնիկական համագործակցության դրամաշնորհային ծրագիր | E18: =+E20 -> -40075.8 | F18: =+F20 -> 0 | G18: =+G20 -> -40075.8 | H18: =+H20 -> -51075.8 | I18: =+I20 -> 0 | J18: =+J20 -> -51075.8
D19: այդ թվում` ըստ կատարողների
D20: ՀՀ տարածքային կառավարման և ենթակառուցվածքների նախարարություն | E20: =+E22 -> -40075.8 | F20: =+F22 -> 0 | G20: =+G22 -> -40075.8 | H20: =+H22 -> -51075.8 | I20: =+I22 -> 0 | J20: =+J22 -> -51075.8
D21: այդ թվում` բյուջետային ծախսերի տնտեսագիտական դասակարգման հոդվածներ
D22: ԸՆԴԱՄԵՆԸ ԾԱԽՍԵՐ | E22: =+F22+G22 -> -40075.8 | F22: 0 | G22: =+G23 -> -40075.8 | H22: =+I22+J22 -> -51075.8 | I22: 0 | J22: =+J23 -> -51075.8
D23: ԸՆԹԱՑԻԿ ԾԱԽՍԵՐ | E23: =+F23+G23 -> -40075.8 | F23: 0 | G23: =+G24 -> -40075.8 | H23: =+I23+J23 -> -51075.8 | I23: 0 | J23: =+J24 -> -51075.8
D24: ԱՅԼ ԾԱԽՍԵՐ | E24: =+F24+G24 -> -40075.8 | F24: 0 | G24: =+G25 -> -40075.8 | H24: =+I24+J24 -> -51075.8 | I24: 0 | J24: =+J25 -> -51075.8
D25: Այլ ծախսեր | E25: =+F25+G25 -> -40075.8 | F25: 0 | G25: =-39675.8-400 -> -40075.8 | H25: =+I25+J25 -> -51075.8 | I25: 0 | J25: -51075.8
C26: 12018 | D26: Վերակառուցման և զարգացման եվրոպական բանկի աջակցությամբ իրականացվող Գյումրու քաղաքային ճանապարհների դրամաշնորհային ծրագիր (Տրանշ Ա, Բ, Գ) | E26: =+E28 -> -44000 | F26: =+F28 -> 0 | G26: =+G28 -> -44000 | H26: =+H28 -> -54234.2 | I26: =+I28 -> 0 | J26: =+J28 -> -54234.2
D27: այդ թվում` ըստ կատարողների
D28: ՀՀ տարածքային կառավարման և ենթակառուցվածքների նախարարություն | E28: =+E30 -> -44000 | F28: =+F30 -> 0 | G28: =+G30 -> -44000 | H28: =+H30 -> -54234.2 | I28: =+I30 -> 0 | J28: =+J30 -> -54234.2
D29: այդ թվում` բյուջետային ծախսերի տնտեսագիտական դասակարգման հոդվածներ
D30: ԸՆԴԱՄԵՆԸ ԾԱԽՍԵՐ | E30: =+F30+G30 -> -44000 | F30: =+F31 -> 0 | G30: =+G31 -> -44000 | H30: =+I30+J30 -> -54234.2 | I30: =+I31 -> 0 | J30: =+J31 -> -54234.2
D31: ՈՉ ՖԻՆԱՆՍԱԿԱՆ ԱԿՏԻՎՆԵՐԻ ԳԾՈՎ ԾԱԽՍԵՐ | E31: =+F31+G31 -> -44000 | F31: =+F32 -> 0 | G31: =+G32 -> -44000 | H31: =+I31+J31 -> -54234.2 | I31: =+I32 -> 0 | J31: =+J32 -> -54234.2
D32: ՀԻՄՆԱԿԱՆ ՄԻՋՈՑՆԵՐ | E32: =+F32+G32 -> -44000 | F32: =+F33 -> 0 | G32: =+G33 -> -44000 | H32: =+I32+J32 -> -54234.2 | I32: =+I33 -> 0 | J32: =+J33 -> -54234.2
D33: ՄԵՔԵՆԱՆԵՐ ԵՎ ՍԱՐՔԱՎՈՐՈՒՄՆԵՐ | E33: =+F33+G33 -> -44000 | F33: =+F34 -> 0 | G33: =+G34 -> -44000 | H33: =+I33+J33 -> -54234.2 | I33: =+I34 -> 0 | J33: =+J34 -> -54234.2
D34: - Այլ մեքենաներ և սարքավորումներ | E34: =+F34+G34 -> -44000 | F34: 0 | G34: -44000 | H34: =+I34+J34 -> -54234.2 | I34: 0 | J34: -54234.2
B35: 1040 | D35: Կոշտ թափոնների կառավարում | E35: =+F35+G35 -> -68694.5 | F35: =+F46 -> 0 | G35: =+G37+G45 -> -68694.5 | H35: =+I35+J35 -> -143497.9 | I35: =+I46 -> 0 | J35: =+J37+J45 -> -143497.9
D36: այդ թվում`
C37: 12002 | D37: Վերակառուցման և զարգացման եվրոպական բանկի աջակցությամբ իրականացվող «Կոտայքի և Գեղարքունիքի մարզի կոշտ թափոնների կառավարման խորհրդատվության համար» դրամաշնորհային ծրագիր | E37: =+E39 -> -7632.4 | F37: =+F39 -> 0 | G37: =+G39 -> -7632.4 | H37: =+H39 -> -22000 | I37: =+I39 -> 0 | J37: =+J39 -> -22000
D38: այդ թվում` ըստ կատարողների
D39: ՀՀ տարածքային կառավարման և ենթակառուցվածքների նախարարություն | E39: =+E41 -> -7632.4 | F39: =+F41 -> 0 | G39: =+G41 -> -7632.4 | H39: =+H41 -> -22000 | I39: =+I41 -> 0 | J39: =+J41 -> -22000
D40: այդ թվում` բյուջետային ծախսերի տնտեսագիտական դասակարգման հոդվածներ
D41: ԸՆԴԱՄԵՆԸ ԾԱԽՍԵՐ | E41: =+F41+G41 -> -7632.4 | F41: 0 | G41: =+G42 -> -7632.4 | H41: =+I41+J41 -> -22000 | I41: 0 | J41: =+J42 -> -22000
...

Sheet 6
B1: Հավելված N6
B2: ՀՀ կառավարության 2022 թվականի
B3: ______________ ի ___Ն որոշման
B5: ՀԱՅԱՍՏԱՆԻ ՀԱՆՐԱՊԵՏՈՒԹՅԱՆ ԿԱՌԱՎԱՐՈՒԹՅԱՆ 2021 ԹՎԱԿԱՆԻ ԴԵԿՏԵՄԲԵՐԻ 23-Ի N 2121-Ն ՈՐՈՇՄԱՆ N 5 ՀԱՎԵԼՎԱԾԻ N 2 ԱՂՅՈՒՍԱԿՈՒՄ ԿԱՏԱՐՎՈՂ ԼՐԱՑՈՒՄՆԵՐԸ
E6: հազ. դրամ
B7: Ծրագրային դասիչ | D7: Բյուջետային գլխավոր կարգադրիչների, ծրագրերի, միջոցառումների և ուղղությունների անվանումները | E7: Ցուցանիշների փոփոխությունը (ավելացումները նշված են դրական նշանով, իսկ նվազեցումները` փակագծերում)
B8: Ծրագիր | C8: Միջոցառում | E8: Ինն ամիս | F8: Տարի
D9: ԸՆԴԱՄԵՆԸ | E9: =+E11 -> 0 | F9: =+F11 -> 5445225.8
D10: այդ թվում՝
D11: ՀՀ ՏԱՐԱԾՔԱՅԻՆ ԿԱՌԱՎԱՐՄԱՆ ԵՎ ԵՆԹԱԿԱՌՈՒՑՎԱԾՔՆԵՐԻ ՆԱԽԱՐԱՐՈՒԹՅՈՒՆ | E11: =+E13+E21 -> 0 | F11: =+F13+F21 -> 5445225.8
D12: այդ թվում`
B13: 1049 | C13: 21001 | D13: Պետական նշանակության ավտոճանապարհների հիմնանորոգում | E13: =+E15 -> 40563.5 | F13: =+F15 -> 5551808.2
D14: այդ թվում` ըստ կատարողների
D15: ՀՀ տարածքային կառավարման և ենթակառուցվածքների նախարարություն | E15: =+E17 -> 40563.5 | F15: =+F17 -> 5551808.2
D16: այդ թվում՝ ըստ ուղղությունների
C17: 3 | D17: Մարզային նշանակության ավտոճանապարհներ, այդ թվում | E17: =SUM(E18:E20) -> 40563.5 | F17: =SUM(F18:F20) -> 5551808.2
D18: /Մ-12/-Կոռնիձոր-ԱՀ սահման ավտոճանապարհի կմ0+000-կմ 4+000 հատվածի վերակառուցում | E18: 0 | F18: 360519.3
D19: /Մ-12/-Կոռնիձոր-ԱՀ սահման ավտոճանապարհի կմ4+000-կմ 9+000 հատվածի վերակառուցում | E19: 40563.5 | F19: 2364112.7
D20: /Մ-12/-Կոռնիձոր-ԱՀ սահման ավտոճանապարհի կմ9+000- կմ11+779.75 հատվածի վերակառուցում | E20: 0 | F20: 2827176.2
B21: 1049 | C21: 21001 | D21: Պետական նշանակության ավտոճանապարհների հիմնանորոգում | E21: =+E23 -> -40563.5 | F21: =+F23 -> -106582.4
D22: այդ թվում` ըստ կատարողների
D23: ՀՀ կառավարություն | E23: =-E13 -> -40563.5 | F23: -106582.4

Sheet 7
E1: Հավելված N7
B2: ՀՀ կառավարության 2022 թվականի
B3: ______________ ի ___Ն որոշման
B4: ՀԱՅԱՍՏԱՆԻ ՀԱՆՐԱՊԵՏՈՒԹՅԱՆ ԿԱՌԱՎԱՐՈՒԹՅԱՆ 2021 ԹՎԱԿԱՆԻ ԴԵԿՏԵՄԲԵՐԻ 23-Ի N 2121-Ն ՈՐՈՇՄԱՆ N 9 ՀԱՎԵԼՎԱԾԻ NN 9.7, 9.10 ԵՎ 9.47 ԱՂՅՈՒՍԱԿՆԵՐՈՒՄ ԿԱՏԱՐՎՈՂ ՓՈՓՈԽՈՒԹՅՈՒՆՆԵՐԸ ԵՎ ԼՐԱՑՈՒՄՆԵՐԸ
E5: Աղյուսակ 9.7
B6: ՀՀ ՏԱՐԱԾՔԱՅԻՆ ԿԱՌԱՎԱՐՄԱՆ ԵՎ ԵՆԹԱԿԱՌՈՒՑՎԱԾՔՆԵՐԻ ՆԱԽԱՐԱՐՈՒԹՅՈՒՆ
B7: ՄԱՍ 2. ՊԵՏԱԿԱՆ ՄԱՐՄՆԻ ԳԾՈՎ ԱՐԴՅՈՒՆՔԱՅԻՆ (ԿԱՏԱՐՈՂԱԿԱՆ) ՑՈՒՑԱՆԻՇՆԵՐԸ
B8: Ծրագրի դասիչը | C8: Ծրագրի անվանումը
B9: 1049 | C9: Ճանապարհային ցանցի բարելավում
B11: Ծրագրի միջոցառումները
B13: Ծրագրի դասիչը` | C13: 1049 | D13: Ցուցանիշների փոփոխությունը (ավելացումները նշված են դրական նշանով)
B14: Միջոցառման դասիչը` | C14: 21001 | D14: Ինն ամիս | E14: Տարի
B15: Միջոցառման անվանումը` | C15: Պետական նշանակության ավտոճանապարհների հիմնանորոգում
B16: Նկարագրությունը` | C16: Միջպետական՝ հանրապետական և մարզային նշանակության ավտոճանապարհների քայքայված ծածկի վերանորոգում՝ մաշված ծածկի փոխարինում_x000D_
B17: Միջոցառման տեսակը` | C17: Հանրության կողմից անմիջականորեն օգտագործվող ակտիվների հետ կապված միջոցառումներ
B18: Միջոցառումն իրականացնողի անվանումը | C18: Մասնագիտացված միավոր
B19: Արդյունքի չափորոշիչներ
B20: Միջոցառման վրա կատարվող ծախսը (հազար դրամ) | D20: =+'1'!E13 -> 0 | E20: =+'1'!F13 -> 5445225.8
B22: Ծրագրի դասիչը | C22: Ծրագրի անվանումը
B23: =+'3'!E65 -> 1004 | C23: =+'3'!G65 -> Ոռոգման համակարգի առողջացում
B25: Ծրագրի միջոցառումները
B26: Ծրագրի դասիչը` | C26: 1004 | D26: Ցուցանիշների փոփոխությունը (նվազեցումները նշված են փակագծերում)
B27: Միջոցառման դասիչը` | C27: 11009 | D27: Ինն ամիս | E27: Տարի
B28: Միջոցառման անվանումը` | C28: Գերմանիայի զարգացման վարկերի բանկի աջակցությամբ իրականացվող Ախուրյան գետի ջրային ռեսուրսների ինտեգրացված կառավարման դրամաշնորհային ծրագիր
B29: Նկարագրությունը` | C29: Գերմանիայի զարգացման վարկերի բանկի աջակցությամբ իրականացվող Ախուրյան գետի ջրային ռեսուրսների ինտեգրացված կառավարման դրամաշնորհային ծրագրի համակարգում և ղեկավարում
B30: Միջոցառման տեսակը` | C30: Ծառայությունների մատուցում
B31: Միջոցառումն իրականացնողի անվանումը` | C31: Մասնագիտատացված միավոր
B32: Արդյունքի չափորոշիչներ
B33: Միջոցառման վրա կատարված ծախսը (հազար դրամ) | D33: =+'1'!E51 -> -5576.9 | E33: =+'1'!F51 -> -5576.9
B35: Ծրագրի դասիչը` | C35: 1004 | D35: Ցուցանիշների փոփոխությունը (նվազեցումները նշված են փակագծերում)
B36: Միջոցառման դասիչը` | C36: 11012 | D36: Ինն ամիս | E36: Տարի
B37: Միջոցառման անվանումը` | C37: Ֆրանսիայի Հանրապետության կառավարության աջակցությամբ իրականացվող՛ Վեդու ջրամբարի կառուցման դրամաշնորհային ծրագիր
B38: Նկարագրությունը` | C38: Ֆրանսիայի Հանրապետության կառավարության աջակցությամբ իրականացվող՛ Վեդու ջրամբարի կառուցման դրամաշնորհային ծրագրի համակարգում և ղեկավարում
B39: Միջոցառման տեսակը` | C39: Ծառայությունների մատուցում
B40: Ակտիվն օգտագործող կազմակերպության(ների) անվանում(ները)՛ | C40: Մասնագիտացված միավոր
B41: Արդյունքի չափորոշիչներ
B42: Միջոցառման վրա կատարված ծախսը (հազար դրամ) | D42: =+'1'!E69 -> -1139.5 | E42: =+'1'!F69 -> -1139.5
B44: Ծրագրի դասիչը` | C44: 1004 | D44: Ցուցանիշների փոփոխությունը (նվազեցումները նշված են փակագծերում)
B45: Միջոցառման դասիչը` | C45: 12002 | D45: Ինն ամիս | E45: Տարի
B46: Միջոցառման անվանումը` | C46: Գերմանիայի զարգացման բանկի աջակցությամբ իրականացվող Ախուրյան գետի ջրային ռեսուրսների ինտեգրված կառավարման փուլ 1 ծրագրով Ջրաձոր գյուղի վերաբնակեցման համար ենթակառուցվածքների և բնակելի տների կառուցում
...

Sheet 8
E1: Հավելված N 8
B2: ՀՀ կառավարության 2022 թվականի
B3: ______________ ի ___Ն որոշման
B4: ՀԱՅԱՍՏԱՆԻ ՀԱՆՐԱՊԵՏՈՒԹՅԱՆ ԿԱՌԱՎԱՐՈՒԹՅԱՆ 2021 ԹՎԱԿԱՆԻ ԴԵԿՏԵՄԲԵՐԻ 23-Ի N 2121-Ն ՈՐՈՇՄԱՆ N 9.1 ՀԱՎԵԼՎԱԾԻ NN 9.1.8, 9.1.11, 9.1.26 և 9.1.59 ԱՂՅՈՒՍԱԿՆԵՐՈՒՄ ԿԱՏԱՐՎՈՂ ՓՈՓՈԽՈՒԹՅՈՒՆՆԵՐԸ ԵՎ ԼՐԱՑՈՒՄՆԵՐԸ
E5: Աղյուսակ 9.1.8
B6: ՀՀ տարածքային կառավարման և ենթակառուցվածքների նախարարություն
B7: ՄԱՍ 1. ՊԵՏԱԿԱՆ ՄԱՐՄՆԻ ԳԾՈՎ ԱՐԴՅՈՒՆՔԱՅԻՆ (ԿԱՏԱՐՈՂԱԿԱՆ) ՑՈՒՑԱՆԻՇՆԵՐԸ
B8: Ծրագրի դասիչը | C8: Ծրագրի անվանումը
B9: 1049 | C9: Ճանապարհային ցանցի բարելավում
B11: Ծրագրի միջոցառումները
B13: Ծրագրի դասիչը` | C13: 1049 | D13: Ցուցանիշների փոփոխությունը (ավելացումները նշված են դրական նշանով)
B14: Միջոցառման դասիչը` | C14: 21001 | D14: Ինն ամիս | E14: Տարի
B15: Միջոցառման անվանումը` | C15: =+'[1]4'!C19 -> Պետական նշանակության ավտոճանապարհների հիմնանորոգում
B16: Նկարագրությունը` | C16: =+'[1]4'!C21 -> Միջպետական, հանրապետական և մարզային նշանակության ավտոճոնապարհների քայքայված ծածկի վերանորոգում, մաշված ծածկի փոխարինում
B17: Միջոցառման տեսակը` | C17: =+'[1]4'!C23 -> Հանրության կողմից անմիջականորեն օգտագործվող ակտիվների հետ կապված միջոցառումներ
B18: Միջոցառումն իրականացնողի անվանումը | C18: Մասնագիտացված միավոր
B19: Արդյունքի չափորոշիչներ
B20: Միջոցառման վրա կատարվող ծախսը (հազար դրամ) | D20: =+'3'!H33 -> 40563.5 | E20: =+'3'!I33 -> 5551808.2
B22: Ծրագրի դասիչը | C22: Ծրագրի անվանումը
B23: =+'7'!B65 -> 1040 | C23: =+'7'!C65 -> Կոշտ թափոնների կառավարում
B25: Ծրագրի միջոցառումները
B27: Ծրագրի դասիչը` | C27: 1040 | D27: Ցուցանիշների փոփոխությունը (նվազեցումները նշված են փակագծերում)
B28: Միջոցառման դասիչը` | C28: 12002 | D28: Ինն ամիս | E28: Տարի
B29: Միջոցառման անվանումը` | C29: Վերակառուցման և զարգացման եվրոպական բանկի աջակցությամբ իրականացվող «Կոտայքի և Գեղարքունիքի մարզի կոշտ թափոնների կառավարման խորհրդատվության համար» դրամաշնորհային ծրագիր
B30: Նկարագրությունը` | C30: Կոշտ թափոննրի կառավարման համակարգի բարելավում և նոր աղբավայրի ստեղծում
B31: Միջոցառման տեսակը` | C31: Տրանսֆերտների տրամադրում
B32: Միջոցառումն իրականացնողի անվանումը՛ | C32: ՀՀ տարածքային կառավարման և ենթակառուցվածքների նախարարություն
B33: Արդյունքի չափորոշիչներ
B34: Միջոցառման վրա կատարված ծախսը (հազար դրամ) | D34: =+'7'!D76 -> -7632.4 | E34: =+'7'!E76 -> -22000
B36: Ծրագրի դասիչը` | C36: 1040 | D36: Ցուցանիշների փոփոխությունը (նվազեցումները նշված են փակագծերում)
B37: Միջոցառման դասիչը` | C37: 32004 | D37: Ինն ամիս | E37: Տարի
B38: Միջոցառման անվանումը` | C38: Վերակառուցման և զարգացման եվրոպական բանկի աջակցությամբ իրականացվող «Կոտայքի և Գեղարքունիքի մարզի կոշտ թափոնների կառավարման» դրամաշնորհային ծրագիր
B39: Նկարագրությունը` | C39: Կոշտ թափոնների կառավարման համակարգի բարելավում և նոր աղբավայրի ստեղծում
B40: Միջոցառման տեսակը` | C40: Այլ պետական կազմակերպությունների կողմից օգտագործվող ոչ ֆինանսական ակտիվների հետ գործառնություններ
B41: Միջոցառումն իրականացնողի անվանումը՛ | C41: ՀՀ տարածքային կառավարման և ենթակառուցվածքների նախարարություն
B42: Արդյունքի չափորոշիչներ
B43: Միջոցառման վրա կատարված ծախսը (հազար դրամ) | D43: =+'7'!D85 -> -61062.1 | E43: =+'7'!E85 -> -121497.9
B45: Ծրագրի դասիչը | C45: Ծրագրի անվանումը
B46: 1157 | C46: Քաղաքային զարգացում
B48: Ծրագրի միջոցառումները
...

Sheet 9
B1: Հավելված N 9
B2: ՀՀ կառավարության 2022 թվականի
B3: ______________ ի ___Ն որոշման
B5: ՀԱՅԱՍՏԱՆԻ ՀԱՆՐԱՊԵՏՈՒԹՅԱՆ ԿԱՌԱՎԱՐՈՒԹՅԱՆ 2021 ԹՎԱԿԱՆԻ ԴԵԿՏԵՄԲԵՐԻ 23-Ի N 2121-Ն ՈՐՈՇՄԱՆ N 10 ՀԱՎԵԼՎԱԾՈՒՄ ԿԱՏԱՐՎՈՂ ԼՐԱՑՈՒՄՆԵՐԸ
B6: Կոդը | C6: Անվանումը | D6: Գնման ձևը | E6: Չափման միավորը | F6: Միավորի գինը | G6: Ցուցանիշների փոփոխությունը (ավելացումները նշված են դրական նշանով)
G7: Քանակը | H7: Գումարը (հազար դրամով)
B8: ՀՀ տարածքային կառավարման և ենթակառուցվածքների նախարարություն | H8: =+H9 -> 5551808.1
B9: Բաժին N 04 | C9: Խումբ N 05 | D9: Դաս N 01 | E9: Ճանապարհային տրանսպորտ | H9: =+H10 -> 5551808.1
B10: 1049 21001 | C10: Պետական նշանակության ավտոճանապարհների հիմնանորոգում | H10: =+H11+H15 -> 5551808.1
B11: ՄԱՍ II. ԱՇԽԱՏԱՆՔՆԵՐ | H11: =SUM(H12:H14) -> 5463772.1
B12: 45231177/553 | C12: ճանապարհների վերանորոգման աշխատանքներ | D12: ՀԲՄ | E12: դրամ | F12: 354742015 | G12: 1 | H12: =+G12*F12/1000 -> 354742.02
B13: 45231177/554 | C13: ճանապարհների վերանորոգման աշխատանքներ | D13: ՀԲՄ | E13: դրամ | F13: 2326967771 | G13: 1 | H13: =+G13*F13/1000 -> 2326967.8
B14: 45231177/556 | C14: ճանապարհների վերանորոգման աշխատանքներ | D14: ՀԲՄ | E14: դրամ | F14: 2782062324 | G14: 1 | H14: =+G14*F14/1000 -> 2782062.3
B15: ՄԱՍ III. ԾԱՌԱՅՈՒԹՅՈՒՆՆԵՐ | H15: =SUM(H16:H17) -> 88035.99
B16: 71351540/539 | C16: տեխնիկական հսկողության ծառայություններ | D16: ՀԲՄ | E16: դրամ | F16: 54052443 | G16: 1 | H16: =+G16*F16/1000 -> 54052.443
B17: 98111140 | C17: հեղինակային հսկողության ծառայություններ | D17: ՄԱ | E17: դրամ | F17: 33983547 | G17: 1 | H17: =+G17*F17/1000 -> 33983.547

Sheet 10
B1: Հավելված N10
B2: ՀՀ կառավարության 2022 թվականի
B3: ______________ ի ___Ն որոշման
B5: ՀԱՅԱՍՏԱՆԻ ՀԱՆՐԱՊԵՏՈՒԹՅԱՆ ԿԱՌԱՎԱՐՈՒԹՅԱՆ ՊԱՀՈՒՍՏԱՅԻՆ ՖՈՆԴԻՑ ԿԱՏԱՐՎՈՂ ՀԱՏԿԱՑՈՒՄԸ
H7: հազ. դրամ
B8: Գործառական դասիչը | E8: Ծրագրային դասիչը | G8: Բյուջետային ծախսերի գործառական դասակարգման բաժինների, խմբերի և դասերի, բյուջետային հատկացումների գլխավոր կարգադրիչների, ծրագրերի, միջոցառումների և միջոցառումները կատարող պետական մարմինների անվանումները | H8: Ցուցանիշների փոփոխությունը (ավելացումները նշված են դրական նշանով, իսկ նվազեցումները` փակագծերում)
B9: Բաժին | C9: Խումբ | D9: Դաս | E9: Ծրագիր | F9: Միջոցառում | H9: Ինն ամիս | I9: Տարի
G10: ԸՆԴԱՄԵՆԸ ԾԱԽՍԵՐ | H10: 0 | I10: 0
G11: այդ թվում`
G12: ՀՀ ՏԱՐԱԾՔԱՅԻՆ ԿԱՌԱՎԱՐՄԱՆ ԵՎ ԵՆԹԱԿԱՌՈՒՑՎԱԾՔՆԵՐԻ ՆԱԽԱՐԱՐՈՒԹՅՈՒՆ | H12: 0 | I12: 3544061.8
G13: այդ թվում`
B14: 04 | G14: ՏՆՏԵՍԱԿԱՆ ՀԱՐԱԲԵՐՈՒԹՅՈՒՆՆԵՐ | H14: 0 | I14: 3544061.8
G15: այդ թվում`
C16: 05 | G16: Տրանսպորտ | H16: 0 | I16: 3544061.8
G17: այդ թվում`
D18: 01 | G18: Ճանապարհային տրանսպորտ | H18: 0 | I18: 3544061.8
G19: այդ թվում`
G20: ՀՀ ՏԱՐԱԾՔԱՅԻՆ ԿԱՌԱՎԱՐՄԱՆ ԵՎ ԵՆԹԱԿԱՌՈՒՑՎԱԾՔՆԵՐԻ ՆԱԽԱՐԱՐՈՒԹՅՈՒՆ | H20: 0 | I20: 3544061.8
G21: այդ թվում`
E22: 1049 | G22: Ճանապարհային ցանցի բարելավում | H22: 0 | I22: 3544061.8
G23: այդ թվում`
F24: 21001 | G24: Պետական նշանակության ավտոճանապարհների հիմնանորոգում | H24: 0 | I24: 3544061.8
G25: այդ թվում` ըստ կատարողների
G26: ՀՀ տարածքային կառավարման և ենթակառուցվածքների նախարարություն | H26: 0 | I26: 3544061.8
G27: այդ թվում` բյուջետային ծախսերի տնտեսագիտական դասակարգման հոդվածների
G28: ԸՆԴԱՄԵՆԸ ԾԱԽՍԵՐ | H28: 0 | I28: 3544061.8
G29: ՈՉ ՖԻՆԱՆՍԱԿԱՆ ԱԿՏԻՎՆԵՐԻ ԳԾՈՎ ԾԱԽՍԵՐ | H29: 0 | I29: 3544061.8
G30: ՀԻՄՆԱԿԱՆ ՄԻՋՈՑՆԵՐ | H30: 0 | I30: 3544061.8
G31: ՇԵՆՔԵՐ ԵՎ ՇԻՆՈՒԹՅՈՒՆՆԵՐ | H31: 0 | I31: 3544061.8
G32: - Շենքերի և շինությունների կապիտալ վերանորոգում | H32: 0 | I32: =-I33 -> 3544061.8
G33: ՀՀ կառավարություն | H33: 0 | I33: -3544061.8
G34: այդ թվում`
B35: 11 | G35: ՀԻՄՆԱԿԱՆ ԲԱԺԻՆՆԵՐԻՆ ՉԴԱՍՎՈՂ ՊԱՀՈՒՍՏԱՅԻՆ ՖՈՆԴԵՐ | H35: 0 | I35: -3544061.8
G36: այդ թվում`
C37: 01 | G37: ՀՀ կառավարության և համայնքների պահուստային ֆոնդ | H37: 0 | I37: -3544061.8
G38: այդ թվում`
D39: 01 | G39: ՀՀ կառավարության պահուստային ֆոնդ | H39: 0 | I39: -3544061.8
G40: այդ թվում`
G41: ՀՀ կառավարություն | H41: 0 | I41: -3544061.8
G42: այդ թվում`
...
