Workbook
Name AgencyCode: #REF!
Name AgencyCode: #REF!
Name AgencyName: #REF!
Name AgencyName: #REF!
Name åû: #REF!
Name åû: #REF!
Name davit: #REF!
Name davit: #REF!
Name Functional1: #REF!
Name Functional1: #REF!
Name ggg: #REF!
Name ggg: #REF!
Name hav: #REF!
Name hav: #REF!
Name havelvac: #REF!
Name havelvac: #REF!
Name mas: #REF!
Name mas: #REF!
Name mass: #REF!
Name mass: #REF!
Name PANature: #REF!
Name PANature: #REF!
Name PAType: #REF!
Name PAType: #REF!
Name Performance2: #REF!
Name Performance2: #REF!
Name PerformanceType: #REF!
Name PerformanceType: #REF!
Name x: #REF!
Name x: #REF!
Name Հավելված: #REF!
Name Հավելված: #REF!
Name Մաս: #REF!
Name Մաս: #REF!
Name շախմատիստ: #REF!
Name շախմատիստ: #REF!

Sheet 1
B1: Հավելված N 1
B2: ՀՀ կառավարության 2022 թվականի
B3: -----------------ի N -----------Ն որոշման
A4: «ՀԱՅԱՍՏԱՆԻ ՀԱՆՐԱՊԵՏՈՒԹՅԱՆ 2022 ԹՎԱԿԱՆԻ ՊԵՏԱԿԱՆ ԲՅՈՒՋԵԻ ՄԱՍԻՆ» ՀԱՅԱՍՏԱՆԻ ՀԱՆՐԱՊԵՏՈՒԹՅԱՆ ՕՐԵՆՔԻ 2-ՐԴ ՀՈԴՎԱԾԻ ԱՂՅՈՒՍԱԿՈՒՄ ԿԱՏԱՐՎՈՂ ՓՈՓՈԽՈՒԹՅՈՒՆԸ
B5: (հազար դրամ)
B6: Ցուցանիշների փոփոխությունը (ավելացումները նշված են դրական նշանով)
A7: Եկամուտների գծով | B7: 207783.6
A8: Ծախսերի գծով | B8: 207783.6
A9: Դեֆիցիտը (պակասուրդը) | B9: =B7-B8 -> 0

Sheet 2
C1: Հավելված N 2
C2: ՀՀ կառավարության 2022 թվականի
C3: -----------------ի N -----------Ն որոշման
A4: «ՀԱՅԱՍՏԱՆԻ ՀԱՆՐԱՊԵՏՈՒԹՅԱՆ 2022 ԹՎԱԿԱՆԻ ՊԵՏԱԿԱՆ ԲՅՈՒՋԵԻ ՄԱՍԻՆ» ՀԱՅԱՍՏԱՆԻ ՀԱՆՐԱՊԵՏՈՒԹՅԱՆ ՕՐԵՆՔԻ 6-ՐԴ ՀՈԴՎԱԾԻ ԱՂՅՈՒՍԱԿՈՒՄ ԵՎ ՀԱՅԱՍՏԱՆԻ ՀԱՆՐԱՊԵՏՈՒԹՅԱՆ ԿԱՌԱՎԱՐՈՒԹՅԱՆ 2021 ԹՎԱԿԱՆԻ ԴԵԿՏԵՄԲԵՐԻ 23-Ի N 2121-Ն ՈՐՈՇՄԱՆ N 2 ՀԱՎԵԼՎԱԾՈՒՄ ԿԱՏԱՐՎՈՂ ՓՈՓՈԽՈՒԹՅՈՒՆԸ
C5: (հազար դրամ)
A6: Պետական բյուջեի եկամուտները | B6: Ցուցանիշների փոփոխությունը (ավելացումները նշված են դրական նշանով)
B7: Ինն ամիս | C7: Տարի
A8: Ընդամենը` | B8: =B10 -> 207783.6 | C8: =C10 -> 207783.6
A9: այդ թվում`
A10: Այլ եկամուտներ | B10: ='1'!B7 -> 207783.6 | C10: =B10 -> 207783.6

Sheet 3
E1: Հավելված N 3
E2: ՀՀ կառավարության 2022 թվականի
C3: -----------------ի N -----------Ն որոշման
A4: «ՀԱՅԱՍՏԱՆԻ ՀԱՆՐԱՊԵՏՈՒԹՅԱՆ 2022 ԹՎԱԿԱՆԻ ՊԵՏԱԿԱՆ ԲՅՈՒՋԵԻ ՄԱՍԻՆ» ՀԱՅԱՍՏԱՆԻ ՀԱՆՐԱՊԵՏՈՒԹՅԱՆ ՕՐԵՆՔԻ N 1 ՀԱՎԵԼՎԱԾԻ N 2 ԱՂՅՈՒՍԱԿՈՒՄ ԿԱՏԱՐՎՈՂ ՎԵՐԱԲԱՇԽՈՒՄԸ ԵՎ ՀԱՅԱՍՏԱՆԻ ՀԱՆՐԱՊԵՏՈՒԹՅԱՆ ԿԱՌԱՎԱՐՈՒԹՅԱՆ 2021 ԹՎԱԿԱՆԻ ԴԵԿՏԵՄԲԵՐԻ 23-Ի N 2121-Ն ՈՐՈՇՄԱՆ N 5 ՀԱՎԵԼՎԱԾԻ N 1 ԱՂՅՈՒՍԱԿՈՒՄ ԿԱՏԱՐՎՈՂ ՓՈՓՈԽՈՒԹՅՈՒՆԸ
D5: (հազար դրամ)
A6: Ծրագրային դասիչը | C6: Բյուջետային հատկացումների գլխավոր կարգադրիչների, ծրագրերի և միջոցառումների անվանումները | D6: Ցուցանիշների փոփոխությունները ավելացումները նշված են դրական նշանով
A7: Ծրագիր | B7: Միջոցառում | D7: Ինն ամիս | E7: Տարի
C8: ԸՆԴԱՄԵՆԸ | D8: =+D9 -> 207783.6 | E8: =E9 -> 207783.6
C9: ՀՀ աշխատանքի և սոցիալական հարցերի նախարարություն | D9: =+D10 -> 207783.6 | E9: =+E10 -> 207783.6
A10: 1205 | C10: Ծրագրի անվանումը` | D10: =D17 -> 207783.6 | E10: =E17 -> 207783.6
C11: Սոցիալական ապահովություն
C12: Ծրագրի նպատակը`
C13: Սոցիալական ապահովության իրավունքի իրականացման ապահովում
C14: Վերջնական արդյունքի նկարագրությունը`
C15: Սոցիալական ապահովության իրավունքի իրականացում
A16: Ծրագրի միջոցառումներ
B17: 12029 | C17: Միջոցառման անվանումը` | D17: ='1'!B8 -> 207783.6 | E17: =D17 -> 207783.6
C18: Անկանխիկ եղանակով վճարումներից կենսաթոշակառուներին հետվճարի տրամադրում
C19: Միջոցառման նկարագրությունը`
C20: Անկանխիկ եղանակով վճարումներից կենսաթոշակառուներին հետվճարի տրամադրում՝ պետություն-մասնավոր սոցիալական փոխգործակցության միջոցառման շրջանակում
C21: Միջոցառման տեսակը
C22: Տրանսֆերտների տրամադրում

Sheet 4
E1: Հավելված N 4
E2: ՀՀ կառավարության 2022 թվականի
E3: -----------------ի N -----------Ն որոշման
A4: ՀԱՅԱՍՏԱՆԻ ՀԱՆՐԱՊԵՏՈՒԹՅԱՆ ԿԱՌԱՎԱՐՈՒԹՅԱՆ 2021 ԹՎԱԿԱՆԻ ԴԵԿՏԵՄԲԵՐԻ 23-Ի N 2121-Ն ՈՐՈՇՄԱՆ N 6 ՀԱՎԵԼՎԱԾՈՒՄ ԿԱՏԱՐՎՈՂ ՓՈՓՈԽՈՒԹՅՈՒՆԸ
E5: (հազար դրամ)
B6: Պետական բյուջեի եկամուտները | C6: Գանձման համար պատասխանատու պետական կառավարման մարմինը (մարմինները) | D6: Ցուցանիշների փոփոխությունը (ավելացումները նշված են դրական նշանով)
D7: Ինն ամիս | E7: Տարի
B8: Այլ եկամուտներ, ընդամենը՝ | D8: =D10 -> 207783.6 | E8: =E10 -> 207783.6
B9: այդ թվում`
A10: 6 | B10: Օրենքով և այլ իրավական ակտերով սահմանված պետական բյուջե մուտքագրվող այլ եկամուտներ | D10: =D12 -> 207783.6 | E10: =E12 -> 207783.6
B11: այդ թվում`
A12: 6.9. | B12: Բանկերի կողմից կենսաթոշակառուներին տրամադրվող հետվճարի գումարներ | C12: ՀՀ աշխատանքի և սոցիալական հարցերի նախարարություն | D12: ='2'!B10 -> 207783.6 | E12: ='2'!C10 -> 207783.6

Sheet 5
G1: Հավելված N 5
F2: ՀՀ կառավարության 2022 թվականի
F3: -----------------ի N -----------Ն որոշման
A4: ՀԱՅԱՍՏԱՆԻ ՀԱՆՐԱՊԵՏՈՒԹՅԱՆ ԿԱՌԱՎԱՐՈՒԹՅԱՆ 2021 ԹՎԱԿԱՆԻ ԴԵԿՏԵՄԲԵՐԻ 23-Ի N 2121-Ն ՈՐՈՇՄԱՆ N 3 և N 4 ՀԱՎԵԼՎԱԾՆԵՐՈՒՄ ԿԱՏԱՐՎՈՂ ՓՈՓՈԽՈՒԹՅՈՒՆԸ
H5: (հազար դրամ)
A6: Գործառական դասիչը | D6: Ծրագրային դասիչը | F6: Բյուջետային ծախսերի գործառական դասակարգման բաժինների, խմբերի և դասերի, բյուջետային ծրագրերի միջոցառումների, բյուջետային հատկացումների գլխավոր կարգադրիչների անվանումները | G6: Ցուցանիշների փոփոխությունները (ավելացումները նշված են դրական, իսկ նվազեցումները՝ փակագծերում)
A7: Բաժինը | B7: Խումբը | C7: Դասը | D7: Ծրագիր | E7: Միջոցառում | G7: Ինն ամիս | H7: Տարի
F8: ԸՆԴԱՄԵՆԸ ԾԱԽՍԵՐ | G8: =+G10 -> 207783.6 | H8: =H10 -> 207783.6
F9: այդ թվում`
A10: 10 | F10: ՍՈՑԻԱԼԱԿԱՆ ՊԱՇՏՊԱՆՈՒԹՅՈՒՆ | G10: =G12 -> 207783.6 | H10: =H12 -> 207783.6
F11: այդ թվում`
B12: ՛02 | F12: Ծերություն | G12: =G14 -> 207783.6 | H12: =H14 -> 207783.6
F13: այդ թվում`
C14: ՛01 | F14: Ծերություն | G14: =G16 -> 207783.6 | H14: =H16 -> 207783.6
F15: այդ թվում`
D16: 1205 | F16: Սոցիալական ապահովություն | G16: =+G19 -> 207783.6 | H16: =+H19 -> 207783.6
F17: այդ թվում`
D18: Ծրագրի միջոցառումներ
E19: 12029 | F19: Անկանխիկ եղանակով վճարումներից կենսաթոշակառուներին հետվճարի տրամադրում | G19: =G21 -> 207783.6 | H19: =H21 -> 207783.6
F20: այդ թվում` ըստ կատարողների
F21: ՀՀ աշխատանքի և սոցիալական հարցերի նախարարության միասնական սոցիալական ծառայություն | G21: =G23 -> 207783.6 | H21: =H23 -> 207783.6
F22: այդ թվում` բյուջետային ծախսերի տնտեսագիտական դասակարգման հոդվածներ
F23: ԸՆԴԱՄԵՆԸ ԾԱԽՍԵՐ | G23: =G24 -> 207783.6 | H23: =H24 -> 207783.6
F24: ԸՆԹԱՑԻԿ ԾԱԽՍԵՐ | G24: =G25 -> 207783.6 | H24: =H25 -> 207783.6
F25: ՍՈՑԻԱԼԱԿԱՆ ՆՊԱՍՏՆԵՐ ԵՎ ԿԵՆՍԱԹՈՇԱԿՆԵՐ | G25: =G26 -> 207783.6 | H25: =H26 -> 207783.6
F26: Սոցիալական օգնության դրամական արտահայտությամբ նպաստներ (բյուջեից) | G26: =G27 -> 207783.6 | H26: =H27 -> 207783.6
F27: - Այլ նպաստներ բյուջեից | G27: ='3'!D17 -> 207783.6 | H27: ='3'!E17 -> 207783.6

Sheet 6
D1: Հավելված N 6
D2: ՀՀ կառավարության 2022 թվականի
D3: -----------------ի N -----------Ն որոշման
A4: ՀԱՅԱՍՏԱՆԻ ՀԱՆՐԱՊԵՏՈՒԹՅԱՆ ԿԱՌԱՎԱՐՈՒԹՅԱՆ 2021 ԹՎԱԿԱՆԻ ԴԵԿՏԵՄԲԵՐԻ 23-Ի N 2121-Ն ՈՐՈՇՄԱՆ N 9 ՀԱՎԵԼՎԱԾԻ 9․15 ԱՂՅՈՒՍԱԿՈՒՄ ԿԱՏԱՐՎՈՂ ՓՈՓՈԽՈՒԹՅՈՒՆԸ
A5: Հայաստանի Հանրապետության աշխատանքի և սոցիալական հարցերի նախարարություն
A6: ՄԱՍ 2. ՊԵՏԱԿԱՆ ՄԱՐՄՆԻ ԳԾՈՎ ԱՐԴՅՈՒՆՔԱՅԻՆ (ԿԱՏԱՐՈՂԱԿԱՆ) ՑՈՒՑԱՆԻՇՆԵՐԸ
A8: Ծրագրի դասիչը | B8: Ծրագրի անվանումը
A9: 1205 | B9: Սոցիալական ապահովություն
A11: Ծրագրի միջոցառումները
A13: Ծրագրի դասիչը` | B13: 1205 | C13: Ցուցանիշների փոփոխությունը (ավելացումը նշված է դրական նշանով)
A14: Միջոցառման դասիչը` | B14: 12029 | C14: Ինն ամիս | D14: Տարի
A15: Միջոցառման անվանումը` | B15: Անկանխիկ եղանակով վճարումներից կենսաթոշակառուներին հետվճարի տրամադրում
A16: Նկարագրությունը` | B16: Անկանխիկ եղանակով վճարումներից կենսաթոշակառուներին հետվճարի տրամադրում՝ պետություն-մասնավոր սոցիալական փոխգործակցության միջոցառման շրջանակում
A17: Միջոցառման տեսակը` | B17: Տրանսֆերտների տրամադրում
A18: Շահառուների ընտրության չափանիշները | B18: ՀՀ կառավարության 2022 թ. հունիսի 23-ի N 932-Լ որոշման պահանջներին համապատասխան
A19: Արդյունքի չափորոշիչներ
A20: Կենսաթոշակառուների, նպաստառուների միջին թիվ, մարդ
A21: Միջոցառման վրա կատարվող ծախսը (հազար դրամ) | C21: ='3'!D17 -> 207783.6 | D21: ='3'!E17 -> 207783.6

Sheet 7
D1: Հավելված N 7
D2: ՀՀ կառավարության 2022 թվականի
D3: -----------------ի N -----------Ն որոշման
A4: ՀԱՅԱՍՏԱՆԻ ՀԱՆՐԱՊԵՏՈՒԹՅԱՆ ԿԱՌԱՎԱՐՈՒԹՅԱՆ 2021 ԹՎԱԿԱՆԻ ԴԵԿՏԵՄԲԵՐԻ 23-Ի N 2121-Ն ՈՐՈՇՄԱՆ N 9.1 ՀԱՎԵԼՎԱԾԻ 9․1.20 ԱՂՅՈՒՍԱԿՈՒՄ ԿԱՏԱՐՎՈՂ ՓՈՓՈԽՈՒԹՅՈՒՆԸ
A5: Հայաստանի Հանրապետության աշխատանքի և սոցիալական հարցերի նախարարության միասնական սոցիալական ծառայություն
A6: ՄԱՍ 2. ՊԵՏԱԿԱՆ ՄԱՐՄՆԻ ԳԾՈՎ ԱՐԴՅՈՒՆՔԱՅԻՆ (ԿԱՏԱՐՈՂԱԿԱՆ) ՑՈՒՑԱՆԻՇՆԵՐԸ
A8: Ծրագրի դասիչը | B8: Ծրագրի անվանումը
A9: 1205 | B9: Սոցիալական ապահովություն
A11: Ծրագրի միջոցառումները
A13: Ծրագրի դասիչը` | B13: 1205 | C13: Ցուցանիշների փոփոխությունը (ավելացումը նշված է դրական նշանով)
A14: Միջոցառման դասիչը` | B14: 12029 | C14: Ինն ամիս | D14: Տարի
A15: Միջոցառման անվանումը` | B15: Անկանխիկ եղանակով վճարումներից կենսաթոշակառուներին հետվճարի տրամադրում
A16: Նկարագրությունը` | B16: Անկանխիկ եղանակով վճարումներից կենսաթոշակառուներին հետվճարի տրամադրում՝ պետություն-մասնավոր սոցիալական փոխգործակցության միջոցառման շրջանակում
A17: Միջոցառման տեսակը` | B17: Տրանսֆերտների տրամադրում
A18: Շահառուների ընտրության չափանիշները | B18: ՀՀ կառավարության 2022 թ. հունիսի 23-ի N 932-Լ որոշման պահանջներին համապատասխան
A19: Արդյունքի չափորոշիչներ
A20: Կենսաթոշակառուների, նպաստառուների միջին թիվ, մարդ
A21: Միջոցառման վրա կատարվող ծախսը (հազար դրամ) | C21: ='3'!D17 -> 207783.6 | D21: ='3'!E17 -> 207783.6
