Workbook

Sheet 1
E2: Հավելված N 1
E3: ՀՀ կառավարության 2022 թվականի
E4: ___________ ___-ի N _______ որոշման
A5: «ՀԱՅԱՍՏԱՆԻ ՀԱՆՐԱՊԵՏՈՒԹՅԱՆ 2022 ԹՎԱԿԱՆԻ ՊԵՏԱԿԱՆ ԲՅՈՒՋԵԻ ՄԱՍԻՆ» ՀՀ ՕՐԵՆՔԻ N 1 ՀԱՎԵԼՎԱԾԻ N 2 ԱՂՅՈՒՍԱԿՈՒՄ ԿԱՏԱՐՎՈՂ ՎԵՐԱԲԱՇԽՈՒՄԸ ԵՎ ՀԱՅԱՍՏԱՆԻ ՀԱՆՐԱՊԵՏՈՒԹՅԱՆ ԿԱՌԱՎԱՐՈՒԹՅԱՆ 2021 ԹՎԱԿԱՆԻ ԴԵԿՏԵՄԲԵՐԻ 23-Ի N 2121-Ն ՈՐՈՇՄԱՆ N 5 ՀԱՎԵԼՎԱԾԻ N 1 ԱՂՅՈՒՍԱԿՈՒՄ ԿԱՏԱՐՎՈՂ ՓՈՓՈԽՈՒԹՅՈՒՆՆԵՐԸ
D7: (հազ. դրամ)
A8: Ծրագրային դասիչը | C8: Բյուջետային հատկացումների գլխավոր կարգադրիչների, ծրագրերի և միջոցառումների անվանումները | D8: Ցուցանիշների փոփոխությունը (ավելացումները նշված են դրական նշանով, նվազեցումները՝ փակագծերում)
A9: Ծրագիր | B9: Միջոցառում | D9: Ինն ամիս | E9: Տարի
B10: ԸՆԴԱՄԵՆԸ | D10: =D11 -> 0 | E10: =E11 -> 0
C11: ՀՀ արդարադատության նախարարություն | D11: =D12 -> 0 | E11: =E12 -> 0
A12: 1057 | C12: Ծրագրի անվանումը` | D12: =D19+D25+D31 -> 0 | E12: =E19+E25+E31 -> 0
C13: Արդարադատության ոլորտում քաղաքականության մշակում, ծրագրերի համակարգում, խորհրդատվության և մոնիտորինգի իրականացում
C14: Ծրագրի նպատակը`
C15: Արդարադատության ոլորտում քաղաքականության, խորհրդատվության, մոնիտորինգի, գնման և աջակցության իրականացում
C16: Վերջնական արդյունքի նկարագրությունը`
C17: Արդարադատության քաղաքականության իրագործմանն ուղղված ծրագրերի արդյունավետության բարելավում
C18: Ծրագրի միջոցառումներ
B19: 11001 | C19: Միջոցառման անվանումը` | D19: ='3'!G22 -> -23824 | E19: ='3'!H22 -> -51874
C20: Արդարադատության ոլորտում քաղաքականության, խորհրդատվության, մոնիտորինգի, գնման և աջակցության իրականացում
C21: Միջոցառման նկարագրությունը`
C22: Ոլորտի քաղաքականության, խորհրդատվության, մոնիտորինգի, արդարադատության ծրագրերի համակարգման ծառայություններ
C23: Միջոցառման տեսակը
C24: Ծառայությունների մատուցում
B25: 11010 | C25: Միջոցառման անվանումը` | D25: ='3'!G31 -> 9914 | E25: ='3'!H31 -> 37964
C26: Աջակցություն օրենսդրության զարգացման և իրավական հետազոտությունների կենտրոնի գործունեությանը
C27: Միջոցառման նկարագրությունը`
C28: Օրենսդրության զարգացման և իրավական հետազոտությունների կենտրոնի գործնեության ապահովում
C29: Միջոցառման տեսակը
C30: Ծառայությունների մատուցում
B31: 31001 | C31: Միջոցառման անվանումը | D31: ='3'!G40 -> 13910 | E31: ='3'!H40 -> 13910
C32: ՀՀ արդարադատության նախարարության կարողությունների զարգացում և տեխնիկական հագեցվածության ապահովում
C33: Միջոցառման նկարագրությունը`
C34: ՀՀ արդարադատության նախարարության աշխատանքային պայմանների բարելավման համար վարչական սարքավորումների ձեռք բերում
C35: Միջոցառման տեսակը
C36: Պետական մարմինների կողմից օգտագործվող ոչ ֆինանսական ակտիվների հետ գործառնություններ

Sheet 2
H1: Հավելված № 2
H2: ՀՀ կառավարության 2022 թվականի ----------
H3: № ---------- որոշման
A6: ՀԱՅԱՍՏԱՆԻ ՀԱՆՐԱՊԵՏՈՒԹՅԱՆ 2022 ԹՎԱԿԱՆԻ ՊԵՏԱԿԱՆ ԲՅՈՒՋԵԻ ՄԱՍԻՆ ՕՐԵՆՔԻ N 1 ՀԱՎԵԼՎԱԾԻ N 3 ԱՂՅՈՒՍԱԿՈՒՄ ԿԱՏԱՐՎՈՂ ՓՈՓՈԽՈՒԹՅՈՒՆԸ
G7: (հազ. դրամ)
A8: Շրագրային դասիչը | C8: Բյուջետային գլխավոր կարգադրիչների, ծրագրերի և միջոցառումների և ուղղությունների անվանումները | D8: Ընդամենը | E8: Ցուցանիշների փոփոխությունը (ավելացումները նշված են դրական նշանով)
E9: այդ թվում
A10: Ծրագիր | B10: Միջոցառում | E10: Կառուցման աշխատանքներ | F10: Վերակառուցման, վերանորոգման և վերականգնման աշխատանքներ | G10: Նախագծահե- տազոտական, գեոդեզիա- քարտեզագրա- կան աշխա- տանքներ | H10: Ոչ ֆինանսական այլ ակտիվների ձեռքբերում
C11: Ընդամենը | D11: =D13 -> 13910 | E11: =E13 -> 0 | F11: =F13 -> 0 | G11: =G13 -> 0 | H11: =H13 -> 13910
C12: այդ թվում`
C13: ՀՀ արդարադատության նախարարություն | D13: =D15 -> 13910 | E13: =E15 -> 0 | F13: =F15 -> 0 | G13: =G15 -> 0 | H13: =H15 -> 13910
C14: այդ թվում՝
A15: 1057 | B15: 31001 | C15: ՀՀ արդարադատության նախարարության կարողությունների զարգացում և տեխնիկական հագեցվածության ապահովում | D15: =E15+F15+G15+H15 -> 13910 | H15: ='3'!H40 -> 13910

Sheet 3
H1: Հավելված N 3
H2: ՀՀ կառավարության 2022թվականի
H3: ___________ ___-ի N _______ որոշման
A6: ՀԱՅԱՍՏԱՆԻ ՀԱՆՐԱՊԵՏՈՒԹՅԱՆ ԿԱՌԱՎԱՐՈՒԹՅԱՆ 2021 ԹՎԱԿԱՆԻ ԴԵԿՏԵՄԲԵՐԻ 23-Ի N 2121-Ն ՈՐՈՇՄԱՆ N 3 և N 4 ՀԱՎԵԼՎԱԾՆԵՐՈՒՄ ԿԱՏԱՐՎՈՂ ՓՈՓՈԽՈՒԹՅՈՒՆՆԵՐԸ
G7: (հազ. դրամ)
A8: Գործառական դասիչը | D8: Ծրագրային դասիչը | F8: Բյուջետային ծախսերի գործառական դասակարգման բաժինների, խմբերի և դասերի, բյուջետային ծրագրերի, միջոցառումների բյուջետային հատկացումնեյի գլխավոր կարկադրիչների անվանումները | G8: Ցուցանիշների փոփոխությունը (ավելացումները նշված են դրական նշանով, նվազեցումները՝ փակագծերում)
A9: Բաժին | B9: Խումբ | C9: Դաս | D9: Ծրագիր | E9: Միջոցառում | G9: ինն ամիս | H9: Տարի
F10: ԸՆԴԱՄԵՆԸ | G10: =+G12 -> 0 | H10: =+H12 -> 0
F11: այդ թվում`
A12: 01 | F12: ԸՆԴՀԱՆՈՒՐ ԲՆՈՒՅԹԻ ՀԱՆՐԱՅԻՆ ԾԱՌԱՅՈՒԹՅՈՒՆՆԵՐ | G12: =G14 -> 0 | H12: =H14 -> 0
F13: այդ թվում`
B14: 01 | F14: Օրենսդիր և գործադիր մարմիններ, պետական կառավարում, ֆինանսական և հարկաբյուջետային հարաբերություններ, արտաքին հարաբերություններ | G14: =+G16 -> 0 | H14: =+H16 -> 0
F15: այդ թվում`
C16: 01 | F16: Օրենսդիր և գործադիր մարմիններ, պետական կառավարում | G16: =G18 -> 0 | H16: =H18 -> 0
F17: այդ թվում`
F18: ՀՀ արդարադատության նախարարություն | G18: =G20 -> 0 | H18: =H20 -> 0
F19: այդ թվում`
D20: 1057 | F20: Արդարադատության ոլորտում քաղաքականության մշակում, ծրագրերի համակարգում, խորհրդատվության և մոնիտորինգի իրականացում | G20: =+G22+G31+G40 -> 0 | H20: =+H22+H31+H40 -> 0
F21: այդ թվում`
E22: 11001 | F22: Արդարադատության ոլորտում քաղաքականության, խորհրդատվության, մոնիտորինգի, գնման և աջակցության իրականացում | G22: =G24 -> -23824 | H22: =H24 -> -51874
F23: այդ թվում` ըստ կատարողների
F24: ՀՀ արդարադատության նախարարություն | G24: =G26 -> -23824 | H24: =H26 -> -51874
F25: այդ թվում` բյուջետային ծախսերի տնտեսագիտական դասակարգման հոդվածներ
F26: ԸՆԴԱՄԵՆԸ ԾԱԽՍԵՐ | G26: =G27 -> -23824 | H26: =H27 -> -51874
F27: ԸՆԹԱՑԻԿ ԾԱԽՍԵՐ | G27: =G28 -> -23824 | H27: =H28 -> -51874
F28: ԾԱՌԱՅՈՒԹՅՈՒՆՆԵՐԻ ԵՎ ԱՊՐԱՆՔՆԵՐԻ ՁԵՌՔԲԵՐՈՒՄ | G28: =G29 -> -23824 | H28: =H29 -> -51874
F29: Պայմանագրային այլ ծառայությունների ձեռքբերում | G29: =G30 -> -23824 | H29: =H30 -> -51874
F30: - Կառավարչական ծառայություններ | G30: -23824 | H30: -51874
E31: 11010 | F31: Աջակցություն օրենսդրության զարգացման և իրավական հետազոտությունների կենտրոնի գործունեությանը | G31: =G33 -> 9914 | H31: =H33 -> 37964
F32: այդ թվում` ըստ կատարողների
F33: ՀՀ արդարադատության նախարարություն | G33: =G35 -> 9914 | H33: =H35 -> 37964
F34: այդ թվում` բյուջետային ծախսերի տնտեսագիտական դասակարգման հոդվածներ
F35: ԸՆԴԱՄԵՆԸ ԾԱԽՍԵՐ | G35: =G36 -> 9914 | H35: =H36 -> 37964
F36: ԸՆԹԱՑԻԿ ԾԱԽՍԵՐ | G36: =G37 -> 9914 | H36: =H37 -> 37964
F37: ԱՇԽԱՏԱՆՔԻ ՎԱՐՁԱՏՐՈՒԹՅՈՒՆ | G37: =G38 -> 9914 | H37: =H38 -> 37964
F38: Դրամով վճարվող աշխատավարձեր և հավելավճարներ | G38: =G39 -> 9914 | H38: =H39 -> 37964
F39: - Աշխատողների աշխատավարձեր և հավելավճարներ | G39: 9914 | H39: 37964
E40: 31001 | F40: ՀՀ արդարադատության նախարարության կարողությունների զարգացում և տեխնիկական հագեցվածության ապահովում | G40: =G42 -> 13910 | H40: =H42 -> 13910
F41: այդ թվում` ըստ կատարողների
F42: ՀՀ արդարադատության նախարարություն | G42: =G44 -> 13910 | H42: =H44 -> 13910
F43: այդ թվում` բյուջետային ծախսերի տնտեսագիտական դասակարգման հոդվածներ
F44: ԸՆԴԱՄԵՆԸ ԾԱԽՍԵՐ | G44: =G45 -> 13910 | H44: =H45 -> 13910
F45: ՈՉ ՖԻՆԱՆՍԱԿԱՆ ԱԿՏԻՎՆԵՐԻ ԳԾՈՎ ԾԱԽՍԵՐ | G45: =G46 -> 13910 | H45: =H46 -> 13910
F46: ՀԻՄՆԱԿԱՆ ՄԻՋՈՑՆԵՐ | G46: =G47 -> 13910 | H46: =H47 -> 13910
F47: ՄԵՔԵՆԱՆԵՐ ԵՎ ՍԱՐՔԱՎՈՐՈՒՄՆԵՐ | G47: =G48 -> 13910 | H47: =H48 -> 13910
F48: - Վարչական սարքավորումներ | G48: 13910 | H48: 13910

Sheet 4
E1: Հավելված 4
C2: ՀՀ կառավարության 2022 թվականի
C3: ______________ ի ___Ն որոշման
A5: ՀԱՅԱՍՏԱՆԻ ՀԱՆՐԱՊԵՏՈՒԹՅԱՆ ԿԱՌԱՎԱՐՈՒԹՅԱՆ 2021 ԹՎԱԿԱՆԻ ԴԵԿՏԵՄԲԵՐԻ 23-Ի ԹԻՎ 2121-Ն ՈՐՈՇՄԱՆ N5 ՀԱՎԵԼՎԱԾԻ N2 ԱՂՅՈՒՍԱԿՈՒՄ ԿԱՏԱՐՎՈՂ ՓՈՓՈԽՈՒԹՅՈՒՆՆԵՐԸ
D7: (հազ. դրամ)
A8: Ծրագրային դասիչ | C8: Բյուջետային գլխավոր կարգադրիչների, ծրագրերի, միջոցառումների, միջոցառումները կատարող պետական մարմինների և ուղղությունների անվանումները | D8: Ցուցանիշների փոփոխությունը (ավելացումները նշված են դրական նշանով)
A9: Ծրագիր | B9: Միջոցառում | D9: Ինն ամիս | E9: Տարի
C10: ԸՆԴԱՄԵՆԸ | D10: =D14 -> 13910 | E10: =E14 -> 13910
C11: այդ թվում`
C12: ՀՀ արդարադատության նախարարություն
C13: այդ թվում`
A14: 1057 | B14: 31001 | C14: ՀՀ արդարադատության նախարարության կարողությունների զարգացում և տեխնիկական հագեցվածության ապահովում | D14: =D16 -> 13910 | E14: =E16 -> 13910
C15: այդ թվում` ըստ կատարողների
C16: ՀՀ արդարադատության նախարարություն | D16: ='3'!G40 -> 13910 | E16: ='3'!H40 -> 13910

Sheet 5
D1: Հավելված N5
D2: ՀՀ կառավարության 2022թվականի
D3: ___________ ___-ի N _______ որոշման
A8: ՀԱՅԱՍՏԱՆԻ ՀԱՆՐԱՊԵՏՈՒԹՅԱՆ ԿԱՌԱՎԱՐՈՒԹՅԱՆ 2021 ԹՎԱԿԱՆԻ ԴԵԿՏԵՄԲԵՐԻ 23-Ի ԹԻՎ 2121-Ն ՈՐՈՇՄԱՆ N 9 ՀԱՎԵԼՎԱԾԻ 9․9 ԱՂՅՈՒՍԱԿՈՒՄ ԿԱՏԱՐՎՈՂ ՓՈՓՈԽՈՒԹՅՈՒՆՆԵՐԸ ԵՎ ԼՐԱՑՈՒՄՆԵՐԸ
A11: ՀՀ արդարադատության նախարարություն
A13: ՄԱՍ 2. ՊԵՏԱԿԱՆ ՄԱՐՄՆԻ ԳԾՈՎ ԱՐԴՅՈՒՆՔԱՅԻՆ (ԿԱՏԱՐՈՂԱԿԱՆ) ՑՈՒՑԱՆԻՇՆԵՐԸ
A16: Ծրագրի դասիչը | B16: Ծրագրի անվանումը
A17: 1057 | B17: Արդարադատության ոլորտում քաղաքականության մշակում, ծրագրերի համակարգում, խորհրդատվության և մոնիտորինգի իրականացում
A19: Ծրագրի միջոցառումները
A20: Ծրագրի դասիչը` | B20: 1057 | C20: Ցուցանիշների փոփոխությունը (նվազեցումները նշված են փակագծերւմ)
A21: Միջոցառման դասիչը` | B21: 11001 | C21: Ինն ամիս | D21: Տարի
A22: Միջոցառման անվանումը` | B22: Արդարադատության ոլորտում քաղաքականության, խորհրդատվության, մոնիտորինգի, գնման և աջակցության իրականացում
A23: Նկարագրությունը` | B23: Ոլորտի քաղաքականության, խորհրդատվության, մոնիտորինգի, արդարադատության ծրագրերի համակարգման ծառայություններ
A24: Միջոցառման տեսակը` | B24: Ծառայությունների մատուցում
A25: Ծառայությունը մատուցող կազմակերպության(ների) անվանում(ներ)ը | B25: ՀՀ արդարադատության նախարարություն
A26: Արդյունքի չափորոշիչներ
A27: Միջոցառման վրա կատարվող ծախսը (հազար դրամ) | C27: ='3'!G22 -> -23824 | D27: ='3'!H22 -> -51874
A32: Ծրագրի դասիչը` | B32: 1057 | C32: Ցուցանիշների փոփոխությունը (ավելացումները նշված են դրական նշանով)
A33: Միջոցառման դասիչը` | B33: 11010 | C33: Ինն ամիս | D33: Տարի
A34: Միջոցառման անվանումը` | B34: Աջակցություն օրենսդրության զարգացման և իրավական հետազոտությունների կենտրոնի գործունեությանը
A35: Նկարագրությունը` | B35: Օրենսդրության զարգացման և իրավական հետազոտությունների կենտրոնի գործնեության ապահովում
A36: Միջոցառման տեսակը` | B36: Ծառայությունների մատուցում
A37: Միջոցառումն իրականացնողի անվանումը | B37: «Օրենսդրության զարգացման և իրավական հետազոտությունների կենտրոն» հիմնադրամ
A38: Արդյունքի չափորոշիչներ
A39: Միջոցառման վրա կատարվող ծախսը (հազար դրամ) | C39: ='3'!G31 -> 9914 | D39: ='3'!H31 -> 37964
A42: Ծրագրի դասիչը` | B42: 1057 | C42: Ցուցանիշների փոփոխությունը (ավելացումները նշված են դրական նշանով)
A43: Միջոցառման դասիչը՝ | B43: 31001 | C43: Ինն ամիս | D43: Տարի
A44: Միջոցառման անվանումը՝ | B44: ՀՀ արդարադատության նախարարության կարողությունների զարգացում և տեխնիկական հագեցվածության ապահովում
A45: Նկարագրությունը՝ | B45: ՀՀ արդարադատության նախարարության աշխատանքային պայմանների բարելավման համար վարչական սարքավորումների ձեռքբերում
A46: Միջոցառման տեսակը՝ | B46: Պետական մարմինների կողմից օգտագործվող ոչ ֆինանսական ակտիվների հետ գործառնություններ
A47: Ակտիվն օգտագործող կազմակերպության անվանումը | B47: ՀՀ արդարադատության նախարարություն
A48: Արդյունքի չափորոշիչներ
A49: Միջոցառման վրա կատարվող ծախսը (հազար դրամ) | C49: ='3'!G40 -> 13910 | D49: ='3'!H40 -> 13910

Sheet 6
D1: Հավելված N 6
D2: ՀՀ կառավարության 2022թվականի
D3: ___________ ___-ի N _______ որոշման
A6: ՀԱՅԱՍՏԱՆԻ ՀԱՆՐԱՊԵՏՈՒԹՅԱՆ ԿԱՌԱՎԱՐՈՒԹՅԱՆ 2021 ԹՎԱԿԱՆԻ ԴԵԿՏԵՄԲԵՐԻ 23-Ի ԹԻՎ 2121-Ն ՈՐՈՇՄԱՆ N 9.1 ՀԱՎԵԼՎԱԾԻ 9.1.10 ԱՂՅՈՒՍԱԿՈՒՄ ԿԱՏԱՐՎՈՂ ՓՈՓՈԽՈՒԹՅՈՒՆՆԵՐԸ ԵՎ ԼՐԱՑՈՒՄՆԵՐԸ
A8: ՀՀ արդարադատության նախարարություն
A10: ՄԱՍ 1. ՊԵՏԱԿԱՆ ՄԱՐՄՆԻ ԳԾՈՎ ԱՐԴՅՈՒՆՔԱՅԻՆ (ԿԱՏԱՐՈՂԱԿԱՆ) ՑՈՒՑԱՆԻՇՆԵՐԸ
A13: Ծրագրի դասիչը | B13: Ծրագրի անվանումը
A14: 1057 | B14: Արդարադատության ոլորտում քաղաքականության մշակում, ծրագրերի համակարգում, խորհրդատվության և մոնիտորինգի իրականացում
A16: Ծրագրի միջոցառումները
A17: Ծրագրի դասիչը` | B17: 1057 | C17: Ցուցանիշների փոփոխությունը (նվազեցումները նշված են փակագծերւմ)
A18: Միջոցառման դասիչը` | B18: 11001 | C18: Ինն ամիս | D18: Տարի
A19: Միջոցառման անվանումը` | B19: Արդարադատության ոլորտում քաղաքականության, խորհրդատվության, մոնիտորինգի, գնման և աջակցության իրականացում
A20: Նկարագրությունը` | B20: Ոլորտի քաղաքականության, խորհրդատվության, մոնիտորինգի, արդարադատության ծրագրերի համակարգման ծառայություններ
A21: Միջոցառման տեսակը` | B21: Ծառայությունների մատուցում
A22: Ծառայությունը մատուցող կազմակերպության(ների) անվանում(ներ)ը | B22: ՀՀ արդարադատության նախարարություն
A23: Արդյունքի չափորոշիչներ
A24: Միջոցառման վրա կատարվող ծախսը (հազար դրամ) | C24: ='3'!G22 -> -23824 | D24: ='3'!H22 -> -51874
A29: Ծրագրի դասիչը` | B29: 1057 | C29: Ցուցանիշների փոփոխությունը (ավելացումները նշված են դրական նշանով)
A30: Միջոցառման դասիչը` | B30: 11010 | C30: Ինն ամիս | D30: Տարի
A31: Միջոցառման անվանումը` | B31: Աջակցություն օրենսդրության զարգացման և իրավական հետազոտությունների կենտրոնի գործունեությանը
A32: Նկարագրությունը` | B32: Օրենսդրության զարգացման և իրավական հետազոտությունների կենտրոնի գործնեության ապահովում
A33: Միջոցառման տեսակը` | B33: Ծառայությունների մատուցում
A34: Միջոցառումն իրականացնողի անվանումը | B34: «Օրենսդրության զարգացման և իրավական հետազոտությունների կենտրոն» հիմնադրամ
A35: Արդյունքի չափորոշիչներ
A36: Միջոցառման վրա կատարվող ծախսը (հազար դրամ) | C36: ='3'!G31 -> 9914 | D36: ='3'!H31 -> 37964
A39: Ծրագրի դասիչը` | B39: 1057 | C39: Ցուցանիշների փոփոխությունը (ավելացումները նշված են դրական նշանով)
A40: Միջոցառման դասիչը՝ | B40: 31001 | C40: Ինն ամիս | D40: Տարի
A41: Միջոցառման անվանումը՝ | B41: ՀՀ արդարադատության նախարարության կարողությունների զարգացում և տեխնիկական հագեցվածության ապահովում
A42: Նկարագրությունը՝ | B42: ՀՀ արդարադատության նախարարության աշխատանքային պայմանների բարելավման համար վարչական սարքավորումների ձեռքբերում
A43: Միջոցառման տեսակը՝ | B43: Պետական մարմինների կողմից օգտագործվող ոչ ֆինանսական ակտիվների հետ գործառնություններ
A44: Ակտիվն օգտագործող կազմակերպության անվանումը | B44: ՀՀ արդարադատության նախարարություն
A45: Արդյունքի չափորոշիչներ
A46: Միջոցառման վրա կատարվող ծախսը (հազար դրամ) | C46: ='3'!G40 -> 13910 | D46: ='3'!H40 -> 13910

Sheet 7
E1: Հավելված N 7
E2: ՀՀ կառավարության 2022 թվականի
E3: ———————— N -Ն որոշման
A5: ՀԱՅԱՍՏԱՆԻ ՀԱՆՐԱՊԵՏՈՒԹՅԱՆ ԿԱՌԱՎԱՐՈՒԹՅԱՆ 2021 ԹՎԱԿԱՆԻ ԴԵԿՏԵՄԲԵՐԻ 23-Ի N 2121-Ն ՈՐՈՇՄԱՆ N 10 ՀԱՎԵԼՎԱԾԻ ՑՈՒՑԱՆԻՇՆԵՐՈՒՄ ԿԱՏԱՐՎՈՂ ՓՈՓՈԽՈՒԹՅՈՒՆՆԵՐԸ ԵՎ ԼՐԱՑՈՒՄՆԵՐԸ
A7: Կոդը | B7: Անվանումը | C7: Գնման ձևը | D7: Չափի միավորը | E7: միավորի գինը | F7: Ցուցանիշների փոփոխությունը (ավելացումները նշված են դրական նշանով, նվազեցումները՝ փակագծերում)
F8: քանակը | G8: գումարը (հազար դրամով)
A9: 1 | B9: 2 | C9: 3 | D9: 4 | E9: 5 | F9: 6 | G9: 7
A10: ՀՀ արդարադատության նախարարություն | G10: =G11 -> -37964
A11: Բաժին N 01 Խումբ N 01 Դաս N 01 Օրենսդիր և գործադիր մարմիններ, պետական կառավարում | G11: =G12 -> -37964
A12: 1057 | B12: 11001 | C12: Արդարադատության ոլորտում քաղաքականության, խորհրդատվության, մոնիտորինգի, գնման և աջակցության իրականացում | G12: =G13+G28 -> -37964
B13: ՄԱՍ 1. ԱՊՐԱՆՔՆԵՐ | G13: =SUM(G14:G27) -> 13910
A14: 30211200 | B14: դյուրակիր համակարգիչներ | C14: ԷԱՃ | D14: հատ | E14: 550000 | F14: 5 | G14: =E14*F14/1000 -> 2750
A15: 30211200 | B15: դյուրակիր համակարգիչներ | C15: ԷԱՃ | D15: հատ | E15: 590000 | F15: 3 | G15: =E15*F15/1000 -> 1770
A16: 30211200 | B16: դյուրակիր համակարգիչներ | C16: ԷԱՃ | D16: հատ | E16: 460000 | F16: 3 | G16: =E16*F16/1000 -> 1380
A17: 32551160 | B17: հեռախոսային սարքեր | C17: ԷԱՃ | D17: հատ | E17: 70000 | F17: 12 | G17: =E17*F17/1000 -> 840
A18: 39111180 | B18: աթոռ` գրասենյակային | C18: ԷԱՃ | D18: հատ | E18: 19000 | F18: 30 | G18: =E18*F18/1000 -> 570
A19: 39111190 | B19: բազկաթոռներ | C19: ԷԱՃ | D19: հատ | E19: 45000 | F19: 35 | G19: =E19*F19/1000 -> 1575
A20: 39111220 | B20: բազկաթոռ՝ ղեկավարի | C20: ԷԱՃ | D20: հատ | E20: 130000 | F20: 17 | G20: =E20*F20/1000 -> 2210
A21: 39141260 | B21: զգեստապահարաններ | C21: ԷԱՃ | D21: հատ | E21: 180000 | F21: 1 | G21: =E21*F21/1000 -> 180
A22: 39121520 | B22: գրապահարաններ | C22: ԷԱՃ | D22: հատ | E22: 360000 | F22: 1 | G22: =E22*F22/1000 -> 360
A23: 39121200 | B23: սեղաններ | C23: ԷԱՃ | D23: հատ | E23: 135000 | F23: 3 | G23: =E23*F23/1000 -> 405
A24: 39121200 | B24: սեղաններ | C24: ԷԱՃ | D24: հատ | E24: 100000 | F24: 2 | G24: =E24*F24/1000 -> 200
A25: 39121200 | B25: սեղաններ | C25: ԷԱՃ | D25: հատ | E25: 120000 | F25: 1 | G25: =E25*F25/1000 -> 120
A26: 38651150 | B26: կինոխցիկներ | C26: ԷԱՃ | D26: հատ | E26: 2250500 | F26: 1 | G26: =E26*F26/1000 -> 2250.5
A27: 38651150/1 | B27: կինոխցիկներ | C27: ԷԱՃ | D27: հատ | E27: 700500 | F27: -1 | G27: =E27*F27/1000 -> -700.5
B28: ՄԱՍ III. ԾԱՌԱՅՈՒԹՅՈՒՆՆԵՐ | G28: =+G29 -> -51874
A29: 79111100/1 | B29: Իրավական խորհրդատվության ծառայություններ | C29: ԲՄ | D29: դրամ | G29: -51874
