Workbook
Name a: #REF!
Name a: #REF!
Name a: #REF!
Name AgencyCode: #REF!
Name AgencyCode: #REF!
Name AgencyCode: #REF!
Name AgencyCode: #REF!
Name AgencyName: #REF!
Name AgencyName: #REF!
Name AgencyName: #REF!
Name AgencyName: #REF!
Name davit: #REF!
Name davit: #REF!
Name davit: #REF!
Name Functional1: #REF!
Name Functional1: #REF!
Name Functional1: #REF!
Name Functional1: #REF!
Name ggg: #REF!
Name ggg: #REF!
Name ggg: #REF!
Name PANature: #REF!
Name PANature: #REF!
Name PANature: #REF!
Name PANature: #REF!
Name PAType: #REF!
Name PAType: #REF!
Name PAType: #REF!
Name PAType: #REF!
Name Performance2: #REF!
Name Performance2: #REF!
Name Performance2: #REF!
Name Performance2: #REF!
Name PerformanceType: #REF!
Name PerformanceType: #REF!
Name PerformanceType: #REF!
Name PerformanceType: #REF!
Name Հավելված: #REF!
Name Հավելված: #REF!
Name Հավելված: #REF!
Name Մաս: #REF!
Name Մաս: #REF!
Name Մաս: #REF!
Name շախմատիստ: #REF!
Name շախմատիստ: #REF!
Name շախմատիստ: #REF!

Sheet Հավելված N 1
D1: Հավելված N 1
D2: ՀՀ կառավարության 2022 թվականի
D3: ______________ ի ___Ն որոշման
A5: «ՀԱՅԱUՏԱՆԻ ՀԱՆՐԱՊԵՏՈՒԹՅԱՆ 2022 ԹՎԱԿԱՆԻ ՊԵՏԱԿԱՆ ԲՅՈՒՋԵԻ ՄԱUԻՆ» ՀԱՅԱUՏԱՆԻ ՀԱՆՐԱՊԵՏՈՒԹՅԱՆ OՐԵՆՔԻ N 1 ՀԱՎԵԼՎԱԾԻ N 2 ԱՂՅՈՒՍԱԿՈՒՄ ԿԱՏԱՐՎՈՂ ՎԵՐԱԲԱՇԽՈՒՄԸ ԵՎ ՀԱՅԱՍՏԱՆԻ ՀԱՆՐԱՊԵՏՈՒԹՅԱՆ ԿԱՌԱՎԱՐՈՒԹՅԱՆ 2021 ԹՎԱԿԱՆԻ ԴԵԿՏԵՄԲԵՐԻ 23-Ի N 2121-Ն ՈՐՈՇՄԱՆ N 5 ՀԱՎԵԼՎԱԾԻ N 1 ԱՂՅՈՒՍԱԿՈՒՄ ԿԱՏԱՐՎՈՂ ՓՈՓՈԽՈՒԹՅՈՒՆԸ ԵՎ ԼՐԱՑՈՒՄԸ
E7: հազ. դրամներով
A8: Ծրագրային դասիչը | C8: Բյուջետային հատկացումների գլխավոր կարգադրիչների, ծրագրերի և միջոցառումների անվանումները | D8: Ցուցանիշների փոփոխությունը (ավելացումները նշված են դրական նշանով, իսկ նվազեցումները փակագծերում)
A9: Ծրագիր | B9: Միջոցառում | D9: Ինն ամիս | E9: Տարի
A10: 1192 | C10: ԸՆԴԱՄԵՆԸ | D10: =+D12+D27 -> 0 | E10: =+E12+E27 -> 0
C11: այդ թվում
C12: ՀՀ ԿՐԹՈՒԹՅԱՆ, ԳԻՏՈՒԹՅԱՆ, ՄՇԱԿՈՒՅԹԻ ԵՎ ՍՊՈՐՏԻ ՆԱԽԱՐԱՐՈՒԹՅՈՒՆ | D12: =+D14 -> 20000 | E12: =+E14 -> 20000
A13: 1075 | C13: Ծրագրի անվանումը`
C14: Մշակութային ժառանգության ծրագիր | D14: =+D21 -> 20000 | E14: =+E21 -> 20000
C15: Ծրագրի նպատակը`
C16: Մշակութային ժառանգության պահպանում, օգտագործում, համալրում և հանրահռչակում
C17: Վերջնական արդյունքի նկարագրությունը`
C18: Մշակութային ժառանգության շարունակական պահպանում, մշակութային զբոսաշրջության զարգացում և խթանում
C19: Ծրագրի միջոցառումներ
B20: 12001 | C20: Միջոցառման անվանումը`
C21: Հայաստանի Հանրապետությունում պետական և հասարակական նշանավոր գործիչներին նվիրված հուշարձանների իրականացում | D21: =+'Հավելված N 2'!G23 -> 20000 | E21: =+'Հավելված N 2'!H23 -> 20000
C22: Միջոցառման նկարագրությունը`
C23: ՀՀ-ում պետական և հասարակական նշանավոր գործիչների հիշատակը հավերժացնելու նպատակով պետական և համայնքների տարածքներում ու հասարակական վայրերում հուշարձանների (վեհարձան, կոթող, անդրի, կիսանդրի, հուշաքար, հուշատախտակ) իրականացում (նախագծում և կառուցում)
C24: Միջոցառման տեսակը
C25: Տրանսֆերտների տրամադրում
C27: ՀՀ ԿԱՌԱՎԱՐՈՒԹՅՈՒՆ | D27: =+D29 -> -20000 | E27: =+E29 -> -20000
A28: 1139 | C28: Ծրագրի անվանումը`
C29: ՀՀ կառավարության պահուստային ֆոնդ | D29: =+D35 -> -20000 | E29: =+E35 -> -20000
C30: Ծրագրի նպատակը`
C31: Պետական բյուջեում չկանխատեսված, ինչպես նաև բյուջետային երաշխիքների ապահովման ծախսերի ֆինանսավորման ապահովում
C32: Վերջնական արդյունքի նկարագրությունը`
C33: Պահուստային ֆոնդի կառավարման արդյունավետության և թափանցիկության ապահովում
B34: 11001 | C34: Միջոցառման անվանումը`
C35: ՀՀ կառավարության պահուստային ֆոնդ | D35: =+'Հավելված N 2'!G44 -> -20000 | E35: =+'Հավելված N 2'!H44 -> -20000
C36: Միջոցառման նկարագրությունը`
C37: ՀՀ պետական բյուջեում նախատեսված ելքերի լրացուցիչ ֆինանսավորման՝ պետական բյուջեում չկանխատեսված ելքերի, ինչպես նաև բյուջետային երաշխիքների ապահովման ելքերի ֆինանսավորման ապահովում
C38: Միջոցառման տեսակը
C39: Ծառայությունների մատուցում

Sheet Հավելված N 2
F1: Հավելված N 2
F2: ՀՀ կառավարության 2022 թվականի
F3: ______________ ի ___Ն որոշման
A5: ՀԱՅԱՍՏԱՆԻ ՀԱՆՐԱՊԵՏՈՒԹՅԱՆ ԿԱՌԱՎԱՐՈՒԹՅԱՆ 2021 ԹՎԱԿԱՆԻ ԴԵԿՏԵՄԲԵՐԻ 23-Ի N2121-Ն ՈՐՈՇՄԱՆ N 3 ԵՎ N 4 ՀԱՎԵԼՎԱԾՆԵՐՈՒՄ ԿԱՏԱՐՎՈՂ ՓՈՓՈԽՈՒԹՅՈՒՆԸ ԵՎ ԼՐԱՑՈՒՄԸ
H7: հազ. դրամներով
A8: Գործառական դասիչը | D8: Ծրագրային դասիչը | F8: Բյուջետային հատկացումների գլխավոր կարգադրիչների, ծրագրերի, միջոցառումների և միջոցառումները կատարող պետական մարմինների անվանումները | G8: Ցուցանիշների փոփոխությունը (ավելացումները նշված են դրական նշանով, իսկ նվազեցումները փակագծերում)
A9: Բաժին | B9: Խումբ | C9: Դաս | D9: Ծրագիր | E9: Միջոցառում | G9: Ինն ամիս | H9: Տարի
F10: ԸՆԴԱՄԵՆԸ | G10: =+G12+G33 -> 0 | H10: =+H12+H33 -> 0
F11: այդ թվում
F12: ՀՀ ԿՐԹՈՒԹՅԱՆ, ԳԻՏՈՒԹՅԱՆ, ՄՇԱԿՈՒՅԹԻ ԵՎ ՍՊՈՐՏԻ ՆԱԽԱՐԱՐՈՒԹՅՈՒՆ | G12: =+G13 -> 20000 | H12: =+H13 -> 20000
A13: 08 | F13: ՀԱՆԳԻՍՏ, ՄՇԱԿՈՒՅԹ ԵՎ ԿՐՈՆ | G13: =+G15 -> 20000 | H13: =+H15 -> 20000
F14: այդ թվում`
B15: 02 | F15: Մշակութային ծառայություններ | G15: =+G17 -> 20000 | H15: =+H17 -> 20000
F16: այդ թվում`
C17: 07 | F17: Հուշարձանների և մշակութային արժեքների վերականգնում և պահպանում | G17: =+G19 -> 20000 | H17: =+H19 -> 20000
F18: այդ թվում`
F19: ՀՀ կրթության, գիտության, մշակույթի և սպորտի նախարարություն | G19: =+G21 -> 20000 | H19: =+H21 -> 20000
F20: այդ թվում`
D21: 1075 | E21: Մշակութային ժառանգության ծրագիր | G21: =+G23 -> 20000 | H21: =+H23 -> 20000
F22: այդ թվում`
E23: 12001 | F23: Հայաստանի Հանրապետությունում պետական և հասարակական նշանավոր գործիչներին նվիրված հուշարձանների իրականացում | G23: =+G25 -> 20000 | H23: =+H25 -> 20000
F24: այդ թվում` ըստ կատարողների
F25: ՀՀ կրթության, գիտության, մշակույթի և սպորտի նախարարություն | G25: =+G27 -> 20000 | H25: =+H27 -> 20000
F26: այդ թվում՝ բյուջետային ծախսերի տնտեսագիտական դասակարգման հոդվածներ
F27: ԸՆԴԱՄԵՆԸ ԾԱԽՍԵՐ | G27: =+G28 -> 20000 | H27: =+H28 -> 20000
F28: ԸՆԹԱՑԻԿ ԾԱԽՍԵՐ | G28: =+G29 -> 20000 | H28: =+H29 -> 20000
F29: ԴՐԱՄԱՇՆՈՐՀՆԵՐ | G29: =+G30 -> 20000 | H29: =+H30 -> 20000
F30: ԿԱՊԻՏԱԼ ԴՐԱՄԱՇՆՈՐՀՆԵՐ ՊԵՏԱԿԱՆ ՀԱՏՎԱԾԻ ԱՅԼ ՄԱԿԱՐԴԱԿՆԵՐԻՆ | G30: =+G31 -> 20000 | H30: =+H31 -> 20000
F31: - Կապիտալ դրամաշնորհներ պետական և համայնքային ոչ առևտրային կազմակերպություններին | G31: 20000 | H31: =+'Հավելված N 3'!G12 -> 20000
F33: ՀՀ ԿԱՌԱՎԱՐՈՒԹՅՈՒՆ | G33: =+G34 -> -20000 | H33: =+H34 -> -20000
A34: 11 | F34: ՀԻՄՆԱԿԱՆ ԲԱԺԻՆՆԵՐԻՆ ՉԴԱՍՎՈՂ ՊԱՀՈՒՍՏԱՅԻՆ ՖՈՆԴԵՐ | G34: =+G36 -> -20000 | H34: =+H36 -> -20000
F35: այդ թվում`
B36: 01 | F36: ՀՀ կառավարության և համայնքների պահուստային ֆոնդ | G36: =+G38 -> -20000 | H36: =+H38 -> -20000
F37: այդ թվում`
C38: 01 | F38: ՀՀ կառավարության պահուստային ֆոնդ | G38: =+G40 -> -20000 | H38: =+H40 -> -20000
F39: այդ թվում`
F40: ՀՀ կառավարություն | G40: =+G42 -> -20000 | H40: =+H42 -> -20000
F41: այդ թվում`
D42: 1139 | E42: ՀՀ կառավարության պահուստային ֆոնդ | F42: ՀՀ կառավարության պահուստային ֆոնդ | G42: =+G44 -> -20000 | H42: =+H44 -> -20000
F43: այդ թվում`
...

Sheet Հավելված N 3
F1: Հավելված N 3
F2: ՀՀ կառավարության 2021 թվականի
F3: ______________ ի ___Ն որոշման
A6: ՀԱՅԱՍՏԱՆԻ ՀԱՆՐԱՊԵՏՈՒԹՅԱՆ ԿԱՌԱՎԱՐՈՒԹՅԱՆ 2020 ԹՎԱԿԱՆԻ ԴԵԿՏԵՄԲԵՐԻ 30-Ի N 2215-Ն ՈՐՈՇՄԱՆ N 5 ՀԱՎԵԼՎԱԾԻ N 7 ԱՂՅՈՒՍԱԿՈՒՄ ԿԱՏԱՐՎՈՂ ԼՐԱՑՈՒՄԸ
G7: հազ. դրամներով
A8: Ծրագրային դասիչը | C8: Բյուջետային հատկացումների գլխավոր կարգադրիչների, ծրագրերի, միջոցառումների և միջոցառումները կատարող պետական մարմինների անվանումները | F8: Միջոցառումները կատարող պետական մարմինների և դրամաշնորհ ստացող տնտեսվարող սուբյեկտների անվանումները | G8: Ցուցանիշների փոփոխությունը (ավելացումները նշված են դրական նշանով)
A9: Ծրագիր | B9: Միջոցառում | G9: Տարի
A10: ՀՀ կրթության, գիտության, մշակույթի և սպորտի նախարարություն | G10: =+G11 -> 20000
A11: 1075 | B11: Մշակութային ժառանգության ծրագիր | G11: =+G12 -> 20000
B12: 12001 | C12: Հայաստանի Հանրապետությունում պետական և հասարակական նշանավոր գործիչներին նվիրված հուշարձանների իրականացում | F12: ՀՀ կրթության, գիտության, մշակույթի և սպորտի նախարարություն | G12: =+G13 -> 20000
F13: «Եղիշե Չարենցի անվան գրականության և արվեստի թանգարան» ՊՈԱԿ | G13: 20000

Sheet Հավելված N 4
C1: Հավելված N 4
C2: ՀՀ կառավարության 2022 թվականի
C3: ______________ ի ___Ն որոշման
B5: ՀԱՅԱՍՏԱՆԻ ՀԱՆՐԱՊԵՏՈՒԹՅԱՆ ԿԱՌԱՎԱՐՈՒԹՅԱՆ 2021 ԹՎԱԿԱՆԻ ԴԵԿՏԵՄԲԵՐԻ 23-Ի N 2121-Ն ՈՐՈՇՄԱՆ N 9 ՀԱՎԵԼՎԱԾԻ N 9.13 ԵՎ 9.47 ԱՂՅՈՒՍԱԿՆԵՐՈՒՄ ԿԱՏԱՐՎՈՂ ՓՈՓՈԽՈՒԹՅՈՒՆՆԵՐԸ ԵՎ ԼՐԱՑՈՒՄՆԵՐԸ
A7: Աղյուսակ 9․13
C8: ՀՀ կրթության, գիտության, մշակույթի և սպորտի նախարարություն
B9: ՄԱՍ 2. ՊԵՏԱԿԱՆ ՄԱՐՄՆԻ ԳԾՈՎ ԱՐԴՅՈՒՆՔԱՅԻՆ (ԿԱՏԱՐՈՂԱԿԱՆ) ՑՈՒՑԱՆԻՇՆԵՐԸ
B12: Ծրագրի միջոցառումները
B13: Ծրագրի դասիչը՝ | C13: 1075 | D13: Ցուցանիշների փոփոխությունը (ավելացումները նշված են դրական նշանով)
B14: Միջոցառման դասիչը՝ | C14: 12001 | D14: Ինն ամիս | E14: Տարի
B15: Միջոցառման անվանումը՝ | C15: Հայաստանի Հանրապետությունում պետական և հասարակական նշանավոր գործիչներին նվիրված հուշարձանների իրականացում
B16: Նկարագրությունը՝ | C16: ՀՀ-ում պետական և հասարակական նշանավոր գործիչների հիշատակը հավերժացնելու նպատակով պետական և համայնքների տարածքներում ու հասարակական վայրերում հուշարձանների (վեհարձան, կոթող, անդրի, կիսանդրի, հուշաքար, հուշատախտակ) իրականացում (նախագծում և կառուցում)
B17: Միջոցառման տեսակը՝ | C17: Տրանսֆերտների տրամադրում
B18: Միջոցառումն իրականացնողի անվանումը | C18: Մասնագիտացված կազմակերպություններ
B19: Արդյունքի չափորոշիչներ
B20: Օհան Դուրյանի արձանի պատրաստում և տեղադրում, քանակ | D20: 1 | E20: 1
B21: Միջոցառման վրա կատարվող ծախսը (հազար դրամ) | D21: =+'Հավելված N 1'!D21 -> 20000 | E21: =+'Հավելված N 1'!E21 -> 20000
A25: Աղյուսակ 9․47
C26: ՀՀ կառավարություն
B27: ՄԱՍ 2. ՊԵՏԱԿԱՆ ՄԱՐՄՆԻ ԳԾՈՎ ԱՐԴՅՈՒՆՔԱՅԻՆ (ԿԱՏԱՐՈՂԱԿԱՆ) ՑՈՒՑԱՆԻՇՆԵՐԸ
B30: Ծրագրի դասիչը | C30: Ծրագրի անվանումը
B31: 1139 | C31: ՀՀ կառավարության պահուստային ֆոնդ
B32: Ծրագրի միջոցառումները
B33: Ծրագրի դասիչը՝ | C33: 1139 | D33: Ցուցանիշների փոփոխությունը (նվազեցումները նշված են փակագծերում)
B34: Միջոցառման դասիչը՝ | C34: 11001 | D34: Ինն ամիս | E34: Տարի
B35: Միջոցառման անվանումը՝ | C35: ՀՀ կառավարության պահուստային ֆոնդ
B36: Նկարագրությունը՝ | C36: ՀՀ պետական բյուջեում նախատեսված ելքերի լրացուցիչ ֆինանսավորման՝ պետական բյուջեում չկանխատեսված ելքերի, ինչպես նաև բյուջետային երաշխիքների ապահովման ելքերի ֆինանսավորման ապահովում
B37: Միջոցառման տեսակը՝ | C37: Ծառայությունների մատուցում
B38: Միջոցառումն իրականացնողի անվանումը | C38: ՀՀ կառավարություն
C39: Արդյունքի չափորոշիչներ
B40: Միջոցառման վրա կատարվող ծախսը (հազար դրամ) | D40: =+'Հավելված N 1'!D35 -> -20000 | E40: =+'Հավելված N 1'!E35 -> -20000

Sheet Հավելված N 5
C1: Հավելված N 5
C2: ՀՀ կառավարության 2022 թվականի
C3: ______________ ի ___Ն որոշման
B5: ՀԱՅԱՍՏԱՆԻ ՀԱՆՐԱՊԵՏՈՒԹՅԱՆ ԿԱՌԱՎԱՐՈՒԹՅԱՆ 2021 ԹՎԱԿԱՆԻ ԴԵԿՏԵՄԲԵՐԻ 23-Ի N 2121-Ն ՈՐՈՇՄԱՆ N 9.1 ՀԱՎԵԼՎԱԾԻ N 9.1.14 ԵՎ 9․1.59 ԱՂՅՈՒՍԱԿՆԵՐՈՒՄ ԿԱՏԱՐՎՈՂ ՓՈՓՈԽՈՒԹՅՈՒՆՆԵՐԸ ԵՎ ԼՐԱՑՈՒՄՆԵՐԸ
A7: Աղյուսակ 9․1.14
C8: ՀՀ կրթության, գիտության, մշակույթի և սպորտի նախարարություն
B9: ՄԱՍ 1. ՊԵՏԱԿԱՆ ՄԱՐՄՆԻ ԳԾՈՎ ԱՐԴՅՈՒՆՔԱՅԻՆ (ԿԱՏԱՐՈՂԱԿԱՆ) ՑՈՒՑԱՆԻՇՆԵՐԸ
B12: Ծրագրի միջոցառումները
B13: Ծրագրի դասիչը՝ | C13: 1075 | D13: Ցուցանիշների փոփոխությունը (ավելացումները նշված են դրական նշանով)
B14: Միջոցառման դասիչը՝ | C14: 12001 | D14: Ինն ամիս | E14: Տարի
B15: Միջոցառման անվանումը՝ | C15: Հայաստանի Հանրապետությունում պետական և հասարակական նշանավոր գործիչներին նվիրված հուշարձանների իրականացում
B16: Նկարագրությունը՝ | C16: ՀՀ-ում պետական և հասարակական նշանավոր գործիչների հիշատակը հավերժացնելու նպատակով պետական և համայնքների տարածքներում ու հասարակական վայրերում հուշարձանների (վեհարձան, կոթող, անդրի, կիսանդրի, հուշաքար, հուշատախտակ) իրականացում (նախագծում և կառուցում)
B17: Միջոցառման տեսակը՝ | C17: Տրանսֆերտների տրամադրում
B18: Միջոցառումն իրականացնողի անվանումը | C18: Մասնագիտացված կազմակերպություններ
B19: Արդյունքի չափորոշիչներ
B20: Օհան Դուրյանի արձանի պատրաստում և տեղադրում, քանակ | D20: 1 | E20: 1
B21: Միջոցառման վրա կատարվող ծախսը (հազար դրամ) | D21: =+'Հավելված N 2'!G25 -> 20000 | E21: =+'Հավելված N 2'!H25 -> 20000
A25: Աղյուսակ 9․1.59
C26: ՀՀ կառավարություն
B27: ՄԱՍ 1. ՊԵՏԱԿԱՆ ՄԱՐՄՆԻ ԳԾՈՎ ԱՐԴՅՈՒՆՔԱՅԻՆ (ԿԱՏԱՐՈՂԱԿԱՆ) ՑՈՒՑԱՆԻՇՆԵՐԸ
B30: Ծրագրի դասիչը | C30: Ծրագրի անվանումը
B31: 1139 | C31: ՀՀ կառավարության պահուստային ֆոնդ
B32: Ծրագրի միջոցառումները
B33: Ծրագրի դասիչը՝ | C33: 1139 | D33: Ցուցանիշների փոփոխությունը (նվազեցումները նշված են փակագծերում)
B34: Միջոցառման դասիչը՝ | C34: 11001 | D34: Ինն ամիս | E34: Տարի
B35: Միջոցառման անվանումը՝ | C35: ՀՀ կառավարության պահուստային ֆոնդ
B36: Նկարագրությունը՝ | C36: ՀՀ պետական բյուջեում նախատեսված ելքերի լրացուցիչ ֆինանսավորման՝ պետական բյուջեում չկանխատեսված ելքերի, ինչպես նաև բյուջետային երաշխիքների ապահովման ելքերի ֆինանսավորման ապահովում
B37: Միջոցառման տեսակը՝ | C37: Ծառայությունների մատուցում
B38: Միջոցառումն իրականացնողի անվանումը | C38: ՀՀ կառավարություն
C39: Արդյունքի չափորոշիչներ
B40: Միջոցառման վրա կատարվող ծախսը (հազար դրամ) | D40: =+'Հավելված N 2'!G46 -> -20000 | E40: =+'Հավելված N 2'!H46 -> -20000
