Workbook
Name \A: #REF!
Name \A: #REF!
Name _tab10: #REF!
Name _tab10: #REF!
Name _tab11: #REF!
Name _tab12: #REF!
Name _tab13: #REF!
Name _tab14: #REF!
Name _tab15: #REF!
Name _tab16: #REF!
Name _tab17: #REF!
Name _tab18: #REF!
Name _tab19: #REF!
Name _tab20: #REF!
Name _tab21: #REF!
Name _tab22: #REF!
Name _tab23: #REF!
Name _tab24: #REF!
Name _tab5: #REF!
Name _tab6: #REF!
Name _tab7: #REF!
Name _tab8: #REF!
Name _tab9: #REF!
Name AgencyCode: #REF!
Name AgencyCode: #REF!
Name AgencyName: #REF!
Name AgencyName: #REF!
Name ampop_krchat: #REF!
Name Armata: #REF!
Name Armata: #REF!
Name BOP: #REF!
Name BOPfoot: #REF!
Name DebtCG: '[1]Fis-Debt'!#REF!
Name DebtCG: '[1]Fis-Debt'!#REF!
Name DebtGG: #REF!
Name DebtGG: #REF!
Name Functional1: #REF!
Name Functional1: #REF!
Name Hav: #REF!,#REF!
Name Hav: #REF!,#REF!
Name MonExo: #REF!
Name MonExo: #REF!
Name MonGrow: [2]BM!#REF!
Name MonGrow: [2]BM!#REF!
Name PANature: #REF!
Name PANature: #REF!
Name par_count: #REF!,#REF!,#REF!,#REF!,#REF!,#REF!,#REF!,#REF!,#REF!,#REF!,#REF!,#REF!,#REF!,#REF!,#REF!
Name par_count: #REF!,#REF!,#REF!,#REF!,#REF!,#REF!,#REF!,#REF!,#REF!,#REF!,#REF!,#REF!,#REF!,#REF!,#REF!
Name par_qual: #REF!,#REF!,#REF!,#REF!,#REF!
Name par_qual: #REF!,#REF!,#REF!,#REF!,#REF!
Name par_time: #REF!,#REF!,#REF!,#REF!
Name par_time: #REF!,#REF!,#REF!,#REF!
Name par2.12s: #REF!
Name par2.12s: #REF!
Name par2.4s: #REF!,#REF!,#REF!,#REF!,#REF!,#REF!,#REF!,#REF!,#REF!,#REF!,#REF!,#REF!,#REF!,#REF!,#REF!,#REF!
Name par2.4s: #REF!,#REF!,#REF!,#REF!,#REF!,#REF!,#REF!,#REF!,#REF!,#REF!,#REF!,#REF!,#REF!,#REF!,#REF!,#REF!
Name par2.5s: #REF!,#REF!
Name par2.5s: #REF!,#REF!
Name par2.6s: #REF!,#REF!,#REF!,#REF!
Name par2.6s: #REF!,#REF!,#REF!,#REF!

Sheet N 1
C1: Հավելված 1 ՀՀ կառավարության 2022 թվականի____________ի N _____-Ն որոշման
A2: «ՀԱՅԱՍՏԱՆԻ ՀԱՆՐԱՊԵՏՈՒԹՅԱՆ 2022 ԹՎԱԿԱՆԻ ՊԵՏԱԿԱՆ ԲՅՈՒՋԵԻ ՄԱՍԻՆ» ՀԱՅԱՍՏԱՆԻ ՀԱՆՐԱՊԵՏՈՒԹՅԱՆ ՕՐԵՆՔԻ N 1 ՀԱՎԵԼՎԱԾԻ N 2 ԱՂՅՈՒՍԱԿՈՒՄ ԿԱՏԱՐՎՈՂ ՎԵՐԱԲԱՇԽՈՒՄԸ ԵՎ ՀԱՅԱՍՏԱՆԻ ՀԱՆՐԱՊԵՏՈՒԹՅԱՆ ԿԱՌԱՎԱՐՈՒԹՅԱՆ 2021 ԹՎԱԿԱՆԻ ԴԵԿՏԵՄԲԵՐԻ 23-Ի N 2121-Ն ՈՐՈՇՄԱՆ N 5 ՀԱՎԵԼՎԱԾԻ N 1 ԱՂՅՈՒՍԱԿՈՒՄ ԿԱՏԱՐՎՈՂ ՓՈՓՈԽՈՒԹՅՈՒՆՆԵՐԸ ԵՎ ԼՐԱՑՈՒՄՆԵՐԸ
D3: (հազար դրամներով)
A4: Ծրագրային դասիչը | C4: Բյուջետային հատկացումների գլխավոր կարգադրիչների, ծրագրերի և միջոցառումների | D4: Ցուցանիշների փոփոխությունը (ծախսերի ավելացումները նշված են դրական նշանով, իսկ նվազեցումները` փակագծերում)
A5: ծրագիրը | B5: միջոցառումը | C5: անվանումները | D5: Ինն ամիս | E5: Տարի
C6: ԸՆԴԱՄԵՆԸ այդ թվում` | D6: =D7+D27 -> 0 | E6: =E7+E27 -> 0
C7: ՀՀ կառավարություն | D7: =D8 -> 0 | E7: =E8 -> 0
A8: 1139 | C8: Ծրագրի անվանումը | D8: =D15+D21 -> 0 | E8: =E15+E21 -> 0
C9: ՀՀ կառավարության պահուստային ֆոնդ
C10: Ծրագրի նպատակը
C11: Պետական բյուջեում չկանխատեսված, ինչպես նաև բյուջետային երաշխիքների ապահովման ծախսերի ֆինանսավորման ապահովում
C12: Վերջնական արդյունքի նկարագրությունը
C13: Պահուստային ֆոնդի կառավարման արդյունավետություն և թափանցիկություն
C14: Ծրագրի միջոցառումներ
B15: 11001 | C15: Միջոցառման անվանումը | D15: =D41 -> 48800 | E15: =E41 -> 48800
C16: ՀՀ կառավարության պահուստային ֆոնդ
C17: Միջոցառման նկարագրությունը
C18: ՀՀ պետական բյուջեում նախատեսված ելքերի լրացուցիչ ֆինանսավորման, պետական բյուջեում չկանխատեսված ելքերի, ինչպես նաև բյուջետային երաշխիքների ապահովման ելքերի ֆինանսավորման ապահովում
C19: Միջոցառման տեսակը
C20: Ծառայությունների մատուցում
B21: 11001 | C21: Միջոցառման անվանումը | D21: =-D15 -> -48800 | E21: =-E15 -> -48800
C22: ՀՀ կառավարության պահուստային ֆոնդ
C23: Միջոցառման նկարագրությունը
C24: ՀՀ պետական բյուջեում նախատեսված ելքերի լրացուցիչ ֆինանսավորման, պետական բյուջեում չկանխատեսված ելքերի, ինչպես նաև բյուջետային երաշխիքների ապահովման ելքերի ֆինանսավորման ապահովում
C25: Միջոցառման տեսակը
C26: Ծառայությունների մատուցում
C27: ՀՀ շրջակա միջավայրի նախարարություն | D27: =D28 -> 0 | E27: =E28 -> 0
A28: 1155 | C28: Ծրագրի անվանումը` | D28: =D35+D41 -> 0 | E28: =E35+E41 -> 0
C29: Բնական պաշարների և բնության հատուկ պահպանվող տարածքների կառավարում և պահպանում
C30: Ծրագրի նպատակը`
C31: Բնական պաշարների և կենսաբազմազանության արդյունավետ կառավարում և պահպանություն
C32: Վերջնական արդյունքի նկարագրությունը`
C33: Բնական պաշարների և կենսաբազմազանության վերարտադրության աճի ապահովում
C34: Ծրագրի միջոցառումներ
B35: 11002 | C35: Միջոցառման անվանումը` | D35: -48800 | E35: =D35 -> -48800 | G35: ='[4]Օրինակելի ձև 2'!$I$34 -> 1000 | H35: ='[4]Օրինակելի ձև 2'!$L$34 -> 2000 | I35: ='[4]Օրինակելի ձև 2'!$O$34 -> 4000
C36: Սևանա լճի ջրածածկ անտառտնկարկների մաքրում | G36: =#REF!+G35 -> #REF! | H36: =D35+H35 -> -46800 | I36: =E35+I35 -> -44800
C37: Միջոցառման նկարագրությունը`
C38: Սևանա լճի ջրածածկ անտառտնկարկների մաքրման աշխատանքներ
C39: Միջոցառման տեսակը
C40: Ծառայությունների մատուցում
B41: 11013 | C41: Միջոցառման անվանումը` | D41: 48800 | E41: =D41 -> 48800 | G41: ='[4]Օրինակելի ձև 2'!$I$34 -> 1000 | H41: ='[4]Օրինակելի ձև 2'!$L$34 -> 2000 | I41: ='[4]Օրինակելի ձև 2'!$O$34 -> 4000
C42: Սևանա լճի ջրածածկ անտառտնկարկների մաքրման աշխատանքնների կատարման համար անտառների գույքագրման խորհրդատվական ծառայություններ | G42: =#REF!+G41 -> #REF! | H42: =D41+H41 -> 50800 | I42: =E41+I41 -> 52800
C43: Միջոցառման նկարագրությունը`
C44: «Սևան» ազգային պարկի ափամերձ տարածքներում ծովի մակերևույթից մինչև 1901.5 մետր բարձր մակարդակում, Սևանա լճի ջրածածկ և ջրածածկման ենթակա անտառտնկարկների մաքրման աշխատանքնների կատարման համար գույքագրման խորհրդատվական ծառայություններ
C45: Միջոցառման տեսակը
C46: Ծառայությունների մատուցում

Sheet N 2
F1: Հավելված 2 ՀՀ կառավարության 2022 թվականի____________ի N _____-Ն որոշման
D2: Հավելված 2 ՀՀ կառավարության 2022 թվականի____________ի N _____-Ն որոշման
A3: ՀԱՅԱՍՏԱՆԻ ՀԱՆՐԱՊԵՏՈՒԹՅԱՆ ԿԱՌԱՎԱՐՈՒԹՅԱՆ 2022 ԹՎԱԿԱՆԻ ԴԵԿՏԵՄԲԵՐԻ 23-Ի N 2121-Ն ՈՐՈՇՄԱՆ N3 ԵՎ N4 ՀԱՎԵԼՎԱԾՆԵՐՈՒՄ ԿԱՏԱՐՎՈՂ ՓՈՓՈԽՈՒԹՅՈՒՆՆԵՐԸ ԵՎ ԼՐԱՑՈՒՄՆԵՐԸ
A5: Բաժին | B5: Խումբ | C5: Դաս | D5: Ծրագրային դասիչը | F5: Բյուջետային հատկացումների գլխավոր կարգադրիչների, ծրագրերի, միջոցառումների և միջոցառումները կատարող պետական մարմինների անվանումները | G5: Ցուցանիշների փոփոխությունը (ծախսերի ավելացումները նշված են դրական նշանով, իսկ նվազեցումները` փակագծերում)
D6: Ծրագիր | E6: Միջոցառում | G6: Ինն ամիս | H6: Տարի
F7: ԸՆԴԱՄԵՆԸ այդ թվում` | G7: =G8+G29 -> 0 | H7: =H8+H29 -> 0
A8: 11 | F8: ՀԻՄՆԱԿԱՆ ԲԱԺԻՆՆԵՐԻՆ ՉԴԱՍՎՈՂ ՊԱՀՈՒՍՏԱՅԻՆ ՖՈՆԴԵՐ այդ թվում` | G8: =G9 -> 0 | H8: =H9 -> 0
B9: 01 | F9: ՀՀ կառավարության և համայնքների պահուստային ֆոնդ այդ թվում` | G9: =G10 -> 0 | H9: =H10 -> 0
C10: 01 | F10: ՀՀ կառավարության պահուստային ֆոնդ այդ թվում` | G10: =G12 -> 0 | H10: =H12 -> 0
F11: ՀՀ կառավարություն
D12: 1139 | F12: ՀՀ կառավարության պահուստային ֆոնդ այդ թվում` | G12: =G13+G21 -> 0 | H12: =H13+H21 -> 0
E13: 11001 | F13: ՀՀ կառավարության պահուստային ֆոնդ | G13: =G15 -> 48800 | H13: =H15 -> 48800
F14: այդ թվում` ըստ կատարողների
F15: ՀՀ կառավարություն | G15: =G17 -> 48800 | H15: =H17 -> 48800
F16: այդ թվում` բյուջետային ծախսերի տնտեսագիտական դասակարգման հոդվածներ
F17: ԸՆԴԱՄԵՆԸ ԾԱԽՍԵՐ | G17: =G18 -> 48800 | H17: =H18 -> 48800
F18: ԸՆԹԱՑԻԿ ԾԱԽՍԵՐ | G18: =G19 -> 48800 | H18: =H19 -> 48800
F19: ԱՅԼ ԾԱԽՍԵՐ | G19: =G20 -> 48800 | H19: =H20 -> 48800
F20: -Պահուստային միջոցներ | G20: =G42 -> 48800 | H20: =H42 -> 48800
E21: 11001 | F21: ՀՀ կառավարության պահուստային ֆոնդ | G21: =G23 -> -48800 | H21: =H23 -> -48800
F22: այդ թվում` ըստ կատարողների
F23: ՀՀ կառավարություն | G23: =G25 -> -48800 | H23: =H25 -> -48800
F24: այդ թվում` բյուջետային ծախսերի տնտեսագիտական դասակարգման հոդվածներ
F25: ԸՆԴԱՄԵՆԸ ԾԱԽՍԵՐ | G25: =G26 -> -48800 | H25: =H26 -> -48800
F26: ԸՆԹԱՑԻԿ ԾԱԽՍԵՐ | G26: =G27 -> -48800 | H26: =H27 -> -48800
F27: ԱՅԼ ԾԱԽՍԵՐ | G27: =G28 -> -48800 | H27: =H28 -> -48800
F28: -Պահուստային միջոցներ | G28: =-G20 -> -48800 | H28: =-H20 -> -48800
A29: 05 | F29: ՇՐՋԱԿԱ ՄԻՋԱՎԱՅՐԻ ՊԱՇՏՊԱՆՈՒԹՅՈՒՆ այդ թվում` | G29: =G30 -> 0 | H29: =H30 -> 0
B30: 04 | F30: Կենսաբազմազանության և բնության պաշտպանություն այդ թվում` | G30: =G31 -> 0 | H30: =H31 -> 0
C31: 01 | F31: Կենսաբազմազանության և բնության պաշտպանություն այդ թվում` | G31: =G32 -> 0 | H31: =H32 -> 0
F32: ՀՀ շրջակա միջավայրի նախարարություն այդ թվում` | G32: =G33 -> 0 | H32: =H33 -> 0
D33: 1155 | F33: Բնական պաշարների և բնության հատուկ պահպանվող տարածքների կառավարում և պահպանում այդ թվում` | G33: =G34+G42 -> 0 | H33: =H34+H42 -> 0
E34: 11002 | F34: Սևանա լճի ջրածածկ անտառտնկարկների մաքրում | G34: =G36 -> -48800 | H34: =H36 -> -48800
F35: այդ թվում` ըստ կատարողների
F36: ՀՀ շրջակա միջավայրի նախարարություն | G36: =G38 -> -48800 | H36: =H38 -> -48800
F37: այդ թվում` բյուջետային ծախսերի տնտեսագիտական դասակարգման հոդվածներ
F38: ԸՆԴԱՄԵՆԸ ԾԱԽՍԵՐ | G38: =G39 -> -48800 | H38: =H39 -> -48800
F39: ԸՆԹԱՑԻԿ ԾԱԽՍԵՐ | G39: =G40 -> -48800 | H39: =H40 -> -48800
F40: ԱՅԼ ԾԱԽՍԵՐ | G40: =G41 -> -48800 | H40: =H41 -> -48800
F41: -Այլ ծախսեր | G41: ='N 1'!D35 -> -48800 | H41: ='N 1'!E35 -> -48800
E42: 11013 | F42: Սևանա լճի ջրածածկ անտառտնկարկների մաքրման աշխատանքնների կատարման համար անտառների գույքագրման խորհրդատվական ծառայություններ | G42: =G44 -> 48800 | H42: =H44 -> 48800
F43: այդ թվում` ըստ կատարողների
F44: ՀՀ շրջակա միջավայրի նախարարություն | G44: =G46 -> 48800 | H44: =H46 -> 48800
F45: այդ թվում` բյուջետային ծախսերի տնտեսագիտական դասակարգման հոդվածներ
F46: ԸՆԴԱՄԵՆԸ ԾԱԽՍԵՐ | G46: =G47 -> 48800 | H46: =H47 -> 48800
F47: ԸՆԹԱՑԻԿ ԾԱԽՍԵՐ | G47: =G48 -> 48800 | H47: =H48 -> 48800
F48: ԱՅԼ ԾԱԽՍԵՐ | G48: =G49 -> 48800 | H48: =H49 -> 48800
F49: -Այլ ծախսեր | G49: ='N 1'!D41 -> 48800 | H49: ='N 1'!E41 -> 48800

Sheet  N 3
B1: Հավելված 3 ՀՀ կառավարության 2022 թվականի____________ի N _____-Ն որոշման
A3: ՄԱՍ 1. ՊԵՏԱԿԱՆ ՄԱՐՄՆԻ ԳԾՈՎ ԱՐԴՅՈՒՆՔԱՅԻՆ (ԿԱՏԱՐՈՂԱԿԱՆ) ՑՈՒՑԱՆԻՇՆԵՐԸ
A5: ՀԱՅԱՍՏԱՆԻ ՀԱՆՐԱՊԵՏՈՒԹՅԱՆ ԿԱՌԱՎԱՐՈՒԹՅԱՆ 2021 ԹՎԱԿԱՆԻ ԴԵԿՏԵՄԲԵՐԻ 23-Ի N 2121-Ն ՈՐՈՇՄԱՆ N9.1 ՀԱՎԵԼՎԱԾԻ N 9.1.59 ԱՂՅՈՒՍԱԿՈՒՄ ԿԱՏԱՐՎՈՂ ՓՈՓՈԽՈՒԹՅՈՒՆՆԵՐԸ ԵՎ ԼՐԱՑՈՒՄՆԵՐԸ
A7: ՀՀ կառավարություն
A9: Ծրագրի դասիչը | B9: Ծրագրի անվանումը
A10: 1139 | B10: ՀՀ կառավարության պահուստային ֆոնդ
A12: Ծրագրի միջոցառումները
A14: Ծրագրի դասիչը` | B14: 1139 | C14: Ցուցանիշների փոփոխությունը (ավելացումները նշված են դրական նշանով)
A15: Միջոցառման դասիչը` | B15: 11001 | C15: Ինն ամիս | D15: Տարի
A16: Միջոցառման անվանումը` | B16: ՀՀ կառավարության պահուստային ֆոնդ
A17: Նկարագրությունը` | B17: ՀՀ պետական բյուջեում նախատեսված ելքերի լրացուցիչ ֆինանսավորման՝ պետական բյուջեում չկանխատեսված ելքերի՝ ինչպես նաև բյուջետային երաշխիքների ապահովման ելքերի ֆինանսավորման ապահովում
A18: Միջոցառման տեսակը` | B18: Ծառայությունների մատուցում
A19: Արդյունքի չափորոշիչներ
A20: Միջոցառման վրա կատարվող ծախսը (հազար դրամ) | C20: =-C47 -> 48800 | D20: =-D47 -> 48800
A22: Ծրագրի դասիչը` | B22: 1139 | C22: Ցուցանիշների փոփոխությունը (նվազեցումները նշված են փակագծերում)
A23: Միջոցառման դասիչը` | B23: 11001 | C23: Ինն ամիս | D23: Տարի
A24: Միջոցառման անվանումը` | B24: ՀՀ կառավարության պահուստային ֆոնդ
A25: Նկարագրությունը` | B25: ՀՀ պետական բյուջեում նախատեսված ելքերի լրացուցիչ ֆինանսավորման՝ պետական բյուջեում չկանխատեսված ելքերի՝ ինչպես նաև բյուջետային երաշխիքների ապահովման ելքերի ֆինանսավորման ապահովում
A26: Միջոցառման տեսակը` | B26: Ծառայությունների մատուցում
A27: Արդյունքի չափորոշիչներ
A28: Միջոցառման վրա կատարվող ծախսը (հազար դրամ) | C28: =-C20 -> -48800 | D28: =-D20 -> -48800
A31: ՀԱՅԱՍՏԱՆԻ ՀԱՆՐԱՊԵՏՈՒԹՅԱՆ ԿԱՌԱՎԱՐՈՒԹՅԱՆ 2021 ԹՎԱԿԱՆԻ ԴԵԿՏԵՄԲԵՐԻ 23-Ի N 2121-Ն ՈՐՈՇՄԱՆ N 9.1 ՀԱՎԵԼՎԱԾԻ N 9.1.13 ԱՂՅՈՒՍԱԿՈՒՄ ԿԱՏԱՐՎՈՂ ՓՈՓՈԽՈՒԹՅՈՒՆՆԵՐԸ ԵՎ ԼՐԱՑՈՒՄՆԵՐԸ
A32: ՀՀ շրջակա միջավայրի նախարարություն
A35: Ծրագրի դասիչը | B35: Ծրագրի անվանումը
A36: 1155 | B36: Բնական պաշարների և բնության հատուկ պահպանվող տարածքների կառավարում և պահպանում
A38: Ծրագրի դասիչը` | B38: 1155 | C38: Ցուցանիշների փոփոխությունը (նվազեցումները նշված են փակագծերում)
A39: Միջոցառման դասիչը` | B39: 11002 | C39: Ինն ամիս | D39: Տարի
A40: Միջոցառման անվանումը` | B40: Սևանա լճի ջրածածկ անտառտնկարկների մաքրում
A41: Նկարագրությունը` | B41: Սևանա լճի ջրածածկ անտառտնկարկների մաքրման աշխատանքներ
A42: Միջոցառման տեսակը` | B42: Ծառայությունների մատուցում
A43: Միջոցառումն իրականացնողի անվանումը՛ | B43: Մասնագիտացված կազմակերպություններ
A44: Արդյունքի չափորոշիչներ
A45: Սևանա լճի ջրածածկ անտառտնկարկների մաքրում, հա | C45: 0 | D45: -55
A46: Մաքրված տարածքների մասնաբաժինը մաքրման ենթակա 2021թ.՛ 1540.43 հա տարածքներում, տոկոս | C46: 0 | D46: -2
A47: Միջոցառման վրա կատարվող ծախսը (հազար դրամ) | C47: =' N 3'!C47 -> -48800 | D47: =' N 3'!D47 -> -48800
A49: Ծրագրի դասիչը` | B49: 1155 | C49: Ցուցանիշների փոփոխությունը (ավելացումները նշված են դրական նշանով)
A50: Միջոցառման դասիչը` | B50: 11013 | C50: Ինն ամիս | D50: Տարի
A51: Միջոցառման անվանումը` | B51: Սևանա լճի ջրածածկ անտառտնկարկների մաքրման աշխատանքնների կատարման համար անտառների գույքագրման խորհրդատվական ծառայություններ
A52: Նկարագրությունը` | B52: «Սևան» ազգային պարկի ափամերձ տարածքներում ծովի մակերևույթից մինչև 1901.5 մետր բարձր մակարդակում, Սևանա լճի ջրածածկ և ջրածածկման ենթակա անտառտնկարկների մաքրման աշխատանքնների կատարման համար գույքագրման խորհրդատվական ծառայություններ
A53: Միջոցառման տեսակը` | B53: Ծառայությունների մատուցում
A54: Միջոցառումն իրականացնողի անվանումը՛ | B54: ՀՀ շրջակա միջավայրի նախարարություն
A55: Արդյունքի չափորոշիչներ
A56: Սևանա լճի ջրածածկ անտառտնկարկների մաքրման ենթակա տարածքների համար գույքագրման փաստաթղթի փաթեթ, հատ | C56: 0 | D56: 1
A57: Միջոցառման վրա կատարվող ծախսը (հազար դրամ) | C57: =C20 -> 48800 | D57: =D20 -> 48800
A59: ՄԱՍ 2. ՊԵՏԱԿԱՆ ՄԱՐՄՆԻ ԳԾՈՎ ԱՐԴՅՈՒՆՔԱՅԻՆ (ԿԱՏԱՐՈՂԱԿԱՆ) ՑՈՒՑԱՆԻՇՆԵՐԸ
A61: ՀԱՅԱՍՏԱՆԻ ՀԱՆՐԱՊԵՏՈՒԹՅԱՆ ԿԱՌԱՎԱՐՈՒԹՅԱՆ 2021 ԹՎԱԿԱՆԻ ԴԵԿՏԵՄԲԵՐԻ 23-Ի N 2121-Ն ՈՐՈՇՄԱՆ N9 ՀԱՎԵԼՎԱԾԻ N 9.47 ԱՂՅՈՒՍԱԿՈՒՄ ԿԱՏԱՐՎՈՂ ՓՈՓՈԽՈՒԹՅՈՒՆՆԵՐԸ ԵՎ ԼՐԱՑՈՒՄՆԵՐԸ
A63: ՀՀ կառավարություն
A65: Ծրագրի դասիչը | B65: Ծրագրի անվանումը
A66: 1139 | B66: ՀՀ կառավարության պահուստային ֆոնդ
A68: Ծրագրի միջոցառումները
A70: Ծրագրի դասիչը` | B70: 1139 | C70: Ցուցանիշների փոփոխությունը (ավելացումները նշված են դրական նշանով)
A71: Միջոցառման դասիչը` | B71: 11001 | C71: Ինն ամիս | D71: Տարի
A72: Միջոցառման անվանումը` | B72: ՀՀ կառավարության պահուստային ֆոնդ
A73: Նկարագրությունը` | B73: ՀՀ պետական բյուջեում նախատեսված ելքերի լրացուցիչ ֆինանսավորման՝ պետական բյուջեում չկանխատեսված ելքերի՝ ինչպես նաև բյուջետային երաշխիքների ապահովման ելքերի ֆինանսավորման ապահովում
A74: Միջոցառման տեսակը` | B74: Ծառայությունների մատուցում
A75: Արդյունքի չափորոշիչներ
A76: Միջոցառման վրա կատարվող ծախսը (հազար դրամ) | C76: =C113 -> 48800 | D76: =D113 -> 48800
A78: Ծրագրի դասիչը` | B78: 1139 | C78: Ցուցանիշների փոփոխությունը (նվազեցումները նշված են փակագծերում)
A79: Միջոցառման դասիչը` | B79: 11001 | C79: Ինն ամիս | D79: Տարի
A80: Միջոցառման անվանումը` | B80: ՀՀ կառավարության պահուստային ֆոնդ
A81: Նկարագրությունը` | B81: ՀՀ պետական բյուջեում նախատեսված ելքերի լրացուցիչ ֆինանսավորման՝ պետական բյուջեում չկանխատեսված ելքերի՝ ինչպես նաև բյուջետային երաշխիքների ապահովման ելքերի ֆինանսավորման ապահովում
A82: Միջոցառման տեսակը` | B82: Ծառայությունների մատուցում
A83: Արդյունքի չափորոշիչներ
A84: Միջոցառման վրա կատարվող ծախսը (հազար դրամ) | C84: =-C76 -> -48800 | D84: =-D76 -> -48800
A88: ՀԱՅԱՍՏԱՆԻ ՀԱՆՐԱՊԵՏՈՒԹՅԱՆ ԿԱՌԱՎԱՐՈՒԹՅԱՆ 2021 ԹՎԱԿԱՆԻ ԴԵԿՏԵՄԲԵՐԻ 23-Ի N 2121-Ն ՈՐՈՇՄԱՆ N 9 ՀԱՎԵԼՎԱԾԻ N 9.12 ԱՂՅՈՒՍԱԿՈՒՄ ԿԱՏԱՐՎՈՂ ՓՈՓՈԽՈՒԹՅՈՒՆՆԵՐԸ ԵՎ ԼՐԱՑՈՒՄՆԵՐԸ
A89: ՀՀ շրջակա միջավայրի նախարարություն
A91: Ծրագրի դասիչը | B91: Ծրագրի անվանումը
A92: 1155 | B92: Բնական պաշարների և բնության հատուկ պահպանվող տարածքների կառավարում և պահպանում
A94: Ծրագրի դասիչը` | B94: 1155 | C94: Ցուցանիշների փոփոխությունը (ծախսերի նվազեցումները` նշված են փակագծերում)
A95: Միջոցառման դասիչը` | B95: 11002 | C95: Ինն ամիս | D95: Տարի
A96: Միջոցառման անվանումը` | B96: Սևանա լճի ջրածածկ անտառտնկարկների մաքրում
A97: Նկարագրությունը` | B97: Սևանա լճի ջրածածկ անտառտնկարկների մաքրման աշխատանքներ
A98: Միջոցառման տեսակը` | B98: Ծառայությունների մատուցում
A99: Միջոցառումն իրականացնողի անվանումը՛ | B99: Մասնագիտացված կազմակերպություններ
A100: Արդյունքի չափորոշիչներ
A101: Սևանա լճի ջրածածկ անտառտնկարկների մաքրում, հա | C101: 0 | D101: -55
A102: Մաքրված տարածքների մասնաբաժինը մաքրման ենթակա 2021թ.՛ 1540.43 հա տարածքներում, տոկոս | C102: 0 | D102: -2
A103: Միջոցառման վրա կատարվող ծախսը (հազար դրամ) | C103: ='N 2'!G34 -> -48800 | D103: ='N 2'!H34 -> -48800
A105: Ծրագրի դասիչը` | B105: 1155 | C105: Ցուցանիշների փոփոխությունը (ավելացումները նշված են դրական նշանով)
A106: Միջոցառման դասիչը` | B106: 11013 | C106: Ինն ամիս | D106: Տարի
A107: Միջոցառման անվանումը` | B107: Սևանա լճի ջրածածկ անտառտնկարկների մաքրման աշխատանքնների կատարման համար անտառների գույքագրման խորհրդատվական ծառայություններ
A108: Նկարագրությունը` | B108: «Սևան» ազգային պարկի ափամերձ տարածքներում ծովի մակերևույթից մինչև 1901.5 մետր բարձր մակարդակում, Սևանա լճի ջրածածկ և ջրածածկման ենթակա անտառտնկարկների մաքրման աշխատանքնների կատարման համար գույքագրման խորհրդատվական ծառայություններ
A109: Միջոցառման տեսակը` | B109: Ծառայությունների մատուցում
A110: Միջոցառումն իրականացնողի անվանումը՛ | B110: ՀՀ շրջակա միջավայրի նախարարություն
A111: Արդյունքի չափորոշիչներ
A112: Սևանա լճի ջրածածկ անտառտնկարկների մաքրման ենթակա տարածքների համար գույքագրման փաստաթղթի փաթեթ, հատ | C112: 0 | D112: 1
A113: Միջոցառման վրա կատարվող ծախսը (հազար դրամ) | C113: ='N 1'!D41 -> 48800 | D113: ='N 1'!E41 -> 48800

Sheet N 4
D1: Հավելված 4 ՀՀ կառավարության 2022 թվականի____________ի N _____-Ն որոշման
A3: ՀԱՅԱՍՏԱՆԻ ՀԱՆՐԱՊԵՏՈՒԹՅԱՆ ԿԱՌԱՎԱՐՈՒԹՅԱՆ 2021 ԹՎԱԿԱՆԻ ԴԵԿՏԵՄԲԵՐԻ 23-Ի N 2121-Ն ՈՐՈՇՄԱՆ N10 ՀԱՎԵԼՎԱԾՈՒՄ ԿԱՏԱՐՎՈՂ ԼՐԱՑՈՒՄՆԵՐԸ
A5: Կոդը | B5: Անվանումը | E5: Գնման ձևը | F5: Չափման միավորը | G5: Ցուցանիշների փոփոխությունը (ավելացումները նշված են դրական նշանով, իսկ նվազեցումները` փակագծերում)
G6: Միավորի գինը | H6: Քանակը | I6: Գումարը (հազար դրամով)
A7: ՀՀ շրջակա միջավայրի նախարարություն | I7: =I8 -> 0
A8: Բաժին N 05 | B8: Խումբ N 04 | C8: Դաս N 01 | D8: Կենսաբազմազանության և բնության պաշտպանություն | I8: =I9+I12 -> 0
A9: 1155 11002 | B9: Սևանա լճի ջրածածկ անտառտնկարկների մաքրում | I9: =I10 -> -48800
B10: ՄԱՍ II. ԱՇԽԱՏԱՆՔՆԵՐ | I10: =I11 -> -48800
A11: 45111450/1 | B11: լանդշաֆտային աշխատանքներ կանաչ տարածքների համար | E11: ԲՄ | F11: դրամ | I11: =-I13 -> -48800
A12: 1155 11013 | B12: Սևանա լճի ջրածածկ անտառտնկարկների մաքրման աշխատանքնների կատարման համար անտառների գույքագրման խորհրդատվական ծառայությունների ձեռք բերում | I12: =I13 -> 48800
B13: ՄԱՍ III. ԾԱՌԱՅՈՒԹՅՈՒՆՆԵՐ | I13: =I14 -> 48800
A14: 77231140/501 | B14: անտառների գույքագրման ծառայություններ | E14: ԳՀ | F14: դրամ | G14: 48800000 | H14: 1 | I14: =G14/1000 -> 48800
