Workbook
Name _tab10: #REF!
Name _tab10: #REF!
Name _tab11: #REF!
Name _tab11: #REF!
Name _tab12: #REF!
Name _tab12: #REF!
Name _tab13: #REF!
Name _tab13: #REF!
Name _tab14: #REF!
Name _tab14: #REF!
Name _tab15: #REF!
Name _tab15: #REF!
Name _tab16: #REF!
Name _tab16: #REF!
Name _tab17: #REF!
Name _tab17: #REF!
Name _tab18: #REF!
Name _tab18: #REF!
Name _tab19: #REF!
Name _tab19: #REF!
Name _tab20: #REF!
Name _tab20: #REF!
Name _tab21: #REF!
Name _tab21: #REF!
Name _tab22: #REF!
Name _tab22: #REF!
Name _tab23: #REF!
Name _tab23: #REF!
Name _tab24: #REF!
Name _tab24: #REF!
Name _tab5: #REF!
Name _tab5: #REF!
Name _tab6: #REF!
Name _tab6: #REF!
Name _tab7: #REF!
Name _tab7: #REF!
Name _tab8: #REF!
Name _tab8: #REF!
Name _tab9: #REF!
Name _tab9: #REF!
Name par_count: #REF!,#REF!,#REF!,#REF!,#REF!,#REF!,#REF!,#REF!,#REF!,#REF!,#REF!,#REF!,#REF!,#REF!,#REF!
Name par_count: #REF!,#REF!,#REF!,#REF!,#REF!,#REF!,#REF!,#REF!,#REF!,#REF!,#REF!,#REF!,#REF!,#REF!,#REF!
Name par_qual: #REF!,#REF!,#REF!,#REF!,#REF!
Name par_qual: #REF!,#REF!,#REF!,#REF!,#REF!
Name par_time: #REF!,#REF!,#REF!,#REF!
Name par_time: #REF!,#REF!,#REF!,#REF!
Name par2.12s: #REF!
Name par2.12s: #REF!
Name par2.4s: #REF!,#REF!,#REF!,#REF!,#REF!,#REF!,#REF!,#REF!,#REF!,#REF!,#REF!,#REF!,#REF!,#REF!,#REF!,#REF!
Name par2.4s: #REF!,#REF!,#REF!,#REF!,#REF!,#REF!,#REF!,#REF!,#REF!,#REF!,#REF!,#REF!,#REF!,#REF!,#REF!,#REF!
Name par2.5s: #REF!,#REF!
Name par2.5s: #REF!,#REF!
Name par2.6s: #REF!,#REF!,#REF!,#REF!
Name par2.6s: #REF!,#REF!,#REF!,#REF!
Name par2.7s: #REF!,#REF!
Name par2.7s: #REF!,#REF!
Name par2.9s: #REF!,#REF!,#REF!,#REF!,#REF!,#REF!,#REF!,#REF!,#REF!,#REF!,#REF!,#REF!,#REF!,#REF!,#REF!,#REF!
Name par2.9s: #REF!,#REF!,#REF!,#REF!,#REF!,#REF!,#REF!,#REF!,#REF!,#REF!,#REF!,#REF!,#REF!,#REF!,#REF!,#REF!
Name par4.10s: #REF!,#REF!
Name par4.10s: #REF!,#REF!

Sheet 1
E1: Հավելված N 1
E2: ՀՀ կառավարության 2022 թվականի
C3: -----------------ի N -----------Ն որոշման
A5: ՀԱՅԱՍՏԱՆԻ ՀԱՆՐԱՊԵՏՈՒԹՅԱՆ 2022 ԹՎԱԿԱՆԻ ՊԵՏԱԿԱՆ ԲՅՈՒՋԵԻ ՄԱՍԻՆ» ՕՐԵՆՔԻ N 1 ՀԱՎԵԼՎԱԾԻ N 2 ԱՂՅՈՒՍԱԿՈՒՄ ԿԱՏԱՐՎՈՂ ՎԵՐԱԲԱՇԽՈՒՄԸ ԵՎ ՀԱՅԱՍՏԱՆԻ ՀԱՆՐԱՊԵՏՈՒԹՅԱՆ ԿԱՌԱՎԱՐՈՒԹՅԱՆ 2021 ԹՎԱԿԱՆԻ ԴԵԿՏԵՄԲԵՐԻ 23-Ի N 2121-Ն ՈՐՈՇՄԱՆ N 5 ՀԱՎԵԼՎԱԾԻ N 1 ԱՂՅՈՒՍԱԿՈՒՄ ԿԱՏԱՐՎՈՂ ՓՈՓՈԽՈՒԹՅՈՒՆՆԵՐԸ ԵՎ ԼՐԱՑՈՒՄՆԵՐԸ
E6: (հազար դրամ)
A7: Ծրագրային դասիչը | C7: Բյուջետային հատկացումների գլխավոր կարգադրիչների, ծրագրերի և միջոցառումների անվանումները | D7: Ցուցանիշների փոփոխությունները ավելացումները նշված են դրական նշանով, իսկ նվազեցումները՝ փակագծերում
A8: Ծրագիր | B8: Միջոցառում | D8: Ինն ամիս | E8: Տարի
C9: ԸՆԴԱՄԵՆԸ | D9: =SUM(D10) -> 0 | E9: =SUM(E10) -> 0
C10: ՀՀ աշխատանքի և սոցիալական հարցերի նախարարություն | D10: =D11 -> 0 | E10: =E11 -> 0
A11: 1205 | C11: Ծրագրի անվանումը` | D11: =D18+D24+D30 -> 0 | E11: =E18+E24+E30 -> 0
C12: Սոցիալական ապահովություն
C13: Ծրագրի նպատակը`
C14: Սոցիալական ապահովության իրավունքի իրականացման ապահովում
C15: Վերջնական արդյունքի նկարագրությունը`
C16: Սոցիալական ապահովության իրավունքի իրականացում
A17: Ծրագրի միջոցառումներ
B18: 12004 | C18: Միջոցառման անվանումը` | D18: -100000 | E18: -100000
C19: Աջակցություն հաշմանդամ դարձած զինծառայողներին և զոհվածների ընտանիքներին
C20: Միջոցառման նկարագրությունը`
C21: Միանվագ սոցիալական ապահովագրության վճարներ ՀՀ պաշտպանության, փրկարարական ծառայության և ՀՀ քննչական կոմիտեում ծառայության ժամանակ հաշմանդամ դարձած զինծառայողներին և զոհված (մահացած) զինծառայողների ու փրկարար ծառայողների ընտանիքներին
C22: Միջոցառման տեսակը
C23: Տրանսֆերտների տրամադրում
B24: 12005 | C24: Միջոցառման անվանումը` | D24: =-123150+100000 -> -23150 | E24: =SUM(D24) -> -23150
C25: Աջակցություն զոհվածների ընտանիքներին
C26: Միջոցառման նկարագրությունը`
C27: Վարժական հավաքների և զինծառայության և փրկարարական ծառայության ընթացքում մահացած (զոհված) զինծառայողների ու փրկարար ծառայողների հուղարկավորության, գերեզմանների բարեկարգման, տապանաքարերի պատրաստմանև տեղադրման հետ կապված ծախսերի փոխհատուցում
C28: Միջոցառման տեսակը
C29: Տրանսֆերտների տրամադրում
B30: 12018 | C30: Միջոցառման անվանումը` | D30: 123150 | E30: 123150
C31: Ռազմական դրությամբ պայմանավորված՝ դրամական աջակցություն անհայտ կորած զինծառայողների ընտանիքներին
C32: Միջոցառման նկարագրությունը`
C33: Ադրբեջանի կողմից 2020 թվականի սեպտեմբերի 27-ին սանձազերծված ռազմական գործողությունների հետևանքով անհայտ կորած զինծառայողների ընտանիքներին դրամական օժանդակության տրամադրում
C34: Միջոցառման տեսակը
C35: Տրանսֆերտների տրամադրում

Sheet 2
H1: Հավելված N 2
H2: ՀՀ կառավարության 2022 թվականի
H3: -----------------ի N -----------Ն որոշման
A5: ՀԱՅԱՍՏԱՆԻ ՀԱՆՐԱՊԵՏՈՒԹՅԱՆ ԿԱՌԱՎԱՐՈՒԹՅԱՆ 2021 ԹՎԱԿԱՆԻ ԴԵԿՏԵՄԲԵՐԻ 23-Ի N 2121-Ն ՈՐՈՇՄԱՆ N N 3 ԵՎ 4 ՀԱՎԵԼՎԱԾՆԵՐՈՒՄ ԿԱՏԱՐՎՈՂ ՓՈՓՈԽՈՒԹՅՈՒՆՆԵՐԸ ԵՎ ԼՐԱՑՈՒՄՆԵՐԸ
H6: հազար դրամ
A7: Գործառական դասիչը | D7: Ծրագրային դասիչը | F7: Բյուջետային ծախսերի գործառական դասակարգման բաժինների, խմբերի և դասերի, բյուջետային ծրագրերի միջոցառումների, բյուջետային հատկացումների գլխավոր կարգադրիչների անվանումները | G7: ='1'!D7 -> Ցուցանիշների փոփոխությունները ավելացումները նշված են դրական նշանով, իսկ նվազեցումները՝ փակագծերում
A8: Բաժինը | B8: Խումբը | C8: Դասը | D8: Ծրագիր | E8: Միջոցառում | G8: ='1'!D8 -> Ինն ամիս | H8: ='1'!E8 -> Տարի
F9: ԸՆԴԱՄԵՆԸ ԾԱԽՍԵՐ | G9: =G11 -> 0 | H9: =H11 -> 0
F10: այդ թվում`
F11: ՀՀ աշխատանքի և սոցիալական հարցերի նախարարություն | G11: =G12 -> 0 | H11: =H12 -> 0
A12: 10 | F12: ՍՈՑԻԱԼԱԿԱՆ ՊԱՇՏՊԱՆՈՒԹՅՈՒՆ | G12: =G14+G38 -> 0 | H12: =H14+H38 -> 0
F13: այդ թվում`
B14: 04 | F14: Ընտանիքի անդամներ և զավակներ | G14: =G16 -> -123150 | H14: =H16 -> -123150
F15: այդ թվում՝
C16: 01 | F16: Ընտանիքի անդամներ և զավակներ | G16: =G18 -> -123150 | H16: =H18 -> -123150
F17: այդ թվում`
D18: 1205 | F18: Սոցիալական ապահովություն | G18: =G20+G31 -> -123150 | H18: =H20+H31 -> -123150
F19: այդ թվում`
E20: 12004 | F20: Աջակցություն հաշմանդամ դարձած զինծառայողներին և զոհվածների ընտանիքներին | G20: =G22 -> -100000 | H20: =H22 -> -100000
F21: այդ թվում` ըստ կատարողների
F22: ՀՀ աշխատանքի և սոցիալական հարցերի նախարարության միասնական սոցիալական ծառայություն | G22: =G24 -> -100000 | H22: =H24 -> -100000
F23: այդ թվում` բյուջետային ծախսերի տնտեսագիտական դասակարգման հոդվածներ
F24: ԸՆԴԱՄԵՆԸ ԾԱԽՍԵՐ | G24: =G25 -> -100000 | H24: =H25 -> -100000
F25: ԸՆԹԱՑԻԿ ԾԱԽՍԵՐ | G25: =G26 -> -100000 | H25: =H26 -> -100000
F26: ՍՈՑԻԱԼԱԿԱՆ ՆՊԱՍՏՆԵՐ ԵՎ ԿԵՆՍԱԹՈՇԱԿՆԵՐ | G26: =G27 -> -100000 | H26: =H27 -> -100000
F27: Սոցիալական օգնության դրամական արտահայտությամբ նպաստներ (բյուջեից) | G27: =G28 -> -100000 | H27: =H28 -> -100000
F28: - Այլ նպաստներ բյուջեից | G28: ='1'!D18 -> -100000 | H28: ='1'!E18 -> -100000
E29: 12005 | F29: Աջակցություն զոհվածների ընտանիքներին | G29: =G31 -> -23150 | H29: =H31 -> -23150
F30: այդ թվում` ըստ կատարողների
F31: ՀՀ աշխատանքի և սոցիալական հարցերի նախարարության միասնական սոցիալական ծառայություն | G31: =G33 -> -23150 | H31: =H33 -> -23150
F32: այդ թվում` բյուջետային ծախսերի տնտեսագիտական դասակարգման հոդվածներ
F33: ԸՆԴԱՄԵՆԸ ԾԱԽՍԵՐ | G33: =G34 -> -23150 | H33: =H34 -> -23150
F34: ԸՆԹԱՑԻԿ ԾԱԽՍԵՐ | G34: =G35 -> -23150 | H34: =H35 -> -23150
F35: ՍՈՑԻԱԼԱԿԱՆ ՆՊԱՍՏՆԵՐ ԵՎ ԿԵՆՍԱԹՈՇԱԿՆԵՐ | G35: =G36 -> -23150 | H35: =H36 -> -23150
F36: Սոցիալական օգնության դրամական արտահայտությամբ նպաստներ (բյուջեից) | G36: =G37 -> -23150 | H36: =H37 -> -23150
F37: - Հուղարկավորության նպաստներ բյուջեից | G37: ='1'!D24 -> -23150 | H37: ='1'!E24 -> -23150
B38: 09 | F38: Սոցիալական պաշտպանություն (այլ դասերին չպատկանող) | G38: =G40 -> 123150 | H38: =H40 -> 123150
F39: այդ թվում՝
C40: 02 | F40: Սոցիալական պաշտպանությանը տրամադրվող օժանդակ ծառայություններ (այլ դասերին չպատկանող) | G40: =G42 -> 123150 | H40: =H42 -> 123150
F41: այդ թվում`
D42: 1205 | F42: Սոցիալական ապահովություն | G42: =G44 -> 123150 | H42: =H44 -> 123150
F43: այդ թվում`
E44: ='1'!B30 -> 12018 | F44: ='1'!C31 -> Ռազմական դրությամբ պայմանավորված՝ դրամական աջակցություն անհայտ կորած զինծառայողների ընտանիքներին | G44: =G46 -> 123150 | H44: =H46 -> 123150
F45: այդ թվում` ըստ կատարողների
F46: ՀՀ աշխատանքի և սոցիալական հարցերի նախարարություն | G46: =G48 -> 123150 | H46: =H48 -> 123150
F47: այդ թվում` բյուջետային ծախսերի տնտեսագիտական դասակարգման հոդվածներ
F48: ԸՆԴԱՄԵՆԸ ԾԱԽՍԵՐ | G48: =G49 -> 123150 | H48: =H49 -> 123150
F49: ԸՆԹԱՑԻԿ ԾԱԽՍԵՐ | G49: =G50 -> 123150 | H49: =H50 -> 123150
F50: ՍՈՑԻԱԼԱԿԱՆ ՆՊԱՍՏՆԵՐ ԵՎ ԿԵՆՍԱԹՈՇԱԿՆԵՐ | G50: =G51 -> 123150 | H50: =H51 -> 123150
F51: - Այլ նպաստներ բյուջեից | G51: ='1'!D30 -> 123150 | H51: ='1'!E30 -> 123150

Sheet 3
D1: Հավելված N 3
D2: ՀՀ կառավարության 2022 թվականի
D3: -----------------ի N -----------Ն որոշման
A4: ՀԱՅԱՍՏԱՆԻ ՀԱՆՐԱՊԵՏՈՒԹՅԱՆ ԿԱՌԱՎԱՐՈՒԹՅԱՆ 2020 ԹՎԱԿԱՆԻ ԴԵԿՏԵՄԲԵՐԻ 30-Ի N 2215-Ն ՈՐՈՇՄԱՆ N 9 ՀԱՎԵԼՎԱԾԻ N 9.1.20 ԱՂՅՈՒՍԱԿՈՒՄ ԿԱՏԱՐՎՈՂ ՓՈՓՈԽՈՒԹՅՈՒՆՆԵՐԸ
A5: ՀԱՅԱՍՏԱՆԻ ՀԱՆՐԱՊԵՏՈՒԹՅԱՆ ԿԱՌԱՎԱՐՈՒԹՅԱՆ 2021 ԹՎԱԿԱՆԻ ԴԵԿՏԵՄԲԵՐԻ 23-Ի N 2121-Ն ՈՐՈՇՄԱՆ N 9 ՀԱՎԵԼՎԱԾԻ N 9.15 ԱՂՅՈՒՍԱԿՆԵՐՈՒՄ ԿԱՏԱՐՎՈՂ ՓՈՓՈԽՈՒԹՅՈՒՆՆԵՐԸ ԵՎ ԼՐԱՑՈՒՄՆԵՐԸ
A6: Հայաստանի Հանրապետության աշխատանքի և սոցիալական հարցերի նախարարություն
A7: ՄԱՍ 2. ՊԵՏԱԿԱՆ ՄԱՐՄՆԻ ԳԾՈՎ ԱՐԴՅՈՒՆՔԱՅԻՆ (ԿԱՏԱՐՈՂԱԿԱՆ) ՑՈՒՑԱՆԻՇՆԵՐԸ
A10: Ծրագրի դասիչը | B10: Ծրագրի անվանումը
A11: 1205 | B11: Սոցիալական ապահովություն
A12: Ծրագրի միջոցառումներ
A14: Ծրագրի դասիչը` | B14: 1205 | C14: Ցուցանիշների փոփոխությունները նվազեցումները նշված են փակագծերում
A15: Միջոցառման դասիչը` | B15: 12004 | C15: Ինն ամիս | D15: Տարի
A16: Միջոցառման անվանումը` | B16: Աջակցություն հաշմանդամ դարձած զինծառայողներին և զոհվածների ընտանիքներին
A17: Նկարագրությունը` | B17: Միանվագ սոցիալական ապահովագրության վճարներ ՀՀ պաշտպանության, փրկարարական ծառայության և ՀՀ քննչական կոմիտեում ծառայության ժամանակ հաշմանդամ դարձած զինծառայողներին և զոհված (մահացած) զինծառայողների ու փրկարար ծառայողների ընտանիքներին
A18: Միջոցառման տեսակը` | B18: Տրանսֆերտների տրամադրում
A19: Շահառուների ընտրության չափորոշիչները | B19: ՀՀ կառավարության 2018թ. օգոստոսի 9-ի N 916-Ն որոշման պահանջներին համապատասխան
A20: Արդյունքի չափորոշիչներ
A21: Միջոցառման վրա կատարվող ծախսը (հազար դրամ) | C21: ='1'!D18 -> -100000 | D21: ='1'!E18 -> -100000
A23: Ծրագրի դասիչը` | B23: 1205 | C23: Ցուցանիշների փոփոխությունները նվազեցումները նշված են փակագծերում
A24: Միջոցառման դասիչը` | B24: 12005 | C24: Ինն ամիս | D24: Տարի
A25: Միջոցառման անվանումը` | B25: Աջակցություն զոհվածների ընտանիքներին
A26: Նկարագրությունը` | B26: Վարժական հավաքների և զինծառայության և փրկարարական ծառայության ընթացքում մահացած (զոհված) զինծառայողների ու փրկարար ծառայողների հուղարկավորության, գերեզմանների բարեկարգման, տապանաքարերի պատրաստմանև տեղադրման հետ կապված ծախսերի փոխհատուցում
A27: Միջոցառման տեսակը` | B27: Տրանսֆերտների տրամադրում
A28: Շահառուների ընտրության չափորոշիչները | B28: ՀՀ կառավարության 2018թ. օգոստոսի 9-ի N 916-Ն որոշման պահանջներին համապատասխան
A29: Արդյունքի չափորոշիչներ
A30: Միջոցառման վրա կատարվող ծախսը (հազար դրամ) | C30: ='1'!D24 -> -23150 | D30: ='1'!E24 -> -23150
A32: Ծրագրի դասիչը` | B32: 1205 | C32: Ցուցանիշների փոփոխությունները ավելացումները նշված են դրական նշանով
A33: Միջոցառման դասիչը` | B33: ='1'!B30 -> 12018 | C33: ='1'!D8 -> Ինն ամիս | D33: ='1'!E8 -> Տարի
A34: Միջոցառման անվանումը` | B34: ='1'!C31 -> Ռազմական դրությամբ պայմանավորված՝ դրամական աջակցություն անհայտ կորած զինծառայողների ընտանիքներին
A35: Նկարագրությունը` | B35: ='1'!C33 -> Ադրբեջանի կողմից 2020 թվականի սեպտեմբերի 27-ին սանձազերծված ռազմական գործողությունների հետևանքով անհայտ կորած զինծառայողների ընտանիքներին դրամական օժանդակության տրամադրում
A36: Միջոցառման տեսակը` | B36: Տրանսֆերտների տրամադրում
A37: Շահառուների ընտրության չափանիշները | B37: Անհայտ կորած զինծառայողի ընտանիք, համաձայն ՀՀ կառավարության 2022 թվականի հուլիսի 14-ի N 1071-Լ որոշման համաձայն
A38: Արդյունքի չափորոշիչներ
A39: Միջոցառման վրա կատարվող ծախսը (հազար դրամ) | C39: ='1'!D30 -> 123150 | D39: ='1'!E30 -> 123150

Sheet 4
D1: Հավելված N 4
C2: ՀՀ կառավարության 2022 թվականի
C3: -----------------ի N -----------Ն որոշման
A4: ՀԱՅԱՍՏԱՆԻ ՀԱՆՐԱՊԵՏՈՒԹՅԱՆ ԿԱՌԱՎԱՐՈՒԹՅԱՆ 2020 ԹՎԱԿԱՆԻ ԴԵԿՏԵՄԲԵՐԻ 30-Ի N 2215-Ն ՈՐՈՇՄԱՆ N 9 ՀԱՎԵԼՎԱԾԻ N 9.1.20 ԱՂՅՈՒՍԱԿՈՒՄ ԿԱՏԱՐՎՈՂ ՓՈՓՈԽՈՒԹՅՈՒՆՆԵՐԸ
A5: ՀԱՅԱՍՏԱՆԻ ՀԱՆՐԱՊԵՏՈՒԹՅԱՆ ԿԱՌԱՎԱՐՈՒԹՅԱՆ 2021 ԹՎԱԿԱՆԻ ԴԵԿՏԵՄԲԵՐԻ 23-Ի N 2121-Ն ՈՐՈՇՄԱՆ N 9.1 ՀԱՎԵԼՎԱԾԻ NN 9.1.16 ԵՎ 9.1.20 ԱՂՅՈՒՍԱԿՆԵՐՈՒՄ ԿԱՏԱՐՎՈՂ ՓՈՓՈԽՈՒԹՅՈՒՆՆԵՐԸ ԵՎ ԼՐԱՑՈՒՄՆԵՐԸ
A6: ՄԱՍ 1. ՊԵՏԱԿԱՆ ՄԱՐՄՆԻ ԳԾՈՎ ԱՐԴՅՈՒՆՔԱՅԻՆ (ԿԱՏԱՐՈՂԱԿԱՆ) ՑՈՒՑԱՆԻՇՆԵՐԸ
A8: Հայաստանի Հանրապետության աշխատանքի և սոցիալական հարցերի նախարարություն | D8: 9.1.16
A10: Ծրագրի դասիչը | B10: Ծրագրի անվանումը
A11: 1205 | B11: Սոցիալական ապահովություն
A12: Ծրագրի միջոցառումներ
A14: Ծրագրի դասիչը` | B14: 1205 | C14: Ցուցանիշների փոփոխությունները ավելացումները նշված են դրական նշանով
A15: Միջոցառման դասիչը` | B15: ='1'!B30 -> 12018 | C15: ='1'!D8 -> Ինն ամիս | D15: ='1'!E8 -> Տարի
A16: Միջոցառման անվանումը` | B16: ='1'!C31 -> Ռազմական դրությամբ պայմանավորված՝ դրամական աջակցություն անհայտ կորած զինծառայողների ընտանիքներին
A17: Նկարագրությունը` | B17: ='1'!C33 -> Ադրբեջանի կողմից 2020 թվականի սեպտեմբերի 27-ին սանձազերծված ռազմական գործողությունների հետևանքով անհայտ կորած զինծառայողների ընտանիքներին դրամական օժանդակության տրամադրում
A18: Միջոցառման տեսակը` | B18: Տրանսֆերտների տրամադրում
A19: Շահառուների ընտրության չափանիշները | B19: ='3'!B37 -> Անհայտ կորած զինծառայողի ընտանիք, համաձայն ՀՀ կառավարության 2022 թվականի հուլիսի 14-ի N 1071-Լ որոշման համաձայն
A20: Արդյունքի չափորոշիչներ
A21: Միջոցառման վրա կատարվող ծախսը (հազար դրամ) | C21: ='3'!C39 -> 123150 | D21: ='3'!D39 -> 123150
A24: ՀՀ աշխատանքի և սոցիալական հարցերի նախարարության միասնական սոցիալական ծառայություն | D24: 9.1.20
A26: Ծրագրի դասիչը | B26: Ծրագրի անվանումը
A27: 1205 | B27: Սոցիալական ապահովություն
A28: Ծրագրի միջոցառումներ
A30: Ծրագրի դասիչը` | B30: 1205 | C30: ='3'!C14:D14 -> Ցուցանիշների փոփոխությունները նվազեցումները նշված են փակագծերում
A31: Միջոցառման դասիչը` | B31: 12004 | C31: Ինն ամիս | D31: Տարի
A32: Միջոցառման անվանումը` | B32: Աջակցություն հաշմանդամ դարձած զինծառայողներին և զոհվածների ընտանիքներին
A33: Նկարագրությունը` | B33: Միանվագ սոցիալական ապահովագրության վճարներ ՀՀ պաշտպանության, փրկարարական ծառայության և ՀՀ քննչական կոմիտեում ծառայության ժամանակ հաշմանդամ դարձած զինծառայողներին և զոհված (մահացած) զինծառայողների ու փրկարար ծառայողների ընտանիքներին
A34: Միջոցառման տեսակը` | B34: Տրանսֆերտների տրամադրում
A35: Շահառուների ընտրության չափորոշիչները | B35: ՀՀ կառավարության 2018թ. օգոստոսի 9-ի N 916-Ն որոշման պահանջներին համապատասխան
A36: Արդյունքի չափորոշիչներ
A37: Միջոցառման վրա կատարվող ծախսը (հազար դրամ) | C37: ='3'!C21 -> -100000 | D37: ='3'!D21 -> -100000
A39: Ծրագրի դասիչը` | B39: 1205 | C39: ='3'!C23:D23 -> Ցուցանիշների փոփոխությունները նվազեցումները նշված են փակագծերում
A40: Միջոցառման դասիչը` | B40: 12005 | C40: Ինն ամիս | D40: Տարի
A41: Միջոցառման անվանումը` | B41: Աջակցություն զոհվածների ընտանիքներին
A42: Նկարագրությունը` | B42: Վարժական հավաքների և զինծառայության և փրկարարական ծառայության ընթացքում մահացած (զոհված) զինծառայողների ու փրկարար ծառայողների հուղարկավորության, գերեզմանների բարեկարգման, տապանաքարերի պատրաստմանև տեղադրման հետ կապված ծախսերի փոխհատուցում
A43: Միջոցառման տեսակը` | B43: Տրանսֆերտների տրամադրում
A44: Շահառուների ընտրության չափորոշիչները | B44: ՀՀ կառավարության 2018թ. օգոստոսի 9-ի N 916-Ն որոշման պահանջներին համապատասխան
A45: Արդյունքի չափորոշիչներ
A46: Միջոցառման վրա կատարվող ծախսը (հազար դրամ) | C46: ='3'!C30 -> -23150 | D46: ='3'!D30 -> -23150
