Workbook
Name AgencyCode: #REF!
Name AgencyCode: #REF!
Name AgencyName: #REF!
Name AgencyName: #REF!
Name åû: #REF!
Name davit: #REF!
Name Functional1: #REF!
Name Functional1: #REF!
Name ggg: #REF!
Name mas: #REF!
Name mass: #REF!
Name PANature: #REF!
Name PANature: #REF!
Name PAType: #REF!
Name PAType: #REF!
Name Performance2: #REF!
Name Performance2: #REF!
Name PerformanceType: #REF!
Name PerformanceType: #REF!
Name x: #REF!
Name Հավելված: #REF!
Name Մաս: #REF!
Name շախմատիստ: #REF!

Sheet Հ1
E1: Հավելված N1
E2: ՀՀ կառավարության 2022 թվականի
E3: ______________ ի ___Ն որոշման
A5: «ՀԱՅԱUՏԱՆԻ ՀԱՆՐԱՊԵՏՈՒԹՅԱՆ 2022 ԹՎԱԿԱՆԻ ՊԵՏԱԿԱՆ ԲՅՈՒՋԵԻ ՄԱUԻՆ» ՀԱՅԱUՏԱՆԻ ՀԱՆՐԱՊԵՏՈՒԹՅԱՆ OՐԵՆՔԻ N 1 ՀԱՎԵԼՎԱԾԻ N 2 ԱՂՅՈՒՍԱԿՈՒՄ ԿԱՏԱՐՎՈՂ ՎԵՐԱԲԱՇԽՈՒՄԸ ԵՎ ՀԱՅԱՍՏԱՆԻ ՀԱՆՐԱՊԵՏՈՒԹՅԱՆ ԿԱՌԱՎԱՐՈՒԹՅԱՆ 2021 ԹՎԱԿԱՆԻ ԴԵԿՏԵՄԲԵՐԻ 23-Ի N 2121-Ն ՈՐՈՇՄԱՆ N 5 ՀԱՎԵԼՎԱԾԻ N 1 ԱՂՅՈՒՍԱԿՈՒՄ ԿԱՏԱՐՎՈՂ ՓՈՓՈԽՈՒԹՅՈՒՆՆԵՐԸ ԵՎ ԼՐԱՑՈՒՄՆԵՐԸ
E6: հազ. դրամ
A7: Ծրագրային դասիչը | C7: Բյուջետային հատկացումների գլխավոր կարգադրիչների, ծրագրերի և միջոցառումների անվանումները | D7: Ցուցանիշների փոփոխությունը (ավելացումները նշված են դրական նշանով, իսկ նվազեցումները` փակագծերում)
A8: Ծրագիր | B8: Միջոցառում | D8: Ինն ամիս | E8: Տարի
A9: 1192 | C9: ԸՆԴԱՄԵՆԸ | D9: =+D11 -> 0 | E9: =+E11 -> 0
C10: այդ թվում
B11: ՀՀ տարածքային կառավարման և ենթակառուցվածքների նախարարություն | D11: =+D13+D65 -> 0 | E11: =+E13+E65 -> 0
A12: 1070 | C12: Ծրագրի անվանումը`
C13: Աջակցություն փախստականների ինտեգրմանը | D13: =D20+D26+D38+D32 -> -6237 | E13: =E20+E26+E38+E32 -> -6800
C14: Ծրագրի նպատակը`
C15: Փախստականների ինտեգրում հասարակություն
C16: Վերջնական արդյունքի նկարագրությունը`
C17: Փախստականներին մատուցվող ծառայությունների ընդգրկման և ծառայությունների շրջանակի ընդլայնում
B18: Ծրագրի միջոցառումներ
B19: 11003 | C19: Միջոցառման անվանումը`
C20: ՀՀ-ում փախստական ճանաչված և ապաստան ստացած անձանց համար քաղաքացիական կողմնորոշման դասընթացների կազմակերպում | D20: -1687 | E20: -2250
C21: Միջոցառման նկարագրությունը`
C22: ՀՀ-ում փախստական ճանաչված և ապաստան ստացած անձանց հասարակության մեջ ինտեգրման նպատակով քաղաքացիական կողմնորոշման դասընթացների կազմակերպում
C23: Միջոցառման տեսակը
C24: Ծառայությունների մատուցում
B25: 12002 | C25: Միջոցառման անվանումը`
C26: ՀՀ-ում փախստական ճանաչված և ապաստան ստացած անձանց վարձակալությամբ բնակարանների ձեռքբերման ծախսերի փոխհատուցման տրամադրում | D26: -4000 | E26: -4000
C27: Միջոցառման նկարագրությունը`
C28: ՀՀ-ում փախստական ճանաչված և ապաստան ստացած անձանց մինչև 9 ամիս տևողությամբ բնակարաններ վարձակալելու նպատակով փոխհատուցման տրամադրում
C29: Միջոցառման տեսակը
C30: Տրանսֆերտների տրամադրում
B31: 12004 | C31: Միջոցառման անվանումը`
C32: Հայաստանի Հանրապետություն վերադարձող քաղաքացիների վերաինտեգրմանն ուղղված առաջնային աջակցության պետական ծրագիր | D32: -3188 | E32: =D32 -> -3188
C33: Միջոցառման նկարագրությունը`
C34: Առաջնային օժանդակություն ցուցաբերել Հայաստան հարկադիր վերադարձող ՀՀ քաղաքացիներին՛ հետագայում նրանց լիարժեք և կայուն վերաինտեգրումն ապահովելու նպատակով, ուղղորդելն ու խորհրդատվությունը:
C35: Միջոցառման տեսակը
C36: Տրանսֆերտների տրամադրում
B37: 11002 | C37: Միջոցառման անվանումը`
C38: Ժամանակավոր կացարաններում բնակվող փախստականների կենցաղային խնդիրների լուծման միջոցառումների իրականացում | D38: 2638 | E38: 2638
C39: Միջոցառման նկարագրությունը`
C40: Կացարաններում սանիտարահիգիենիկ պայմանների, ընդհանուր օգտագործման էլեկտրաէներգիայի, ջրմուղ-կոյուղու ծախսերի փոխհատուցում, ինչպես նաև այդ կացարանների պահպանման աշխատանքների կազմակերպում
C41: Միջոցառման տեսակը
C42: Ծառայությունների մատուցում
A43: 1139 | C43: Ծրագրի անվանումը`
C44: ՀՀ կառավարության պահուստային ֆոնդ
C45: Ծրագրի նպատակը`
C46: Պետական բյուջեում չկանխատեսված, ինչպես նաեւ բյուջետային երաշխիքների ապահովման ծախսերի ֆինանսավորման ապահովում | D46: =+D53+D60 -> 0 | E46: =+E53+E60 -> 0
C47: Վերջնական արդյունքի նկարագրությունը`
C48: Պահուստային ֆոնդի կառավարման արդյունավետության և թափանցիկության ապահովում
B49: Ծրագրի միջոցառումներ
B50: 11001 | C50: Միջոցառման անվանումը` | D50: =+'[1]2'!H53 -> 0 | E50: =+'[1]2'!I53 -> 0
C51: ՀՀ կառավարության պահուստային ֆոնդ
C52: Միջոցառման նկարագրությունը`
C53: ՀՀ պետական բյուջեում նախատեսված ելքերի լրացուցիչ ֆինանսավորման, պետական բյուջեում չկանխատեսված ելքերի, ինչպես նաև բյուջետային երաշխիքների ապահովման ելքերի ֆինանսավորման ապահովում | D53: 3437 | E53: 4000
C54: Միջոցառման տեսակը
C55: Ծառայությունների մատուցում
C56: Միգրացիոն բնագավառում պետական քաղաքականության մշակում և իրականացում
B57: 11001 | C57: Միջոցառման անվանումը` | D57: =+'[1]2'!H68 -> 0 | E57: =+'[1]2'!I68 -> 0
C58: ՀՀ կառավարության պահուստային ֆոնդ
C59: Միջոցառման նկարագրությունը`
C60: ՀՀ պետական բյուջեում նախատեսված ելքերի լրացուցիչ ֆինանսավորման, պետական բյուջեում չկանխատեսված ելքերի, ինչպես նաև բյուջետային երաշխիքների ապահովման ելքերի ֆինանսավորման ապահովում | D60: -3437 | E60: -4000
C61: Միջոցառման տեսակը
C62: Ծառայությունների մատուցում
C63: Միգրացիոն բնագավառում պետական քաղաքականության մշակում և իրականացում | D63: =+D79 -> 0 | E63: =+E79 -> 0
A64: 1106 | C64: Ծրագրի անվանումը`
C65: Միգրացիոն բնագավառում պետական քաղաքականության մշակում և իրականացում | D65: =D72+D78 -> 6237 | E65: =E72+E78 -> 6800
C66: Ծրագրի նպատակը`
C67: Միգրացիոն պետական քաղաքականության մշակում և արդյունավետ իրականացում
C68: Վերջնական արդյունքի նկարագրությունը`
C69: Միգրացիոն պետական քաղաքականության մշակում և իրագործման միջոցառումների արդյունավետության աճ
B70: Ծրագրի միջոցառումներ
B71: 11001 | C71: Միջոցառման անվանումը`
C72: Միգրացիոն բնագավառում պետական քաղաքականության մշակում և իրականացում | D72: 2800 | E72: 2800
C73: Միջոցառման նկարագրությունը`
C74: Միգրացիոն գործընթացների քաղաքականության մշակում, իրականացում,օտարերկրյա քաղաքացիներին, քաղաքացիություն չունեցող անձանց ապաստանի տրամադրում, բռնագաղթած փախստականներին, տեղաշարժված այլ անձանց հասարակության մեջ ինտեգրում,ռեադմիսիոն գործառույթների իրականացում
C75: Միջոցառման տեսակը
C76: Ծառայությունների մատուցում
B77: 31001 | C77: Միջոցառման անվանումը`
C78: Միգրացիոն ծառայության կարողությունների զարգացում և տեխնիկական հագեցվածության ապահովում | D78: 3437 | E78: 4000
C79: Միջոցառման նկարագրությունը`
C80: Միգրացիոն ծառայության ծառայության աշխատանքային պայմանների բարելավման համար վարչական սարքավորումների ձեռք բերում
C81: Միջոցառման տեսակը
C82: Պետական մարմինների կողմից օգտագործվող ոչ ֆինանսական ակտիվների հետ գործառնություններ

Sheet Հ 2
H1: Հավելված N2
H2: ՀՀ կառավարության 2022 թվականի
H3: ______________ ի ___Ն որոշման
A5: «ՀԱՅԱՍՏԱՆԻ ՀԱՆՐԱՊԵՏՈՒԹՅԱՆ 2022 ԹՎԱԿԱՆԻ ՊԵՏԱԿԱՆ ԲՅՈՒՋԵԻ ՄԱՍԻՆ» ՀԱՅԱՍՏԱՆԻ ՀԱՆՐԱՊԵՏՈՒԹՅԱՆ ՕՐԵՆՔԻ N 1 ՀԱՎԵԼՎԱԾԻ N 3 ԱՂՅՈՒՍԱԿՈՒՄ ԿԱՏԱՐՎՈՂ ՓՈՓՈԽՈՒԹՅՈՒՆՆԵՐԸ ԵՎ ԼՐԱՑՈՒՄՆԵՐԸ
G6: հազ. դրամ
A7: Ծրագրային դասիչ | C7: Բյուջետային գլխավոր կարգադրիչների, ծրագրերի, միջոցառումների և ուղղությունների անվանումները | D7: Ցուցանիշների փոփոխությունը (ավելացումները նշված են դրական նշանով, իսկ նվազեցումները` փակագծերում)
D8: Ընդամենը, | E8: այդ թվում՝
A9: Ծրագիր | B9: Միջոցառում | E9: Կառուցման աշխատանքներ | F9: Վերակառուցման, վերանորոգման և վերականգնման աշխատանքներ | G9: Նախագծահե- տազոտական, գեոդեզիա- քարտեզագրա- կան աշխա- տանքներ | H9: Ոչ ֆինանսական այլ ակտիվների ձեռքբերում
C10: ԸՆԴԱՄԵՆԸ | D10: =D13 -> 4000 | E10: =E13 -> 0 | F10: =F13 -> 0 | G10: =G13 -> 0 | H10: =H13 -> 4000
C11: այդ թվում՝
C13: ՀՀ ՏԱՐԱԾՔԱՅԻՆ ԿԱՌԱՎԱՐՄԱՆ ԵՎ ԵՆԹԱԿԱՌՈՒՑՎԱԾՔՆԵՐԻ ՆԱԽԱՐԱՐՈՒԹՅՈՒՆ | D13: =D15 -> 4000 | E13: 0 | F13: 0 | G13: 0 | H13: =H15 -> 4000
C14: այդ թվում`
A15: 1106 | B15: 31001 | C15: Միգրացիոն ծառայության կարողությունների զարգացում և տեխնիկական հագեցվածության ապահովում | D15: 4000 | H15: 4000

Sheet Հ 3
A1: Հավելված N3
A2: ՀՀ կառավարության 2022 թվականի
A3: ______________ ի ___Ն որոշման
A5: ՀԱՅԱՍՏԱՆԻ ՀԱՆՐԱՊԵՏՈՒԹՅԱՆ ԿԱՌԱՎԱՐՈՒԹՅԱՆ 2021 ԹՎԱԿԱՆԻ ԴԵԿՏԵՄԲԵՐԻ 23-Ի N 2121-Ն ՈՐՈՇՄԱՆ N 5 ՀԱՎԵԼՎԱԾԻ N 2 ԱՂՅՈՒՍԱԿՈՒՄ ԿԱՏԱՐՎՈՂ ՓՈՓՈԽՈՒԹՅՈՒՆՆԵՐԸ ԵՎ ԼՐԱՑՈՒՄՆԵՐԸ
D6: հազ. դրամ
A7: Ծրագրային դասիչ | C7: Բյուջետային գլխավոր կարգադրիչների, ծրագրերի, միջոցառումների և ուղղությունների անվանումները | D7: Ցուցանիշների փոփոխությունը (ավելացումները նշված են դրական նշանով, իսկ նվազեցումները` փակագծերում)
A8: Ծրագիր | B8: Միջոցառում | D8: Ինն ամիս | E8: Տարի
C9: ԸՆԴԱՄԵՆԸ | D9: =D11 -> 3437 | E9: =E11 -> 4000
C10: այդ թվում՝
C11: ՀՀ ՏԱՐԱԾՔԱՅԻՆ ԿԱՌԱՎԱՐՄԱՆ ԵՎ ԵՆԹԱԿԱՌՈՒՑՎԱԾՔՆԵՐԻ ՆԱԽԱՐԱՐՈՒԹՅՈՒՆ | D11: =+D13 -> 3437 | E11: =+E13 -> 4000
C12: այդ թվում`
A13: 1106 | B13: 31001 | C13: Միգրացիոն ծառայության կարողությունների զարգացում և տեխնիկական հագեցվածության ապահովում | D13: =D15 -> 3437 | E13: =E15 -> 4000
C14: այդ թվում` ըստ կատարողների
C15: ՀՀ տարածքային կառավարման և ենթակառուցվածքների նախարարության միգրացիոն ծառայություն | D15: 3437 | E15: 4000

Sheet Հ4
G1: Հավելված N4
F2: ՀՀ կառավարության 2022 թվականի
F3: ______________ ի ___Ն որոշման
A5: ՀԱՅԱՍՏԱՆԻ ՀԱՆՐԱՊԵՏՈՒԹՅԱՆ ԿԱՌԱՎԱՐՈՒԹՅԱՆ 2021 ԹՎԱԿԱՆԻ ԴԵԿՏԵՄԲԵՐԻ 23-Ի N 2121-Ն ՈՐՈՇՄԱՆ N 5 ՀԱՎԵԼՎԱԾԻ N 7 ԱՂՅՈՒՍԱԿՈՒՄ ԿԱՏԱՐՎՈՂ ՓՈՓՈԽՈՒԹՅՈՒՆՆԵՐԸ ԵՎ ԼՐԱՑՈՒՄՆԵՐԸ
A7: Ծրագրային դասիչը | C7: Բյուջետային հատկացումների գլխավոր կարգադրիչների, ծրագրերի, միջոցառումների, ծախսային ուղղությունների անվանումները | F7: Միջոցառումները կատարող պետական մարմինների և դրամաշնորհ ստացող տնտեսվարող սուբյեկտների անվանումները | G7: Ցուցանիշների փոփոխությունը (ավելացումները նշված են դրական նշանով, իսկ նվազեցումները` փակագծերում)
A8: Ծրագիր | B8: Միջոցառում | G8: Տարի
A9: ԸՆԴԱՄԵՆԸ | G9: =G11+G37+G597+G610+G614+G630+G709+G729+G745+G753+G778+G830+G834+G838 -> 2638
A11: ՀՀ տարածքային կառավարման և ենթակառուցվածքների նախարարություն | G11: =G12+G17+G22+G31+G34 -> 2638
A12: 1070 | B12: Աջակցություն փախստականների ինտեգրմանը | G12: =G13+G15 -> 2638
B13: 11002 | C13: ժամանակավոր կացարաններում բնակվող փախստականների կենցաղային խնդիրների լուծման միջոցառումների իրականացում | F13: ՀՀ տարածքային կառավարման և ենթակառուցվածքների նախարարության միգրացիոն ծառայություն | G13: =G14 -> 2638
F14: «Հանրակացարաններ» ՊՈԱԿ | G14: 2638

Sheet Հ5
H1: Հավելված N 5
H2: ՀՀ կառավարության 2022 թվականի
H3: ______________ ի ___Ն որոշման
A5: ՀԱՅԱՍՏԱՆԻ ՀԱՆՐԱՊԵՏՈՒԹՅԱՆ ԿԱՌԱՎԱՐՈՒԹՅԱՆ 2021 ԹՎԱԿԱՆԻ ԴԵԿՏԵՄԲԵՐԻ 23-Ի N 2121-Ն ՈՐՈՇՄԱՆ N 3 ԵՎ N 4 ՀԱՎԵԼՎԱԾՆԵՐՈՒՄ ԿԱՏԱՐՎՈՂ ՓՈՓՈԽՈՒԹՅՈՒՆՆԵՐԸ ԵՎ ԼՐԱՑՈՒՄՆԵՐԸ
H7: հազ. դրամ
A8: Գործառական դասիչը | D8: Ծրագրային դասիչը | F8: Բյուջետային ծախսերի գործառական դասակարգման բաժինների, խմբերի և դասերի, բյուջետային հատկացումների գլխավոր կարգադրիչների, ծրագրերի, միջոցառումների և միջոցառումները կատարող պետական մարմինների անվանումները | G8: Ցուցանիշների փոփոխությունը (ավելացումները նշված են դրական նշանով, իսկ նվազեցումները` փակագծերում)
A9: Բաժին | B9: Խումբ | C9: Դաս | D9: Ծրագիր | E9: Միջոցառում | G9: Ինն ամիս | H9: Տարի
F10: ԸՆԴԱՄԵՆԸ | G10: =G13+G91 -> 0 | H10: =H13+H91 -> 0
F11: այդ թվում
F12: ՀՀ տարածքային կառավարման և ենթակառուցվածքների նախարարություն | G12: =G13 -> 0 | H12: =H13 -> 0
A13: 10 | F13: ՍՈՑԻԱԼԱԿԱՆ ՊԱՇՏՊԱՆՈՒԹՅՈՒՆ | G13: =G15+G64 -> 0 | H13: =H15+H64 -> 0
F14: այդ թվում`
B15: 07 | F15: Սոցիալական հատուկ արտոնություններ (այլ դասերին չպատկանող) | G15: =G17+G32 -> -6237 | H15: =H17+H32 -> -6800
F16: այդ թվում`
C17: 01 | F17: Սոցիալական հատուկ արտոնություններ (այլ դասերին չպատկանող) | G17: =G21 -> 2638 | H17: =H21 -> 2638
F18: այդ թվում`
F19: ՀՀ տարածքային կառավարման և ենթակառուցվածքների նախարարություն | G19: =G21 -> 2638 | H19: =+G19 -> 2638
F20: այդ թվում`
D21: 1070 | F21: Աջակցություն փախստականների ինտեգրմանը | G21: =G23 -> 2638 | H21: =+G21 -> 2638
F22: այդ թվում`
E23: 11002 | F23: Ժամանակավոր կացարաններում բնակվող փախստականների կենցաղային խնդիրների լուծման միջոցառումների իրականացում | G23: =G25 -> 2638 | H23: =+G23 -> 2638
F24: այդ թվում` ըստ կատարողների
F25: ՀՀ տարածքային կառավարման և ենթակառուցվածքների նախարարության միգրացիոն ծառայություն | G25: =G27 -> 2638 | H25: =+G25 -> 2638
F26: այդ թվում` բյուջետային ծախսերի տնտեսագիտական դասակարգման հոդվածներ
F27: ԸՆԴԱՄԵՆԸ ԾԱԽՍԵՐ | G27: =G28 -> 2638 | H27: =+H25 -> 2638
F28: ԸՆԹԱՑԻԿ ԾԱԽՍԵՐ | G28: =G29 -> 2638 | H28: =+G28 -> 2638
F29: ԴՐԱՄԱՇՆՈՐՀՆԵՐ | G29: =G30 -> 2638 | H29: =+G29 -> 2638
F30: Ընթացիկ դրամաշնորհներ պետական հատվածի այլ մակարդակներին | G30: =G31 -> 2638 | H30: =+G30 -> 2638
F31: - Ընթացիկ դրամաշնորհներ պետական և համայնքային ոչ առևտրային կազմակերպություններին | G31: =Հ1!D38 -> 2638 | H31: =+G31 -> 2638
C32: 02 | F32: Սոցիալական պաշտպանությանը տրամադրվող օժանդակ ծառայություններ (այլ դասերին չպատկանող) | G32: =G37+G46+G55 -> -8875 | H32: =H37+H46+H55 -> -9438
F33: այդ թվում` | G33: =G34 -> 0 | H33: =H34 -> 0
F34: ՀՀ տարածքային կառավարման և ենթակառուցվածքների նախարարություն | G34: =G38 -> 0 | H34: =H38 -> 0
D35: 1070 | F35: Աջակցություն փախստականների ինտեգրմանը | G35: =G37+G46+G55 -> -8875 | H35: =H37+H46+H55 -> -9438
F36: այդ թվում`
E37: 11003 | F37: ՀՀ-ում փախստական ճանաչված և ապաստան ստացած անձանց համար քաղաքացիական կողմնորոշման դասընթացների կազմակերպում | G37: =G39 -> -1687 | H37: =H39 -> -2250
F38: այդ թվում` ըստ կատարողների
F39: ՀՀ տարածքային կառավարման և ենթակառուցվածքների նախարարության միգրացիոն ծառայություն | G39: =G41 -> -1687 | H39: =H41 -> -2250
F40: այդ թվում` բյուջետային ծախսերի տնտեսագիտական դասակարգման հոդվածներ
F41: ԸՆԴԱՄԵՆԸ ԾԱԽՍԵՐ | G41: =G42 -> -1687 | H41: =H42 -> -2250
F42: ԸՆԹԱՑԻԿ ԾԱԽՍԵՐ | G42: =G43 -> -1687 | H42: =H43 -> -2250
F43: ԾԱՌԱՅՈՒԹՅՈՒՆՆԵՐԻ ԵՎ ԱՊՐԱՆՔՆԵՐԻ ՁԵՌՔԲԵՐՈՒՄ | G43: =G44 -> -1687 | H43: =H44 -> -2250
F44: Այլ մասնագիտական ծառայությունների ձեռքբերում | G44: =G45 -> -1687 | H44: =H45 -> -2250
F45: - Մասնագիտական ծառայություններ | G45: =Հ1!D20 -> -1687 | H45: =Հ1!E20 -> -2250
E46: 12002 | F46: ՀՀ-ում փախստական ճանաչված և ապաստան ստացած անձանց վարձակալությամբ բնակարանների ձեռքբերման ծախսերի փոխհատուցման տրամադրում | G46: =G48 -> -4000 | H46: =H48 -> -4000
F47: այդ թվում` ըստ կատարողների
F48: ՀՀ տարածքային կառավարման և ենթակառուցվածքների նախարարության միգրացիոն ծառայություն | G48: =G50 -> -4000 | H48: =+G48 -> -4000
F49: այդ թվում` բյուջետային ծախսերի տնտեսագիտական դասակարգման հոդվածներ
F50: ԸՆԴԱՄԵՆԸ ԾԱԽՍԵՐ | G50: =G51 -> -4000 | H50: =+H48 -> -4000
F51: ԸՆԹԱՑԻԿ ԾԱԽՍԵՐ | G51: =G52 -> -4000 | H51: =+G51 -> -4000
F52: ՍՈՑԻԱԼԱԿԱՆ ՆՊԱՍՏՆԵՐ ԵՎ ԿԵՆՍԱԹՈՇԱԿՆԵՐ | G52: =G53 -> -4000 | H52: =+G52 -> -4000
F53: Սոցիալական օգնության դրամական արտահայտությամբ նպաստներ (բյուջեից) | G53: =G54 -> -4000 | H53: =H54 -> -4000
F54: - Բնակարանային նպաստներ բյուջեից | G54: =Հ1!D26 -> -4000 | H54: =Հ1!E26 -> -4000
E55: 12004 | F55: Հայաստանի Հանրապետություն վերադարձող քաղաքացիների վերաինտեգրմանն ուղղված առաջնային աջակցության պետական ծրագիր | G55: =G57 -> -3188 | H55: =+G55 -> -3188
F56: այդ թվում` ըստ կատարողների
F57: ՀՀ տարածքային կառավարման և ենթակառուցվածքների նախարարության միգրացիոն ծառայություն | G57: =G59 -> -3188 | H57: =+G57 -> -3188
F58: այդ թվում` բյուջետային ծախսերի տնտեսագիտական դասակարգման հոդվածներ
F59: ԸՆԴԱՄԵՆԸ ԾԱԽՍԵՐ | G59: =G60 -> -3188 | H59: =+H57 -> -3188
F60: ԸՆԹԱՑԻԿ ԾԱԽՍԵՐ | G60: =G61 -> -3188 | H60: =+G60 -> -3188
F61: ՍՈՑԻԱԼԱԿԱՆ ՆՊԱՍՏՆԵՐ ԵՎ ԿԵՆՍԱԹՈՇԱԿՆԵՐ | G61: =G62 -> -3188 | H61: =+G61 -> -3188
F62: Սոցիալական օգնության դրամական արտահայտությամբ նպաստներ (բյուջեից) | G62: =G63 -> -3188 | H62: =+G62 -> -3188
F63: - Բնակարանային նպաստներ բյուջեից | G63: =Հ1!D32 -> -3188 | H63: =Հ1!E32 -> -3188
B64: 09 | F64: Սոցիալական պաշտպանություն (այլ դասերին չպատկանող) | G64: =G66 -> 6237 | H64: =H66 -> 6800
F65: այդ թվում`
C66: 01 | F66: Սոցիալական պաշտպանություն (այլ դասերին չպատկանող) | G66: =G68 -> 6237 | H66: =H68 -> 6800
F67: այդ թվում`
F68: ՀՀ տարածքային կառավարման և ենթակառուցվածքների նախարարություն | G68: =G70 -> 6237 | H68: =H70 -> 6800
F69: այդ թվում`
D70: 1106 | F70: Միգրացիոն բնագավառում պետական քաղաքականության մշակում և իրականացում | G70: =G72+G81 -> 6237 | H70: =H72+H81 -> 6800
F71: այդ թվում`
E72: 11001 | F72: Միգրացիոն բնագավառում պետական քաղաքականության մշակում և իրականացում | G72: =G74 -> 2800 | H72: =H74 -> 2800
F73: այդ թվում` ըստ կատարողների
F74: ՀՀ տարածքային կառավարման և ենթակառուցվածքների նախարարության միգրացիոն ծառայություն | G74: =G76 -> 2800 | H74: =H76 -> 2800
F75: այդ թվում` բյուջետային ծախսերի տնտեսագիտական դասակարգման հոդվածներ
F76: ԸՆԴԱՄԵՆԸ ԾԱԽՍԵՐ | G76: =G77 -> 2800 | H76: =H77 -> 2800
F77: ԸՆԹԱՑԻԿ ԾԱԽՍԵՐ | G77: =G78 -> 2800 | H77: =H78 -> 2800
F78: ԾԱՌԱՅՈՒԹՅՈՒՆՆԵՐԻ ԵՎ ԱՊՐԱՆՔՆԵՐԻ ՁԵՌՔԲԵՐՈՒՄ | G78: =G79 -> 2800 | H78: =H79 -> 2800
F79: Նյութեր (Ապրանքներ) | G79: =G80 -> 2800 | H79: =H80 -> 2800
F80: - Գրասենյակային նյութեր և հագուստ | G80: 2800 | H80: 2800
E81: 31001 | F81: Միգրացիոն ծառայության կարողությունների զարգացում և տեխնիկական հագեցվածության ապահովում | G81: =G83 -> 3437 | H81: =H83 -> 4000
F82: այդ թվում` ըստ կատարողների
F83: ՀՀ տարածքային կառավարման և ենթակառուցվածքների նախարարության միգրացիոն ծառայություն | G83: =G85 -> 3437 | H83: =H85 -> 4000
F84: այդ թվում` բյուջետային ծախսերի տնտեսագիտական դասակարգման հոդվածներ
F85: ԸՆԴԱՄԵՆԸ ԾԱԽՍԵՐ | G85: =G86 -> 3437 | H85: =H86 -> 4000
F86: ՈՉ ՖԻՆԱՆՍԱԿԱՆ ԱԿՏԻՎՆԵՐԻ ԳԾՈՎ ԾԱԽՍԵՐ | G86: =G87 -> 3437 | H86: =H87 -> 4000
F87: ՀԻՄՆԱԿԱՆ ՄԻՋՈՑՆԵՐ | G87: =G88 -> 3437 | H87: =H88 -> 4000
F88: ՄԵՔԵՆԱՆԵՐ ԵՎ ՍԱՐՔԱՎՈՐՈՒՄՆԵՐ | G88: =G89 -> 3437 | H88: =H89 -> 4000
F89: - Վարչական սարքավորումներ | G89: =G90 -> 3437 | H89: 4000
F90: -Վարչական սարքավորումներ | G90: =Հ1!D78 -> 3437 | H90: 4000
A91: 11 | F91: ՀԻՄՆԱԿԱՆ ԲԱԺԻՆՆԵՐԻՆ ՉԴԱՍՎՈՂ ՊԱՀՈՒՍՏԱՅԻՆ ՖՈՆԴԵՐ | G91: =+G93 -> 0 | H91: =+H93 -> 0
F92: այդ թվում`
B93: 01 | F93: ՀՀ կառավարության պահուստային ֆոնդ | G93: =+G95 -> 0 | H93: =+H95 -> 0
F94: այդ թվում`
C95: 01 | F95: ՀՀ կառավարության պահուստային ֆոնդ | G95: =+G97 -> 0 | H95: =+H97 -> 0
F96: այդ թվում`
D97: 1139 | F97: ՀՀ կառավարության պահուստային ֆոնդ | G97: =+G99 -> 0 | H97: =+H99 -> 0
F98: այդ թվում`
F99: ՀՀ կառավարության պահուստային ֆոնդ | G99: =+G101+G109 -> 0 | H99: =+H101+H109 -> 0
F100: այդ թվում`
E101: 11001 | F101: ՀՀ կառավարության պահուստային ֆոնդ | G101: =+G103 -> 3437 | H101: =+H103 -> 4000
F102: այդ թվում` ըստ կատարողների
...

Sheet Հ 6
H1: Հավելված N 6
H2: ՀՀ կառավարության 2022 թվականի
H3: ______________ ի ___Ն որոշման
A5: ՀԱՅԱՍՏԱՆԻ ՀԱՆՐԱՊԵՏՈՒԹՅԱՆ 2022 ԹՎԱԿԱՆԻ ՊԵՏԱԿԱՆ ԲՅՈՒՋԵՈՎ ՆԱԽԱՏԵՍՎԱԾ՝ ՀԱՅԱՍՏԱՆԻ ՀԱՆՐԱՊԵՏՈՒԹՅԱՆ ԿԱՌԱՎԱՐՈՒԹՅԱՆ ՊԱՀՈՒՍՏԱՅԻՆ ՖՈՆԴԻՑ ՀԱՏԿԱՑՈՒՄՆԵՐ ԿԱՏԱՐԵԼՈՒ ՎԵՐԱԲԵՐՅԱԼ
H7: հազ. դրամ
A8: Գործառական դասիչը | D8: Ծրագրային դասիչը | F8: Բյուջետային ծախսերի գործառական դասակարգման բաժինների, խմբերի և դասերի, բյուջետային հատկացումների գլխավոր կարգադրիչների, ծրագրերի, միջոցառումների և միջոցառումները կատարող պետական մարմինների անվանումները | G8: Ցուցանիշների փոփոխությունը (ավելացումները նշված են դրական նշանով, իսկ նվազեցումները` փակագծերում)
A9: Բաժին | B9: Խումբ | C9: Դաս | D9: Ծրագիր | E9: Միջոցառում | G9: Ինն ամիս | H9: Տարի
F10: ԸՆԴԱՄԵՆԸ | G10: =+G12+G32 -> 0 | H10: =+H12+H32 -> 0
F11: այդ թվում
F12: ՀՀ տարածքային կառավարման և ենթակառուցվածքների նախարարություն | G12: =+G13 -> 3437 | H12: =+H13 -> 4000
A13: 10 | F13: ՍՈՑԻԱԼԱԿԱՆ ՊԱՇՏՊԱՆՈՒԹՅՈՒՆ | G13: =+G15 -> 3437 | H13: =+H15 -> 4000
F14: այդ թվում`
B15: 09 | F15: Սոցիալական պաշտպանություն (այլ դասերին չպատկանող) | G15: =+G17 -> 3437 | H15: =+H17 -> 4000
F16: այդ թվում`
C17: 01 | F17: Սոցիալական պաշտպանություն (այլ դասերին չպատկանող) | G17: =+G19 -> 3437 | H17: =+H19 -> 4000
F18: այդ թվում`
F19: ՀՀ տարածքային կառավարման և ենթակառուցվածքների նախարարություն | G19: =+G21 -> 3437 | H19: =+H21 -> 4000
F20: այդ թվում`
D21: 1106 | F21: Միգրացիոն բնագավառում պետական քաղաքականության մշակում և իրականացում | G21: =+G23 -> 3437 | H21: =+H23 -> 4000
F22: այդ թվում`
E23: 31001 | F23: Միգրացիոն ծառայության կարողությունների զարգացում և տեխնիկական հագեցվածության ապահովում | G23: 3437 | H23: 4000
F24: այդ թվում` ըստ կատարողների
F25: ՀՀ տարածքային կառավարման և ենթակառուցվածքների նախարարության միգրացիոն ծառայություն | G25: 3437 | H25: 4000
F26: այդ թվում` բյուջետային ծախսերի տնտեսագիտական դասակարգման հոդվածներ
F27: ԸՆԴԱՄԵՆԸ ԾԱԽՍԵՐ | G27: 3437 | H27: 4000
F28: ՈՉ ՖԻՆԱՆՍԱԿԱՆ ԱԿՏԻՎՆԵՐԻ ԳԾՈՎ ԾԱԽՍԵՐ | G28: 3437 | H28: 4000
F29: ՀԻՄՆԱԿԱՆ ՄԻՋՈՑՆԵՐ | G29: 3437 | H29: 4000
F30: ՄԵՔԵՆԱՆԵՐ ԵՎ ՍԱՐՔԱՎՈՐՈՒՄՆԵՐ | G30: 3437 | H30: 4000
F31: - Վարչական սարքավորումներ | G31: 3437 | H31: 4000
A32: 11 | F32: ՀԻՄՆԱԿԱՆ ԲԱԺԻՆՆԵՐԻՆ ՉԴԱՍՎՈՂ ՊԱՀՈՒՍՏԱՅԻՆ ՖՈՆԴԵՐ | G32: =+G34 -> -3437 | H32: =+H34 -> -4000
F33: այդ թվում`
B34: 01 | F34: ՀՀ կառավարության պահուստային ֆոնդ | G34: =+G36 -> -3437 | H34: =+H36 -> -4000
F35: այդ թվում`
C36: 01 | F36: ՀՀ կառավարության պահուստային ֆոնդ | G36: =+G38 -> -3437 | H36: =+H38 -> -4000
F37: այդ թվում`
D38: 1139 | F38: ՀՀ կառավարության պահուստային ֆոնդ | G38: =+G40 -> -3437 | H38: =+H40 -> -4000
F39: այդ թվում`
F40: ՀՀ կառավարության պահուստային ֆոնդ | G40: =+G42 -> -3437 | H40: =+H42 -> -4000
F41: այդ թվում`
E42: 11001 | F42: ՀՀ կառավարության պահուստային ֆոնդ | G42: -3437 | H42: -4000
F43: այդ թվում` ըստ կատարողների
F44: ՀՀ կառավարություն | G44: -3437 | H44: -4000
F45: այդ թվում` բյուջետային ծախսերի տնտեսագիտական դասակարգման հոդվածներ
F46: ԸՆԴԱՄԵՆԸ ԾԱԽՍԵՐ | G46: -3437 | H46: -4000
F47: ԸՆԹԱՑԻԿ ԾԱԽՍԵՐ | G47: -3437 | H47: -4000
F48: ԱՅԼ ԾԱԽՍԵՐ | G48: -3437 | H48: -4000
F49: - Պահուստային միջոցներ | G49: -3437 | H49: -4000

Sheet Հ 7
E1: Հավելված N 7
E2: ՀՀ կառավարության 2022 թվականի
E3: ------------ N ---------- որոշման
B6: ՀԱՅԱՍՏԱՆԻ ՀԱՆՐԱՊԵՏՈՒԹՅԱՆ ԿԱՌԱՎԱՐՈՒԹՅԱՆ 2021 ԹՎԱԿԱՆԻ ԴԵԿՏԵՄԲԵՐԻ 23-Ի N 2121-Ն ՈՐՈՇՄԱՆ N 9 ՀԱՎԵԼՎԱԾԻ N 9.7 ԱՂՅՈՒՍԱԿՈՒՄ ԿԱՏԱՐՎՈՂ ՓՈՓՈԽՈՒԹՅՈՒՆՆԵՐԸ ԵՎ ԼՐԱՑՈՒՄՆԵՐԸ
D7: Աղյուսակ 9.7
B8: ՀՀ տարածքային կառավարման և ենթակառուցվածքների նախարարություն
B9: ՄԱՍ 2. ՊԵՏԱԿԱՆ ՄԱՐՄՆԻ ԳԾՈՎ ԱՐԴՅՈՒՆՔԱՅԻՆ (ԿԱՏԱՐՈՂԱԿԱՆ) ՑՈՒՑԱՆԻՇՆԵՐԸ
B11: Ծրագրի դասիչը | C11: Ծրագրի անվանումը
B12: 1070 | C12: Աջակցություն փախստականների ինտեգրմանը
B14: Ծրագրի միջոցառումները
B16: Ծրագրի դասիչը` | C16: 1070 | D16: Ցուցանիշների փոփոխությունը (ավելացումները նշված են դրական նշանով, իսկ նվազեցումները` փակագծերում)
B17: Միջոցառման դասիչը` | C17: 11002 | D17: Ինն ամիս | E17: Տարի
B18: Միջոցառման անվանումը` | C18: Ժամանակավոր կացարաններում բնակվող փախստականների կենցաղային խնդիրների լուծման միջոցառումների իրականացում
B19: Նկարագրությունը` | C19: Կացարաններում սանիտարահիգիենիկ պայմանների, ընդհանուր օգտագործման էլեկտրաէներգիայի, ջրմուղ-կոյուղու ծախսերի փոխհատուցում, ինչպես նաև այդ կացարանների պահպանման աշխատանքների կազմակերպում
B20: Միջոցառման տեսակը` | C20: Ծառայությունների մատուցում
B21: Միջոցառումն իրականացնողի անվանումը | C21: Մասնագիտացված կազմակերպություն
B22: Արդյունքի չափորոշիչներ
B23: Միջոցառման վրա կատարվող ծախսը (հազար դրամ) | D23: 2638 | E23: =+D23 -> 2638
B25: Ծրագրի դասիչը` | C25: 1070 | D25: Ցուցանիշների փոփոխությունը (ավելացումները նշված են դրական նշանով, իսկ նվազեցումները` փակագծերում)
B26: Միջոցառման դասիչը` | C26: 11003 | D26: Ինն ամիս | E26: Տարի
B27: Միջոցառման անվանումը` | C27: ՀՀ-ում փախստական ճանաչված և ապաստան ստացած անձանց համար քաղաքացիական կողմնորոշման դասընթացների կազմակերպում
B28: Նկարագրությունը` | C28: ՀՀ-ում փախստական ճանաչված և ապաստան ստացած անձանց հասարակության մեջ ինտեգրման նպատակով քաղաքացիական կողմնորոշման դասընթացների կազմակերպում
B29: Միջոցառման տեսակը` | C29: Ծառայությունների մատուցում
B30: Միջոցառումն իրականացնողի անվանումը` | C30: «Գնումների մասին» ՀՀ օրենքի համաձայն ընտրված կազմակերպություն
B31: Արդյունքի չափորոշիչներ
B32: Շահառուների թիվ, մարդ | D32: -150 | E32: -150
B33: Դասընթացների քանակ, հատ | D33: -15 | E33: -15
B34: Վերապատրաստման դասընթացներում ընդգրկված թեմաների քանակ, հատ | D34: -5 | E34: -5
B35: Մեկ խմբի վերապատրաստման դասընթացի տևողություն, ժամ | D35: -20 | E35: -20
B36: Միջոցառման վրա կատարվող ծախսը (հազար դրամ) | D36: =Հ1!D20 -> -1687 | E36: =Հ1!E20 -> -2250
B38: Ծրագրի դասիչը` | C38: 1070 | D38: Ցուցանիշների փոփոխությունը (ավելացումները նշված են դրական նշանով, իսկ նվազեցումները` փակագծերում)
B39: Միջոցառման դասիչը` | C39: 12002 | D39: Ինն ամիս | E39: Տարի
B40: Միջոցառման անվանումը` | C40: ՀՀ-ում փախստական ճանաչված և ապաստան ստացած անձանց վարձակալությամբ բնակարանների ձեռքբերման ծախսերի փոխհատուցման տրամադրում
B41: Նկարագրությունը` | C41: ՀՀ-ում փախստական ճանաչված և ապաստան ստացած անձանց մինչև 9 ամիս տևողությամբ բնակարաններ վարձակալելու նպատակով փոխհատուցման տրամադրում
B42: Միջոցառման տեսակը` | C42: Տրանսֆերտների տրամադրում
B43: Շահառուների ընտրության չափանիշները | C43: Ժամանակավոր կացարանով ապահովման խնդիր ունեցող ՀՀ-ում փախստական ճանաչված անձինք
B44: Արդյունքի չափորոշիչներ
B45: Բնակարաններ վարձակալելու նպատակով փոխհատուցում ստացող ընտանիքների թիվ, ընտանիք | D45: -10 | E45: -10
B46: Միջոցառման վրա կատարվող ծախսը (հազար դրամ) | D46: =Հ1!D26 -> -4000 | E46: =D46 -> -4000
B48: Ծրագրի դասիչը` | C48: 1070 | D48: Ցուցանիշների փոփոխությունը (ավելացումները նշված են դրական նշանով, իսկ նվազեցումները` փակագծերում)
B49: Միջոցառման դասիչը` | C49: 12004 | D49: Ինն ամիս | E49: Տարի
B50: Միջոցառման անվանումը` | C50: Հայաստանի Հանրապետություն վերադարձող քաղաքացիների վերաինտեգրմանն ուղղված առաջնային աջակցության պետական ծրագիր
B51: Նկարագրությունը` | C51: Առաջնային օժանդակություն ցուցաբերել Հայաստան հարկադիր վերադարձող ՀՀ քաղաքացիներին՛ հետագայում նրանց լիարժեք և կայուն վերաինտեգրումն ապահովելու նպատակով, ուղղորդելն ու խորհրդատվությունը:
B52: Միջոցառման տեսակը` | C52: Տրանսֆերտների տրամադրում
B53: Շահառուների ընտրության չափանիշները | C53: Հարկադիր վերադարձող ՀՀ քաղաքացիներ
B54: Արդյունքի չափորոշիչներ
B55: Հարկադիր վերադարձող ՀՀ քաղաքացիներ | D55: -11 | E55: -11
B56: Միջոցառման վրա կատարվող ծախսը (հազար դրամ) | D56: =Հ1!D32 -> -3188 | E56: =Հ1!E32 -> -3188
B58: Ծրագրի դասիչը | C58: Ծրագրի անվանումը
B59: 1106 | C59: Միգրացիոն բնագավառում պետական քաղաքականության մշակում և իրականացում
B60: Ծրագրի դասիչը` | C60: 1106 | D60: Ցուցանիշների փոփոխությունը (ավելացումները նշված են դրական նշանով, իսկ նվազեցումները` փակագծերում)
B61: Ծրագրի միջոցառումները | C61: 11001 | D61: Ինն ամիս | E61: Տարի
B62: Միջոցառման անվանումը` | C62: Միգրացիոն բնագավառում պետական քաղաքականության մշակում և իրականացում
B63: Նկարագրությունը` | C63: Միգրացիոն գործընթացների քաղաքականության մշակում, իրականացում,օտարերկրյա քաղաքացիներին, քաղաքացիություն չունեցող անձանց ապաստանի տրամադրում, բռնագաղթած փախստականներին, տեղաշարժված այլ անձանց հասարակության մեջ ինտեգրում,ռեադմիսիոն գործառույթների իրականացում
B64: Միջոցառման տեսակը` | C64: Ծառայությունների մատուցում
B65: Միջոցառումն իրականացնողի անվանումը | C65: ՀՀ տարածքային կառավարման և ենթակառուցվածքների նախարարության միգրացիոն ծառայություն
B66: Արդյունքի չափորոշիչներ
B67: Միջոցառման վրա կատարվող ծախսը (հազար դրամ) | D67: =Հ1!D72 -> 2800 | E67: =Հ1!E72 -> 2800
B69: Ծրագրի դասիչը` | C69: 1106 | D69: Ցուցանիշների փոփոխությունը (ավելացումները նշված են դրական նշանով, իսկ նվազեցումները` փակագծերում)
B70: Միջոցառման դասիչը` | C70: 31001 | D70: Ինն ամիս | E70: Տարի
B71: Միջոցառման անվանումը` | C71: Միգրացիոն ծառայության կարողությունների զարգացում և տեխնիկական հագեցվածության ապահովում
B72: Նկարագրությունը` | C72: Միգրացիոն ծառայության ծառայության աշխատանքային պայմանների բարելավման համար վարչական սարքավորումների ձեռք բերում
B73: Միջոցառման տեսակը` | C73: Պետական մարմինների կողմից օգտագործվող ոչ ֆինանսական ակտիվների հետ գործառնություններ
B74: Ակտիվն օգտագործող կազմակերպության անվանումը | C74: ՀՀ տարածքային կառավարման և ենթակառուցվածքների նախարարության միգրացիոն ծառայություն
B75: Արդյունքի չափորոշիչներ
B76: Դիզելային գեներատոր քանակ, հատ | D76: 1 | E76: 1
B77: Միջոցառման վրա կատարվող ծախսը (հազար դրամ) | D77: =Հ1!D78 -> 3437 | E77: 4000
B79: ՀԱՅԱՍՏԱՆԻ ՀԱՆՐԱՊԵՏՈՒԹՅԱՆ ԿԱՌԱՎԱՐՈՒԹՅԱՆ 2020 ԹՎԱԿԱՆԻ ԴԵԿՏԵՄԲԵՐԻ 30-Ի N 2215-Ն ՈՐՈՇՄԱՆ N 9 ՀԱՎԵԼՎԱԾԻ N 9.7 ԱՂՅՈՒՍԱԿՈՒՄ ԿԱՏԱՐՎՈՂ ՓՈՓՈԽՈՒԹՅՈՒՆՆԵՐԸ
B80: ՀՀ կառավարություն
B81: ՄԱՍ 2. ՊԵՏԱԿԱՆ ՄԱՐՄՆԻ ԳԾՈՎ ԱՐԴՅՈՒՆՔԱՅԻՆ (ԿԱՏԱՐՈՂԱԿԱՆ) ՑՈՒՑԱՆԻՇՆԵՐԸ
B83: Ծրագրի դասիչը | C83: Ծրագրի անվանումը
B84: 1139 | C84: ՀՀ կառավարության պահուստային ֆոնդ
B86: Ծրագրի դասիչը` | C86: 1139 | D86: Ցուցանիշների փոփոխությունը (ավելացումները նշված են դրական նշանով, իսկ նվազեցումները` փակագծերում)
B87: Միջոցառման դասիչը` | C87: 11001 | D87: Ինն ամիս | E87: Տարի
B88: Միջոցառման անվանումը` | C88: ՀՀ կառավարության պահուստային ֆոնդ
B89: Նկարագրությունը` | C89: ՀՀ պետական բյուջեում նախատեսված ելքերի լրացուցիչ ֆինանսավորման, պետական բյուջեում չկանխատեսված ելքերի, ինչպես նաև բյուջետային երաշխիքների ապահովման ելքերի ֆինանսավորման ապահովում
B90: Միջոցառման տեսակը` | C90: Ծառայությունների մատուցում
B91: Միջոցառումն իրականացնողի անվանումը | C91: ՀՀ կառավարություն
B92: Արդյունքի չափորոշիչներ
B93: Միջոցառման վրա կատարված ծախսը (հազար դրամ) | D93: =D77 -> 3437 | E93: =E77 -> 4000
B94: Ծրագրի դասիչը` | C94: 1139 | D94: Ցուցանիշների փոփոխությունը (ավելացումները նշված են դրական նշանով, իսկ նվազեցումները` փակագծերում)
B95: Միջոցառման դասիչը` | C95: 11001 | D95: Ինն ամիս | E95: Տարի
B96: Միջոցառման անվանումը` | C96: ՀՀ կառավարության պահուստային ֆոնդ
B97: Նկարագրությունը` | C97: ՀՀ պետական բյուջեում նախատեսված ելքերի լրացուցիչ ֆինանսավորման, պետական բյուջեում չկանխատեսված ելքերի, ինչպես նաև բյուջետային երաշխիքների ապահովման ելքերի ֆինանսավորման ապահովում
B98: Միջոցառման տեսակը` | C98: Ծառայությունների մատուցում
B99: Միջոցառումն իրականացնողի անվանումը | C99: ՀՀ կառավարություն
B100: Արդյունքի չափորոշիչներ
B101: Միջոցառման վրա կատարված ծախսը (հազար դրամ) | D101: =-D77 -> -3437 | E101: =-E77 -> -4000

Sheet Հ8
E1: Հավելված N 8
E2: ՀՀ կառավարության 2022 թվականի
E3: ______________ ի ___Ն որոշման
B6: ՀԱՅԱՍՏԱՆԻ ՀԱՆՐԱՊԵՏՈՒԹՅԱՆ ԿԱՌԱՎԱՐՈՒԹՅԱՆ 2021 ԹՎԱԿԱՆԻ ԴԵԿՏԵՄԲԵՐԻ 23-Ի N 2121-Ն ՈՐՈՇՄԱՆ N 9.1 ՀԱՎԵԼՎԱԾԻ N 9.1.35 ԱՂՅՈՒՍԱԿՆՈՒՄ ԿԱՏԱՐՎՈՂ ՓՈՓՈԽՈՒԹՅՈՒՆՆԵՐԸ ԵՎ ԼՐԱՑՈՒՄՆԵՐԸ
D8: Աղյուսակ 9.1.35
B9: ՀՀ տարածքային կառավարման և ենթակառուցվածքների նախարարության միգրացիոն ծառայություն
B10: ՄԱՍ 1. ՊԵՏԱԿԱՆ ՄԱՐՄՆԻ ԳԾՈՎ ԱՐԴՅՈՒՆՔԱՅԻՆ (ԿԱՏԱՐՈՂԱԿԱՆ) ՑՈՒՑԱՆԻՇՆԵՐԸ
B12: Ծրագրի դասիչը | C12: Ծրագրի անվանումը
B13: =+'Հ 7'!B12 -> 1070 | C13: =+'Հ 7'!C12 -> Աջակցություն փախստականների ինտեգրմանը
B15: Ծրագրի միջոցառումները
B16: Ծրագրի դասիչը` | C16: =+'Հ 7'!C16 -> 1070 | D16: Ցուցանիշների փոփոխությունը (ավելացումները նշված են դրական նշանով, իսկ նվազեցումները` փակագծերում)
B17: Միջոցառման դասիչը` | C17: 11002 | D17: Ինն ամիս | E17: Տարի
B18: Միջոցառման անվանումը` | C18: ='Հ 7'!C18 -> Ժամանակավոր կացարաններում բնակվող փախստականների կենցաղային խնդիրների լուծման միջոցառումների իրականացում
B19: Նկարագրությունը` | C19: ='Հ 7'!C19 -> Կացարաններում սանիտարահիգիենիկ պայմանների, ընդհանուր օգտագործման էլեկտրաէներգիայի, ջրմուղ-կոյուղու ծախսերի փոխհատուցում, ինչպես նաև այդ կացարանների պահպանման աշխատանքների կազմակերպում
B20: Միջոցառման տեսակը` | C20: =+'Հ 7'!C29 -> Ծառայությունների մատուցում
B21: ='Հ 7'!B21 -> Միջոցառումն իրականացնողի անվանումը | C21: ='Հ 7'!C21 -> Մասնագիտացված կազմակերպություն
B22: Արդյունքի չափորոշիչներ
B23: Միջոցառման վրա կատարվող ծախսը (հազար դրամ) | D23: 2638 | E23: =+D23 -> 2638
B24: Ծրագրի միջոցառումները
B25: Ծրագրի դասիչը` | C25: =+'Հ 7'!C25 -> 1070 | D25: Ցուցանիշների փոփոխությունը (ավելացումները նշված են դրական նշանով, իսկ նվազեցումները` փակագծերում)
B26: Միջոցառման դասիչը` | C26: 11003 | D26: Ինն ամիս | E26: Տարի
B27: ='Հ 7'!B27 -> Միջոցառման անվանումը` | C27: ='Հ 7'!C27 -> ՀՀ-ում փախստական ճանաչված և ապաստան ստացած անձանց համար քաղաքացիական կողմնորոշման դասընթացների կազմակերպում
B28: ='Հ 7'!B28 -> Նկարագրությունը` | C28: ='Հ 7'!C28 -> ՀՀ-ում փախստական ճանաչված և ապաստան ստացած անձանց հասարակության մեջ ինտեգրման նպատակով քաղաքացիական կողմնորոշման դասընթացների կազմակերպում
B29: ='Հ 7'!B29 -> Միջոցառման տեսակը` | C29: ='Հ 7'!C29 -> Ծառայությունների մատուցում
B30: ='Հ 7'!B30 -> Միջոցառումն իրականացնողի անվանումը` | C30: ='Հ 7'!C30 -> «Գնումների մասին» ՀՀ օրենքի համաձայն ընտրված կազմակերպություն
B31: Արդյունքի չափորոշիչներ
B32: Շահառուների թիվ, մարդ | D32: -150 | E32: -150
B33: Դասընթացների քանակ, հատ | D33: -15 | E33: -15
B34: Վերապատրաստման դասընթացներում ընդգրկված թեմաների քանակ, հատ | D34: -5 | E34: -5
B35: Մեկ խմբի վերապատրաստման դասընթացի տևողություն, ժամ | D35: -20 | E35: -20
B36: Միջոցառման վրա կատարվող ծախսը (հազար դրամ) | D36: ='Հ 7'!D36 -> -1687 | E36: ='Հ 7'!E36 -> -2250
B37: Ծրագրի միջոցառումները
B38: Ծրագրի դասիչը` | C38: =+'Հ 7'!C38 -> 1070 | D38: Ցուցանիշների փոփոխությունը (ավելացումները նշված են դրական նշանով, իսկ նվազեցումները` փակագծերում)
B39: Միջոցառման դասիչը` | C39: 12002 | D39: Ինն ամիս | E39: Տարի
B40: ='Հ 7'!B40 -> Միջոցառման անվանումը` | C40: ='Հ 7'!C40 -> ՀՀ-ում փախստական ճանաչված և ապաստան ստացած անձանց վարձակալությամբ բնակարանների ձեռքբերման ծախսերի փոխհատուցման տրամադրում
B41: ='Հ 7'!B41 -> Նկարագրությունը` | C41: ='Հ 7'!C41 -> ՀՀ-ում փախստական ճանաչված և ապաստան ստացած անձանց մինչև 9 ամիս տևողությամբ բնակարաններ վարձակալելու նպատակով փոխհատուցման տրամադրում
B42: ='Հ 7'!B42 -> Միջոցառման տեսակը` | C42: ='Հ 7'!C42 -> Տրանսֆերտների տրամադրում
B43: Շահառուների ընտրության չափանիշներ | C43: ='Հ 7'!C43 -> Ժամանակավոր կացարանով ապահովման խնդիր ունեցող ՀՀ-ում փախստական ճանաչված անձինք
B44: Արդյունքի չափորոշիչներ
A45: Բնակարաններ վարձակալելու նպատակով փոխհատուցում ստացող ընտանիքների թիվ, ընտանիք | B45: Բնակարաններ վարձակալելու նպատակով փոխհատուցում ստացող ընտանիքների թիվ, ընտանիք | D45: ='Հ 7'!D45 -> -10 | E45: ='Հ 7'!E45 -> -10
B46: Միջոցառման վրա կատարվող ծախսը (հազար դրամ) | D46: ='Հ 7'!D46 -> -4000 | E46: ='Հ 7'!E46 -> -4000
B48: Ծրագրի միջոցառումները
B49: Ծրագրի դասիչը` | C49: 1070 | D49: Ցուցանիշների փոփոխությունը (ավելացումները նշված են դրական նշանով, իսկ նվազեցումները` փակագծերում)
B50: Միջոցառման դասիչը` | C50: 12004 | D50: Ինն ամիս | E50: Տարի
B51: Միջոցառման անվանումը` | C51: Հայաստանի Հանրապետություն վերադարձող քաղաքացիների վերաինտեգրմանն ուղղված առաջնային աջակցության պետական ծրագիր
B52: ='Հ 7'!B51 -> Նկարագրությունը` | C52: Առաջնային օժանդակություն ցուցաբերել Հայաստան հարկադիր վերադարձող ՀՀ քաղաքացիներին՛ հետագայում նրանց լիարժեք և կայուն վերաինտեգրումն ապահովելու նպատակով, ուղղորդելն ու խորհրդատվությունը:
B53: ='Հ 7'!B52 -> Միջոցառման տեսակը` | C53: ='Հ 7'!C52 -> Տրանսֆերտների տրամադրում
B54: ='Հ 7'!B53 -> Շահառուների ընտրության չափանիշները | C54: ='Հ 7'!C53 -> Հարկադիր վերադարձող ՀՀ քաղաքացիներ
B55: Արդյունքի չափորոշիչներ
A56: Բնակարաններ վարձակալելու նպատակով փոխհատուցում ստացող ընտանիքների թիվ, ընտանիք | B56: Բնակարաններ վարձակալելու նպատակով աջակցություն ստացող ընտանիքների թիվ, ընտանիք | D56: ='Հ 7'!D55 -> -11 | E56: ='Հ 7'!E55 -> -11
B57: Միջոցառման վրա կատարվող ծախսը (հազար դրամ) | D57: =Հ1!D32 -> -3188 | E57: =Հ1!E32 -> -3188
B60: Ծրագրի դասիչը | C60: Ծրագրի անվանումը
B61: 1106 | C61: Միգրացիոն բնագավառում պետական քաղաքականության մշակում և իրականացում
B63: Ծրագրի միջոցառումները
B64: Ծրագրի դասիչը` | C64: 1106 | D64: Ցուցանիշների փոփոխությունը (ավելացումները նշված են դրական նշանով, իսկ նվազեցումները` փակագծերում)
B65: Միջոցառման դասիչը` | C65: 11001 | D65: Ինն ամիս | E65: Տարի
B66: Միջոցառման անվանումը` | C66: ='Հ 7'!C62 -> Միգրացիոն բնագավառում պետական քաղաքականության մշակում և իրականացում
B67: Նկարագրությունը` | C67: ='Հ 7'!C63 -> Միգրացիոն գործընթացների քաղաքականության մշակում, իրականացում,օտարերկրյա քաղաքացիներին, քաղաքացիություն չունեցող անձանց ապաստանի տրամադրում, բռնագաղթած փախստականներին, տեղաշարժված այլ անձանց հասարակության մեջ ինտեգրում,ռեադմիսիոն գործառույթների իրականացում
B68: Միջոցառման տեսակը` | C68: ='Հ 7'!C64 -> Ծառայությունների մատուցում
B69: Միջոցառումն իրականացնողի անվանումը | C69: ՀՀ տարածքային կառավարման և ենթակառուցվածքների նախարարության միգրացիոն ծառայություն
B70: Արդյունքի չափորոշիչներ
B71: Միջոցառման վրա կատարվող ծախսը (հազար դրամ) | D71: ='Հ 7'!D67 -> 2800 | E71: ='Հ 7'!E67 -> 2800
B73: Ծրագրի դասիչը` | C73: 1106 | D73: Ցուցանիշների փոփոխությունը (ավելացումները նշված են դրական նշանով, իսկ նվազեցումները` փակագծերում)
B74: Միջոցառման դասիչը` | C74: 31001 | D74: Ինն ամիս | E74: Տարի
B75: Միջոցառման անվանումը` | C75: ='Հ 7'!C71 -> Միգրացիոն ծառայության կարողությունների զարգացում և տեխնիկական հագեցվածության ապահովում
B76: Նկարագրությունը` | C76: ='Հ 7'!C72 -> Միգրացիոն ծառայության ծառայության աշխատանքային պայմանների բարելավման համար վարչական սարքավորումների ձեռք բերում
B77: Միջոցառման տեսակը` | C77: ='Հ 7'!C73 -> Պետական մարմինների կողմից օգտագործվող ոչ ֆինանսական ակտիվների հետ գործառնություններ
B78: Միջոցառումն իրականացնողի անվանումը | C78: ՀՀ տարածքային կառավարման և ենթակառուցվածքների նախարարության միգրացիոն ծառայություն
B79: Արդյունքի չափորոշիչներ
B80: Դիզելային գեներատոր քանակ, հատ | D80: 1 | E80: 1
B81: Միջոցառման վրա կատարվող ծախսը (հազար դրամ) | D81: ='Հ 7'!D77 -> 3437 | E81: ='Հ 7'!E77 -> 4000
B83: ՀԱՅԱՍՏԱՆԻ ՀԱՆՐԱՊԵՏՈՒԹՅԱՆ ԿԱՌԱՎԱՐՈՒԹՅԱՆ 2021 ԹՎԱԿԱՆԻ ԴԵԿՏԵՄԲԵՐԻ 23-Ի N 2121-Ն ՈՐՈՇՄԱՆ N 9.1 ՀԱՎԵԼՎԱԾԻ 9.1.59 ԱՂՅՈՒՍԱԿՈՒՄ ԿԱՏԱՐՎՈՂ ՓՈՓՈԽՈՒԹՅՈՒՆՆԵՐԸ
B85: ՀՀ կառավարություն
B86: ՄԱՍ 1. ՊԵՏԱԿԱՆ ՄԱՐՄՆԻ ԳԾՈՎ ԱՐԴՅՈՒՆՔԱՅԻՆ (ԿԱՏԱՐՈՂԱԿԱՆ) ՑՈՒՑԱՆԻՇՆԵՐԸ
B89: Ծրագրի դասիչը | C89: Ծրագրի անվանումը
B90: 1139 | C90: ՀՀ կառավարության պահուստային ֆոնդ
B92: Ծրագրի դասիչը` | C92: 1139 | D92: Ցուցանիշների փոփոխությունը (ավելացումները նշված են դրական նշանով, իսկ նվազեցումները` փակագծերում)
B93: Միջոցառման դասիչը` | C93: 11001 | D93: Ինն ամիս | E93: Տարի
B94: Միջոցառման անվանումը` | C94: ՀՀ կառավարության պահուստային ֆոնդ
B95: Նկարագրությունը` | C95: ՀՀ պետական բյուջեում նախատեսված ելքերի լրացուցիչ ֆինանսավորման, պետական բյուջեում չկանխատեսված ելքերի, ինչպես նաև բյուջետային երաշխիքների ապահովման ելքերի ֆինանսավորման ապահովում
B96: Միջոցառման տեսակը` | C96: Ծառայությունների մատուցում
B97: Միջոցառումն իրականացնողի անվանումը | C97: ՀՀ կառավարություն
B98: Արդյունքի չափորոշիչներ
B99: Միջոցառման վրա կատարված ծախսը (հազար դրամ) | D99: =D81 -> 3437 | E99: =E81 -> 4000
B100: Ծրագրի դասիչը` | C100: 1139 | D100: Ցուցանիշների փոփոխությունը (ավելացումները նշված են դրական նշանով, իսկ նվազեցումները` փակագծերում)
B101: Միջոցառման դասիչը` | C101: 11001 | D101: Ինն ամիս | E101: Տարի
B102: Միջոցառման անվանումը` | C102: ՀՀ կառավարության պահուստային ֆոնդ
B103: Նկարագրությունը` | C103: ՀՀ պետական բյուջեում նախատեսված ելքերի լրացուցիչ ֆինանսավորման, պետական բյուջեում չկանխատեսված ելքերի, ինչպես նաև բյուջետային երաշխիքների ապահովման ելքերի ֆինանսավորման ապահովում
B104: Միջոցառման տեսակը` | C104: Ծառայությունների մատուցում
B105: Միջոցառումն իրականացնողի անվանումը | C105: ՀՀ կառավարություն
B106: Արդյունքի չափորոշիչներ
B107: Միջոցառման վրա կատարված ծախսը (հազար դրամ) | D107: =-D99 -> -3437 | E107: =-E99 -> -4000

Sheet Հ 9
G1: Հավելված N 9 ՀՀ կառավարության 2022 թվականի ___________ ___-ի N _______ -Ն որոշման
A2: ՀԱՅԱՍՏԱՆԻ ՀԱՆՐԱՊԵՏՈՒԹՅԱՆ ԿԱՌԱՎԱՐՈՒԹՅԱՆ 2021 ԹՎԱԿԱՆԻ ԴԵԿՏԵՄԲԵՐԻ 23-Ի N 2121-Ն ՈՐՈՇՄԱՆ N 10 ՀԱՎԵԼՎԱԾՈՒՄ ԿԱՏԱՐՎՈՂ ՓՈՓՈԽՈՒԹՅՈՒՆՆԵՐԸ ԵՎ ԼՐԱՑՈՒՄՆԵՐԸ
A3: Կոդը | B3: Անվանումը | C3: Գնման ձևը | D3: Չափման միավորը | E3: Միավորի գինը | F3: Քանակը | G3: Ցուցանիշների փոփոխությունը (ավելացումները նշված են դրական նշանով, իսկ նվազեցումները` փակագծերում)
G4: Գումարը (հազար դրամ)
A6: 1 | B6: 2 | C6: 3 | D6: 4 | F6: 6 | G6: 7
A7: ՀՀ տարածքային կառավարման և ենթակառուցվածքների նախարարության միգրացիոն ծառայություն | G7: =G8+G13 -> 4550
A8: Բաժին N 10, խումբ N 09, դաս N 02, Սոցիալական պաշտպանությանը տրամադրվող օժանդակ ծառայություններ (այլ դասերին չպատկանող) | G8: =+G9 -> -2250
A9: 1070 Աջակցություն փախստականների ինտեգրմանը | G9: =G10 -> -2250
A10: 11003 ՀՀ-ում փախստական ճանաչված և ապաստան ստացած անձանց համար քաղաքացիական կողմնորոշման դասընթացների կազմակերպում | G10: =G11 -> -2250
A11: ՄԱՍ III. ԾԱՌԱՅՈՒԹՅՈՒՆՆԵՐ | G11: =G12 -> -2250
A12: 80571100-1 | B12: անձնական զարգացման ուսուցողական ծառայություններ | C12: ԷԱՃ | D12: դրամ | E12: 2250000 | F12: -1 | G12: =E12*F12/1000 -> -2250
A13: Բաժին N 10, խումբ N 09, դաս N 01,Սոցիալական պաշտպանություն (այլ դասերին չպատկանող) | G13: =+G14 -> 6800
A14: 1106 Միգրացիոն բնագավառում պետական քաղաքականության մշակում և իրականացում | G14: =G15+G18 -> 6800
A15: 11001Միգրացիոն բնագավառում պետական քաղաքականության մշակում և իրականացում | G15: =G17 -> 2800
A16: ՄԱՍ I. Ա Պ Ր Ա Ն Ք Ն Ե Ր | G16: =G17 -> 2800
A17: 30237310 | B17: տառատեսակներով քարթրիջներ տպիչների համար | C17: ԷԱՃ | D17: հատ | E17: 70000 | F17: 40 | G17: =+E17*F17/1000 -> 2800
A18: 31001 Միգրացիոն ծառայության կարողությունների զարգացում և տեխնիկական հագեցվածության ապահովում | G18: =G20 -> 4000
A19: ՄԱՍ I. Ա Պ Ր Ա Ն Ք Ն Ե Ր | G19: =G20 -> 4000
A20: 42981200 | B20: դիզել գեներատոր | C20: ԷԱՃ | D20: հատ | E20: 4000000 | F20: 1 | G20: =+E20*F20/1000 -> 4000
