Workbook
Name AgencyCode: #REF!
Name AgencyCode: #REF!
Name AgencyName: #REF!
Name AgencyName: #REF!
Name åû: #REF!
Name davit: #REF!
Name Functional1: #REF!
Name Functional1: #REF!
Name ggg: #REF!
Name mas: #REF!
Name mass: #REF!
Name PANature: #REF!
Name PANature: #REF!
Name PAType: #REF!
Name PAType: #REF!
Name Performance2: #REF!
Name Performance2: #REF!
Name PerformanceType: #REF!
Name PerformanceType: #REF!
Name x: #REF!
Name Հավելված: #REF!
Name Մաս: #REF!
Name շախմատիստ: #REF!

Sheet Հ1
E1: Հավելված N1
E2: ՀՀ կառավարության 2022 թվականի
E3: ______________ ի ___Ն որոշման
A5: «ՀԱՅԱUՏԱՆԻ ՀԱՆՐԱՊԵՏՈՒԹՅԱՆ 2022 ԹՎԱԿԱՆԻ ՊԵՏԱԿԱՆ ԲՅՈՒՋԵԻ ՄԱUԻՆ» ՀԱՅԱUՏԱՆԻ ՀԱՆՐԱՊԵՏՈՒԹՅԱՆ OՐԵՆՔԻ N 1 ՀԱՎԵԼՎԱԾԻ N 2 ԱՂՅՈՒՍԱԿՈՒՄ ԿԱՏԱՐՎՈՂ ՎԵՐԱԲԱՇԽՈՒՄԸ ԵՎ ՀԱՅԱՍՏԱՆԻ ՀԱՆՐԱՊԵՏՈՒԹՅԱՆ ԿԱՌԱՎԱՐՈՒԹՅԱՆ 2021 ԹՎԱԿԱՆԻ ԴԵԿՏԵՄԲԵՐԻ 23-Ի N 2121-Ն ՈՐՈՇՄԱՆ N 5 ՀԱՎԵԼՎԱԾԻ N 1 ԱՂՅՈՒՍԱԿՈՒՄ ԿԱՏԱՐՎՈՂ ՓՈՓՈԽՈՒԹՅՈՒՆՆԵՐԸ ԵՎ ԼՐԱՑՈՒՄՆԵՐԸ
E6: հազ. դրամ
A7: Ծրագրային դասիչը | C7: Բյուջետային հատկացումների գլխավոր կարգադրիչների, ծրագրերի և միջոցառումների անվանումները | D7: Ցուցանիշների փոփոխությունը (ավելացումները նշված են դրական նշանով, իսկ նվազեցումները` փակագծերում)
A8: Ծրագիր | B8: Միջոցառում | D8: Ինն ամիս | E8: Տարի
A9: 1192 | C9: ԸՆԴԱՄԵՆԸ | D9: =+D11 -> 0 | E9: =+E11 -> 0
C10: այդ թվում
B11: ՀՀ տարածքային կառավարման և ենթակառուցվածքների նախարարություն | D11: =+D13+D65 -> 0 | E11: =+E13+E65 -> 0
A12: 1070 | C12: Ծրագրի անվանումը`
C13: Աջակցություն փախստականների ինտեգրմանը | D13: =D20+D26+D38+D32 -> -6237 | E13: =E20+E26+E38+E32 -> -6800
C14: Ծրագրի նպատակը`
C15: Փախստականների ինտեգրում հասարակություն
C16: Վերջնական արդյունքի նկարագրությունը`
C17: Փախստականներին մատուցվող ծառայությունների ընդգրկման և ծառայությունների շրջանակի ընդլայնում
B18: Ծրագրի միջոցառումներ
B19: 11003 | C19: Միջոցառման անվանումը`
C20: ՀՀ-ում փախստական ճանաչված և ապաստան ստացած անձանց համար քաղաքացիական կողմնորոշման դասընթացների կազմակերպում | D20: -1687 | E20: -2250
C21: Միջոցառման նկարագրությունը`
C22: ՀՀ-ում փախստական ճանաչված և ապաստան ստացած անձանց հասարակության մեջ ինտեգրման նպատակով քաղաքացիական կողմնորոշման դասընթացների կազմակերպում
C23: Միջոցառման տեսակը
C24: Ծառայությունների մատուցում
B25: 12002 | C25: Միջոցառման անվանումը`
C26: ՀՀ-ում փախստական ճանաչված և ապաստան ստացած անձանց վարձակալությամբ բնակարանների ձեռքբերման ծախսերի փոխհատուցման տրամադրում | D26: -4000 | E26: -4000
C27: Միջոցառման նկարագրությունը`
C28: ՀՀ-ում փախստական ճանաչված և ապաստան ստացած անձանց մինչև 9 ամիս տևողությամբ բնակարաններ վարձակալելու նպատակով փոխհատուցման տրամադրում
C29: Միջոցառման տեսակը
C30: Տրանսֆերտների տրամադրում
B31: 12004 | C31: Միջոցառման անվանումը`
C32: Հայաստանի Հանրապետություն վերադարձող քաղաքացիների վերաինտեգրմանն ուղղված առաջնային աջակցության պետական ծրագիր | D32: -3188 | E32: =D32 -> -3188
C33: Միջոցառման նկարագրությունը`
C34: Առաջնային օժանդակություն ցուցաբերել Հայաստան հարկադիր վերադարձող ՀՀ քաղաքացիներին՛ հետագայում նրանց լիարժեք և կայուն վերաինտեգրումն ապահովելու նպատակով, ուղղորդելն ու խորհրդատվությունը:
C35: Միջոցառման տեսակը
C36: Տրանսֆերտների տրամադրում
B37: 11002 | C37: Միջոցառման անվանումը`
C38: Ժամանակավոր կացարաններում բնակվող փախստականների կենցաղային խնդիրների լուծման միջոցառումների իրականացում | D38: 2638 | E38: 2638
C39: Միջոցառման նկարագրությունը`
C40: Կացարաններում սանիտարահիգիենիկ պայմանների, ընդհանուր օգտագործման էլեկտրաէներգիայի, ջրմուղ-կոյուղու ծախսերի փոխհատուցում, ինչպես նաև այդ կացարանների պահպանման աշխատանքների կազմակերպում
C41: Միջոցառման տեսակը
...

Sheet Հ 2
H1: Հավելված N2
H2: ՀՀ կառավարության 2022 թվականի
H3: ______________ ի ___Ն որոշման
A5: «ՀԱՅԱՍՏԱՆԻ ՀԱՆՐԱՊԵՏՈՒԹՅԱՆ 2022 ԹՎԱԿԱՆԻ ՊԵՏԱԿԱՆ ԲՅՈՒՋԵԻ ՄԱՍԻՆ» ՀԱՅԱՍՏԱՆԻ ՀԱՆՐԱՊԵՏՈՒԹՅԱՆ ՕՐԵՆՔԻ N 1 ՀԱՎԵԼՎԱԾԻ N 3 ԱՂՅՈՒՍԱԿՈՒՄ ԿԱՏԱՐՎՈՂ ՓՈՓՈԽՈՒԹՅՈՒՆՆԵՐԸ ԵՎ ԼՐԱՑՈՒՄՆԵՐԸ
G6: հազ. դրամ
A7: Ծրագրային դասիչ | C7: Բյուջետային գլխավոր կարգադրիչների, ծրագրերի, միջոցառումների և ուղղությունների անվանումները | D7: Ցուցանիշների փոփոխությունը (ավելացումները նշված են դրական նշանով, իսկ նվազեցումները` փակագծերում)
D8: Ընդամենը, | E8: այդ թվում՝
A9: Ծրագիր | B9: Միջոցառում | E9: Կառուցման աշխատանքներ | F9: Վերակառուցման, վերանորոգման և վերականգնման աշխատանքներ | G9: Նախագծահե- տազոտական, գեոդեզիա- քարտեզագրա- կան աշխա- տանքներ | H9: Ոչ ֆինանսական այլ ակտիվների ձեռքբերում
C10: ԸՆԴԱՄԵՆԸ | D10: =D13 -> 4000 | E10: =E13 -> 0 | F10: =F13 -> 0 | G10: =G13 -> 0 | H10: =H13 -> 4000
C11: այդ թվում՝
C13: ՀՀ ՏԱՐԱԾՔԱՅԻՆ ԿԱՌԱՎԱՐՄԱՆ ԵՎ ԵՆԹԱԿԱՌՈՒՑՎԱԾՔՆԵՐԻ ՆԱԽԱՐԱՐՈՒԹՅՈՒՆ | D13: =D15 -> 4000 | E13: 0 | F13: 0 | G13: 0 | H13: =H15 -> 4000
C14: այդ թվում`
A15: 1106 | B15: 31001 | C15: Միգրացիոն ծառայության կարողությունների զարգացում և տեխնիկական հագեցվածության ապահովում | D15: 4000 | H15: 4000

Sheet Հ 3
A1: Հավելված N3
A2: ՀՀ կառավարության 2022 թվականի
A3: ______________ ի ___Ն որոշման
A5: ՀԱՅԱՍՏԱՆԻ ՀԱՆՐԱՊԵՏՈՒԹՅԱՆ ԿԱՌԱՎԱՐՈՒԹՅԱՆ 2021 ԹՎԱԿԱՆԻ ԴԵԿՏԵՄԲԵՐԻ 23-Ի N 2121-Ն ՈՐՈՇՄԱՆ N 5 ՀԱՎԵԼՎԱԾԻ N 2 ԱՂՅՈՒՍԱԿՈՒՄ ԿԱՏԱՐՎՈՂ ՓՈՓՈԽՈՒԹՅՈՒՆՆԵՐԸ ԵՎ ԼՐԱՑՈՒՄՆԵՐԸ
D6: հազ. դրամ
A7: Ծրագրային դասիչ | C7: Բյուջետային գլխավոր կարգադրիչների, ծրագրերի, միջոցառումների և ուղղությունների անվանումները | D7: Ցուցանիշների փոփոխությունը (ավելացումները նշված են դրական նշանով, իսկ նվազեցումները` փակագծերում)
A8: Ծրագիր | B8: Միջոցառում | D8: Ինն ամիս | E8: Տարի
C9: ԸՆԴԱՄԵՆԸ | D9: =D11 -> 3437 | E9: =E11 -> 4000
C10: այդ թվում՝
C11: ՀՀ ՏԱՐԱԾՔԱՅԻՆ ԿԱՌԱՎԱՐՄԱՆ ԵՎ ԵՆԹԱԿԱՌՈՒՑՎԱԾՔՆԵՐԻ ՆԱԽԱՐԱՐՈՒԹՅՈՒՆ | D11: =+D13 -> 3437 | E11: =+E13 -> 4000
C12: այդ թվում`
A13: 1106 | B13: 31001 | C13: Միգրացիոն ծառայության կարողությունների զարգացում և տեխնիկական հագեցվածության ապահովում | D13: =D15 -> 3437 | E13: =E15 -> 4000
C14: այդ թվում` ըստ կատարողների
C15: ՀՀ տարածքային կառավարման և ենթակառուցվածքների նախարարության միգրացիոն ծառայություն | D15: 3437 | E15: 4000

Sheet Հ4
G1: Հավելված N4
F2: ՀՀ կառավարության 2022 թվականի
F3: ______________ ի ___Ն որոշման
A5: ՀԱՅԱՍՏԱՆԻ ՀԱՆՐԱՊԵՏՈՒԹՅԱՆ ԿԱՌԱՎԱՐՈՒԹՅԱՆ 2021 ԹՎԱԿԱՆԻ ԴԵԿՏԵՄԲԵՐԻ 23-Ի N 2121-Ն ՈՐՈՇՄԱՆ N 5 ՀԱՎԵԼՎԱԾԻ N 7 ԱՂՅՈՒՍԱԿՈՒՄ ԿԱՏԱՐՎՈՂ ՓՈՓՈԽՈՒԹՅՈՒՆՆԵՐԸ ԵՎ ԼՐԱՑՈՒՄՆԵՐԸ
A7: Ծրագրային դասիչը | C7: Բյուջետային հատկացումների գլխավոր կարգադրիչների, ծրագրերի, միջոցառումների, ծախսային ուղղությունների անվանումները | F7: Միջոցառումները կատարող պետական մարմինների և դրամաշնորհ ստացող տնտեսվարող սուբյեկտների անվանումները | G7: Ցուցանիշների փոփոխությունը (ավելացումները նշված են դրական նշանով, իսկ նվազեցումները` փակագծերում)
A8: Ծրագիր | B8: Միջոցառում | G8: Տարի
A9: ԸՆԴԱՄԵՆԸ | G9: =G11+G37+G597+G610+G614+G630+G709+G729+G745+G753+G778+G830+G834+G838 -> 2638
A11: ՀՀ տարածքային կառավարման և ենթակառուցվածքների նախարարություն | G11: =G12+G17+G22+G31+G34 -> 2638
A12: 1070 | B12: Աջակցություն փախստականների ինտեգրմանը | G12: =G13+G15 -> 2638
B13: 11002 | C13: ժամանակավոր կացարաններում բնակվող փախստականների կենցաղային խնդիրների լուծման միջոցառումների իրականացում | F13: ՀՀ տարածքային կառավարման և ենթակառուցվածքների նախարարության միգրացիոն ծառայություն | G13: =G14 -> 2638
F14: «Հանրակացարաններ» ՊՈԱԿ | G14: 2638

Sheet Հ5
H1: Հավելված N 5
H2: ՀՀ կառավարության 2022 թվականի
H3: ______________ ի ___Ն որոշման
A5: ՀԱՅԱՍՏԱՆԻ ՀԱՆՐԱՊԵՏՈՒԹՅԱՆ ԿԱՌԱՎԱՐՈՒԹՅԱՆ 2021 ԹՎԱԿԱՆԻ ԴԵԿՏԵՄԲԵՐԻ 23-Ի N 2121-Ն ՈՐՈՇՄԱՆ N 3 ԵՎ N 4 ՀԱՎԵԼՎԱԾՆԵՐՈՒՄ ԿԱՏԱՐՎՈՂ ՓՈՓՈԽՈՒԹՅՈՒՆՆԵՐԸ ԵՎ ԼՐԱՑՈՒՄՆԵՐԸ
H7: հազ. դրամ
A8: Գործառական դասիչը | D8: Ծրագրային դասիչը | F8: Բյուջետային ծախսերի գործառական դասակարգման բաժինների, խմբերի և դասերի, բյուջետային հատկացումների գլխավոր կարգադրիչների, ծրագրերի, միջոցառումների և միջոցառումները կատարող պետական մարմինների անվանումները | G8: Ցուցանիշների փոփոխությունը (ավելացումները նշված են դրական նշանով, իսկ նվազեցումները` փակագծերում)
A9: Բաժին | B9: Խումբ | C9: Դաս | D9: Ծրագիր | E9: Միջոցառում | G9: Ինն ամիս | H9: Տարի
F10: ԸՆԴԱՄԵՆԸ | G10: =G13+G91 -> 0 | H10: =H13+H91 -> 0
F11: այդ թվում
F12: ՀՀ տարածքային կառավարման և ենթակառուցվածքների նախարարություն | G12: =G13 -> 0 | H12: =H13 -> 0
A13: 10 | F13: ՍՈՑԻԱԼԱԿԱՆ ՊԱՇՏՊԱՆՈՒԹՅՈՒՆ | G13: =G15+G64 -> 0 | H13: =H15+H64 -> 0
F14: այդ թվում`
B15: 07 | F15: Սոցիալական հատուկ արտոնություններ (այլ դասերին չպատկանող) | G15: =G17+G32 -> -6237 | H15: =H17+H32 -> -6800
F16: այդ թվում`
C17: 01 | F17: Սոցիալական հատուկ արտոնություններ (այլ դասերին չպատկանող) | G17: =G21 -> 2638 | H17: =H21 -> 2638
F18: այդ թվում`
F19: ՀՀ տարածքային կառավարման և ենթակառուցվածքների նախարարություն | G19: =G21 -> 2638 | H19: =+G19 -> 2638
F20: այդ թվում`
D21: 1070 | F21: Աջակցություն փախստականների ինտեգրմանը | G21: =G23 -> 2638 | H21: =+G21 -> 2638
F22: այդ թվում`
E23: 11002 | F23: Ժամանակավոր կացարաններում բնակվող փախստականների կենցաղային խնդիրների լուծման միջոցառումների իրականացում | G23: =G25 -> 2638 | H23: =+G23 -> 2638
F24: այդ թվում` ըստ կատարողների
F25: ՀՀ տարածքային կառավարման և ենթակառուցվածքների նախարարության միգրացիոն ծառայություն | G25: =G27 -> 2638 | H25: =+G25 -> 2638
F26: այդ թվում` բյուջետային ծախսերի տնտեսագիտական դասակարգման հոդվածներ
F27: ԸՆԴԱՄԵՆԸ ԾԱԽՍԵՐ | G27: =G28 -> 2638 | H27: =+H25 -> 2638
F28: ԸՆԹԱՑԻԿ ԾԱԽՍԵՐ | G28: =G29 -> 2638 | H28: =+G28 -> 2638
F29: ԴՐԱՄԱՇՆՈՐՀՆԵՐ | G29: =G30 -> 2638 | H29: =+G29 -> 2638
F30: Ընթացիկ դրամաշնորհներ պետական հատվածի այլ մակարդակներին | G30: =G31 -> 2638 | H30: =+G30 -> 2638
F31: - Ընթացիկ դրամաշնորհներ պետական և համայնքային ոչ առևտրային կազմակերպություններին | G31: =Հ1!D38 -> 2638 | H31: =+G31 -> 2638
C32: 02 | F32: Սոցիալական պաշտպանությանը տրամադրվող օժանդակ ծառայություններ (այլ դասերին չպատկանող) | G32: =G37+G46+G55 -> -8875 | H32: =H37+H46+H55 -> -9438
F33: այդ թվում` | G33: =G34 -> 0 | H33: =H34 -> 0
F34: ՀՀ տարածքային կառավարման և ենթակառուցվածքների նախարարություն | G34: =G38 -> 0 | H34: =H38 -> 0
D35: 1070 | F35: Աջակցություն փախստականների ինտեգրմանը | G35: =G37+G46+G55 -> -8875 | H35: =H37+H46+H55 -> -9438
F36: այդ թվում`
E37: 11003 | F37: ՀՀ-ում փախստական ճանաչված և ապաստան ստացած անձանց համար քաղաքացիական կողմնորոշման դասընթացների կազմակերպում | G37: =G39 -> -1687 | H37: =H39 -> -2250
F38: այդ թվում` ըստ կատարողների
F39: ՀՀ տարածքային կառավարման և ենթակառուցվածքների նախարարության միգրացիոն ծառայություն | G39: =G41 -> -1687 | H39: =H41 -> -2250
F40: այդ թվում` բյուջետային ծախսերի տնտեսագիտական դասակարգման հոդվածներ
F41: ԸՆԴԱՄԵՆԸ ԾԱԽՍԵՐ | G41: =G42 -> -1687 | H41: =H42 -> -2250
F42: ԸՆԹԱՑԻԿ ԾԱԽՍԵՐ | G42: =G43 -> -1687 | H42: =H43 -> -2250
...

Sheet Հ 6
H1: Հավելված N 6
H2: ՀՀ կառավարության 2022 թվականի
H3: ______________ ի ___Ն որոշման
A5: ՀԱՅԱՍՏԱՆԻ ՀԱՆՐԱՊԵՏՈՒԹՅԱՆ 2022 ԹՎԱԿԱՆԻ ՊԵՏԱԿԱՆ ԲՅՈՒՋԵՈՎ ՆԱԽԱՏԵՍՎԱԾ՝ ՀԱՅԱՍՏԱՆԻ ՀԱՆՐԱՊԵՏՈՒԹՅԱՆ ԿԱՌԱՎԱՐՈՒԹՅԱՆ ՊԱՀՈՒՍՏԱՅԻՆ ՖՈՆԴԻՑ ՀԱՏԿԱՑՈՒՄՆԵՐ ԿԱՏԱՐԵԼՈՒ ՎԵՐԱԲԵՐՅԱԼ
H7: հազ. դրամ
A8: Գործառական դասիչը | D8: Ծրագրային դասիչը | F8: Բյուջետային ծախսերի գործառական դասակարգման բաժինների, խմբերի և դասերի, բյուջետային հատկացումների գլխավոր կարգադրիչների, ծրագրերի, միջոցառումների և միջոցառումները կատարող պետական մարմինների անվանումները | G8: Ցուցանիշների փոփոխությունը (ավելացումները նշված են դրական նշանով, իսկ նվազեցումները` փակագծերում)
A9: Բաժին | B9: Խումբ | C9: Դաս | D9: Ծրագիր | E9: Միջոցառում | G9: Ինն ամիս | H9: Տարի
F10: ԸՆԴԱՄԵՆԸ | G10: =+G12+G32 -> 0 | H10: =+H12+H32 -> 0
F11: այդ թվում
F12: ՀՀ տարածքային կառավարման և ենթակառուցվածքների նախարարություն | G12: =+G13 -> 3437 | H12: =+H13 -> 4000
A13: 10 | F13: ՍՈՑԻԱԼԱԿԱՆ ՊԱՇՏՊԱՆՈՒԹՅՈՒՆ | G13: =+G15 -> 3437 | H13: =+H15 -> 4000
F14: այդ թվում`
B15: 09 | F15: Սոցիալական պաշտպանություն (այլ դասերին չպատկանող) | G15: =+G17 -> 3437 | H15: =+H17 -> 4000
F16: այդ թվում`
C17: 01 | F17: Սոցիալական պաշտպանություն (այլ դասերին չպատկանող) | G17: =+G19 -> 3437 | H17: =+H19 -> 4000
F18: այդ թվում`
F19: ՀՀ տարածքային կառավարման և ենթակառուցվածքների նախարարություն | G19: =+G21 -> 3437 | H19: =+H21 -> 4000
F20: այդ թվում`
D21: 1106 | F21: Միգրացիոն բնագավառում պետական քաղաքականության մշակում և իրականացում | G21: =+G23 -> 3437 | H21: =+H23 -> 4000
F22: այդ թվում`
E23: 31001 | F23: Միգրացիոն ծառայության կարողությունների զարգացում և տեխնիկական հագեցվածության ապահովում | G23: 3437 | H23: 4000
F24: այդ թվում` ըստ կատարողների
F25: ՀՀ տարածքային կառավարման և ենթակառուցվածքների նախարարության միգրացիոն ծառայություն | G25: 3437 | H25: 4000
F26: այդ թվում` բյուջետային ծախսերի տնտեսագիտական դասակարգման հոդվածներ
F27: ԸՆԴԱՄԵՆԸ ԾԱԽՍԵՐ | G27: 3437 | H27: 4000
F28: ՈՉ ՖԻՆԱՆՍԱԿԱՆ ԱԿՏԻՎՆԵՐԻ ԳԾՈՎ ԾԱԽՍԵՐ | G28: 3437 | H28: 4000
F29: ՀԻՄՆԱԿԱՆ ՄԻՋՈՑՆԵՐ | G29: 3437 | H29: 4000
F30: ՄԵՔԵՆԱՆԵՐ ԵՎ ՍԱՐՔԱՎՈՐՈՒՄՆԵՐ | G30: 3437 | H30: 4000
F31: - Վարչական սարքավորումներ | G31: 3437 | H31: 4000
A32: 11 | F32: ՀԻՄՆԱԿԱՆ ԲԱԺԻՆՆԵՐԻՆ ՉԴԱՍՎՈՂ ՊԱՀՈՒՍՏԱՅԻՆ ՖՈՆԴԵՐ | G32: =+G34 -> -3437 | H32: =+H34 -> -4000
F33: այդ թվում`
B34: 01 | F34: ՀՀ կառավարության պահուստային ֆոնդ | G34: =+G36 -> -3437 | H34: =+H36 -> -4000
F35: այդ թվում`
C36: 01 | F36: ՀՀ կառավարության պահուստային ֆոնդ | G36: =+G38 -> -3437 | H36: =+H38 -> -4000
F37: այդ թվում`
D38: 1139 | F38: ՀՀ կառավարության պահուստային ֆոնդ | G38: =+G40 -> -3437 | H38: =+H40 -> -4000
F39: այդ թվում`
F40: ՀՀ կառավարության պահուստային ֆոնդ | G40: =+G42 -> -3437 | H40: =+H42 -> -4000
F41: այդ թվում`
E42: 11001 | F42: ՀՀ կառավարության պահուստային ֆոնդ | G42: -3437 | H42: -4000
...

Sheet Հ 7
E1: Հավելված N 7
E2: ՀՀ կառավարության 2022 թվականի
E3: ------------ N ---------- որոշման
B6: ՀԱՅԱՍՏԱՆԻ ՀԱՆՐԱՊԵՏՈՒԹՅԱՆ ԿԱՌԱՎԱՐՈՒԹՅԱՆ 2021 ԹՎԱԿԱՆԻ ԴԵԿՏԵՄԲԵՐԻ 23-Ի N 2121-Ն ՈՐՈՇՄԱՆ N 9 ՀԱՎԵԼՎԱԾԻ N 9.7 ԱՂՅՈՒՍԱԿՈՒՄ ԿԱՏԱՐՎՈՂ ՓՈՓՈԽՈՒԹՅՈՒՆՆԵՐԸ ԵՎ ԼՐԱՑՈՒՄՆԵՐԸ
D7: Աղյուսակ 9.7
B8: ՀՀ տարածքային կառավարման և ենթակառուցվածքների նախարարություն
B9: ՄԱՍ 2. ՊԵՏԱԿԱՆ ՄԱՐՄՆԻ ԳԾՈՎ ԱՐԴՅՈՒՆՔԱՅԻՆ (ԿԱՏԱՐՈՂԱԿԱՆ) ՑՈՒՑԱՆԻՇՆԵՐԸ
B11: Ծրագրի դասիչը | C11: Ծրագրի անվանումը
B12: 1070 | C12: Աջակցություն փախստականների ինտեգրմանը
B14: Ծրագրի միջոցառումները
B16: Ծրագրի դասիչը` | C16: 1070 | D16: Ցուցանիշների փոփոխությունը (ավելացումները նշված են դրական նշանով, իսկ նվազեցումները` փակագծերում)
B17: Միջոցառման դասիչը` | C17: 11002 | D17: Ինն ամիս | E17: Տարի
B18: Միջոցառման անվանումը` | C18: Ժամանակավոր կացարաններում բնակվող փախստականների կենցաղային խնդիրների լուծման միջոցառումների իրականացում
B19: Նկարագրությունը` | C19: Կացարաններում սանիտարահիգիենիկ պայմանների, ընդհանուր օգտագործման էլեկտրաէներգիայի, ջրմուղ-կոյուղու ծախսերի փոխհատուցում, ինչպես նաև այդ կացարանների պահպանման աշխատանքների կազմակերպում
B20: Միջոցառման տեսակը` | C20: Ծառայությունների մատուցում
B21: Միջոցառումն իրականացնողի անվանումը | C21: Մասնագիտացված կազմակերպություն
B22: Արդյունքի չափորոշիչներ
B23: Միջոցառման վրա կատարվող ծախսը (հազար դրամ) | D23: 2638 | E23: =+D23 -> 2638
B25: Ծրագրի դասիչը` | C25: 1070 | D25: Ցուցանիշների փոփոխությունը (ավելացումները նշված են դրական նշանով, իսկ նվազեցումները` փակագծերում)
B26: Միջոցառման դասիչը` | C26: 11003 | D26: Ինն ամիս | E26: Տարի
B27: Միջոցառման անվանումը` | C27: ՀՀ-ում փախստական ճանաչված և ապաստան ստացած անձանց համար քաղաքացիական կողմնորոշման դասընթացների կազմակերպում
B28: Նկարագրությունը` | C28: ՀՀ-ում փախստական ճանաչված և ապաստան ստացած անձանց հասարակության մեջ ինտեգրման նպատակով քաղաքացիական կողմնորոշման դասընթացների կազմակերպում
B29: Միջոցառման տեսակը` | C29: Ծառայությունների մատուցում
B30: Միջոցառումն իրականացնողի անվանումը` | C30: «Գնումների մասին» ՀՀ օրենքի համաձայն ընտրված կազմակերպություն
B31: Արդյունքի չափորոշիչներ
B32: Շահառուների թիվ, մարդ | D32: -150 | E32: -150
B33: Դասընթացների քանակ, հատ | D33: -15 | E33: -15
B34: Վերապատրաստման դասընթացներում ընդգրկված թեմաների քանակ, հատ | D34: -5 | E34: -5
B35: Մեկ խմբի վերապատրաստման դասընթացի տևողություն, ժամ | D35: -20 | E35: -20
B36: Միջոցառման վրա կատարվող ծախսը (հազար դրամ) | D36: =Հ1!D20 -> -1687 | E36: =Հ1!E20 -> -2250
B38: Ծրագրի դասիչը` | C38: 1070 | D38: Ցուցանիշների փոփոխությունը (ավելացումները նշված են դրական նշանով, իսկ նվազեցումները` փակագծերում)
B39: Միջոցառման դասիչը` | C39: 12002 | D39: Ինն ամիս | E39: Տարի
B40: Միջոցառման անվանումը` | C40: ՀՀ-ում փախստական ճանաչված և ապաստան ստացած անձանց վարձակալությամբ բնակարանների ձեռքբերման ծախսերի փոխհատուցման տրամադրում
B41: Նկարագրությունը` | C41: ՀՀ-ում փախստական ճանաչված և ապաստան ստացած անձանց մինչև 9 ամիս տևողությամբ բնակարաններ վարձակալելու նպատակով փոխհատուցման տրամադրում
B42: Միջոցառման տեսակը` | C42: Տրանսֆերտների տրամադրում
B43: Շահառուների ընտրության չափանիշները | C43: Ժամանակավոր կացարանով ապահովման խնդիր ունեցող ՀՀ-ում փախստական ճանաչված անձինք
B44: Արդյունքի չափորոշիչներ
B45: Բնակարաններ վարձակալելու նպատակով փոխհատուցում ստացող ընտանիքների թիվ, ընտանիք | D45: -10 | E45: -10
B46: Միջոցառման վրա կատարվող ծախսը (հազար դրամ) | D46: =Հ1!D26 -> -4000 | E46: =D46 -> -4000
B48: Ծրագրի դասիչը` | C48: 1070 | D48: Ցուցանիշների փոփոխությունը (ավելացումները նշված են դրական նշանով, իսկ նվազեցումները` փակագծերում)
...

Sheet Հ8
E1: Հավելված N 8
E2: ՀՀ կառավարության 2022 թվականի
E3: ______________ ի ___Ն որոշման
B6: ՀԱՅԱՍՏԱՆԻ ՀԱՆՐԱՊԵՏՈՒԹՅԱՆ ԿԱՌԱՎԱՐՈՒԹՅԱՆ 2021 ԹՎԱԿԱՆԻ ԴԵԿՏԵՄԲԵՐԻ 23-Ի N 2121-Ն ՈՐՈՇՄԱՆ N 9.1 ՀԱՎԵԼՎԱԾԻ N 9.1.35 ԱՂՅՈՒՍԱԿՆՈՒՄ ԿԱՏԱՐՎՈՂ ՓՈՓՈԽՈՒԹՅՈՒՆՆԵՐԸ ԵՎ ԼՐԱՑՈՒՄՆԵՐԸ
D8: Աղյուսակ 9.1.35
B9: ՀՀ տարածքային կառավարման և ենթակառուցվածքների նախարարության միգրացիոն ծառայություն
B10: ՄԱՍ 1. ՊԵՏԱԿԱՆ ՄԱՐՄՆԻ ԳԾՈՎ ԱՐԴՅՈՒՆՔԱՅԻՆ (ԿԱՏԱՐՈՂԱԿԱՆ) ՑՈՒՑԱՆԻՇՆԵՐԸ
B12: Ծրագրի դասիչը | C12: Ծրագրի անվանումը
B13: =+'Հ 7'!B12 -> 1070 | C13: =+'Հ 7'!C12 -> Աջակցություն փախստականների ինտեգրմանը
B15: Ծրագրի միջոցառումները
B16: Ծրագրի դասիչը` | C16: =+'Հ 7'!C16 -> 1070 | D16: Ցուցանիշների փոփոխությունը (ավելացումները նշված են դրական նշանով, իսկ նվազեցումները` փակագծերում)
B17: Միջոցառման դասիչը` | C17: 11002 | D17: Ինն ամիս | E17: Տարի
B18: Միջոցառման անվանումը` | C18: ='Հ 7'!C18 -> Ժամանակավոր կացարաններում բնակվող փախստականների կենցաղային խնդիրների լուծման միջոցառումների իրականացում
B19: Նկարագրությունը` | C19: ='Հ 7'!C19 -> Կացարաններում սանիտարահիգիենիկ պայմանների, ընդհանուր օգտագործման էլեկտրաէներգիայի, ջրմուղ-կոյուղու ծախսերի փոխհատուցում, ինչպես նաև այդ կացարանների պահպանման աշխատանքների կազմակերպում
B20: Միջոցառման տեսակը` | C20: =+'Հ 7'!C29 -> Ծառայությունների մատուցում
B21: ='Հ 7'!B21 -> Միջոցառումն իրականացնողի անվանումը | C21: ='Հ 7'!C21 -> Մասնագիտացված կազմակերպություն
B22: Արդյունքի չափորոշիչներ
B23: Միջոցառման վրա կատարվող ծախսը (հազար դրամ) | D23: 2638 | E23: =+D23 -> 2638
B24: Ծրագրի միջոցառումները
B25: Ծրագրի դասիչը` | C25: =+'Հ 7'!C25 -> 1070 | D25: Ցուցանիշների փոփոխությունը (ավելացումները նշված են դրական նշանով, իսկ նվազեցումները` փակագծերում)
B26: Միջոցառման դասիչը` | C26: 11003 | D26: Ինն ամիս | E26: Տարի
B27: ='Հ 7'!B27 -> Միջոցառման անվանումը` | C27: ='Հ 7'!C27 -> ՀՀ-ում փախստական ճանաչված և ապաստան ստացած անձանց համար քաղաքացիական կողմնորոշման դասընթացների կազմակերպում
B28: ='Հ 7'!B28 -> Նկարագրությունը` | C28: ='Հ 7'!C28 -> ՀՀ-ում փախստական ճանաչված և ապաստան ստացած անձանց հասարակության մեջ ինտեգրման նպատակով քաղաքացիական կողմնորոշման դասընթացների կազմակերպում
B29: ='Հ 7'!B29 -> Միջոցառման տեսակը` | C29: ='Հ 7'!C29 -> Ծառայությունների մատուցում
B30: ='Հ 7'!B30 -> Միջոցառումն իրականացնողի անվանումը` | C30: ='Հ 7'!C30 -> «Գնումների մասին» ՀՀ օրենքի համաձայն ընտրված կազմակերպություն
B31: Արդյունքի չափորոշիչներ
B32: Շահառուների թիվ, մարդ | D32: -150 | E32: -150
B33: Դասընթացների քանակ, հատ | D33: -15 | E33: -15
B34: Վերապատրաստման դասընթացներում ընդգրկված թեմաների քանակ, հատ | D34: -5 | E34: -5
B35: Մեկ խմբի վերապատրաստման դասընթացի տևողություն, ժամ | D35: -20 | E35: -20
B36: Միջոցառման վրա կատարվող ծախսը (հազար դրամ) | D36: ='Հ 7'!D36 -> -1687 | E36: ='Հ 7'!E36 -> -2250
B37: Ծրագրի միջոցառումները
B38: Ծրագրի դասիչը` | C38: =+'Հ 7'!C38 -> 1070 | D38: Ցուցանիշների փոփոխությունը (ավելացումները նշված են դրական նշանով, իսկ նվազեցումները` փակագծերում)
B39: Միջոցառման դասիչը` | C39: 12002 | D39: Ինն ամիս | E39: Տարի
B40: ='Հ 7'!B40 -> Միջոցառման անվանումը` | C40: ='Հ 7'!C40 -> ՀՀ-ում փախստական ճանաչված և ապաստան ստացած անձանց վարձակալությամբ բնակարանների ձեռքբերման ծախսերի փոխհատուցման տրամադրում
B41: ='Հ 7'!B41 -> Նկարագրությունը` | C41: ='Հ 7'!C41 -> ՀՀ-ում փախստական ճանաչված և ապաստան ստացած անձանց մինչև 9 ամիս տևողությամբ բնակարաններ վարձակալելու նպատակով փոխհատուցման տրամադրում
B42: ='Հ 7'!B42 -> Միջոցառման տեսակը` | C42: ='Հ 7'!C42 -> Տրանսֆերտների տրամադրում
B43: Շահառուների ընտրության չափանիշներ | C43: ='Հ 7'!C43 -> Ժամանակավոր կացարանով ապահովման խնդիր ունեցող ՀՀ-ում փախստական ճանաչված անձինք
B44: Արդյունքի չափորոշիչներ
A45: Բնակարաններ վարձակալելու նպատակով փոխհատուցում ստացող ընտանիքների թիվ, ընտանիք | B45: Բնակարաններ վարձակալելու նպատակով փոխհատուցում ստացող ընտանիքների թիվ, ընտանիք | D45: ='Հ 7'!D45 -> -10 | E45: ='Հ 7'!E45 -> -10
...

Sheet Հ 9
G1: Հավելված N 9 ՀՀ կառավարության 2022 թվականի ___________ ___-ի N _______ -Ն որոշման
A2: ՀԱՅԱՍՏԱՆԻ ՀԱՆՐԱՊԵՏՈՒԹՅԱՆ ԿԱՌԱՎԱՐՈՒԹՅԱՆ 2021 ԹՎԱԿԱՆԻ ԴԵԿՏԵՄԲԵՐԻ 23-Ի N 2121-Ն ՈՐՈՇՄԱՆ N 10 ՀԱՎԵԼՎԱԾՈՒՄ ԿԱՏԱՐՎՈՂ ՓՈՓՈԽՈՒԹՅՈՒՆՆԵՐԸ ԵՎ ԼՐԱՑՈՒՄՆԵՐԸ
A3: Կոդը | B3: Անվանումը | C3: Գնման ձևը | D3: Չափման միավորը | E3: Միավորի գինը | F3: Քանակը | G3: Ցուցանիշների փոփոխությունը (ավելացումները նշված են դրական նշանով, իսկ նվազեցումները` փակագծերում)
G4: Գումարը (հազար դրամ)
A6: 1 | B6: 2 | C6: 3 | D6: 4 | F6: 6 | G6: 7
A7: ՀՀ տարածքային կառավարման և ենթակառուցվածքների նախարարության միգրացիոն ծառայություն | G7: =G8+G13 -> 4550
A8: Բաժին N 10, խումբ N 09, դաս N 02, Սոցիալական պաշտպանությանը տրամադրվող օժանդակ ծառայություններ (այլ դասերին չպատկանող) | G8: =+G9 -> -2250
A9: 1070 Աջակցություն փախստականների ինտեգրմանը | G9: =G10 -> -2250
A10: 11003 ՀՀ-ում փախստական ճանաչված և ապաստան ստացած անձանց համար քաղաքացիական կողմնորոշման դասընթացների կազմակերպում | G10: =G11 -> -2250
A11: ՄԱՍ III. ԾԱՌԱՅՈՒԹՅՈՒՆՆԵՐ | G11: =G12 -> -2250
A12: 80571100-1 | B12: անձնական զարգացման ուսուցողական ծառայություններ | C12: ԷԱՃ | D12: դրամ | E12: 2250000 | F12: -1 | G12: =E12*F12/1000 -> -2250
A13: Բաժին N 10, խումբ N 09, դաս N 01,Սոցիալական պաշտպանություն (այլ դասերին չպատկանող) | G13: =+G14 -> 6800
A14: 1106 Միգրացիոն բնագավառում պետական քաղաքականության մշակում և իրականացում | G14: =G15+G18 -> 6800
A15: 11001Միգրացիոն բնագավառում պետական քաղաքականության մշակում և իրականացում | G15: =G17 -> 2800
A16: ՄԱՍ I. Ա Պ Ր Ա Ն Ք Ն Ե Ր | G16: =G17 -> 2800
A17: 30237310 | B17: տառատեսակներով քարթրիջներ տպիչների համար | C17: ԷԱՃ | D17: հատ | E17: 70000 | F17: 40 | G17: =+E17*F17/1000 -> 2800
A18: 31001 Միգրացիոն ծառայության կարողությունների զարգացում և տեխնիկական հագեցվածության ապահովում | G18: =G20 -> 4000
A19: ՄԱՍ I. Ա Պ Ր Ա Ն Ք Ն Ե Ր | G19: =G20 -> 4000
A20: 42981200 | B20: դիզել գեներատոր | C20: ԷԱՃ | D20: հատ | E20: 4000000 | F20: 1 | G20: =+E20*F20/1000 -> 4000
