Workbook
Name _tab10: #REF!
Name _tab10: #REF!
Name _tab10: #REF!
Name _tab10: #REF!
Name _tab10: #REF!
Name _tab10: #REF!
Name _tab10: #REF!
Name _tab11: #REF!
Name _tab11: #REF!
Name _tab11: #REF!
Name _tab11: #REF!
Name _tab11: #REF!
Name _tab11: #REF!
Name _tab11: #REF!
Name _tab12: #REF!
Name _tab12: #REF!
Name _tab12: #REF!
Name _tab12: #REF!
Name _tab12: #REF!
Name _tab12: #REF!
Name _tab12: #REF!
Name _tab13: #REF!
Name _tab13: #REF!
Name _tab13: #REF!
Name _tab13: #REF!
Name _tab13: #REF!
Name _tab13: #REF!
Name _tab13: #REF!
Name _tab14: #REF!
Name _tab14: #REF!
Name _tab14: #REF!
Name _tab14: #REF!
Name _tab14: #REF!
Name _tab14: #REF!
Name _tab14: #REF!
Name _tab15: #REF!
Name _tab15: #REF!
Name _tab15: #REF!
Name _tab15: #REF!
Name _tab15: #REF!
Name _tab15: #REF!
Name _tab15: #REF!
Name _tab16: #REF!
Name _tab16: #REF!
Name _tab16: #REF!
Name _tab16: #REF!
Name _tab16: #REF!
Name _tab16: #REF!
Name _tab16: #REF!
Name _tab17: #REF!
Name _tab17: #REF!
Name _tab17: #REF!
Name _tab17: #REF!
Name _tab17: #REF!
Name _tab17: #REF!
Name _tab17: #REF!
Name _tab18: #REF!
Name _tab18: #REF!
Name _tab18: #REF!
Name _tab18: #REF!

Sheet 1
E1: Հավելված N 1
E2: ՀՀ կառավարության 2022 թվականի
E3: ___________ ___-ի N _______ -Ն որոշման
A7: «ՀԱՅԱՍՏԱՆԻ ՀԱՆՐԱՊԵՏՈՒԹՅԱՆ 2022 ԹՎԱԿԱՆԻ ՊԵՏԱԿԱՆ ԲՅՈՒՋԵԻ ՄԱՍԻՆ» ՀԱՅԱՍՏԱՆԻ ՀԱՆՐԱՊԵՏՈՒԹՅԱՆ ՕՐԵՆՔԻ N 1 ՀԱՎԵԼՎԱԾԻ N 2 ԱՂՅՈՒՍԱԿՈՒՄ ԿԱՏԱՐՎՈՂ ՎԵՐԱԲԱՇԽՈՒՄԸ ԵՎ ՀԱՅԱՍՏԱՆԻ ՀԱՆՐԱՊԵՏՈՒԹՅԱՆ ԿԱՌԱՎԱՐՈՒԹՅԱՆ 2021 ԹՎԱԿԱՆԻ ԴԵԿՏԵՄԲԵՐԻ 23-Ի N 2121-Ն ՈՐՈՇՄԱՆ N 5 ՀԱՎԵԼՎԱԾԻ N 1 ԱՂՅՈՒՍԱԿՈՒՄ ԿԱՏԱՐՎՈՂ ՓՈՓՈԽՈՒԹՅՈՒՆՆԵՐԸ
E8: (հազ.դրամ)
A9: Ծրագրային դասիչը | C9: Բյուջետային հատկացումների գլխավոր կարգադրիչների, ծրագրերի և միջոցառումների անվանումները | D9: Ցուցանիշների փոփոխությունը (ավելացումները նշված են դրական նշանով, իսկ նվազեցումները՝ փակագծերում)
D10: Ինն ամիս | E10: Տարի
A11: Ծրագիր | B11: Միջոցառում
C12: Ընդամենը | D12: =D27+D13 -> 0 | E12: =E27+E13 -> 0
C13: ՀՀ կառավարություն | D13: =+D15 -> -1256515.7 | E13: =+E15 -> -1803150.5
A14: 1139 | C14: Ծրագրի անվանումը`
C15: ՀՀ կառավարության պահուստային ֆոնդ | D15: =+D21 -> -1256515.7 | E15: =+E21 -> -1803150.5
C16: Ծրագրի նպատակը`
C17: Պետական բյուջեում չկանխատեսված, ինչպես նաեւ բյուջետային երաշխիքների ապահովման ծախսերի ֆինանսավորման ապահովում
C18: Վերջնական արդյունքի նկարագրությունը`
C19: Պահուստային ֆոնդի կառավարման արդյունավետության և թափանցիկության ապահովում
A20: Ծրագրի միջոցառումներ
B21: 11001 | C21: Միջոցառման անվանումը` | D21: =+'3'!G24 -> -1256515.7 | E21: =+'3'!H24 -> -1803150.5
C22: ՀՀ կառավարության պահուստային ֆոնդ
C23: Միջոցառման նկարագրությունը`
C24: ՀՀ պետական բյուջեում նախատեսված ելքերի լրացուցիչ ֆինանսավորման, պետական բյուջեում չկանխատեսված ելքերի, ինչպես նաև բյուջետային երաշխիքների ապահովման ելքերի ֆինանսավորման ապահովում
C25: Միջոցառման տեսակը
C26: Ծառայությունների մատուցում
C27: ՀՀ պաշտպանության նախարարություն | D27: =+D29 -> 1256515.7 | E27: =+E29 -> 1803150.5
C28: Ծրագրի անվանումը՝
A29: 1169 | C29: ՀՀ պաշտպանության ապահովում | D29: =D35 -> 1256515.7 | E29: =E35 -> 1803150.5
C30: Ծրագրի նպատակը՝
C31: ՀՀ ԶՈւ ռազմավարական ծավալումն ապահովող մարտական պատրաստականության պահպանում՝ արտաքին թշնամուց ՀՀ պետական սահմանների պաշտպանության ապահովում
C32: Վերջնական արդյունքի նկարագրությունը՝
C33: ՀՀ ԶՈւ ռազմավարական ծավալումն ապահովող մարտական պատրաստականության պահպանում
A34: Ծրագրի միջոցառումներ
B35: 31001 | C35: Միջոցառման անվանումը՝ | D35: =+'3'!G40 -> 1256515.7 | E35: =+'3'!H40 -> 1803150.5
C36: ՀՀ պաշտպանության նախարարության շենքային պայմանների բարելավում
C37: Միջոցառման նկարագրությունը՝
C38: Պաշտպանության կարիքների համար բնակելի, գրասենյակային և այլ նշանակության շենքերի և շինությունների կառուցում
C39: Միջոցառման տեսակը
C40: Պետական մարմինների կողմից օգտագործվող ոչ ֆինանսական ակտիվների հետ գործառնություններ

Sheet 2
H1: Հավելված N 2
H2: ՀՀ կառավարության 2022 թվականի
H3: ___________ ___-ի N _______ -Ն որոշման
A5: «ՀԱՅԱՍՏԱՆԻ ՀԱՆՐԱՊԵՏՈՒԹՅԱՆ 2022 ԹՎԱԿԱՆԻ ՊԵՏԱԿԱՆ ԲՅՈՒՋԵԻ ՄԱՍԻՆ» ՀԱՅԱՍՏԱՆԻ ՀԱՆՐԱՊԵՏՈՒԹՅԱՆ ՕՐԵՆՔԻ N 1 ՀԱՎԵԼՎԱԾԻ N 3 ԱՂՅՈՒՍԱԿՈՒՄ ԿԱՏԱՐՎՈՂ ՓՈՓՈԽՈՒԹՅՈՒՆՆԵՐԸ
G6: (հազ.դրամ)
A7: Ծրագրային դասիչ | C7: Բյուջետային գլխավոր կարգադրիչների, ծրագրերի, միջոցառումների և ուղղությունների անվանումները | D7: Ցուցանիշների փոփոխությունը (ավելացումները նշված են դրական նշանով)
D8: Ընդամենը, | E8: այդ թվում՝
A9: Ծրագիր | B9: Միջոցառում | E9: Կառուցման աշխատանքներ | F9: Վերակառուցման, վերանորոգման և վերականգնման աշխատանքներ | G9: Նախագծահե- տազոտական, գեոդեզիա- քարտեզագրա- կան աշխա- տանքներ | H9: Ոչ ֆինանսական այլ ակտիվների ձեռքբերում
C10: ԸՆԴԱՄԵՆԸ | D10: =+D12 -> 1803150.5 | E10: =+E12 -> 1803150.5 | H10: =+H12 -> 0
C11: այդ թվում՝
C12: ՀՀ ՊԱՇՏՊԱՆՈՒԹՅԱՆ ՆԱԽԱՐԱՐՈՒԹՅՈՒՆ | D12: =+D14 -> 1803150.5 | E12: =+E14 -> 1803150.5 | H12: =+H14 -> 0
C13: այդ թվում`
A14: 1169 | B14: 31001 | C14: ՀՀ պաշտպանության նախարարության շենքային պայմաններ բարելավում | D14: =SUM(E14:H14) -> 1803150.5 | E14: =+'3'!H40 -> 1803150.5

Sheet 3
H1: Հավելված N 3
F2: ՀՀ կառավարության 2022 թվականի
F3: ___________ ___-ի N _______ -Ն որոշման
A7: ՀԱՅԱՍՏԱՆԻ ՀԱՆՐԱՊԵՏՈՒԹՅԱՆ ԿԱՌԱՎԱՐՈՒԹՅԱՆ 2021 ԹՎԱԿԱՆԻ ԴԵԿՏԵՄԲԵՐԻ 23-Ի N 2121-Ն ՈՐՈՇՄԱՆ N 3 և 4 ՀԱՎԵԼՎԱԾՆԵՐՈՒՄ ԿԱՏԱՐՎՈՂ ՓՈՓՈԽՈՒԹՅՈՒՆՆԵՐԸ
H8: (հազ.դրամ)
A10: Գործառական դասիչը | D10: Ծրագրային դասիչը | F10: Բյուջետային ծախսերի գործառական դասակարգման բաժինների, խմբերի և դասերի, բյուջետային ծրագրերի միջոցառումների, բյուջետային հատկացումների գլխավոր կարգադրիչների անվանումները | G10: Ցուցանիշների փոփոխությունը (ավելացումները նշված են դրական նշանով, իսկ նվազեցումները՝ փակագծերում)
G11: Ինն ամիս | H11: Տարի
A12: Բաժին | B12: Խումբ | C12: Դաս | D12: Ծրագիր | E12: Միջոցառում
F13: ԸՆԴԱՄԵՆԸ ԾԱԽՍԵՐ այդ թվում՝ | G13: =G32+G14 -> 0 | H13: =H32+H14 -> 0
A14: 11 | F14: ՀԻՄՆԱԿԱՆ ԲԱԺԻՆՆԵՐԻՆ ՉԴԱՍՎՈՂ ՊԱՀՈՒՍՏԱՅԻՆ ՖՈՆԴԵՐ | G14: =+G16 -> -1256515.7 | H14: =+H16 -> -1803150.5
F15: այդ թվում`
B16: 01 | F16: ՀՀ կառավարության պահուստային ֆոնդ | G16: =+G18 -> -1256515.7 | H16: =+H18 -> -1803150.5
F17: այդ թվում`
C18: 01 | F18: ՀՀ կառավարության պահուստային ֆոնդ | G18: =+G20 -> -1256515.7 | H18: =+H20 -> -1803150.5
F19: այդ թվում`
F20: ՀՀ կառավարություն | G20: =+G22 -> -1256515.7 | H20: =+H22 -> -1803150.5
F21: այդ թվում`
D22: 1139 | F22: ՀՀ կառավարության պահուստային ֆոնդ | G22: =+G24 -> -1256515.7 | H22: =+H24 -> -1803150.5
F23: այդ թվում`
E24: 11001 | F24: ՀՀ կառավարության պահուստային ֆոնդ | G24: =+G26 -> -1256515.7 | H24: =+H26 -> -1803150.5
F25: այդ թվում` ըստ կատարողների
F26: ՀՀ կառավարություն | G26: =+G28 -> -1256515.7 | H26: =+H28 -> -1803150.5
F27: այդ թվում` բյուջետային ծախսերի տնտեսագիտական դասակարգման հոդվածներ
F28: ԸՆԴԱՄԵՆԸ ԾԱԽՍԵՐ | G28: =+G29 -> -1256515.7 | H28: =+H29 -> -1803150.5
F29: ԸՆԹԱՑԻԿ ԾԱԽՍԵՐ | G29: =+G30 -> -1256515.7 | H29: =+H30 -> -1803150.5
F30: ԱՅԼ ԾԱԽՍԵՐ | G30: =+G31 -> -1256515.7 | H30: =+H31 -> -1803150.5
F31: - Պահուստային միջոցներ | G31: -1256515.7 | H31: -1803150.5
A32: 02 | F32: ՊԱՇՏՊԱՆՈՒԹՅՈՒՆ | G32: =+G34 -> 1256515.7 | H32: =+H34 -> 1803150.5
F33: այդ թվում`
B34: 01 | F34: Ռազմական պաշտպանություն | G34: =+G36 -> 1256515.7 | H34: =+H36 -> 1803150.5
F35: այդ թվում`
C36: 01 | F36: Ռազմական պաշտպանություն | G36: =+G38 -> 1256515.7 | H36: =+H38 -> 1803150.5
F37: այդ թվում`
F38: ՀՀ պաշտպանության նախարարություն | G38: =+G39 -> 1256515.7 | H38: =+H39 -> 1803150.5
D39: 1169 | F39: ՀՀ պաշտպանության ապահովում | G39: =G40 -> 1256515.7 | H39: =H40 -> 1803150.5
E40: 31001 | F40: ՀՀ պաշտպանության նախարարության շենքային պայմանների բարելավում | G40: =+G42 -> 1256515.7 | H40: =+H42 -> 1803150.5
F41: այդ թվում` ըստ կատարողների
F42: ՀՀ պաշտպանության նախարարություն | G42: =+G44 -> 1256515.7 | H42: =+H44 -> 1803150.5
F43: այդ թվում` բյուջետային ծախսերի տնտեսագիտական դասակարգման հոդվածներ
F44: ԸՆԴԱՄԵՆԸ ԾԱԽՍԵՐ | G44: =+G45 -> 1256515.7 | H44: =+H45 -> 1803150.5
...

Sheet 4
A1: Հավելված N 4
A2: ՀՀ կառավարության 2022 թվականի
A3: ______________ ի ___Ն որոշման
A5: ՀԱՅԱՍՏԱՆԻ ՀԱՆՐԱՊԵՏՈՒԹՅԱՆ ԿԱՌԱՎԱՐՈՒԹՅԱՆ 2021 ԹՎԱԿԱՆԻ ԴԵԿՏԵՄԲԵՐԻ 23-Ի N 2121-Ն ՈՐՈՇՄԱՆ N 5 ՀԱՎԵԼՎԱԾԻ N 2 ԱՂՅՈՒՍԱԿՈՒՄ ԿԱՏԱՐՎՈՂ ՓՈՓՈԽՈՒԹՅՈՒՆՆԵՐԸ
E6: (հազ.դրամ)
A7: Ծրագրային դասիչ | C7: Բյուջետային գլխավոր կարգադրիչների, ծրագրերի, միջոցառումների և ուղղությունների անվանումները | D7: Ցուցանիշների փոփոխությունը (ավելացումները նշված են դրական նշանով)
A8: Ծրագիր | B8: Միջոցառում | D8: Ինն ամիս | E8: Տարի
C10: ԸՆԴԱՄԵՆԸ | D10: =+D12 -> 1256515.7 | E10: =+E12 -> 1803150.5
C11: այդ թվում՝
C12: ՀՀ ՊԱՇՏՊԱՆՈՒԹՅԱՆ ՆԱԽԱՐԱՐՈՒԹՅՈՒՆ | D12: =+D14 -> 1256515.7 | E12: =+E14 -> 1803150.5
C13: այդ թվում`
A14: 1169 | B14: 31001 | C14: ՀՀ պաշտպանության նախարարության շենքային պայմանների բարելավում | D14: =D16 -> 1256515.7 | E14: =E16 -> 1803150.5
C15: այդ թվում` ըստ կատարողների
C16: ՀՀ պաշտպանության նախարարություն | D16: =+'3'!G40 -> 1256515.7 | E16: =+'3'!H40 -> 1803150.5

Sheet 5
D1: Հավելված N 5
B2: ՀՀ կառավարության 2022 թվականի
B3: ______________ ի ___Ն որոշման
A6: ՀԱՅԱՍՏԱՆԻ ՀԱՆՐԱՊԵՏՈՒԹՅԱՆ ԿԱՌԱՎԱՐՈՒԹՅԱՆ 2021 ԹՎԱԿԱՆԻ ԴԵԿՏԵՄԲԵՐԻ 23-Ի N 2121-Ն ՈՐՈՇՄԱՆ N 9 ՀԱՎԵԼՎԱԾԻ N 9.15 ԵՎ N 9.1 ՀԱՎԵԼՎԱԾԻ N 9.1.15 ԱՂՅՈՒՍԱԿՆԵՐՈՒՄ ԿԱՏԱՐՎՈՂ ՓՈՓՈԽՈՒԹՅՈՒՆՆԵՐԸ
A7: ՀՀ պաշտպանության նախարարություն
A9: Ծրագրի դասիչը | B9: Ծրագրի անվանումը
A10: 1169 | B10: ՀՀ պաշտպանության ապահովում
A12: Ծրագրի միջոցառումները
A14: Ծրագրի դասիչը` | B14: 1169 | C14: Ցուցանիշների փոփոխությունը (ավելացումները նշված են դրական նշանով)
A15: Միջոցառման դասիչը` | B15: 31001 | C15: Ինն ամիս | D15: Տարի
A16: Միջոցառման անվանումը` | B16: ՀՀ պաշտպանության նախարարության շենքային պայմանների բարելավում
A17: Նկարագրությունը` | B17: Պաշտպանության կարիքների համար բնակելի, գրասենյակային և այլ նշանակության շենքերի և շինությունների կառուցում
A18: Միջոցառման տեսակը` | B18: Պետական մարմինների կողմից օգտագործվող ոչ ֆինանսական ակտիվների հետ գործառնություններ
A19: Միջոցառումն իրականացնողի անվանումը | B19: ՀՀ պաշտպանության նախարարություն
A20: Արդյունքի չափորոշիչներ
A22: Միջոցառման վրա կատարվող ծախսը (հազար դրամ) | C22: =+'3'!G40 -> 1256515.7 | D22: =+'3'!H40 -> 1803150.5

Sheet 6
D1: Հավելված N 6
B2: ՀՀ կառավարության 2022 թվականի
B3: ______________ ի ___Ն որոշման
A6: ՀԱՅԱՍՏԱՆԻ ՀԱՆՐԱՊԵՏՈՒԹՅԱՆ ԿԱՌԱՎԱՐՈՒԹՅԱՆ 2021 ԹՎԱԿԱՆԻ ԴԵԿՏԵՄԲԵՐԻ 23-Ի N 2121-Ն ՈՐՈՇՄԱՆ N 9 ՀԱՎԵԼՎԱԾԻ N 9.47 ԵՎ N 9.1 ՀԱՎԵԼՎԱԾԻ N 9.1.58 ԱՂՅՈՒՍԱԿՆԵՐՈՒՄ ԿԱՏԱՐՎՈՂ ՓՈՓՈԽՈՒԹՅՈՒՆՆԵՐԸ
A7: ՀՀ կառավարություն
A9: Ծրագրի դասիչը | B9: Ծրագրի անվանումը
A10: 1139 | B10: ՀՀ կառավարության պահուստային ֆոնդ
A12: Ծրագրի միջոցառումները
A15: Ծրագրի դասիչը` | B15: 1139 | C15: Ցուցանիշների փոփոխությունը (նվազեցումները նշված են փակագծերում)
A16: Միջոցառման դասիչը` | B16: 11001 | C16: Ինն ամիս | D16: Տարի
A17: Միջոցառման անվանումը` | B17: ՀՀ կառավարության պահուստային ֆոնդ
A18: Նկարագրությունը` | B18: ՀՀ պետական բյուջեում նախատեսված ելքերի լրացուցիչ ֆինանսավորման, պետական բյուջեում չկանխատեսված ելքերի, ինչպես նաև բյուջետային երաշխիքների ապահովման ելքերի ֆինանսավորման ապահովում
A19: Միջոցառման տեսակը` | B19: Ծառայությունների մատուցում
A20: Միջոցառումն իրականացնողի անվանումը | B20: ՀՀ կառավարություն
A21: Արդյունքի չափորոշիչներ
A22: Միջոցառման վրա կատարվող ծախսը (հազար դրամ) | C22: =+'3'!G24 -> -1256515.7 | D22: =+'3'!H24 -> -1803150.5

Sheet Sheet1
A1: 4239 | B1: 20939.6
A2: 4252 | B2: 4001.2
A3: 4261 | B3: 24221.5
A4: 4264 | B4: 658398.2
A5: 4267 | B5: 51113.2
A6: 4269 | B6: 58135.2
A7: 5121 | B7: 34800
A8: 5122 | B8: 30780.6
A9: 5129 | B9: 165718.2
A10: 5132 | B10: 33.2
