Workbook
Name AgencyCode: #REF!
Name AgencyCode: #REF!
Name AgencyCode: #REF!
Name AgencyCode: #REF!
Name AgencyCode: #REF!
Name AgencyName: #REF!
Name AgencyName: #REF!
Name AgencyName: #REF!
Name AgencyName: #REF!
Name AgencyName: #REF!
Name alisa: #REF!
Name alisa: #REF!
Name Functional1: #REF!
Name Functional1: #REF!
Name Functional1: #REF!
Name Functional1: #REF!
Name Functional1: #REF!
Name havelvac: #REF!
Name havelvac: #REF!
Name havelvac: #REF!
Name havelvac: #REF!
Name havelvac50: #REF!
Name havelvac7: #REF!
Name havelvac7: #REF!
Name PANature: #REF!
Name PANature: #REF!
Name PANature: #REF!
Name PANature: #REF!
Name PANature: #REF!
Name PAType: #REF!
Name PAType: #REF!
Name PAType: #REF!
Name PAType: #REF!
Name PAType: #REF!
Name Performance2: #REF!
Name Performance2: #REF!
Name Performance2: #REF!
Name Performance2: #REF!
Name Performance2: #REF!
Name PerformanceType: #REF!
Name PerformanceType: #REF!
Name PerformanceType: #REF!
Name PerformanceType: #REF!
Name PerformanceType: #REF!
Name sheet1: #REF!
Name sheet1: #REF!
Name sheet4: #REF!
Name sheet4: #REF!
Name sheet7: #REF!
Name sheet7: #REF!
Name գնումներ: #REF!
Name գնումներ: #REF!
Name հավ5: #REF!
Name հավ5: #REF!

Sheet 1
C1: Հավելված N 1
C2: ՀՀ կառավարության 2022 թվականի
C3: ___________ ___-ի N _______ -Ն որոշման
A5: «ՀԱՅԱUՏԱՆԻ ՀԱՆՐԱՊԵՏՈՒԹՅԱՆ 2022 ԹՎԱԿԱՆԻ ՊԵՏԱԿԱՆ ԲՅՈՒՋԵԻ ՄԱUԻՆ» ՀԱՅԱUՏԱՆԻ ՀԱՆՐԱՊԵՏՈՒԹՅԱՆ OՐԵՆՔԻ N 1 ՀԱՎԵԼՎԱԾԻ N 2 ԱՂՅՈՒՍԱԿՈՒՄ ԿԱՏԱՐՎՈՂ ՎԵՐԱԲԱՇԽՈՒՄԸ ԵՎ ՀԱՅԱՍՏԱՆԻ ՀԱՆՐԱՊԵՏՈՒԹՅԱՆ ԿԱՌԱՎԱՐՈՒԹՅԱՆ 2021ԹՎԱԿԱՆԻ ԴԵԿՏԵՄԲԵՐԻ 23-Ի N2121-Ն ՈՐՈՇՄԱՆ N5 ՀԱՎԵԼՎԱԾԻ N1 ԱՂՅՈՒՍԱԿՈՒՄ ԿԱՏԱՐՎՈՂ ՓՈՓՈԽՈՒԹՅՈՒՆՆԵՐԸ ԵՎ ԼՐԱՑՈՒՄՆԵՐԸ
E6: հազ. դրամ
A7: Ծրագրային դասիչը | C7: Բյուջետային հատկացումների գլխավոր կարգադրիչների, ծրագրերի և միջոցառումների անվանումները | D7: Ցուցանիշների փոփոխությունները (ավելացումները նշված են դրական նշանով, իսկ նվազեցումները՝ փակագծերում)
A8: Ծրագիր | B8: Միջոցառում | D8: Ինն ամիս | E8: Տարի
C9: ԸՆԴԱՄԵՆԸ | D9: =+D10+D42 -> 0 | E9: =+E10+E42 -> 0
B10: ՀՀ արտակարգ իրավիճակների նախարարություն | D10: =+D11+D30 -> 698593.2 | E10: =+E11+E30 -> 1200000
A11: 1090 | C11: Ծրագրի անվանումը` | D11: =+D18+D24 -> 672826.2 | E11: =+E18+E24 -> 1174233
C12: Փրկարարական ծառայություններ
C13: Ծրագրի նպատակը`
C14: Արտակարգ իրավիճակների արդյունավետ արձագանք
C15: Վերջնական արդյունքի նկարագրությունը`
C16: Արտակարգ իրավիճակների հնարավոր դեպքերի կանխում՝ դրանց ժամանակին արձագանքում՝ հետևանքների նվազեցում և բնակչության պաշտպանություն
C17: Ծրագրի միջոցառումներ
B18: 31001 | C18: Միջոցառման անվանումը՝ | D18: =+'2'!G20 -> 472826.2 | E18: =+'2'!H20 -> 871327.3
C19: Փրկարար ծառայության տեխնիկական հագեցվածության բարելավում
C20: Միջոցառման նկարագրությունը՝
C21: Տրանսպորտային միջոցների և սարքավորումների ձեռքբերում
C22: Միջոցառման տեսակը՝
C23: Պետական մարմինների կողմից օգտագործվող ոչ ֆինանասական ակտիվների հետ գործառնություններ
B24: 31007 | C24: Միջոցառման անվանումը՝ | D24: =+'2'!G29 -> 200000 | E24: =+'2'!H29 -> 302905.7
C25: ԱԻՆ Փրկարար ծառայության շենքային ապահովվածության և պայմանների բարելավում
C26: Միջոցառման նկարագրությունը՝
C27: Փրկարար ծառայության շենքերի, շինությունների կառուցում և կապիտալ վերանորոգում
C28: Միջոցառման տեսակը՝
C29: Պետական մարմինների կողմից օգտագործվող ոչ ֆինանասական ակտիվների հետ գործառնություններ
A30: 1112 | C30: Ծրագրի անվանումը` | D30: =+D37 -> 25767 | E30: =+E37 -> 25767
C31: Արտակարգ իրավիճակների բնագավառի պետական քաղաքականության մշակում, ծրագրերի համակարգում և մոնիտորինգ
C32: Ծրագրի նպատակը`
C33: Արտակարգ իրավիճակների բնագավառում պետական արդյունավետ քաղաքականության մշակման և իրականացման ապահովում
C34: Վերջնական արդյունքի նկարագրությունը`
C35: Արտակարգ իրավիճակների քաղաքականության իրագործմանն ուղղված ծրագրերի ազդեցության և արդյունավետության բարելավում
B36: 31002 | C36: Միջոցառման անվանումը՝
C37: ՀՀ արտակարգ իրավիճակների նախարարության շենքային պայմանների բարելավում | D37: =+'2'!G42 -> 25767 | E37: =+'2'!H42 -> 25767
C38: Միջոցառման նկարագրությունը՝
C39: ՀՀ արտակարգ իրավիճակների նախարարության շենքերի և շինությունների վերակառուցման, վերանորոգման և վերականգնման աշխատանք¬ների իրականացում և դրանց նախագծանախահաշվային փաստաթղթերի ձեռքբերում
C40: Միջոցառման տեսակը՝
C41: Պետական մարմինների կողմից օգտագործվող ոչ ֆինանասական ակտիվների հետ գործառույթներ
...

Sheet 2
F1: Հավելված N 2
D2: ՀՀ կառավարության 2022 թվականի
D3: ___________ ___-ի N _______ -Ն որոշման
A5: ՀԱՅԱՍՏԱՆԻ ՀԱՆՐԱՊԵՏՈՒԹՅԱՆ ԿԱՌԱՎԱՐՈՒԹՅԱՆ 2021 ԹՎԱԿԱՆԻ ԴԵԿՏԵՄԲԵՐԻ 23-Ի N 2121-Ն ՈՐՈՇՄԱՆ N 3 ԵՎ N 4 ՀԱՎԵԼՎԱԾՆԵՐՈՒՄ ԿԱՏԱՐՎՈՂ ՓՈՓՈԽՈՒԹՅՈՒՆՆԵՐԸ ԵՎ ԼՐԱՑՈՒՄՆԵՐԸ
G6: հազար դրամներով
A7: Գործառական դասիչը | D7: Ծրագրային դասիչը | F7: Բյուջետային ծախսերի գործառական դասակարգման բաժինների, խմբերի և դասերի, բյուջետային հատկացումների գլխավոր կարգադրիչների, ծրագրերի, միջոցառումների և միջոցառումները կատարող պետական մարմինների անվանումները | G7: Ցուցանիշների փոփոխությունները (Ավելացումները նշված են դրական նշանով, իսկ նվազեցումները՝ փակագծերում)
A8: Բաժին | B8: Խումբ | C8: Դաս | D8: Ծրագիր | E8: Միջոցառում | G8: Ինն ամիս | H8: Տարի
F9: Ընդամենը | G9: =+G10+G53 -> 0 | H9: =+H10+H53 -> 0
A10: 03 | F10: ՀԱՍԱՐԱԿԱԿԱՆ ԿԱՐԳ, ԱՆՎՏԱՆԳՈՒԹՅՈՒՆ ԵՎ ԴԱՏԱԿԱՆ ԳՈՐԾՈՒՆԵՈՒԹՅՈՒՆ | G10: =+G12+G40 -> 698593.2 | H10: =+H12+H40 -> 1200000 | J10: =+G10-698593.2 -> 0
F11: այդ թվում`
B12: 02 | F12: Փրկարար ծառայություն | G12: =+G14 -> 672826.2 | H12: =+H14 -> 1174233
F13: այդ թվում`
C14: 01 | F14: Փրկարար ծառայություն | G14: =+G18 -> 672826.2 | H14: =+H18 -> 1174233
F15: այդ թվում`
F16: ՀՀ արտակարգ իրավիճակների նախարարություն | G16: =+G18 -> 672826.2 | H16: =+H18 -> 1174233
F17: այդ թվում`
D18: 1090 | F18: Փրկարարական ծառայություններ | G18: =+G20+G29 -> 672826.2 | H18: =+H20+H29 -> 1174233
F19: այդ թվում`
E20: 31001 | F20: Փրկարար ծառայության տեխնիկական հագեցվածության բարելավում | G20: =+G22 -> 472826.2 | H20: =+H22 -> 871327.3
F21: այդ թվում` ըստ կատարողների
F22: ՀՀ արտակարգ իրավիճակների նախարարություն | G22: =+G25 -> 472826.2 | H22: =+H25 -> 871327.3
F23: այդ թվում` բյուջետային ծախսերի տնտեսագիտական դասակարգման հոդվածներ
F24: ԸՆԴԱՄԵՆԸ ԾԱԽՍԵՐ | G24: =+G25 -> 472826.2 | H24: =+H25 -> 871327.3
F25: ՈՉ ՖԻՆԱՆՍԱԿԱՆ ԱԿՏԻՎՆԵՐԻ ԳԾՈՎ ԾԱԽՍԵՐ | G25: =+G26 -> 472826.2 | H25: =+H26 -> 871327.3
F26: ՀԻՄՆԱԿԱՆ ՄԻՋՈՑՆԵՐ | G26: =+G27 -> 472826.2 | H26: =+H27 -> 871327.3
F27: ՄԵՔԵՆԱՆԵՐ ԵՎ ՍԱՐՔԱՎՈՐՈՒՄՆԵՐ | G27: =+G28 -> 472826.2 | H27: =+H28 -> 871327.3
F28: - Տրանսպորտային սարքավորումներ | G28: 472826.2 | H28: 871327.3
E29: 31007 | F29: ԱԻՆ Փրկարար ծառայության շենքային ապահովվածության և պայմանների բարելավում | G29: =+G31 -> 200000 | H29: =+H31 -> 302905.7
F30: այդ թվում` ըստ կատարողների
F31: ՀՀ արտակարգ իրավիճակների նախարարություն | G31: =+G33 -> 200000 | H31: =+H33 -> 302905.7
F32: այդ թվում` բյուջետային ծախսերի տնտեսագիտական դասակարգման հոդվածներ
F33: ԸՆԴԱՄԵՆԸ ԾԱԽՍԵՐ | G33: =+G34 -> 200000 | H33: =+H34 -> 302905.7
F34: ՈՉ ՖԻՆԱՆՍԱԿԱՆ ԱԿՏԻՎՆԵՐԻ ԳԾՈՎ ԾԱԽՍԵՐ | G34: =+G35 -> 200000 | H34: =+H35 -> 302905.7
F35: ՀԻՄՆԱԿԱՆ ՄԻՋՈՑՆԵՐ | G35: =+G36+G38 -> 200000 | H35: =+H36+H38 -> 302905.7
F36: ՇԵՆՔԵՐ ԵՎ ՇԻՆՈՒԹՅՈՒՆՆԵՐ | G36: =+G37 -> 184415.1 | H36: =+H37 -> 287320.8
F37: - Շենքերի և շինությունների կապիտալ վերանորոգում | G37: 184415.1 | H37: 287320.8
F38: ԱՅԼ ՀԻՄՆԱԿԱՆ ՄԻՋՈՑՆԵՐ | G38: =+G39 -> 15584.9 | H38: =+H39 -> 15584.9
F39: - Նախագծահետազոտական ծախսեր | G39: 15584.9 | H39: 15584.9
D40: 1112 | F40: Արտակարգ իրավիճակների բնագավառի պետական քաղաքականության մշակում, ծրագրերի համակարգում և մոնիտորինգ | G40: =+G42 -> 25767 | H40: =+H42 -> 25767
F41: այդ թվում`
...

Sheet 3
A1: Հավելված N 3
F2: ՀՀ կառավարության 2022 թվականի -ի N -Ն որոշման
C3: «ՀԱՅԱՍՏԱՆԻ ՀԱՆՐԱՊԵՏՈՒԹՅԱՆ 2022 ԹՎԱԿԱՆԻ ՊԵՏԱԿԱՆ ԲՅՈՒՋԵԻ ՄԱՍԻՆ» ՀԱՅԱՍՏԱՆԻ ՀԱՆՐԱՊԵՏՈՒԹՅԱՆ ՕՐԵՆՔԻ N 1 ՀԱՎԵԼՎԱԾԻ N3 ԱՂՅՈՒՍԱԿՈՒՄ ԿԱՏԱՐՎՈՂ ՓՈՓՈԽՈՒԹՅՈՒՆՆԵՐԸ ԵՎ ԼՐԱՑՈՒՄՆԵՐԸ
G4: հազար դրամներով
A5: Ծրագրային դասիչ | C5: Բյուջետային գլխավոր կարգադրիչների, ծրագրերի, միջոցառումների և ուղղությունների անվանումները | D5: Ընդամենը, | E5: Ցուցանիշների փոփոխությունը (ավելացումները նշված են դրական նշանով)
A6: Ծրագիր | B6: Միջոցառում | E6: Կառուցման աշխատանքներ | F6: Վերակառուցման, վերանորոգման և վերականգնման աշխատանքներ | G6: Նախագծահե- տազոտական, գեոդեզիա- քարտեզագրա- կան աշխա- տանքներ | H6: Ոչ ֆինանսական այլ ակտիվների ձեռքբերում
C7: ԸՆԴԱՄԵՆԸ | D7: =+D9 -> 1200000 | E7: =+E9 -> 0 | F7: =+F9 -> 311755.8 | G7: =+G9 -> 16916.9 | H7: =+H9 -> 871327.3
C8: այդ թվում`
C9: ՀՀ ԱՐՏԱԿԱՐԳ ԻՐԱՎԻՃԱԿՆԵՐԻ ՆԱԽԱՐԱՐՈՒԹՅՈՒՆ | D9: =+F9+G9+H9 -> 1200000 | E9: =+E11 -> 0 | F9: =+F12+F13 -> 311755.8 | G9: =+G12+G13 -> 16916.9 | H9: =+H11 -> 871327.3
C10: այդ թվում`
A11: 1090 | B11: 31001 | C11: Փրկարար ծառայության տեխնիկական հագեցվածության բարելավում | D11: =+'2'!H20 -> 871327.3 | H11: =+'2'!H20 -> 871327.3
A12: 1090 | B12: 31007 | C12: ԱԻՆ Փրկարար ծառայության շենքային ապահովվածության և պայմանների բարելավում | D12: =+F12+G12 -> 302905.7 | E12: =+E49+E50 -> 0 | F12: =+'2'!H36 -> 287320.8 | G12: =+'2'!H38 -> 15584.9
A13: 1112 | B13: 31002 | C13: ՀՀ արտակարգ իրավիճակների նախարարության շենքային պայմանների բարելավում | D13: =+F13+G13 -> 25767 | F13: =+'2'!G49 -> 24435 | G13: =+'2'!G51 -> 1332
A17: ՀԱՅԱՍՏԱՆԻ ՀԱՆՐԱՊԵՏՈՒԹՅԱՆ ՎԱՐՉԱՊԵՏԻ ԱՇԽԱՏԱԿԱԶՄԻ
A18: ՂԵԿԱՎԱՐ Ա. ՀԱՐՈՒԹՅՈՒՆՅԱՆ

Sheet 4
B1: Հավելված N 4 ՀՀ կառավարության 2022 թվականի __________-ի ____-ի N _____-Ն որոշման
A3: ՀԱՅԱՍՏԱՆԻ ՀԱՆՐԱՊԵՏՈՒԹՅԱՆ ԿԱՌԱՎԱՐՈՒԹՅԱՆ 2021 ԹՎԱԿԱՆԻ ԴԵԿՏԵՄԲԵՐԻ 23-Ի N 2121-Ն ՈՐՈՇՄԱՆ N 5 ՀԱՎԵԼՎԱԾԻ N 2 ԱՂՅՈՒՍԱԿՈՒՄ ԿԱՏԱՐՎՈՂ ՓՈՓՈԽՈՒԹՅՈՒՆՆԵՐԸ ԵՎ ԼՐԱՑՈՒՄՆԵՐԸ
E4: հազ. դրամ
A5: Ծրագրային դասիչ | C5: Բյուջետային գլխավոր կարգադրիչների, ծրագրերի, միջոցառումների, միջոցառումները կատարող պետական մարմինների և ուղղությունների անվանումները | D5: Ցուցանիշների փոփոխությունը (ավելացումները նշված են դրական նշանով)
A6: Ծրագիր | B6: Միջոցառում | D6: Ինն ամիս | E6: Տարի
C7: ԸՆԴԱՄԵՆԸ | D7: =+D9 -> 698593.2 | E7: =+E9 -> 1200000
C8: այդ թվում՝
C9: ՀՀ ԱՐՏԱԿԱՐԳ ԻՐԱՎԻՃԱԿՆԵՐԻ ՆԱԽԱՐԱՐՈՒԹՅՈՒՆ | D9: =D11+D15+D30 -> 698593.2 | E9: =E11+E15+E30 -> 1200000
C10: այդ թվում`
A11: 1090 | B11: 31001 | C11: Փրկարար ծառայության տեխնիկական հագեցվածության բարելավում | D11: =+D14 -> 472826.2 | E11: =+E14 -> 871327.3
C12: այդ թվում` ըստ կատարողների
C13: ՀՀ արտակարգ իրավիճակների նախարարություն
C14: Տրանսպորտային միջոցների և սարքավորումների ձեռքբերում | D14: 472826.2 | E14: 871327.3
B15: 31007 | C15: ԱԻՆ Փրկարար ծառայության շենքային ապահովվածության և պայմանների բարելավում | D15: =+SUM(D17:D26) -> 200000 | E15: =+SUM(E17:E26) -> 302905.73
C16: այդ թվում`
C17: N2 ՀՓՋ, ք.Երևան, Սևանի փ. 124, շենքի 558,9 քմ մակերեսով 1-ին և 2-րդ հարկերի ներքին հարդարման աշխատանքներ, դուռ-լուսամուտների փոխարինում, ջեռուցման համակարգի իրականացում,տանիքի նորոգում | D17: 22170 | E17: 43496.4
C18: N7 ՀՓՋ,ք. Երևան, Հասրաթյան փ. 9/1, շենքի 632.65 քմ մակերեսով ներքին հարդարման աշխատանքներ, դուռ-լուսամուտների փոխարինում, ջեռուցման համակարգի իրականացում, տանիքի նորոգում | D18: 13265 | E18: 27108.8
C19: N9 ՀՓՋ,ք. Երևան, Գյուլիքևխյան 12/2, շենքի 730 քմ մակերեսով ներքին հարդարման աշխատանքներ, դուռ-լուսամուտների փոխարինում, ջեռուցման համակարգի իրականացում տանիքի նորոգում | D19: 26700 | E19: 40231.6
C20: N11 ՀՓՋ,ք. Երևան, Աճառյան 44/5, շենքի 475 քմ մակերեսով ներքին հարդարման աշխատանքներ, դուռ-լուսամուտների փոխարինում, ջեռուցման համակարգի իրականացում | D20: 10169.7 | E20: 12139.72
C21: Մարտունու ՀՓՋ Գեղարքունիքի մարզ ք.Մարտունի, Սայաթ-Նովա փ. 40 շենքի 235,3 քմ մակերեսով ներքին հարդարման աշխատանքներ, դուռ-լուսամուտների փոխարինում, ջեռուցման համակարգի իրականացում, տանիքի նորոգում շենքի հիմանորոգում | D21: 25072 | E21: 34651.32
C22: Սևանի ՀՓՋ,Գեղարքունիքի մարզ ք.Սևան, Նաիրյան 142 շենքի 627,51 քմ մակերեսով ներքին հարդարման աշխատանքներ, դուռ-լուսամուտների փոխարինում, ջեռուցման համակարգի իրականացում, տանիքի նորոգում | D22: 15611 | E22: 15703.38
C23: Վանաձորի N 1 ՀՓՋ, Լոռու մարզ ք.Վանաձոր,Երևանյան խճուղի 62, շենքի 1200քմ մակերեսի ներքին հարդարման աշխատանքներ, դուռ-լուսամուտների փոխարինում, ջեռուցման համակարգի իրականացում, տանիքի նորոգում | D23: 19372.9 | E23: 29654.73
C24: Տավուշի ՀՓՋ, Տավուշի մարզ ք.Իջևան, Արցախյան փ. 4 հասցեում 392 քմ մակերեսով ավտոկայանատեղիի կառուցում, ներքին հարդարման աշխատանքներ, դուռ-լուսամուտների փոխարինում, ջեռուցման համակարգի իրականացում, տանիքի նորոգում | D24: 21945 | E24: 42070.35
C25: Եղվարդի ՀՓՋ-ի ավտոկայանատեղի,Կոտայքի մարզ ք.Եղվարդ - շենքի 223,50 քմ մակերեսի ներքին հարդարման աշխատանքներ, դուռ-լուսամուտների փոխարինում, ջեռուցման համակարգի իրականացում, տանիքի նորոգում | D25: 32040 | E25: 44125.2
C26: Ամասիայի ՀՓՋ,Շիրակի մարզ գ.Ամասիա 2-րդ փ.4տ. - շենքի 285 քմ մակերեսի ներքին հարդարման աշխատանքներ, դուռ-լուսամուտների փոխարինում, ջեռուցման համակարգի իրականացում, տանիքի նորոգում | D26: 13654.4 | E26: 13724.235
C27: այդ թվում` ըստ կատարողների
C28: ՀՀ արտակարգ իրավիճակների նախարարություն
A29: 1112 | C29: Արտակարգ իրավիճակների բնագավառի պետական քաղաքականության մշակում, ծրագրերի համակարգում և մոնիտորինգ
B30: 31002 | C30: ՀՀ արտակարգ իրավիճակների նախարարության շենքային պայմանների բարելավում | D30: =+D31 -> 25767 | E30: =+E31 -> 25767
C31: ԱԻՆ վարչական համալիրի երկրորդ մասնաշենքի տանիքի կապիտալ վերանորոգում (ք. Երևան, Դավիթաշեն 4, Ա. Միկոյան 109/8) | D31: 25767 | E31: 25767
C32: այդ թվում` ըստ կատարողների
C33: ՀՀ արտակարգ իրավիճակների նախարարություն
A36: ՀԱՅԱՍՏԱՆԻ ՀԱՆՐԱՊԵՏՈՒԹՅԱՆ ՎԱՐՉԱՊԵՏԻ ԱՇԽԱՏԱԿԱԶՄԻ
A37: ՂԵԿԱՎԱՐ Ա. ՀԱՐՈՒԹՅՈՒՆՅԱՆ

Sheet 5
B1: Հավելված N 5 ՀՀ կառավարության 2022 թվականի __________-ի ____-ի N _____-Ն որոշման
A3: ՀԱՅԱՍՏԱՆԻ ՀԱՆՐԱՊԵՏՈՒԹՅԱՆ ԿԱՌԱՎԱՐՈՒԹՅԱՆ 2021 ԹՎԱԿԱՆԻ ԴԵԿՏԵՄԲԵՐԻ 23-Ի N 2121-Ն ՈՐՈՇՄԱՆ N9 ՀԱՎԵԼՎԱԾԻ 9.18 ԵՎ 9.47 ԱՂՅՈՒՍԱԿՆԵՐՈՒՄ ԿԱՏԱՐՎՈՂ ՓՈՓՈԽՈՒԹՅՈՒՆՆԵՐԸ ԵՎ ԼՐԱՑՈՒՄՆԵՐԸ
A5: ՀՀ արտակարգ իրավիճակների նախարարություն
A6: ՄԱՍ 2. ՊԵՏԱԿԱՆ ՄԱՐՄՆԻ ԳԾՈՎ ԱՐԴՅՈՒՆՔԱՅԻՆ (ԿԱՏԱՐՈՂԱԿԱՆ) ՑՈՒՑԱՆԻՇՆԵՐԸ
A7: Ծրագրի դասիչը | B7: Ծրագրի անվանումը
A8: 1090 | B8: Փրկարարական ծառայություններ
A9: Ծրագրի միջոցառումները
A10: Ծրագրի դասիչը՝ | B10: 1090 | C10: Ցուցանիշների փոփոխությունները (Ավելացումները նշված են դրական նշանով)
A11: Միջոցառման դասիչը՝ | B11: 31001 | C11: Ինն ամիս | D11: Տարի
A12: Միջոցառման անվանումը՝ | B12: Փրկարար ծառայության տեխնիկական հագեցվածության բարելավում
A13: Նկարագրությունը՝ | B13: Տրանսպորտային միջոցների և սարքավորումների ձեռքբերում
A14: Միջոցառման տեսակը՝ | B14: Պետական մարմինների կողմից օգտագործվող ոչ ֆինանասական ակտիվների հետ գործառնություններ
A15: Միջոցառումն իրականացնողի անվանումը` | B15: ՀՀ արտակարգ իրավիճակների նախարարություն
A16: Արդյունքի չափորոշիչներ
A17: Øß³ÏíáÕ ÝáñÙ³ïÇí Çñ³í³Ï³Ý ³Ïï»ñÇ Ý³Ë³·Í»ñÇ ù³Ý³Ï, Ñ³ï
A18: Ð³Ù³Ï³ñ·íáÕ, Çñ³Ï³Ý³óíáÕ ¨ í»ñ³ÑëÏÙ³Ý »ÝÃ³ñÏíáÕ ÙÇçáó³éáõÙÝ»ñÇ ù³Ý³Ï, Ñ³ï
A19: Քանակական | B19: Տրանսպորտային միջոցների քանակ, հատ | C19: 14 | D19: 28
A20: Ժամկետային | B20: Տրանսպորտային միջոցների ծառայության կանխատեսվող միջին ժամկետ, տարի | C20: 12 | D20: 12
A21: Միջոցառման վրա կատարվող ծախսը (հազար դրամ) | C21: =+'2'!G20 -> 472826.2 | D21: =+'2'!H20 -> 871327.3
A22: Ծրագրի դասիչը՝ | B22: 1090 | C22: Ցուցանիշների փոփոխությունը (ավելացումները նշված են դրական նշանով)
A23: Միջոցառման դասիչը՝ | B23: 31007 | C23: Ինն ամիս | D23: Տարի
A24: Միջոցառման անվանումը՝ | B24: ԱԻՆ Փրկարար ծառայության շենքային ապահովվածության և պայմանների բարելավում
A25: Նկարագրությունը՝ | B25: Փրկարար ծառայության շենքերի, շինությունների կառուցում և կապիտալ վերանորոգում
A26: Միջոցառման տեսակը՝ | B26: Պետական մարմինների կողմից օգտագործվող ոչ ֆինանասական ակտիվների հետ գործառույթներ
A27: Միջոցառումն իրականացնողի անվանումը` | B27: ՀՀ արտակարգ իրավիճակների նախարարություն
A28: Արդյունքի չափորոշիչներ
A29: Քանակական | B29: Կապիտալ վերանորոգման ենթակա օբյեկտների թիվը, հատ | C29: 10 | D29: 10
A30: Քանակական | B30: Վերանորոգման ենթակա մակերես, քմ | C30: 3548.1 | D30: 5359.86
A31: Միջոցառման վրա կատարվող ծախսը (հազար դրամ) | C31: =+'2'!G29 -> 200000 | D31: =+'2'!H29 -> 302905.7
A32: Ծրագրի դասիչը | B32: Ծրագրի անվանումը
A33: 1112 | B33: Արտակարգ իրավիճակների բնագավառի պետական քաղաքականության մշակում՝ ծրագրերի համակարգում և մոնիտորինգ
A34: Ծրագրի միջոցառումները
A35: Ծրագրի դասիչը՝ | B35: 1112 | C35: Ցուցանիշների փոփոխությունը (ավելացումները նշված են դրական նշանով)
A36: Միջոցառման դասիչը՝ | B36: 31002 | C36: Ինն ամիս | D36: Տարի
A37: Միջոցառման անվանումը՝ | B37: ՀՀ արտակարգ իրավիճակների նախարարության շենքային պայմանների բարելավում
A38: Նկարագրությունը՝ | B38: ՀՀ արտակարգ իրավիճակների նախարարության շենքերի և շինությունների վերակառուցման, վերանորոգման և վերականգնման աշխատանք¬ների իրականացում և դրանց նախագծանախահաշվային փաստաթղթերի ձեռքբերում
A39: Միջոցառման տեսակը՝ | B39: Պետական մարմինների կողմից օգտագործվող ոչ ֆինանասական ակտիվների հետ գործառույթներ
A40: Միջոցառումն իրականացնողի անվանումը` | B40: ՀՀ արտակարգ իրավիճակների նախարարություն
A41: Արդյունքի չափորոշիչներ
A42: Քանակական | B42: Կապիտալ վերանորոգման ենթակա օբյեկտների թիվը, հատ | C42: 1 | D42: 1
...

Sheet 6
B1: Հավելված N 6 ՀՀ կառավարության 2022 թվականի __________-ի ____-ի N _____-Ն որոշման
A2: ՀԱՅԱՍՏԱՆԻ ՀԱՆՐԱՊԵՏՈՒԹՅԱՆ ԿԱՌԱՎԱՐՈՒԹՅԱՆ 2021ԹՎԱԿԱՆԻ ԴԵԿՏԵՄԲԵՐԻ 23-Ի N 2121-Ն ՈՐՈՇՄԱՆ N9.1 ՀԱՎԵԼՎԱԾԻ 9.1.19 ԵՎ 9.1.59 ԱՂՅՈՒՍԱԿՆԵՐՈՒՄ ԿԱՏԱՐՎՈՂ ՓՈՓՈԽՈՒԹՅՈՒՆՆԵՐԸ ԵՎ ԼՐԱՑՈՒՄՆԵՐԸ
A3: ՀՀ արտակարգ իրավիճակների նախարարություն
A5: ՄԱՍ 1 ՊԵՏԱԿԱՆ ՄԱՐՄՆԻ ԳԾՈՎ ԱՐԴՅՈՒՆՔԱՅԻՆ (ԿԱՏԱՐՈՂԱԿԱՆ) ՑՈՒՑԱՆԻՇՆԵՐԸ
A6: Ծրագրի դասիչը | B6: Ծրագրի անվանումը
A7: 1090 | B7: Փրկարարական ծառայություններ
A8: Ծրագրի միջոցառումները
A9: Ծրագրի դասիչը՝ | B9: 1090 | C9: Ցուցանիշների փոփոխությունները (Ավելացումները նշված են դրական նշանով)
A10: Միջոցառման դասիչը՝ | B10: 31001 | C10: Ինն ամիս | D10: Տարի
A11: Միջոցառման անվանումը՝ | B11: Փրկարար ծառայության տեխնիկական հագեցվածության բարելավում
A12: Նկարագրությունը՝ | B12: Տրանսպորտային միջոցների և սարքավորումների ձեռքբերում
A13: Միջոցառման տեսակը՝ | B13: Պետական մարմինների կողմից օգտագործվող ոչ ֆինանասական ակտիվների հետ գործառնություններ
A14: Միջոցառումն իրականացնողի անվանումը` | B14: ՀՀ արտակարգ իրավիճակների նախարարություն
A15: Արդյունքի չափորոշիչներ
A16: Øß³ÏíáÕ ÝáñÙ³ïÇí Çñ³í³Ï³Ý ³Ïï»ñÇ Ý³Ë³·Í»ñÇ ù³Ý³Ï, Ñ³ï
A17: Ð³Ù³Ï³ñ·íáÕ, Çñ³Ï³Ý³óíáÕ ¨ í»ñ³ÑëÏÙ³Ý »ÝÃ³ñÏíáÕ ÙÇçáó³éáõÙÝ»ñÇ ù³Ý³Ï, Ñ³ï
A18: Քանակական | B18: Տրանսպորտային միջոցների քանակ, հատ | C18: 14 | D18: 28
A19: Ժամկետային | B19: Տրանսպորտային միջոցների ծառայության կանխատեսվող միջին ժամկետ, տարի | C19: 12 | D19: 12
A20: Միջոցառման վրա կատարվող ծախսը (հազար դրամ) | C20: =+'5'!C21 -> 472826.2 | D20: =+'5'!D21 -> 871327.3
A21: Ծրագրի դասիչը՝ | B21: 1090 | C21: Ցուցանիշների փոփոխությունը (Ավելացումները նշված են դրական նշանով)
A22: Միջոցառման դասիչը՝ | B22: 31007 | C22: Ինն ամիս | D22: Տարի
A23: Միջոցառման անվանումը՝ | B23: ԱԻՆ Փրկարար ծառայության շենքային ապահովվածության և պայմանների բարելավում
A24: Նկարագրությունը՝ | B24: Փրկարար ծառայության շենքերի, շինությունների կառուցում և կապիտալ վերանորոգում
A25: Միջոցառման տեսակը՝ | B25: Պետական մարմինների կողմից օգտագործվող ոչ ֆինանասական ակտիվների հետ գործառույթներ
A26: Միջոցառումն իրականացնողի անվանումը` | B26: ՀՀ արտակարգ իրավիճակների նախարարություն
A27: Արդյունքի չափորոշիչներ
A28: Քանակական | B28: Կապիտալ վերանորոգման ենթակա օբյեկտների թիվը, հատ | C28: 10 | D28: 10
A29: Քանակական | B29: Վերանորոգման ենթակա մակերես,քմ | C29: 3548.1 | D29: 5359.86
A30: Միջոցառման վրա կատարվող ծախսը (հազար դրամ) | C30: =+'5'!C31 -> 200000 | D30: =+'5'!D31 -> 302905.7
A31: Ծրագրի դասիչը | B31: Ծրագրի անվանումը
A32: 1112 | B32: Արտակարգ իրավիճակների բնագավառի պետական քաղաքականության մշակում՝ ծրագրերի համակարգում և մոնիտորինգ
A33: Ծրագրի միջոցառումները
A34: Ծրագրի դասիչը՝ | B34: 1112 | C34: Ցուցանիշների փոփոխությունը (ավելացումները նշված են դրական նշանով)
A35: Միջոցառման դասիչը՝ | B35: 31002 | C35: Ինն ամիս | D35: Տարի
A36: Միջոցառման անվանումը՝ | B36: ՀՀ արտակարգ իրավիճակների նախարարության շենքային պայմանների բարելավում
A37: Նկարագրությունը՝ | B37: ՀՀ արտակարգ իրավիճակների նախարարության շենքերի և շինությունների վերակառուցման, վերանորոգման և վերականգնման աշխատանքների իրականացում և դրանց նախագծանախահաշվային փաստաթղթերի ձեռքբերում
A38: Միջոցառման տեսակը՝ | B38: Պետական մարմինների կողմից օգտագործվող ոչ ֆինանասական ակտիվների հետ գործառույթներ
A39: Միջոցառումն իրականացնողի անվանումը` | B39: ՀՀ արտակարգ իրավիճակների նախարարություն
A40: Արդյունքի չափորոշիչներ
A41: Քանակական | B41: Կապիտալ վերանորոգման ենթակա օբյեկտների թիվը, հատ | C41: 1 | D41: 1
...

Sheet 7
F1: Հավելված N 7
E2: ՀՀ կառավարության 2022 թվականի
E3: ______________ ի ___Ն որոշման
A4: ՀԱՅԱՍՏԱՆԻ ՀԱՆՐԱՊԵՏՈՒԹՅԱՆ ԿԱՌԱՎԱՐՈՒԹՅԱՆ 2021 ԹՎԱԿԱՆԻ ԴԵԿՏԵՄԲԵՐԻ 23-Ի N 2121-Ն ՈՐՈՇՄԱՆ N 10 ՀԱՎԵԼՎԱԾՈՒՄ ԿԱՏԱՐՎՈՂ ՓՈՓՈԽՈՒԹՅՈՒՆՆԵՐԸ ԵՎ ԼՐԱՑՈՒՄՆԵՐԸ
A5: Գնման առարկայի | G5: Գումարը (հազար դրամով) Ցուցանիշների փոփոխությունը (ավելացումները նշված են դրական նշանով)
A6: Կոդը | B6: Անվանումը | C6: Գնման ձև | D6: Չափման միավորը | E6: Միավորի գինը | F6: Քանակը
A8: ՀՀ արտակարգ իրավիճակների նախարարություն
A9: Բաժին N 03 | B9: Խումբ N 02 | C9: Դաս N 01 | D9: Փրկարար ծառայություն | G9: =+G10+G61 -> 1200000
A10: 1090 | B10: Փրկարարական ծառայություններ | G10: =+G11+G55 -> 1174233
A11: 1090 31007 | B11: ԱԻՆ Փրկարար ծառայության շենքային ապահովվածության և պայմանների բարելավում | G11: =+G12+G23 -> 302905.74
A12: ՄԱՍII. ԱՇԽԱՏԱՆՔՆԵՐ | G12: =G13+G14+G15+G16+G17+G18+G19+G20+G21+G22 -> 280040
A13: 45611300-1 | B13: այլ շենքերի ու շինությունների հիմնանորոգում | C13: ԳՀ | D13: դրամ | E13: 40200000 | F13: 1 | G13: =+E13*F13/1000 -> 40200
A14: 45611300-2 | B14: այլ շենքերի ու շինությունների հիմնանորոգում | C14: ԳՀ | D14: դրամ | E14: 25050000 | F14: 1 | G14: =+E14*F14/1000 -> 25050
A15: 45611300-3 | B15: այլ շենքերի ու շինությունների հիմնանորոգում | C15: ԳՀ | D15: դրամ | E15: 37200000 | F15: 1 | G15: =+E15*F15/1000 -> 37200
A16: 45611300-4 | B16: այլ շենքերի ու շինությունների հիմնանորոգում | C16: ԳՀ | D16: դրամ | E16: 11220000 | F16: 1 | G16: =+E16*F16/1000 -> 11220
A17: 45611300-5 | B17: այլ շենքերի ու շինությունների հիմնանորոգում | C17: ԳՀ | D17: դրամ | E17: 32040000 | F17: 1 | G17: =+E17*F17/1000 -> 32040
A18: 45611300-6 | B18: այլ շենքերի ու շինությունների հիմնանորոգում | C18: ԳՀ | D18: դրամ | E18: 14520000 | F18: 1 | G18: =+E18*F18/1000 -> 14520
A19: 45611300-7 | B19: այլ շենքերի ու շինությունների հիմնանորոգում | C19: ԳՀ | D19: դրամ | E19: 27420000 | F19: 1 | G19: =+E19*F19/1000 -> 27420
A20: 45611300-8 | B20: այլ շենքերի ու շինությունների հիմնանորոգում | C20: ԳՀ | D20: դրամ | E20: 38900000 | F20: 1 | G20: =+E20*F20/1000 -> 38900
A21: 45611300-9 | B21: այլ շենքերի ու շինությունների հիմնանորոգում | C21: ԳՀ | D21: դրամ | E21: 40800000 | F21: 1 | G21: =+E21*F21/1000 -> 40800
A22: 45611300-10 | B22: այլ շենքերի ու շինությունների հիմնանորոգում | C22: ԳՀ | D22: դրամ | E22: 12690000 | F22: 1 | G22: =+E22*F22/1000 -> 12690
A23: ՄԱՍIII. ԾԱՌԱՅՈՒԹՅՈՒՆՆԵՐ | G23: =SUM(G24:G54) -> 22865.74
A24: 71241200 | B24: նախագծերի պատրաստում, ծախսերի գնահատում | C24: ԳՀ | D24: դրամ | E24: 2010000 | F24: 1 | G24: =+E24*F24/1000 -> 2010
A25: 71241200 | B25: նախագծերի պատրաստում, ծախսերի գնահատում | C25: ԳՀ | D25: դրամ | E25: 1252500 | F25: 1 | G25: =+E25*F25/1000 -> 1252.5
A26: 71241200 | B26: նախագծերի պատրաստում, ծախսերի գնահատում | C26: ԳՀ | D26: դրամ | E26: 1860000 | F26: 1 | G26: =+E26*F26/1000 -> 1860
A27: 71241200 | B27: նախագծերի պատրաստում, ծախսերի գնահատում | C27: ԳՀ | D27: դրամ | E27: 561000 | F27: 1 | G27: =+E27*F27/1000 -> 561
A28: 71241200 | B28: նախագծերի պատրաստում, ծախսերի գնահատում | C28: ԳՀ | D28: դրամ | E28: 634500 | F28: 1 | G28: =+E28*F28/1000 -> 634.5
A29: 71241200 | B29: նախագծերի պատրաստում, ծախսերի գնահատում | C29: ԳՀ | D29: դրամ | E29: 1602000 | F29: 1 | G29: =+E29*F29/1000 -> 1602
A30: 71241200 | B30: նախագծերի պատրաստում, ծախսերի գնահատում | C30: ԳՀ | D30: դրամ | E30: 2040000 | F30: 1 | G30: =+E30*F30/1000 -> 2040
A31: 71241200 | B31: նախագծերի պատրաստում, ծախսերի գնահատում | C31: ԳՀ | D31: դրամ | E31: 1945000 | F31: 1 | G31: =+E31*F31/1000 -> 1945
A32: 71241200 | B32: նախագծերի պատրաստում, ծախսերի գնահատում | C32: ԳՀ | D32: դրամ | E32: 1371000 | F32: 1 | G32: =+E32*F32/1000 -> 1371
A33: 71241200 | B33: նախագծերի պատրաստում, ծախսերի գնահատում | C33: ԳՀ | D33: դրամ | E33: 726000 | F33: 1 | G33: =+E33*F33/1000 -> 726
A34: 50531140 | B34: փորձաքննության ծառայություններ | C34: ԳՀ | D34: դրամ | E34: 1582900 | F34: 1 | G34: =+E34*F34/1000 -> 1582.9
A35: 71351540 | B35: տեխնիկական հսկողության ծառայություններ | C35: ԳՀ | D35: դրամ | E35: 804000 | F35: 1 | G35: =+E35*F35/1000 -> 804
... A54: 98111140 | B54: հեղինակային հսկողության ծառայություններ | C54: ՄԱ | D54: դրամ | E54: 76140 | F54: 1 | G54: =+E54*F54/1000 -> 76.14
A55: 1090 | B55: Փրկարարական ծառայություններ | G55: =G56 -> 871327.3
A56: 1090 31001 | B56: Փրկարար ծառայության տեխնիկական հագեցվածության բարելավում | G56: =G57 -> 871327.3
A57: ՄԱՍI. ԱՊՐԱՆՔՆԵՐ | G57: =G58+G59+G60 -> 871327.3
A58: 34111200 | B58: փրկարարական մեքենաններ | C58: ԷԱՃ | D58: հատ | E58: 70000000 | F58: 9 | G58: =+E58*F58/1000 -> 630000
A59: 34111200 | B59: փրկարարական մեքենաններ | C59: ԷԱՃ | D59: հատ | E59: 13000000 | F59: 8 | G59: =+E59*F59/1000 -> 104000
...
