Workbook
Name _tab10: #REF!
Name _tab10: #REF!
Name _tab11: #REF!
Name _tab11: #REF!
Name _tab12: #REF!
Name _tab12: #REF!
Name _tab13: #REF!
Name _tab13: #REF!
Name _tab14: #REF!
Name _tab14: #REF!
Name _tab15: #REF!
Name _tab15: #REF!
Name _tab16: #REF!
Name _tab16: #REF!
Name _tab17: #REF!
Name _tab17: #REF!
Name _tab18: #REF!
Name _tab18: #REF!
Name _tab19: #REF!
Name _tab19: #REF!
Name _tab20: #REF!
Name _tab20: #REF!
Name _tab21: #REF!
Name _tab21: #REF!
Name _tab22: #REF!
Name _tab22: #REF!
Name _tab23: #REF!
Name _tab23: #REF!
Name _tab24: #REF!
Name _tab24: #REF!
Name _tab5: #REF!
Name _tab5: #REF!
Name _tab6: #REF!
Name _tab6: #REF!
Name _tab7: #REF!
Name _tab7: #REF!
Name _tab8: #REF!
Name _tab8: #REF!
Name _tab9: #REF!
Name _tab9: #REF!
Name par_count: #REF!,#REF!,#REF!,#REF!,#REF!,#REF!,#REF!,#REF!,#REF!,#REF!,#REF!,#REF!,#REF!,#REF!,#REF!
Name par_count: #REF!,#REF!,#REF!,#REF!,#REF!,#REF!,#REF!,#REF!,#REF!,#REF!,#REF!,#REF!,#REF!,#REF!,#REF!
Name par_qual: #REF!,#REF!,#REF!,#REF!,#REF!
Name par_qual: #REF!,#REF!,#REF!,#REF!,#REF!
Name par_time: #REF!,#REF!,#REF!,#REF!
Name par_time: #REF!,#REF!,#REF!,#REF!
Name par2.12s: #REF!
Name par2.12s: #REF!
Name par2.4s: #REF!,#REF!,#REF!,#REF!,#REF!,#REF!,#REF!,#REF!,#REF!,#REF!,#REF!,#REF!,#REF!,#REF!,#REF!,#REF!
Name par2.4s: #REF!,#REF!,#REF!,#REF!,#REF!,#REF!,#REF!,#REF!,#REF!,#REF!,#REF!,#REF!,#REF!,#REF!,#REF!,#REF!
Name par2.5s: #REF!,#REF!
Name par2.5s: #REF!,#REF!
Name par2.6s: #REF!,#REF!,#REF!,#REF!
Name par2.6s: #REF!,#REF!,#REF!,#REF!
Name par2.7s: #REF!,#REF!
Name par2.7s: #REF!,#REF!
Name par2.9s: #REF!,#REF!,#REF!,#REF!,#REF!,#REF!,#REF!,#REF!,#REF!,#REF!,#REF!,#REF!,#REF!,#REF!,#REF!,#REF!
Name par2.9s: #REF!,#REF!,#REF!,#REF!,#REF!,#REF!,#REF!,#REF!,#REF!,#REF!,#REF!,#REF!,#REF!,#REF!,#REF!,#REF!
Name par4.10s: #REF!,#REF!
Name par4.10s: #REF!,#REF!

Sheet 1
E1: Հավելված N 1
E2: ՀՀ կառավարության 2022 թվականի
C3: -----------------ի N -----------Ն որոշման
A5: «ՀԱՅԱՍՏԱՆԻ ՀԱՆՐԱՊԵՏՈՒԹՅԱՆ 2022 ԹՎԱԿԱՆԻ ՊԵՏԱԿԱՆ ԲՅՈՒՋԵԻ ՄԱՍԻՆ» ՕՐԵՆՔԻ N 1 ՀԱՎԵԼՎԱԾԻ N 2 ԱՂՅՈՒՍԱԿՈՒՄ ԿԱՏԱՐՎՈՂ ՎԵՐԱԲԱՇԽՈՒՄԸ ԵՎ ՀԱՅԱՍՏԱՆԻ ՀԱՆՐԱՊԵՏՈՒԹՅԱՆ ԿԱՌԱՎԱՐՈՒԹՅԱՆ 2021 ԹՎԱԿԱՆԻ ԴԵԿՏԵՄԲԵՐԻ 23-Ի N 2121-Ն ՈՐՈՇՄԱՆ N 5 ՀԱՎԵԼՎԱԾԻ N 1 ԱՂՅՈՒՍԱԿՈՒՄ ԿԱՏԱՐՎՈՂ ՓՈՓՈԽՈՒԹՅՈՒՆՆԵՐԸ ԵՎ ԼՐԱՑՈՒՄՆԵՐԸ
E6: (հազար դրամ)
A7: Ծրագրային դասիչը | C7: Բյուջետային հատկացումների գլխավոր կարգադրիչների, ծրագրերի և միջոցառումների անվանումները | D7: Ցուցանիշների փոփոխությունները ավելացումները նշված են դրական նշանով, իսկ նվազեցումները՝ փակագծերում
A8: Ծրագիր | B8: Միջոցառում | D8: Ինն ամիս | E8: Տարի
C9: ԸՆԴԱՄԵՆԸ | D9: =SUM(D10) -> 0 | E9: =SUM(E10) -> 0
C10: ՀՀ աշխատանքի և սոցիալական հարցերի նախարարություն | D10: =D11+D24+D38 -> 0 | E10: =E11+E24+E38 -> 0
A11: 1011 | C11: Ծրագրի անվանումը` | D11: =+D18 -> -251000 | E11: =+E18 -> -251000
C12: Անապահով սոցիալական խմբերին աջակցություն
C13: Ծրագրի նպատակը`
C14: Օժանդակել անապահով ընտանիքների կենսամակարդակի բարձրացմանը
C15: Վերջնական արդյունքի նկարագրությունը`
C16: Աղքատության մեղմում և ծայրահեղ աղքատության կրճատում
A17: Ծրագրի միջոցառումներ
B18: 12001 | C18: Միջոցառման անվանումը` | D18: -251000 | E18: -251000
C19: Ընտանիքի կենսամակարդակի բարձրացմանն ուղղված նպաստներ
C20: Միջոցառման նկարագրությունը`
C21: Ընտանիքների անապահովության գնահատման համակարգում հաշվառված, անապահով ճանաչված ընտանիքներին նպաստի, սոցիալական նպաստի և հրատապ օգնության տրամադրում
C22: Միջոցառման տեսակը
C23: Տրանսֆերտների տրամադրում
A24: 1205 | C24: Ծրագրի անվանումը` | D24: =+D31 -> 251000 | E24: =+E31 -> 251000
C25: Սոցիալական ապահովություն
C26: Ծրագրի նպատակը`
C27: Սոցիալական ապահովության իրավունքի իրականացման ապահովում
C28: Վերջնական արդյունքի նկարագրությունը`
C29: Սոցիալական ապահովության իրավունքի իրականացում
A30: Ծրագրի միջոցառումներ
B31: 12029 | C31: Միջոցառման անվանումը` | D31: 251000 | E31: 251000
C32: Անկանխիկ եղանակով վճարումներից կենսաթոշակառուներին հետվճարի տրամադրում
C33: Միջոցառման նկարագրությունը`
C34: Անկանխիկ եղանակով վճարումներից կենսաթոշակառուներին հետվճարի տրամադրում՝ պետություն-մասնավոր սոցիալական փոխգործակցության միջոցառման շրջանակում
C35: Միջոցառման տեսակը
C36: Տրանսֆերտների տրամադրում
C37: ՀՀ կառավարություն | D37: =D38+D51+D65 -> 0 | E37: =E38+E51+E65 -> 0
A38: 1139 | C38: Ծրագրի անվանումը` | D38: =SUM(D46,D52) -> 0 | E38: =SUM(E46,E52) -> 0
C39: ՀՀ կառավարության պահուստային ֆոնդ
C40: Ծրագրի նպատակը`
C41: Պետական բյուջեում չկանխատեսված, ինչպես նաեւ բյուջետային երաշխիքների ապահովման ծախսերի ֆինանսավորման ապահովում
C42: Վերջնական արդյունքի նկարագրությունը`
C43: Պահուստային ֆոնդի կառավարման արդյունավետության և թափանցիկության ապահովում
A44: Ծրագրի միջոցառումներ
B45: 11001 | C45: Միջոցառման անվանումը`
C46: ՀՀ կառավարության պահուստային ֆոնդ | D46: 251000 | E46: 251000
C47: Միջոցառման նկարագրությունը`
C48: ՀՀ պետական բյուջեում նախատեսված ելքերի լրացուցիչ ֆինանսավորման, պետական բյուջեում չկանխատեսված ելքերի, ինչպես նաև բյուջետային երաշխիքների ապահովման ելքերի ֆինանսավորման ապահովում
C49: Միջոցառման տեսակը
C50: Ծառայությունների մատուցում
B51: 11001 | C51: Միջոցառման անվանումը`
C52: ՀՀ կառավարության պահուստային ֆոնդ | D52: -251000 | E52: -251000
C53: Միջոցառման նկարագրությունը`
C54: ՀՀ պետական բյուջեում նախատեսված ելքերի լրացուցիչ ֆինանսավորման, պետական բյուջեում չկանխատեսված ելքերի, ինչպես նաև բյուջետային երաշխիքների ապահովման ելքերի ֆինանսավորման ապահովում
C55: Միջոցառման տեսակը
C56: Ծառայությունների մատուցում

Sheet 2
H1: Հավելված N 2
H2: ՀՀ կառավարության 2022 թվականի
H3: -----------------ի N -----------Ն որոշման
A5: ՀԱՅԱՍՏԱՆԻ ՀԱՆՐԱՊԵՏՈՒԹՅԱՆ ԿԱՌԱՎԱՐՈՒԹՅԱՆ 2021 ԹՎԱԿԱՆԻ ԴԵԿՏԵՄԲԵՐԻ 23-Ի N 2121-Ն ՈՐՈՇՄԱՆ N N 3 ԵՎ 4 ՀԱՎԵԼՎԱԾՆԵՐՈՒՄ ԿԱՏԱՐՎՈՂ ՓՈՓՈԽՈՒԹՅՈՒՆՆԵՐԸ ԵՎ ԼՐԱՑՈՒՄՆԵՐԸ
H6: (հազար դրամ)
A7: Գործառական դասիչը | D7: Ծրագրային դասիչը | F7: Բյուջետային ծախսերի գործառական դասակարգման բաժինների, խմբերի և դասերի, բյուջետային ծրագրերի միջոցառումների, բյուջետային հատկացումների գլխավոր կարգադրիչների անվանումները | G7: ='1'!D7 -> Ցուցանիշների փոփոխությունները ավելացումները նշված են դրական նշանով, իսկ նվազեցումները՝ փակագծերում
A8: Բաժինը | B8: Խումբը | C8: Դասը | D8: Ծրագիր | E8: Միջոցառում | G8: ='1'!D8 -> Ինն ամիս | H8: ='1'!E8 -> Տարի
F9: ԸՆԴԱՄԵՆԸ ԾԱԽՍԵՐ | G9: =G11+G45 -> 0 | H9: =H11+H45 -> 0
F10: այդ թվում`
A11: 10 | F11: ՍՈՑԻԱԼԱԿԱՆ ՊԱՇՏՊԱՆՈՒԹՅՈՒՆ | G11: =G13+G29 -> 0 | H11: =H13+H29 -> 0
F12: այդ թվում`
B13: 02 | F13: Ծերություն | G13: =G15 -> 251000 | H13: =H15 -> 251000
F14: այդ թվում`
C15: 01 | F15: Ծերություն | G15: =G17 -> 251000 | H15: =H17 -> 251000
F16: այդ թվում`
F17: ՀՀ աշխատանքի և սոցիալական հարցերի նախարարություն | G17: =G18 -> 251000 | H17: =H18 -> 251000
D18: ='1'!A24 -> 1205 | F18: Սոցիալական ապահովություն | G18: =G20 -> 251000 | H18: =H20 -> 251000
F19: այդ թվում`
E20: 12029 | F20: =('1'!C32) -> Անկանխիկ եղանակով վճարումներից կենսաթոշակառուներին հետվճարի տրամադրում | G20: =+G22 -> 251000 | H20: =+H22 -> 251000
F21: այդ թվում` ըստ կատարողների
F22: ՀՀ աշխատանքի և սոցիալական հարցերի նախարարության միասնական սոցիալական ծառայություն | G22: =+G24 -> 251000 | H22: =+H24 -> 251000
F23: այդ թվում` բյուջետային ծախսերի տնտեսագիտական դասակարգման հոդվածներ
F24: ԸՆԴԱՄԵՆԸ ԾԱԽՍԵՐ | G24: =+G25 -> 251000 | H24: =+H25 -> 251000
F25: ԸՆԹԱՑԻԿ ԾԱԽՍԵՐ | G25: =+G26 -> 251000 | H25: =+H26 -> 251000
F26: ՍՈՑԻԱԼԱԿԱՆ ՆՊԱՍՏՆԵՐ ԵՎ ԿԵՆՍԱԹՈՇԱԿՆԵՐ | G26: =+G27 -> 251000 | H26: =+H27 -> 251000
F27: Սոցիալական օգնության դրամական արտահայտությամբ նպաստներ (բյուջեից) | G27: =+G28 -> 251000 | H27: =+H28 -> 251000
F28: - Այլ նպաստներ բյուջեից | G28: ='1'!D31 -> 251000 | H28: ='1'!E31 -> 251000
B29: 04 | F29: Ընտանիքի անդամներ և զավակներ | G29: =G31 -> -251000 | H29: =H31 -> -251000
F30: այդ թվում`
C31: 01 | F31: Ընտանիքի անդամներ և զավակներ | G31: =G34 -> -251000 | H31: =H34 -> -251000
F32: այդ թվում`
F33: ՀՀ աշխատանքի և սոցիալական հարցերի նախարարություն | G33: =G34 -> -251000 | H33: =H34 -> -251000
D34: 1011 | F34: Անապահով սոցիալական խմբերին աջակցություն | G34: =+G36 -> -251000 | H34: =+H36 -> -251000
F35: այդ թվում`
E36: 12001 | F36: Ընտանիքի կենսամակարդակի բարձրացմանն ուղղված նպաստներ | G36: =+G38 -> -251000 | H36: =+H38 -> -251000
F37: այդ թվում` ըստ կատարողների
F38: ՀՀ աշխատանքի և սոցիալական հարցերի նախարարության միասնական սոցիալական ծառայություն | G38: =+G40 -> -251000 | H38: =+H40 -> -251000
F39: այդ թվում` բյուջետային ծախսերի տնտեսագիտական դասակարգման հոդվածներ
F40: ԸՆԴԱՄԵՆԸ ԾԱԽՍԵՐ | G40: =+G41 -> -251000 | H40: =+H41 -> -251000
F41: ԸՆԹԱՑԻԿ ԾԱԽՍԵՐ | G41: =+G42 -> -251000 | H41: =+H42 -> -251000
F42: ՍՈՑԻԱԼԱԿԱՆ ՆՊԱՍՏՆԵՐ ԵՎ ԿԵՆՍԱԹՈՇԱԿՆԵՐ | G42: =+G43 -> -251000 | H42: =+H43 -> -251000
F43: Սոցիալական օգնության դրամական արտահայտությամբ նպաստներ (բյուջեից) | G43: =+G44 -> -251000 | H43: =+H44 -> -251000
F44: - Երեխաների կամ ընտանեկան նպաստներ բյուջեից | G44: ='1'!D18 -> -251000 | H44: ='1'!E18 -> -251000
A45: 11 | F45: ՀԻՄՆԱԿԱՆ ԲԱԺԻՆՆԵՐԻՆ ՉԴԱՍՎՈՂ ՊԱՀՈՒՍՏԱՅԻՆ ՖՈՆԴԵՐ | G45: =G47 -> 0 | H45: =H47 -> 0
F46: այդ թվում՝
B47: 01 | F47: ՀՀ կառավարության և համայնքների պահուստային ֆոնդ | G47: =G51 -> 0 | H47: =H51 -> 0
F48: այդ թվում՝
C49: 01 | F49: ՀՀ կառավարության պահուստային ֆոնդ | G49: =G51 -> 0 | H49: =H51 -> 0
F50: այդ թվում՝ ՀՀ կառավարություն | G50: =+G51 -> 0 | H50: =+H51 -> 0
D51: 1139 | F51: ՀՀ կառավարության պահուստային ֆոնդ | G51: =G53+G61 -> 0 | H51: =H53+H61 -> 0
F52: այդ թվում՝
E53: 11001 | F53: ՀՀ կառավարության պահուստային ֆոնդ | G53: =G55 -> 251000 | H53: =H55 -> 251000
F54: այդ թվում՝ ըստ կատարողների
F55: ՀՀ կառավարություն | G55: =G57 -> 251000 | H55: =H57 -> 251000
F56: այդ թվում՝ բյուջետային ծախսերի տնտեսագիտական դասակարգման հոդվածներ
F57: ԸՆԴԱՄԵՆԸ ԾԱԽՍԵՐ | G57: =G58 -> 251000 | H57: =H58 -> 251000
F58: ԸՆԹԱՑԻԿ ԾԱԽՍԵՐ | G58: =G59 -> 251000 | H58: =H59 -> 251000
F59: ԱՅԼ ԾԱԽՍԵՐ | G59: =G60 -> 251000 | H59: =H60 -> 251000
F60: - Պահուստային միջոցներ | G60: 251000 | H60: 251000
E61: 11001 | F61: ՀՀ կառավարության պահուստային ֆոնդ | G61: =G63 -> -251000 | H61: =H63 -> -251000
F62: այդ թվում՝ ըստ կատարողների
F63: ՀՀ կառավարություն | G63: =G65 -> -251000 | H63: =H65 -> -251000
F64: այդ թվում՝ բյուջետային ծախսերի տնտեսագիտական դասակարգման հոդվածներ
F65: ԸՆԴԱՄԵՆԸ ԾԱԽՍԵՐ | G65: =G66 -> -251000 | H65: =H66 -> -251000
F66: ԸՆԹԱՑԻԿ ԾԱԽՍԵՐ | G66: =G67 -> -251000 | H66: =H67 -> -251000
F67: ԱՅԼ ԾԱԽՍԵՐ | G67: =G68 -> -251000 | H67: =H68 -> -251000
F68: - Պահուստային միջոցներ | G68: -251000 | H68: -251000

Sheet 3
D1: Հավելված N 3
D2: ՀՀ կառավարության 2022 թվականի
D3: -----------------ի N -----------Ն որոշման
A4: ՀԱՅԱՍՏԱՆԻ ՀԱՆՐԱՊԵՏՈՒԹՅԱՆ ԿԱՌԱՎԱՐՈՒԹՅԱՆ 2020 ԹՎԱԿԱՆԻ ԴԵԿՏԵՄԲԵՐԻ 30-Ի N 2215-Ն ՈՐՈՇՄԱՆ N 9 ՀԱՎԵԼՎԱԾԻ N 9.1.20 ԱՂՅՈՒՍԱԿՈՒՄ ԿԱՏԱՐՎՈՂ ՓՈՓՈԽՈՒԹՅՈՒՆՆԵՐԸ
A5: ՀԱՅԱՍՏԱՆԻ ՀԱՆՐԱՊԵՏՈՒԹՅԱՆ ԿԱՌԱՎԱՐՈՒԹՅԱՆ 2021 ԹՎԱԿԱՆԻ ԴԵԿՏԵՄԲԵՐԻ 23-Ի N 2121-Ն ՈՐՈՇՄԱՆ N 9 ՀԱՎԵԼՎԱԾԻ N N 9.15 ԵՎ 9.47 ԱՂՅՈՒՍԱԿՆԵՐՈՒՄ ԿԱՏԱՐՎՈՂ ՓՈՓՈԽՈՒԹՅՈՒՆՆԵՐԸ ԵՎ ԼՐԱՑՈՒՄՆԵՐԸ
A6: Հայաստանի Հանրապետության աշխատանքի և սոցիալական հարցերի նախարարություն
A7: ՄԱՍ 2. ՊԵՏԱԿԱՆ ՄԱՐՄՆԻ ԳԾՈՎ ԱՐԴՅՈՒՆՔԱՅԻՆ (ԿԱՏԱՐՈՂԱԿԱՆ) ՑՈՒՑԱՆԻՇՆԵՐԸ
A9: Ծրագրի դասիչը | B9: Ծրագրի անվանումը
A10: 1011 | B10: Անապահով սոցիալական խմբերին աջակցություն
A11: Ծրագրի միջոցառումներ
A13: Ծրագրի դասիչը` | B13: 1011 | C13: Ցուցանիշների փոփոխությունը (նվազեցումները նշված են փակագծերում)
A14: Միջոցառման դասիչը` | B14: 12001 | C14: ='1'!D8 -> Ինն ամիս | D14: ='1'!E8 -> Տարի
A15: Միջոցառման անվանումը` | B15: Ընտանիքի կենսամակարդակի բարձրացմանն ուղղված նպաստներ
A16: Նկարագրությունը` | B16: Ընտանիքների անապահովության գնահատման համակարգում հաշվառված, անապահով ճանաչված ընտանիքներին նպաստի, սոցիալական նպաստի և հրատապ օգնության տրամադրում
A17: Միջոցառման տեսակը` | B17: Տրանսֆերտների տրամադրում
A18: Շահառուների ընտրության չափանիշները | B18: Ընտանիքների անապահովության գնահատման համակարգում հաշվառված ընտանիք?ընտանիքի անապահովության միավորի հիման վրա
A19: Արդյունքի չափորոշիչներ
A20: Ընտանիքի կենսամակարդակի բարձրացմանն ուղղված նպաստներ ստացող ընտանիքների թիվ, հատ | C20: =C21/E20/12*1000 -> -738.22835 | D20: =D21/E20/12*1000 -> -738.22835 | E20: 28333.6
A21: Միջոցառման վրա կատարվող ծախսը (հազար դրամ) | C21: ='1'!D18 -> -251000 | D21: ='1'!E18 -> -251000
A24: Ծրագրի դասիչը | B24: Ծրագրի անվանումը
A25: 1205 | B25: Սոցիալական ապահովություն
A26: Ծրագրի միջոցառումները
A28: Ծրագրի դասիչը` | B28: 1205 | C28: Ցուցանիշների փոփոխությունը (ավելացումները նշված են դրական նշանով)
A29: Միջոցառման դասիչը` | B29: 12029 | C29: ='1'!D8 -> Ինն ամիս | D29: ='1'!E8 -> Տարի
A30: Միջոցառման անվանումը` | B30: =('1'!C32) -> Անկանխիկ եղանակով վճարումներից կենսաթոշակառուներին հետվճարի տրամադրում
A31: Նկարագրությունը` | B31: =('1'!C34) -> Անկանխիկ եղանակով վճարումներից կենսաթոշակառուներին հետվճարի տրամադրում՝ պետություն-մասնավոր սոցիալական փոխգործակցության միջոցառման շրջանակում
A32: Միջոցառման տեսակը` | B32: Տրանսֆերտների տրամադրում
A33: Շահառուների ընտրության չափանիշները | B33: ՀՀ կառավարության 2022թ. հունիսի 23-ի N 932-Լ որոշման պահանջներին համապատասխան
A34: Արդյունքի չափորոշիչներ
A35: Կենսաթոշակառուների, նպասատառուների միջին թիվ, մարդ, | C35: 173153 | D35: =SUM(C35) -> 173153
A36: Միջոցառման վրա կատարվող ծախսը (հազար դրամ) | C36: ='1'!D31 -> 251000 | D36: ='1'!E31 -> 251000
A38: ՀՀ կառավարություն
A39: ՄԱՍ 2. ՊԵՏԱԿԱՆ ՄԱՐՄՆԻ ԳԾՈՎ ԱՐԴՅՈՒՆՔԱՅԻՆ (ԿԱՏԱՐՈՂԱԿԱՆ) ՑՈՒՑԱՆԻՇՆԵՐԸ
A41: Ծրագրի դասիչը | B41: Ծրագրի անվանումը
A42: 1139 | B42: =('1'!C39) -> ՀՀ կառավարության պահուստային ֆոնդ
A43: Ծրագրի միջոցառումները
A45: Ծրագրի դասիչը` | B45: =SUM(A42) -> 1139 | C45: Ցուցանիշների փոփոխությունը (ավելացումները նշված են դրական նշանով)
A46: Միջոցառման դասիչը` | B46: =('1'!B45) -> 11001
A47: Միջոցառման անվանումը` | B47: =('1'!C52) -> ՀՀ կառավարության պահուստային ֆոնդ
A48: Նկարագրությունը` | B48: =('1'!C54) -> ՀՀ պետական բյուջեում նախատեսված ելքերի լրացուցիչ ֆինանսավորման, պետական բյուջեում չկանխատեսված ելքերի, ինչպես նաև բյուջետային երաշխիքների ապահովման ելքերի ֆինանսավորման ապահովում
A49: Միջոցառման տեսակը` | B49: =('1'!C50) -> Ծառայությունների մատուցում
A50: Միջոցառման վրա կատարվող ծախսը (հազար դրամ) | C50: ='1'!D46 -> 251000 | D50: ='1'!E46 -> 251000
A52: Ծրագրի դասիչը` | B52: =SUM(A42) -> 1139 | C52: Ցուցանիշների փոփոխությունը (նվազեցումները նշված են փակագծերում)
A53: Միջոցառման դասիչը` | B53: =('1'!B45) -> 11001
A54: Միջոցառման անվանումը` | B54: =('1'!C52) -> ՀՀ կառավարության պահուստային ֆոնդ
A55: Նկարագրությունը` | B55: =('1'!C54) -> ՀՀ պետական բյուջեում նախատեսված ելքերի լրացուցիչ ֆինանսավորման, պետական բյուջեում չկանխատեսված ելքերի, ինչպես նաև բյուջետային երաշխիքների ապահովման ելքերի ֆինանսավորման ապահովում
A56: Միջոցառման տեսակը` | B56: =('1'!C50) -> Ծառայությունների մատուցում
A57: Միջոցառման վրա կատարվող ծախսը (հազար դրամ) | C57: ='1'!D52 -> -251000 | D57: ='1'!E52 -> -251000

Sheet 4
D1: Հավելված N 4
D2: ՀՀ կառավարության 2022 թվականի
D3: -----------------ի N -----------Ն որոշման
A4: ՀԱՅԱՍՏԱՆԻ ՀԱՆՐԱՊԵՏՈՒԹՅԱՆ ԿԱՌԱՎԱՐՈՒԹՅԱՆ 2020 ԹՎԱԿԱՆԻ ԴԵԿՏԵՄԲԵՐԻ 30-Ի N 2215-Ն ՈՐՈՇՄԱՆ N 9 ՀԱՎԵԼՎԱԾԻ N 9.1.20 ԱՂՅՈՒՍԱԿՈՒՄ ԿԱՏԱՐՎՈՂ ՓՈՓՈԽՈՒԹՅՈՒՆՆԵՐԸ
A5: ՀԱՅԱՍՏԱՆԻ ՀԱՆՐԱՊԵՏՈՒԹՅԱՆ ԿԱՌԱՎԱՐՈՒԹՅԱՆ 2021 ԹՎԱԿԱՆԻ ԴԵԿՏԵՄԲԵՐԻ 23-Ի N 2121-Ն ՈՐՈՇՄԱՆ N 9.1 ՀԱՎԵԼՎԱԾԻ N 9.1.20 ԵՎ 9.1.59 ԱՂՅՈՒՍԱԿՆԵՐՈՒՄ ԿԱՏԱՐՎՈՂ ՓՈՓՈԽՈՒԹՅՈՒՆՆԵՐԸ ԵՎ ԼՐԱՑՈՒՄՆԵՐԸ
A6: ՄԱՍ 1. ՊԵՏԱԿԱՆ ՄԱՐՄՆԻ ԳԾՈՎ ԱՐԴՅՈՒՆՔԱՅԻՆ (ԿԱՏԱՐՈՂԱԿԱՆ) ՑՈՒՑԱՆԻՇՆԵՐԸ
A8: ՀՀ աշխատանքի և սոցիալական հարցերի նախարարության միասնական սոցիալական ծառայություն
A9: ՀԱՅԱՍՏԱՆԻ ՀԱՆՐԱՊԵՏՈՒԹՅԱՆ ԿԱՌԱՎԱՐՈՒԹՅԱՆ 2021 ԹՎԱԿԱՆԻ ԴԵԿՏԵՄԲԵՐԻ 23-Ի N 2121-Ն ՈՐՈՇՄԱՆ N 9 ՀԱՎԵԼՎԱԾԻ N 9.15 ԱՂՅՈՒՍԱԿՆԵՐՈՒՄ ԿԱՏԱՐՎՈՂ ՓՈՓՈԽՈՒԹՅՈՒՆՆԵՐԸ
A10: Ծրագրի դասիչը | B10: Ծրագրի անվանումը
A11: 1011 | B11: Անապահով սոցիալական խմբերին աջակցություն
A12: Ծրագրի միջոցառումներ
A14: Ծրագրի դասիչը` | B14: 1011 | C14: Ցուցանիշների փոփոխությունը (նվազեցումները նշված են փակագծերում)
A15: Միջոցառման դասիչը` | B15: 12001 | C15: ='1'!D8 -> Ինն ամիս | D15: ='1'!E8 -> Տարի
A16: Միջոցառման անվանումը` | B16: Ընտանիքի կենսամակարդակի բարձրացմանն ուղղված նպաստներ
A17: Նկարագրությունը` | B17: Ընտանիքների անապահովության գնահատման համակարգում հաշվառված, անապահով ճանաչված ընտանիքներին նպաստի, սոցիալական նպաստի և հրատապ օգնության տրամադրում
A18: Միջոցառման տեսակը` | B18: Տրանսֆերտների տրամադրում
A19: Շահառուների ընտրության չափանիշները | B19: Ընտանիքների անապահովության գնահատման համակարգում հաշվառված ընտանիք?ընտանիքի անապահովության միավորի հիման վրա
A20: Արդյունքի չափորոշիչներ
A21: Ընտանիքի կենսամակարդակի բարձրացմանն ուղղված նպաստներ ստացող ընտանիքների թիվ, հատ | C21: =C22/E21/12*1000 -> -738.22835 | D21: =D22/E21/12*1000 -> -738.22835 | E21: 28333.6
A22: Միջոցառման վրա կատարվող ծախսը (հազար դրամ) | C22: ='1'!D18 -> -251000 | D22: ='1'!E18 -> -251000
A25: Ծրագրի դասիչը | B25: Ծրագրի անվանումը
A26: 1205 | B26: Սոցիալական ապահովություն
A27: Ծրագրի միջոցառումները
A29: Ծրագրի դասիչը` | B29: 1205 | C29: Ցուցանիշների փոփոխությունը (ավելացումները նշված են դրական նշանով)
A30: Միջոցառման դասիչը` | B30: 12029 | C30: ='1'!D8 -> Ինն ամիս | D30: ='1'!E8 -> Տարի
A31: Միջոցառման անվանումը` | B31: =('1'!C32) -> Անկանխիկ եղանակով վճարումներից կենսաթոշակառուներին հետվճարի տրամադրում
A32: Նկարագրությունը` | B32: =('1'!C34) -> Անկանխիկ եղանակով վճարումներից կենսաթոշակառուներին հետվճարի տրամադրում՝ պետություն-մասնավոր սոցիալական փոխգործակցության միջոցառման շրջանակում
A33: Միջոցառման տեսակը` | B33: Տրանսֆերտների տրամադրում
A34: Շահառուների ընտրության չափանիշները | B34: ՀՀ կառավարության 2022թ. հունիսի 23-ի N 932-Լ որոշման պահանջներին համապատասխան
A35: Արդյունքի չափորոշիչներ
A36: Կենսաթոշակառուների, նպասատառուների միջին թիվ, մարդ, | C36: 173153 | D36: =SUM(C36) -> 173153
A37: Միջոցառման վրա կատարվող ծախսը (հազար դրամ) | C37: ='1'!D31 -> 251000 | D37: ='1'!E31 -> 251000
A39: ՀՀ կառավարություն
A40: ՄԱՍ 1. ՊԵՏԱԿԱՆ ՄԱՐՄՆԻ ԳԾՈՎ ԱՐԴՅՈՒՆՔԱՅԻՆ (ԿԱՏԱՐՈՂԱԿԱՆ) ՑՈՒՑԱՆԻՇՆԵՐԸ
A42: Ծրագրի դասիչը | B42: Ծրագրի անվանումը
A43: 1139 | B43: =('1'!C39) -> ՀՀ կառավարության պահուստային ֆոնդ
A44: Ծրագրի միջոցառումները
A46: Ծրագրի դասիչը` | B46: =SUM(A43) -> 1139 | C46: Ցուցանիշների փոփոխությունը (ավելացումները նշված են դրական նշանով)
A47: Միջոցառման դասիչը` | B47: =('1'!B45) -> 11001
A48: Միջոցառման անվանումը` | B48: =('1'!C52) -> ՀՀ կառավարության պահուստային ֆոնդ
A49: Նկարագրությունը` | B49: =('1'!C54) -> ՀՀ պետական բյուջեում նախատեսված ելքերի լրացուցիչ ֆինանսավորման, պետական բյուջեում չկանխատեսված ելքերի, ինչպես նաև բյուջետային երաշխիքների ապահովման ելքերի ֆինանսավորման ապահովում
A50: Միջոցառման տեսակը` | B50: =('1'!C50) -> Ծառայությունների մատուցում
A51: Միջոցառման վրա կատարվող ծախսը (հազար դրամ) | C51: ='1'!D46 -> 251000 | D51: ='1'!E46 -> 251000
A53: Ծրագրի դասիչը` | B53: =SUM(A43) -> 1139 | C53: Ցուցանիշների փոփոխությունը (նվազեցումները նշված են փակագծերում)
A54: Միջոցառման դասիչը` | B54: =('1'!B45) -> 11001
A55: Միջոցառման անվանումը` | B55: =('1'!C52) -> ՀՀ կառավարության պահուստային ֆոնդ
A56: Նկարագրությունը` | B56: =('1'!C54) -> ՀՀ պետական բյուջեում նախատեսված ելքերի լրացուցիչ ֆինանսավորման, պետական բյուջեում չկանխատեսված ելքերի, ինչպես նաև բյուջետային երաշխիքների ապահովման ելքերի ֆինանսավորման ապահովում
A57: Միջոցառման տեսակը` | B57: =('1'!C50) -> Ծառայությունների մատուցում
A58: Միջոցառման վրա կատարվող ծախսը (հազար դրամ) | C58: ='1'!D52 -> -251000 | D58: ='1'!E52 -> -251000
