Workbook
Name AgencyCode: #REF!
Name AgencyCode: #REF!
Name AgencyName: #REF!
Name AgencyName: #REF!
Name Functional1: #REF!
Name Functional1: #REF!
Name PANature: #REF!
Name PANature: #REF!
Name PAType: #REF!
Name PAType: #REF!
Name Performance2: #REF!
Name Performance2: #REF!
Name PerformanceType: #REF!
Name PerformanceType: #REF!

Sheet 1
A1: Հավելված 1
A2: 2022 թվականի
A3: ______________ ի ___Ն որոշման
A5: «ՀԱՅԱUՏԱՆԻ ՀԱՆՐԱՊԵՏՈՒԹՅԱՆ 2022 ԹՎԱԿԱՆԻ ՊԵՏԱԿԱՆ ԲՅՈՒՋԵԻ ՄԱUԻՆ» OՐԵՆՔԻ N 1 ՀԱՎԵԼՎԱԾԻ N 2 ԱՂՅՈՒՍԱԿՈՒՄ ԿԱՏԱՐՎՈՂ ՎԵՐԱԲԱՇԽՈՒՄԸ ԵՎ ՀԱՅԱՍՏԱՆԻ ՀԱՆՐԱՊԵՏՈՒԹՅԱՆ ԿԱՌԱՎԱՐՈՒԹՅԱՆ 2021 ԹՎԱԿԱՆԻ ԴԵԿՏԵՄԲԵՐԻ 23-Ի N 2121-Ն ՈՐՈՇՄԱՆ N5 ՀԱՎԵԼՎԱԾԻ N1 ԱՂՅՈՒՍԱԿՈՒՄ ԿԱՏԱՐՎՈՂ ՓՈՓՈԽՈՒԹՅՈՒՆՆԵՐԸ ԵՎ ԼՐԱՑՈՒՄՆԵՐԸ
F6: հազար դրամ
A7: Ծրագրային դասիչը | C7: Բյուջետային հատկացումների գլխավոր կարգադրիչների, ծրագրերի և միջոցառումների անվանումները | D7: Ցուցանիշների փոփոխությունը (ավելացումները նշված են դրական նշանով, իսկ նվազեցումները` փակագծերում)
A8: Ծրագիր | B8: Միջոցառում | D8: Առաջին կիսամյակ | E8: Ինն ամիս | F8: Տարի
C9: ԸՆԴԱՄԵՆԸ | D9: =+D11 -> - | E9: =+E11 -> 0 | F9: =+F11 -> 0
C10: այդ թվում
B11: ՀՀ տարածքային կառավարման և ենթակառուցվածքների նախարարություն | D11: - | E11: =+E13+E25+E38 -> 0 | F11: =+F13+F25+F38 -> 0
A12: 1070 | C12: Ծրագրի անվանումը`
C13: Աջակցություն փախստականների ինտեգրմանը | D13: - | E13: =-15581 -> -15581 | F13: =+E13 -> -15581
C14: Ծրագրի նպատակը`
C15: Փախստականների ինտեգրում հասարակություն
C16: Վերջնական արդյունքի նկարագրությունը`
C17: Փախստականներին մատուցվող ծառայությունների ընդգրկման և ծառայությունների շրջանակի ընդլայնում
C18: Ծրագրի միջոցառումներ
B19: 12003 | C19: Միջոցառման անվանումը`
C20: 1988-1992 թվականներին Ադրբեջանից բռնագաղթված և Հայաստանի Հանրապետությունում ապաստանած փախստական ընտանիքների բնակարանային ապահովում | D20: =+D13 -> - | E20: =+E13 -> -15581 | F20: =+E20 -> -15581
C21: Միջոցառման նկարագրությունը`
C22: 1988-1992 թվականներին Ադրբեջանից բռնագաղթված և Հայաստանի Հանրապետությունում ապաստանած բնակության վայր չունեցող փախստական ընտանիքներին բնակարանային ապահովման աջակցություն
C23: Միջոցառման տեսակը
C24: Տրանսֆերտների տրամադրում
A25: 1212 | C25: Ծրագրի անվանումը` | D25: =+D32 -> - | E25: =+E32 -> 15581 | F25: =+F32 -> 15581
C26: Տարածքային զարգացում
C27: Ծրագրի նպատակը`
C28: Տարածքային համաչափ զարգացման խթանում
C29: Վերջնական արդյունքի նկարագրությունը`
C30: ՀՀ համայնքների կառավարման արդյունավետության բարձրացում և տնտեսական գործունեության խթանում
C31: Ծրագրի միջոցառումներ
B32: 21002 | C32: Միջոցառման անվանումը` | D32: - | E32: 15581 | F32: 15581
C33: ՀՀ համայնքներում բազմաբնակարան շենքերի տեխնիկական վիճակի բարելավում
C34: Միջոցառման նկարագրությունը`
C35: ՀՀ համայնքներում անբավարար տեխնիկական վիճակում գտնվող վթարային շենքերի ուժեղացման-վերականգնման (ամրացման) աշխատանքներ, նախագծանախահաշվային փաստաթղթերի ձեռքբերում
C36: Միջոցառման տեսակը
C37: Հանրության կողմից անմիջականորեն օգտագործվող ակտիվների հետ կապված միջոցառումներ
C38: ՀՀ կառավարություն | D38: =+D33 -> 0 | E38: =+E40 -> 0 | F38: =+F40 -> 0
A39: 1139 | C39: Ծրագրի անվանումը`
C40: ՀՀ կառավարության պահուստային ֆոնդ | D40: =+D38 -> 0 | E40: =+E46+E52 -> 0 | F40: =+E40 -> 0
C41: Ծրագրի նպատակը`
...

Sheet 2
F1: Հավելված N 2
D2: ՀՀ կառավարության 2022 թվականի
D3: ___________ ___-ի N _______ -Ն որոշման
A6: ՀԱՅԱՍՏԱՆԻ ՀԱՆՐԱՊԵՏՈՒԹՅԱՆ 2022 ԹՎԱԿԱՆԻ ՊԵՏԱԿԱՆ ԲՅՈՒՋԵԻ ՄԱՍԻՆ ՕՐԵՆՔԻ N 1 ՀԱՎԵԼՎԱԾԻ N 3 ԱՂՅՈՒՍԱԿՈՒՄ ԿԱՏԱՐՎՈՂ ԼՐԱՑՈՒՄԸ
G7: հազար դրամ
A8: Ծրագրային դասիչը | C8: Բյուջետային գլխավոր կարգադրիչների, ծրագրերի և միջոցառումների և ուղղությունների անվանումները | D8: Ընդամենը, | E8: Ցուցանիշների փոփոխությունը (ավելացումները նշված են դրական նշանով)
E9: այդ թվում
A10: Ծրագիր | B10: Միջոցառում | E10: Կառուցման աշխատանքներ | F10: Վերակառուցման, վերանորոգման և վերականգնման աշխատանքներ | G10: Նախագծահետազոտական, գեոդեզիա-քարտեզագրական աշխատանքներ | H10: Ոչ ֆինանսական այլ ակտիվների ձեռքբերում
C11: Ընդամենը | D11: =+D13 -> 15581 | E11: =+E13 -> 0 | F11: =+F13 -> 0 | G11: =SUM('1'!E25:E30) -> 15581 | H11: =+H13 -> 0
C12: այդ թվում`
C13: =+'1'!B11 -> ՀՀ տարածքային կառավարման և ենթակառուցվածքների նախարարություն | D13: =+D15 -> 15581 | E13: =+E15 -> 0 | F13: =+F15 -> 0 | G13: =SUM('1'!E26:E32) -> 15581 | H13: =+H15 -> 0
C14: այդ թվում`
A15: =+'1'!A25 -> 1212 | B15: =+'1'!B32 -> 21002 | C15: ՀՀ համայնքներում բազմաբնակարան շենքերի տեխնիկական վիճակի բարելավում | D15: =+E15+F15+G15+H15 -> 15581 | E15: =+E17 -> 0 | F15: =+F17 -> 0 | G15: =SUM('1'!E28:E34) -> 15581 | H15: =+H17 -> 0
C16: այդ թվում`
C17: ՀՀ Շիրակի մարզի Գյումրի քաղաքի Տիգրան Մեծ N5 շենքի անբավարար տեխնիկական վիճակում գտնվող թվով 3 մուտքերի ուժեղացման-վերականգնման (ամրացման) նախագծանախահաշվային փաստաթղթերի ձեռքբերում | D17: =+E17+F17+G17+H17 -> 15581 | E17: 0 | F17: 0 | G17: =SUM('1'!E30:E36) -> 15581 | H17: 0

Sheet 3
A1: Հավելված 3
A2: ՀՀ կառավարության 2022 թվականի
A3: ______________ ի ___Ն որոշման
A5: ՀԱՅԱՍՏԱՆԻ ՀԱՆՐԱՊԵՏՈՒԹՅԱՆ ԿԱՌԱՎԱՐՈՒԹՅԱՆ 2021 ԹՎԱԿԱՆԻ ԴԵԿՏԵՄԲԵՐԻ 23-Ի N 2121-Ն ՈՐՈՇՄԱՆ N 3 ԵՎ N 4 ՀԱՎԵԼՎԱԾՆԵՐՈՒՄ ԿԱՏԱՐՎՈՂ ՓՈՓՈԽՈՒԹՅՈՒՆՆԵՐԸ ԵՎ ԼՐԱՑՈՒՄՆԵՐԸ
I7: հազար դրամ
A8: Գործառական դասիչը | D8: Ծրագրային դասիչը | F8: Բյուջետային ծախսերի գործառական դասակարգման բաժինների, խմբերի և դասերի, բյուջետային հատկացումների գլխավոր կարգադրիչների, ծրագրերի, միջոցառումների և միջոցառումները կատարող պետական մարմինների անվանումները | G8: Ցուցանիշների փոփոխությունը (ավելացումները նշված են դրական նշանով, իսկ նվազեցումները` փակագծերում)
A9: Բաժին | B9: Խումբ | C9: Դաս | D9: Ծրագիր | E9: Միջոցա ռում | G9: Առաջին կիսամյակ | H9: Ինն ասմից | I9: Տարի
F10: ԸՆԴԱՄԵՆԸ | G10: - | H10: =+H13+H32 -> 0 | I10: =+I13+I32 -> 0
F11: այդ թվում
F12: ՀՀ տարածքային կառավարման և ենթակառուցվածքների նախարարություն | G12: - | H12: =+H13+H32 -> 0 | I12: =+I13+I32 -> 0
A13: 10 | F13: ՍՈՑԻԱԼԱԿԱՆ ՊԱՇՏՊԱՆՈՒԹՅՈՒՆ | G13: - | H13: =-15581 -> -15581 | I13: =+H13 -> -15581
F14: այդ թվում`
B15: 06 | F15: Բնակարանային ապահովում | G15: =+G13 -> - | H15: =+H13 -> -15581 | I15: =+I13 -> -15581
F16: այդ թվում`
C17: 01 | F17: Բնակարանային ապահովում | G17: =+G15 -> - | H17: =+H15 -> -15581 | I17: =+I15 -> -15581
F18: այդ թվում`
F19: ՀՀ տարածքային կառավարման և ենթակառուցվածքների նախարարություն | G19: =+G17 -> - | H19: =+H17 -> -15581 | I19: =+I17 -> -15581
F20: այդ թվում`
D21: 1070 | F21: Աջակցություն փախստականների ինտեգրմանը | G21: =+G19 -> - | H21: =+H19 -> -15581 | I21: =+I19 -> -15581
F22: այդ թվում`
E23: 12003 | F23: 1988-1992 թվականներին Ադրբեջանից բռնագաղթված և Հայաստանի Հանրապետությունում ապաստանած փախստական ընտանիքների բնակարանային ապահովում | G23: =+G21 -> - | H23: =+H21 -> -15581 | I23: =+I21 -> -15581
F24: այդ թվում` ըստ կատարողների
F25: ՀՀ տարածքային կառավարման և ենթակառուցվածքների նախարարության միգրացիոն ծառայություն | G25: =+G23 -> - | H25: =+H23 -> -15581 | I25: =+I23 -> -15581
F26: այդ թվում` բյուջետային ծախսերի տնտեսագիտական դասակարգման հոդվածներ
F27: ԸՆԴԱՄԵՆԸ ԾԱԽՍԵՐ | G27: =+G25 -> - | H27: =+H25 -> -15581 | I27: =+I25 -> -15581
F28: ԸՆԹԱՑԻԿ ԾԱԽՍԵՐ | G28: =+G27 -> - | H28: =+H27 -> -15581 | I28: =+I27 -> -15581
F29: ԴՐԱՄԱՇՆՈՐՀՆԵՐ | G29: =+G28 -> - | H29: =+H28 -> -15581 | I29: =+I28 -> -15581
F30: Կապիտալ դրամաշնորհներ պետական հատվածի այլ մակարդակներին | G30: =+G29 -> - | H30: =+H29 -> -15581 | I30: =+I29 -> -15581
F31: - Այլ կապիտալ դրամաշնորհներ | G31: =+G30 -> - | H31: =+H30 -> -15581 | I31: =+I30 -> -15581
A32: 06 | F32: ԲՆԱԿԱՐԱՆԱՅԻՆ ՇԻՆԱՐԱՐՈՒԹՅՈՒՆ ԵՎ ԿՈՄՈՒՆԱԼ ԾԱՌԱՅՈՒԹՅՈՒՆՆԵՐ | G32: - | H32: =15581 -> 15581 | I32: =SUM(I36) -> 15581
F33: այդ թվում`
B34: 01 | F34: Բնակարանային շինարարություն | G34: - | H34: =SUM(I34) -> 15581 | I34: =SUM(I40) -> 15581
F35: այդ թվում`
C36: 01 | F36: Բնակարանային շինարարություն | G36: - | H36: =SUM(I36) -> 15581 | I36: =SUM(I38) -> 15581
F37: այդ թվում`
F38: =+'2'!C13 -> ՀՀ տարածքային կառավարման և ենթակառուցվածքների նախարարություն | G38: - | H38: =SUM(I38) -> 15581 | I38: =SUM(I40) -> 15581
F39: այդ թվում`
D40: =+'1'!A25 -> 1212 | F40: =+'1'!C26 -> Տարածքային զարգացում | G40: - | H40: =SUM(I40) -> 15581 | I40: =SUM(I42) -> 15581
F41: այդ թվում`
E42: =+'1'!B32 -> 21002 | F42: =+'1'!C33 -> ՀՀ համայնքներում բազմաբնակարան շենքերի տեխնիկական վիճակի բարելավում | G42: - | H42: =SUM(I42) -> 15581 | I42: =SUM('1'!E25:E30) -> 15581
...

Sheet 4
F1: Հավելված 4
F2: ՀՀ կառավարության 2022 թվականի
F3: ______________ ի ___Ն որոշման
A5: ՀԱՅԱՍՏԱՆԻ ՀԱՆՐԱՊԵՏՈՒԹՅԱՆ ԿԱՌԱՎԱՐՈՒԹՅԱՆ 2021 ԹՎԱԿԱՆԻ ԴԵԿՏԵՄԲԵՐԻ 23-Ի N 2121-Ն ՈՐՈՇՄԱՆ N5 ՀԱՎԵԼՎԱԾԻ N 2 ԱՂՅՈՒՍԱԿՈՒՄ ԿԱՏԱՐՎՈՂ ԼՐԱՑՈՒՄԸ
F6: հազար դրամ
A7: Ծրագրային դասիչը | C7: Բյուջետային հատկացումների գլխավոր կարգադրիչների, ծրագրերի, միջոցառումների և միջոցառումները կատարող պետական մարմինների անվանումները | D7: Ցուցանիշների փոփոխությունը (ավելացումները նշված են դրական նշանով)
A8: Ծրագիր | B8: Միջոցառում | D8: Առաջին կիսամյակ | E8: Ինն ամիս | F8: Տարի
C9: ԸՆԴԱՄԵՆԸ | D9: - | E9: 15581 | F9: 15581
C10: այդ թվում
C11: =+'2'!C13 -> ՀՀ տարածքային կառավարման և ենթակառուցվածքների նախարարություն | D11: - | E11: 15581 | F11: 15581
C12: այդ թվում
A13: =+'3'!D40 -> 1212 | B13: =+'3'!E42 -> 21002 | C13: =+'3'!F42 -> ՀՀ համայնքներում բազմաբնակարան շենքերի տեխնիկական վիճակի բարելավում | D13: - | E13: 15581 | F13: 15581
C14: այդ թվում` ըստ կատարողների
C15: ՀՀ Շիրակի մարզպետարան | D15: - | E15: 15581 | F15: 15581
C16: այդ թվում` ըստ ուղղությունների
C17: ՀՀ Շիրակի մարզի Գյումրի քաղաքի Տիգրան Մեծ N5 շենքի անբավարար տեխնիկական վիճակում գտնվող թվով 3 մուտքերի ուժեղացման-վերականգնման (ամրացման) նախագծանախահաշվային փաստաթղթերի ձեռքբերում | D17: - | E17: 15581 | F17: 15581

Sheet 5
B1: Հավելված 5
B2: ՀՀ կառավարության 2022 թվականի
B3: ______________ ի ___Ն որոշման
A5: ՀԱՅԱՍՏԱՆԻ ՀԱՆՐԱՊԵՏՈՒԹՅԱՆ ԿԱՌԱՎԱՐՈՒԹՅԱՆ 2021 ԹՎԱԿԱՆԻ ԴԵԿՏԵՄԲԵՐԻ 23-Ի ԹԻՎ 2215-Ն ՈՐՈՇՄԱՆ N9 ՀԱՎԵԼՎԱԾԻ 9.7 ԵՎ 9.47 ԱՂՅՈՒՍԱԿՆԵՐՈՒՄ ԿԱՏԱՐՎՈՂ ՓՈՓՈԽՈՒԹՅՈՒՆԸ ԵՎ ԼՐԱՑՈՒՄԸ
E6: Աղյուսակ 9.7
A7: =+'4'!C11 -> ՀՀ տարածքային կառավարման և ենթակառուցվածքների նախարարություն
A9: ՄԱՍ 2. ՊԵՏԱԿԱՆ ՄԱՐՄՆԻ ԳԾՈՎ ԱՐԴՅՈՒՆՔԱՅԻՆ (ԿԱՏԱՐՈՂԱԿԱՆ) ՑՈՒՑԱՆԻՇՆԵՐԸ
A11: Ծրագրի դասիչը | B11: Ծրագրի անվանումը
A12: 1070 | B12: Աջակցություն փախստականների ինտեգրմանը
A14: Ծրագրի միջոցառումները
A16: Ծրագրի դասիչը` | B16: 1070 | C16: Ցուցանիշների փոփոխությունը (նվազեցումները նշված են փակագծերում)
A17: Միջոցառման դասիչը` | B17: 12003 | C17: Առաջին կիսամյակ | D17: Ինն ամիս | E17: Տարի
A18: Միջոցառման անվանումը` | B18: 1988-1992 թվականներին Ադրբեջանից բռնագաղթված և Հայաստանի Հանրապետությունում ապաստանած փախստական ընտանիքների բնակարանային ապահովում
A19: Նկարագրությունը` | B19: 1988-1992 թվականներին Ադրբեջանից բռնագաղթված և Հայաստանի Հանրապետությունում ապաստանած բնակության վայր չունեցող փախստական ընտանիքներին բնակարանային ապահովման աջակցություն
A20: Միջոցառման տեսակը` | B20: Տրանսֆերտների տրամադրում
A21: Շահառուների ընտրության չափանիշներ | B21: Ադրբեջանից բռնագաղթված, Հայաստանի Հանրապետությունում քաղաքացիություն ստացած բնակության վայր չունեցող ընտանիքներ
A22: Արդյունքի չափորոշիչներ
A23: Միջոցառման վրա կատարվող ծախսը (հազար դրամ) | C23: =+'3'!G13 -> - | D23: =+'3'!H13 -> -15581 | E23: =+'3'!I13 -> -15581
A25: Ծրագրի դասիչը | B25: Ծրագրի անվանումը
A26: =+'4'!A13 -> 1212 | B26: =+'1'!C26 -> Տարածքային զարգացում
A28: Ծրագրի միջոցառումները
A30: Ծրագրի դասիչը՝ | B30: =+A26 -> 1212 | C30: Ցուցանիշների փոփոխությունը (ավելացումները նշված են դրական նշանով)
A31: Միջոցառման դասիչը՝ | B31: =+'1'!B32 -> 21002 | C31: Առաջին կիսամյակ | D31: Ինն ամիս | E31: Տարի
A32: Միջոցառման անվանումը՝ | B32: =+'1'!C33 -> ՀՀ համայնքներում բազմաբնակարան շենքերի տեխնիկական վիճակի բարելավում
A33: Նկարագրությունը՝ | B33: =+'1'!C35 -> ՀՀ համայնքներում անբավարար տեխնիկական վիճակում գտնվող վթարային շենքերի ուժեղացման-վերականգնման (ամրացման) աշխատանքներ, նախագծանախահաշվային փաստաթղթերի ձեռքբերում
A34: Միջոցառման տեսակը՝ | B34: Հանրության կողմից անմիջականորեն օգտագործվող ակտիվների հետ կապված միջոցառումներ
A35: Միջոցառումն իրականացնողի անվանումը | B35: ՀՀ Շիրակի մարզպետարան
B36: Արդյունքի չափորոշիչներ
A37: Գյումրի քաղաքի Տիգրան Մեծ N5 շենքի անբավարար տեխնիկական վիճակում գտնվող թվով 3 մուտքերի ուժեղացման-վերականգնման (ամրացման) նախագծանախահաշվային փաստաթղթերի ձեռքբերում, հատ | D37: 1 | E37: 1
A38: Միջոցառման վրա կատարվող ծախսը (հազար դրամ) | C38: =SUM('4'!D13) -> 0 | D38: =SUM('4'!E13) -> 15581 | E38: =SUM(D38) -> 15581
E42: Աղյուսակ 9.47
B43: ՀՀ կառավարություն
A44: ՄԱՍ 2. ՊԵՏԱԿԱՆ ՄԱՐՄՆԻ ԳԾՈՎ ԱՐԴՅՈՒՆՔԱՅԻՆ (ԿԱՏԱՐՈՂԱԿԱՆ) ՑՈՒՑԱՆԻՇՆԵՐԸ
A46: Ծրագրի դասիչը | B46: Ծրագրի անվանումը
A47: 1139 | B47: ՀՀ կառավարության պահուստային ֆոնդ
A49: Ծրագրի միջոցառումները
A50: Ծրագրի դասիչը՝ | B50: 1139 | C50: Ցուցանիշների փոփոխությունը (ավելացումները նշված են դրական նշանով, իսկ նվազեցումները՝ փակագծերում)
A51: Միջոցառման դասիչը՝ | B51: 11001 | C51: Առաջին կիսամյակ | D51: Ինն ամիս | E51: Տարի
A52: Միջոցառման անվանումը՝ | B52: ՀՀ կառավարության պահուստային ֆոնդ
A53: Նկարագրությունը՝ | B53: ՀՀ պետական բյուջեում նախատեսված ելքերի լրացուցիչ ֆինանսավորման՝ պետական բյուջեում չկանխատեսված ելքերի, ինչպես նաև բյուջետային երաշխիքների ապահովման ելքերի ֆինանսավորման ապահովում
...

Sheet 6
B1: Հավելված 6
B2: ՀՀ կառավարության 2022 թվականի
B3: ______________ ի ___Ն որոշման
A5: ՀԱՅԱՍՏԱՆԻ ՀԱՆՐԱՊԵՏՈՒԹՅԱՆ ԿԱՌԱՎԱՐՈՒԹՅԱՆ 2021 ԹՎԱԿԱՆԻ ԴԵԿՏԵՄԲԵՐԻ 23-Ի ԹԻՎ 2121-Ն ՈՐՈՇՄԱՆ N9.1 ՀԱՎԵԼՎԱԾԻ 9.1.35, 9.1.55 ԵՎ 9․1․59 ԱՂՅՈՒՍԱԿՆԵՐՈՒՄ ԿԱՏԱՐՎՈՂ ՓՈՓՈԽՈՒԹՅՈՒՆԸ ԵՎ ԼՐԱՑՈՒՄԸ
D8: Աղյուսակ 9.1.35
A9: ՀՀ տարածքային կառավարման և ենթակառուցվածքների նախարարության միգրացիոն ծառայություն
A10: ՄԱՍ 1. ՊԵՏԱԿԱՆ ՄԱՐՄՆԻ ԳԾՈՎ ԱՐԴՅՈՒՆՔԱՅԻՆ (ԿԱՏԱՐՈՂԱԿԱՆ) ՑՈՒՑԱՆԻՇՆԵՐԸ
A12: Ծրագրի դասիչը | B12: Ծրագրի անվանումը
A13: =+'5'!A12 -> 1070 | B13: =+'5'!B12 -> Աջակցություն փախստականների ինտեգրմանը
A15: Ծրագրի միջոցառումները
A16: Ծրագրի դասիչը` | B16: 1070 | C16: Ցուցանիշների փոփոխությունը (նվազեցումները նշված են փակագծերում)
A17: Միջոցառման դասիչը` | B17: 12003 | C17: Առաջին կիսամյակ | D17: Ինն ամիս | E17: Տարի
A18: Միջոցառման անվանումը` | B18: 1988-1992 թվականներին Ադրբեջանից բռնագաղթված և Հայաստանի Հանրապետությունում ապաստանած փախստական ընտանիքների բնակարանային ապահովում
A19: Նկարագրությունը` | B19: 1988-1992 թվականներին Ադրբեջանից բռնագաղթված և Հայաստանի Հանրապետությունում ապաստանած բնակության վայր չունեցող փախստական ընտանիքներին բնակարանային ապահովման աջակցություն
A20: Միջոցառման տեսակը` | B20: Տրանսֆերտների տրամադրում
A21: Շահառուների ընտրության չափանիշներ | B21: Ադրբեջանից բռնագաղթված, Հայաստանի Հանրապետությունում քաղաքացիություն ստացած բնակության վայր չունեցող ընտանիքներ
A22: Արդյունքի չափորոշիչներ
A23: Միջոցառման վրա կատարվող ծախսը (հազար դրամ) | C23: =+'5'!C23 -> - | D23: =+'5'!D23 -> -15581 | E23: =+'5'!E23 -> -15581
E25: Աղյուսակ 9.1.55
A26: ՀՀ Շիրակի մարզպետարան
A28: ՄԱՍ 1. ՊԵՏԱԿԱՆ ՄԱՐՄՆԻ ԳԾՈՎ ԱՐԴՅՈՒՆՔԱՅԻՆ (ԿԱՏԱՐՈՂԱԿԱՆ) ՑՈՒՑԱՆԻՇՆԵՐԸ
A29: Ծրագրի դասիչը | B29: Ծրագրի անվանումը
A30: 1212 | B30: =+'5'!B26 -> Տարածքային զարգացում
A32: Ծրագրի միջոցառումները
A33: Ծրագրի դասիչը՝ | B33: =+'5'!B30 -> 1212 | C33: Ցուցանիշների փոփոխությունը (ավելացումները նշված են դրական նշանով)
A34: Միջոցառման դասիչը՝ | B34: =+'5'!B31 -> 21002 | C34: Առաջին կիսամյակ | D34: Ինն ամիս | E34: Տարի
A35: Միջոցառման անվանումը՝ | B35: =+'5'!B32 -> ՀՀ համայնքներում բազմաբնակարան շենքերի տեխնիկական վիճակի բարելավում
A36: Նկարագրությունը՝ | B36: =+'5'!B33 -> ՀՀ համայնքներում անբավարար տեխնիկական վիճակում գտնվող վթարային շենքերի ուժեղացման-վերականգնման (ամրացման) աշխատանքներ, նախագծանախահաշվային փաստաթղթերի ձեռքբերում
A37: Միջոցառման տեսակը՝ | B37: =+'5'!B34 -> Հանրության կողմից անմիջականորեն օգտագործվող ակտիվների հետ կապված միջոցառումներ
A38: Միջոցառումն իրականացնողի անվանումը | B38: ՀՀ Շիրակի մարզպետարան
B39: Արդյունքի չափորոշիչներ
A40: Գյումրի քաղաքի Տիգրան Մեծ N5 շենքի անբավարար տեխնիկական վիճակում գտնվող թվով 3 մուտքերի ուժեղացման-վերականգնման (ամրացման) նախագծանախահաշվային փաստաթղթերի ձեռքբերում, հատ | D40: 1 | E40: 1
A41: Միջոցառման վրա կատարվող ծախսը (հազար դրամ) | C41: =SUM('5'!C38) -> 0 | D41: =SUM('5'!D38) -> 15581 | E41: 15581
E44: Աղյուսակ 9.1.59
B45: ՀՀ կառավարություն
A46: ՄԱՍ 2. ՊԵՏԱԿԱՆ ՄԱՐՄՆԻ ԳԾՈՎ ԱՐԴՅՈՒՆՔԱՅԻՆ (ԿԱՏԱՐՈՂԱԿԱՆ) ՑՈՒՑԱՆԻՇՆԵՐԸ
A48: Ծրագրի դասիչը | B48: Ծրագրի անվանումը
A49: 1139 | B49: ՀՀ կառավարության պահուստային ֆոնդ
A51: Ծրագրի միջոցառումները
A52: Ծրագրի դասիչը՝ | B52: 1139 | C52: Ցուցանիշների փոփոխությունը (ավելացումները նշված են դրական նշանով, իսկ նվազեցումները՝ փակագծերում)
...

Sheet 7
G1: Հավելված N 7
F2: ՀՀ կառավարության 2022 թվականի ___________ ___-ի N _______ -Ն որոշման
A3: ՀԱՅԱՍՏԱՆԻ ՀԱՆՐԱՊԵՏՈՒԹՅԱՆ ԿԱՌԱՎԱՐՈՒԹՅԱՆ 2021 ԹՎԱԿԱՆԻ ԴԵԿՏԵՄԲԵՐԻ 23-Ի N 2215-Ն ՈՐՈՇՄԱՆ N 10 ՀԱՎԵԼՎԱԾՈՒՄ ԿԱՏԱՐՎՈՂ ԼՐԱՑՈՒՄԸ
A5: Կոդը | B5: Անվանումը | C5: Գնման ձևը | D5: Չափման միավորը | E5: Միավորի գինը | F5: Ցուցանիշների փոփոխությունը (ավելացումները նշված են դրական նշանով)
F6: Քանակը | G6: Գումարը (հազար դրամ)
A7: 1 | B7: 2 | C7: 3 | D7: 4 | E7: 5 | F7: 6 | G7: 7
A8: ՀՀ Շիրակի մարզպետարան | G8: =SUM('6'!D41) -> 15581
A9: Բաժին N 06, խումբ N 01, դաս N 01, Բնակարանային շինարարություն | G9: =SUM(G8) -> 15581
A10: 1212, 21002 ՀՀ համայնքներում բազմաբնակարան շենքերի պայմանների բարելավում | G10: =SUM(G9) -> 15581
A11: ՄԱՍ III. ԾԱՌԱՅՈՒԹՅՈՒՆՆԵՐ | G11: =SUM(G10) -> 15581
A12: 71241200-1 | B12: նախագծերի պատրաստում, ծախսերի գնահատում | C12: ԳՀ | D12: դրամ | E12: 15581000 | F12: 1 | G12: =SUM(G11) -> 15581
