Workbook
Name AgencyCode: #REF!
Name AgencyCode: #REF!
Name AgencyCode: #REF!
Name AgencyCode: #REF!
Name AgencyName: #REF!
Name AgencyName: #REF!
Name AgencyName: #REF!
Name AgencyName: #REF!
Name davit: #REF!
Name davit: #REF!
Name davit: #REF!
Name Functional1: #REF!
Name Functional1: #REF!
Name Functional1: #REF!
Name Functional1: #REF!
Name ggg: #REF!
Name ggg: #REF!
Name ggg: #REF!
Name PANature: #REF!
Name PANature: #REF!
Name PANature: #REF!
Name PANature: #REF!
Name PAType: #REF!
Name PAType: #REF!
Name PAType: #REF!
Name PAType: #REF!
Name Performance2: #REF!
Name Performance2: #REF!
Name Performance2: #REF!
Name Performance2: #REF!
Name PerformanceType: #REF!
Name PerformanceType: #REF!
Name PerformanceType: #REF!
Name PerformanceType: #REF!
Name Հավելված: #REF!
Name Հավելված: #REF!
Name Հավելված: #REF!
Name Մաս: #REF!
Name Մաս: #REF!
Name Մաս: #REF!
Name շախմատիստ: #REF!
Name շախմատիստ: #REF!
Name շախմատիստ: #REF!

Sheet Havelvats 1
E1: Հավելված N 1
E2: ՀՀ կառավարության 2022 թվականի
E3: ______________ ի ___Ն որոշման
A5: «ՀԱՅԱUՏԱՆԻ ՀԱՆՐԱՊԵՏՈՒԹՅԱՆ 2022 ԹՎԱԿԱՆԻ ՊԵՏԱԿԱՆ ԲՅՈՒՋԵԻ ՄԱUԻՆ» ՀԱՅԱUՏԱՆԻ ՀԱՆՐԱՊԵՏՈՒԹՅԱՆ OՐԵՆՔԻ N 1 ՀԱՎԵԼՎԱԾԻ N 2 ԱՂՅՈՒՍԱԿՈՒՄ ԿԱՏԱՐՎՈՂ ՎԵՐԱԲԱՇԽՈՒՄԸ ԵՎ ՀԱՅԱՍՏԱՆԻ ՀԱՆՐԱՊԵՏՈՒԹՅԱՆ ԿԱՌԱՎԱՐՈՒԹՅԱՆ 2021 ԹՎԱԿԱՆԻ ԴԵԿՏԵՄԲԵՐԻ 23-Ի N 2121-Ն ՈՐՈՇՄԱՆ N 5 ՀԱՎԵԼՎԱԾԻ N 1 ԱՂՅՈՒՍԱԿՈՒՄ ԿԱՏԱՐՎՈՂ ՓՈՓՈԽՈՒԹՅՈՒՆՆԵՐԸ ԵՎ ԼՐԱՑՈՒՄՆԵՐԸ
F8: հազ. դրամներով
A9: Ծրագրային դասիչը | C9: Բյուջետային հատկացումների գլխավոր կարգադրիչների, ծրագրերի և միջոցառումների անվանումները | D9: Ցուցանիշների փոփոխությունը (ավելացումները նշված են դրական նշանով, իսկ նվազեցումները՝ փակագծերում)
A10: Ծրագիր | B10: Միջոցառում | D10: Առաջին կիսամյակ | E10: Ինն ամիս | F10: Տարի
C11: ԸՆԴԱՄԵՆԸ | D11: =+D13+D27 -> 0 | E11: =+E13+E27 -> 0 | F11: =+F13+F27 -> 0
C12: այդ թվում
C13: ՀՀ ԿՐԹՈՒԹՅԱՆ, ԳԻՏՈՒԹՅԱՆ, ՄՇԱԿՈՒՅԹԻ ԵՎ ՍՊՈՐՏԻ ՆԱԽԱՐԱՐՈՒԹՅՈՒՆ | D13: =D15 -> 48300 | E13: =E15 -> 193200 | F13: =F15 -> 338100
A14: 1041 | C14: Ծրագրի անվանումը`
C15: Մեծ նվաճումների սպորտ | D15: =D22 -> 48300 | E15: =E22 -> 193200 | F15: =F22 -> 338100
C16: Ծրագրի նպատակը`
C17: Նպաստել Հայաստանում մեծ սպորտի շարունակական զարգացմանը և միջազգային հարթակներում ՀՀ դիրքի բարելավմանը
C18: Վերջնական արդյունքի նկարագրությունը`
C19: ՀՀ առաջնությունների ընդլայնում, միջազգային սպորտային միջոցառումներին մասնակցության և նվաճումների ապահովում
C20: Ծրագրի միջոցառումներ
B21: 12007 | C21: Միջոցառման անվանումը`
C22: Ամառային օլիմպիական խաղերին նախապատրաստվելու նպատակով ֆինանսական աջակցության տրամադրում | D22: =48300 -> 48300 | E22: =48300*4 -> 193200 | F22: =48300*7 -> 338100
C23: Միջոցառման նկարագրությունը`
C24: 2024 թվականի ամառային օլիմպիական խաղերին նախապատրաստվելու նպատակով ֆինանսական աջակցության տրամադրում
C25: Միջոցառման տեսակը
C26: Տրանսֆերտների տրամադրում
C27: ՀՀ ԿԱՌԱՎԱՐՈՒԹՅՈՒՆ | D27: =+D29 -> -48300 | E27: =+E29 -> -193200 | F27: =+F29 -> -338100
A28: 1139 | C28: Ծրագրի անվանումը`
C29: ՀՀ կառավարության պահուստային ֆոնդ | D29: =+D35 -> -48300 | E29: =+E35 -> -193200 | F29: =+F35 -> -338100
C30: Ծրագրի նպատակը`
C31: Պետական բյուջեում չկանխատեսված, ինչպես նաև բյուջետային երաշխիքների ապահովման ծախսերի ֆինանսավորման ապահովում
C32: Վերջնական արդյունքի նկարագրությունը`
C33: Պահուստային ֆոնդի կառավարման արդյունավետության և թափանցիկության ապահովում
B34: 11001 | C34: Միջոցառման անվանումը`
C35: ՀՀ կառավարության պահուստային ֆոնդ | D35: -48300 | E35: -193200 | F35: -338100
C36: Միջոցառման նկարագրությունը`
C37: ՀՀ պետական բյուջեում նախատեսված ելքերի լրացուցիչ ֆինանսավորման՝ պետական բյուջեում չկանխատեսված ելքերի, ինչպես նաև բյուջետային երաշխիքների ապահովման ելքերի ֆինանսավորման ապահովում
C38: Միջոցառման տեսակը
C39: Ծառայությունների մատուցում

Sheet Havelvats 2 
H1: Հավելված N 2
H2: ՀՀ կառավարության 2022 թվականի
H3: ______________ ի ___Ն որոշման
A5: ՀԱՅԱՍՏԱՆԻ ՀԱՆՐԱՊԵՏՈՒԹՅԱՆ ԿԱՌԱՎԱՐՈՒԹՅԱՆ 2021 ԹՎԱԿԱՆԻ ԴԵԿՏԵՄԲԵՐԻ 23-Ի N 2121-Ն ՈՐՈՇՄԱՆ N 3 ԵՎ N 4 ՀԱՎԵԼՎԱԾՆԵՐՈՒՄ ԿԱՏԱՐՎՈՂ ՓՈՓՈԽՈՒԹՅՈՒՆՆԵՐԸ ԵՎ ԼՐԱՑՈՒՄՆԵՐԸ
I8: հազ. դրամներով
A9: Գործառական դասիչը | D9: Ծրագրային դասիչը | F9: Բյուջետային հատկացումների գլխավոր կարգադրիչների, ծրագրերի, միջոցառումների և միջոցառումները կատարող պետական մարմինների անվանումները | G9: Ցուցանիշների փոփոխությունը (ավելացումները նշված են դրական նշանով, իսկ նվազեցումները՝ փակագծերում)
A10: Բաժին | B10: Խումբ | C10: Դաս | D10: Ծրագիր | E10: Միջոցառում | G10: Առաջին կիսամյակ | H10: Ինն ամիս | I10: Տարի
F11: ԸՆԴԱՄԵՆԸ | G11: =+G13+G33 -> 0 | H11: =+H13+H33 -> 0 | I11: =+I13+I33 -> 0
F12: այդ թվում
F13: ՀՀ ԿՐԹՈՒԹՅԱՆ, ԳԻՏՈՒԹՅԱՆ, ՄՇԱԿՈՒՅԹԻ ԵՎ ՍՊՈՐՏԻ ՆԱԽԱՐԱՐՈՒԹՅՈՒՆ | G13: =+G14 -> 48300 | H13: =+H14 -> 193200 | I13: =+I14 -> 338100
A14: 08 | F14: ՀԱՆԳԻՍՏ, ՄՇԱԿՈՒՅԹ ԵՎ ԿՐՈՆ | G14: =+G16 -> 48300 | H14: =+H16 -> 193200 | I14: =+I16 -> 338100
F15: այդ թվում`
B16: 01 | F16: Հանգստի և սպորտի ծառայություններ | G16: =+G18 -> 48300 | H16: =+H18 -> 193200 | I16: =+I18 -> 338100
F17: այդ թվում`
C18: 01 | F18: Հանգստի և սպորտի ծառայություններ | G18: =+G20 -> 48300 | H18: =+H20 -> 193200 | I18: =+I20 -> 338100
F19: այդ թվում`
F20: ՀՀ կրթության, գիտության, մշակույթի և սպորտի նախարարություն | G20: =+G22 -> 48300 | H20: =+H22 -> 193200 | I20: =+I22 -> 338100
F21: այդ թվում`
D22: 1041 | E22: Մեծ նվաճումների սպորտ | G22: =+G24 -> 48300 | H22: =+H24 -> 193200 | I22: =+I24 -> 338100
F23: այդ թվում`
E24: 12007 | F24: Ամառային օլիմպիական խաղերին նախապատրաստվելու նպատակով ֆինանսական աջակցության տրամադրում | G24: =G26 -> 48300 | H24: =H26 -> 193200 | I24: =I26 -> 338100
F25: այդ թվում` ըստ կատարողների
F26: ՀՀ կրթության, գիտության, մշակույթի և սպորտի նախարարություն | G26: =G28 -> 48300 | H26: =H28 -> 193200 | I26: =I28 -> 338100
F27: այդ թվում՝ բյուջետային ծախսերի տնտեսագիտական դասակարգման հոդվածներ
F28: ԸՆԴԱՄԵՆԸ ԾԱԽՍԵՐ | G28: =G30 -> 48300 | H28: =H30 -> 193200 | I28: =I30 -> 338100
F29: ԸՆԹԱՑԻԿ ԾԱԽՍԵՐ | G29: =G30 -> 48300 | H29: =H30 -> 193200 | I29: =I30 -> 338100
F30: ՍՈՑԻԱԼԱԿԱՆ ՆՊԱՍՏՆԵՐ ԵՎ ԿԵՆՍԱԹՈՇԱԿՆԵՐ | G30: =+G31 -> 48300 | H30: =+H31 -> 193200 | I30: =+I31 -> 338100
F31: Սոցիալական օգնության դրամական արտահայտությամբ նպաստներ (բյուջեից) | G31: =+G32 -> 48300 | H31: =+H32 -> 193200 | I31: =+I32 -> 338100
F32: - Կրթական, մշակութային և սպորտային նպաստներ բյուջեից | G32: ='Havelvats 1'!D22 -> 48300 | H32: ='Havelvats 1'!E22 -> 193200 | I32: ='Havelvats 1'!F22 -> 338100
F33: ՀՀ ԿԱՌԱՎԱՐՈՒԹՅՈՒՆ | G33: =+G34 -> -48300 | H33: =+H34 -> -193200 | I33: =+I34 -> -338100
A34: 11 | F34: ՀԻՄՆԱԿԱՆ ԲԱԺԻՆՆԵՐԻՆ ՉԴԱՍՎՈՂ ՊԱՀՈՒՍՏԱՅԻՆ ՖՈՆԴԵՐ | G34: =+G36 -> -48300 | H34: =+H36 -> -193200 | I34: =+I36 -> -338100
F35: այդ թվում`
B36: 01 | F36: ՀՀ կառավարության և համայնքների պահուստային ֆոնդ | G36: =+G38 -> -48300 | H36: =+H38 -> -193200 | I36: =+I38 -> -338100
F37: այդ թվում`
C38: 01 | F38: ՀՀ կառավարության պահուստային ֆոնդ | G38: =+G51 -> -48300 | H38: =+H51 -> -193200 | I38: =+I51 -> -338100
F39: այդ թվում`
F40: ՀՀ կառավարություն | G40: =+G42 -> -48300 | H40: =+H42 -> -193200 | I40: =+I42 -> -338100
F41: այդ թվում`
D42: 1139 | E42: ՀՀ կառավարության պահուստային ֆոնդ | F42: ՀՀ կառավարության պահուստային ֆոնդ | G42: =+G51 -> -48300 | H42: =+H51 -> -193200 | I42: =+I51 -> -338100
F43: այդ թվում`
E44: 11001 | F44: ՀՀ կառավարության պահուստային ֆոնդ | G44: =+G46 -> -48300 | H44: =+H46 -> -193200 | I44: =+I46 -> -338100
F45: այդ թվում` ըստ կատարողների
F46: ՀՀ կառավարություն | G46: =+G48 -> -48300 | H46: =+H48 -> -193200 | I46: =+I48 -> -338100
F47: այդ թվում` բյուջետային ծախսերի տնտեսագիտական դասակարգման հոդվածներ
F48: ԸՆԴԱՄԵՆԸ ԾԱԽՍԵՐ | G48: =+G49 -> -48300 | H48: =+H49 -> -193200 | I48: =+I49 -> -338100
F49: ԸՆԹԱՑԻԿ ԾԱԽՍԵՐ | G49: =+G50 -> -48300 | H49: =+H50 -> -193200 | I49: =+I50 -> -338100
F50: ԱՅԼ ԾԱԽՍԵՐ | G50: =+G51 -> -48300 | H50: =+H51 -> -193200 | I50: =+I51 -> -338100
F51: Պահուստային միջոցներ | G51: ='Havelvats 1'!D35 -> -48300 | H51: ='Havelvats 1'!E35 -> -193200 | I51: ='Havelvats 1'!F35 -> -338100

Sheet Havelvats 3
E1: Հավելված N 3
E2: ՀՀ կառավարության 2022 թվականի
E3: ______________ ի ___Ն որոշման
B5: ՀԱՅԱՍՏԱՆԻ ՀԱՆՐԱՊԵՏՈՒԹՅԱՆ ԿԱՌԱՎԱՐՈՒԹՅԱՆ 2021 ԹՎԱԿԱՆԻ ԴԵԿՏԵՄԲԵՐԻ 23-Ի N 2121-Ն ՈՐՈՇՄԱՆ N 9 ՀԱՎԵԼՎԱԾԻ N 9.13 ԵՎ 9․47 ԱՂՅՈՒՍԱԿՆԵՐՈՒՄ ԿԱՏԱՐՎՈՂ ՓՈՓՈԽՈՒԹՅՈՒՆՆԵՐԸ ԵՎ ԼՐԱՑՈՒՄՆԵՐԸ
A7: Աղյուսակ 9․13
C8: ՀՀ կրթության, գիտության, մշակույթի և սպորտի նախարարություն
B9: ՄԱՍ 2. ՊԵՏԱԿԱՆ ՄԱՐՄՆԻ ԳԾՈՎ ԱՐԴՅՈՒՆՔԱՅԻՆ (ԿԱՏԱՐՈՂԱԿԱՆ) ՑՈՒՑԱՆԻՇՆԵՐԸ
B12: Ծրագրի դասիչը | C12: Ծրագրի անվանումը
B13: 1041 | C13: Մեծ նվաճումների սպորտ
B15: Ծրագրի միջոցառումները
B16: Ծրագրի դասիչը՝ | C16: 1041 | D16: Ցուցանիշների փոփոխությունը (ավելացումները նշված են դրական նշանով)
B17: Միջոցառման դասիչը՝ | C17: 12007 | D17: Առաջին կիսամյակ | E17: Ինն ամիս | F17: Տարի
B18: Միջոցառման անվանումը՝ | C18: Ամառային օլիմպիական խաղերին նախապատրաստվելու նպատակով ֆինանսական աջակցության տրամադրում
B19: Նկարագրությունը՝ | C19: 2024 թվականի ամառային օլիմպիական խաղերին նախապատրաստվելու նպատակով ֆինանսական աջակցության տրամադրում
B20: Միջոցառման տեսակը՝ | C20: Տրանսֆերտների տրամադրում
B21: Շահառուների ընտրության չափանիշները | C21: ՀՀ կրթության, գիտության, մշակույթի և սպորտի նախարարի հրամանով հաստատված կարգով սահմանված ՀՀ հավաքական թիմերի մարզիկներ, մարզիչներ ու բժիշկներին և/կամ մերսողներ
B22: Արդյունքի չափորոշիչներ
B23: Շահառուների խմբերի (մարզիկներ, մարզիչներ, բժիշկներ) թիվ, հատ | D23: 3 | E23: 3 | F23: 3
B24: Միջոցառման վրա կատարվող ծախսը (հազար դրամ) | D24: ='Havelvats 1'!D22 -> 48300 | E24: ='Havelvats 1'!E22 -> 193200 | F24: ='Havelvats 1'!F22 -> 338100
A26: Աղյուսակ 9․47
C27: ՀՀ կառավարություն
B28: ՄԱՍ 2. ՊԵՏԱԿԱՆ ՄԱՐՄՆԻ ԳԾՈՎ ԱՐԴՅՈՒՆՔԱՅԻՆ (ԿԱՏԱՐՈՂԱԿԱՆ) ՑՈՒՑԱՆԻՇՆԵՐԸ
B31: Ծրագրի դասիչը | C31: Ծրագրի անվանումը
B32: 1139 | C32: ՀՀ կառավարության պահուստային ֆոնդ
B33: Ծրագրի միջոցառումները
B34: Ծրագրի դասիչը՝ | C34: 1139 | D34: Ցուցանիշների փոփոխությունը (նվազեցումները նշված են փակագծերում)
B35: Միջոցառման դասիչը՝ | C35: 11001 | D35: Առաջին կիսամյակ | E35: Ինն ամիս | F35: Տարի
B36: Միջոցառման անվանումը՝ | C36: ՀՀ կառավարության պահուստային ֆոնդ
B37: Նկարագրությունը՝ | C37: ՀՀ պետական բյուջեում նախատեսված ելքերի լրացուցիչ ֆինանսավորման՝ պետական բյուջեում չկանխատեսված ելքերի, ինչպես նաև բյուջետային երաշխիքների ապահովման ելքերի ֆինանսավորման ապահովում
B38: Միջոցառման տեսակը՝ | C38: Ծառայությունների մատուցում
B39: Միջոցառումն իրականացնողի անվանումը | C39: ՀՀ կառավարություն
C40: Արդյունքի չափորոշիչներ
B41: Միջոցառման վրա կատարվող ծախսը (հազար դրամ) | D41: =+'Havelvats 1'!D35 -> -48300 | E41: =+'Havelvats 1'!E35 -> -193200 | F41: =+'Havelvats 1'!F35 -> -338100

Sheet Havelvats 4
E1: Հավելված N 4
E2: ՀՀ կառավարության 2022 թվականի
E3: ______________ ի ___Ն որոշման
B5: ՀԱՅԱՍՏԱՆԻ ՀԱՆՐԱՊԵՏՈՒԹՅԱՆ ԿԱՌԱՎԱՐՈՒԹՅԱՆ 2021 ԹՎԱԿԱՆԻ ԴԵԿՏԵՄԲԵՐԻ 23-Ի N 2121-Ն ՈՐՈՇՄԱՆ N 9․1 ՀԱՎԵԼՎԱԾԻ N 9.1․14 ԵՎ 9․1․59 ԱՂՅՈՒՍԱԿՆԵՐՈՒՄ ԿԱՏԱՐՎՈՂ ՓՈՓՈԽՈՒԹՅՈՒՆՆԵՐԸ ԵՎ ԼՐԱՑՈՒՄՆԵՐԸ
A7: Աղյուսակ 9․1․14
C8: ՀՀ կրթության, գիտության, մշակույթի և սպորտի նախարարություն
B9: ՄԱՍ 2. ՊԵՏԱԿԱՆ ՄԱՐՄՆԻ ԳԾՈՎ ԱՐԴՅՈՒՆՔԱՅԻՆ (ԿԱՏԱՐՈՂԱԿԱՆ) ՑՈՒՑԱՆԻՇՆԵՐԸ
B12: Ծրագրի դասիչը | C12: Ծրագրի անվանումը
B13: 1041 | C13: Մեծ նվաճումների սպորտ
B15: Ծրագրի միջոցառումները
B16: Ծրագրի դասիչը՝ | C16: 1041 | D16: Ցուցանիշների փոփոխությունը (ավելացումները նշված են դրական նշանով)
B17: Միջոցառման դասիչը՝ | C17: 12007 | D17: Առաջին կիսամյակ | E17: Ինն ամիս | F17: Տարի
B18: Միջոցառման անվանումը՝ | C18: Ամառային օլիմպիական խաղերին նախապատրաստվելու նպատակով ֆինանսական աջակցության տրամադրում
B19: Նկարագրությունը՝ | C19: 2024 թվականի ամառային օլիմպիական խաղերին նախապատրաստվելու նպատակով ֆինանսական աջակցության տրամադրում
B20: Միջոցառման տեսակը՝ | C20: Տրանսֆերտների տրամադրում
B21: Շահառուների ընտրության չափանիշները | C21: ՀՀ կրթության, գիտության, մշակույթի և սպորտի նախարարի հրամանով հաստատված կարգով սահմանված ՀՀ հավաքական թիմերի մարզիկներ, մարզիչներ ու բժիշկներին և/կամ մերսողներ
B22: Արդյունքի չափորոշիչներ
B23: Շահառուների խմբերի (մարզիկներ, մարզիչներ, բժիշկներ) թիվ, հատ | D23: 3 | E23: 3 | F23: 3
B24: Միջոցառման վրա կատարվող ծախսը (հազար դրամ) | D24: ='Havelvats 1'!D22 -> 48300 | E24: ='Havelvats 1'!E22 -> 193200 | F24: ='Havelvats 1'!F22 -> 338100
A26: Աղյուսակ 9․1․59
C27: ՀՀ կառավարություն
B28: ՄԱՍ 2. ՊԵՏԱԿԱՆ ՄԱՐՄՆԻ ԳԾՈՎ ԱՐԴՅՈՒՆՔԱՅԻՆ (ԿԱՏԱՐՈՂԱԿԱՆ) ՑՈՒՑԱՆԻՇՆԵՐԸ
B31: Ծրագրի դասիչը | C31: Ծրագրի անվանումը
B32: 1139 | C32: ՀՀ կառավարության պահուստային ֆոնդ
B33: Ծրագրի միջոցառումները
B34: Ծրագրի դասիչը՝ | C34: 1139 | D34: Ցուցանիշների փոփոխությունը (նվազեցումները նշված են փակագծերում)
B35: Միջոցառման դասիչը՝ | C35: 11001 | D35: Առաջին կիսամյակ | E35: Ինն ամիս | F35: Տարի
B36: Միջոցառման անվանումը՝ | C36: ՀՀ կառավարության պահուստային ֆոնդ
B37: Նկարագրությունը՝ | C37: ՀՀ պետական բյուջեում նախատեսված ելքերի լրացուցիչ ֆինանսավորման՝ պետական բյուջեում չկանխատեսված ելքերի, ինչպես նաև բյուջետային երաշխիքների ապահովման ելքերի ֆինանսավորման ապահովում
B38: Միջոցառման տեսակը՝ | C38: Ծառայությունների մատուցում
B39: Միջոցառումն իրականացնողի անվանումը | C39: ՀՀ կառավարություն
C40: Արդյունքի չափորոշիչներ
B41: Միջոցառման վրա կատարվող ծախսը (հազար դրամ) | D41: =+'Havelvats 1'!D35 -> -48300 | E41: =+'Havelvats 1'!E35 -> -193200 | F41: =+'Havelvats 1'!F35 -> -338100

Sheet Havelvats 5
H1: Հավելված N 5
H2: ՀՀ կառավարության 2022 թվականի
H3: ______________ ի ___Ն որոշման
A6: ՀԱՅԱՍՏԱՆԻ ՀԱՆՐԱՊԵՏՈՒԹՅԱՆ 2022 ԹՎԱԿԱՆԻ ՊԵՏԱԿԱՆ ԲՅՈՒՋԵՈՎ ՆԱԽԱՏԵՍՎԱԾ՝ ՀԱՅԱՍՏԱՆԻ ՀԱՆՐԱՊԵՏՈՒԹՅԱՆ ԿԱՌԱՎԱՐՈՒԹՅԱՆ ՊԱՀՈՒՍՏԱՅԻՆ ՖՈՆԴԻՑ ՀԱՏԿԱՑՈՒՄՆԵՐ ԿԱՏԱՐԵԼՈՒ ՎԵՐԱԲԵՐՅԱԼ
I8: հազ. դրամներով
A9: Գործառական դասիչը | D9: Ծրագրային դասիչը | F9: Բյուջետային հատկացումների գլխավոր կարգադրիչների, ծրագրերի, միջոցառումների և միջոցառումները կատարող պետական մարմինների անվանումները | G9: Ցուցանիշների փոփոխությունը (ավելացումները նշված են դրական նշանով, իսկ նվազեցումները՝ փակագծերում)
A10: Բաժին | B10: Խումբ | C10: Դաս | D10: Ծրագիր | E10: Միջոցառում | G10: Առաջին կիսամյակ | H10: Ինն ամիս | I10: Տարի
F11: ԸՆԴԱՄԵՆԸ | G11: =+G13+G32 -> 0 | H11: =+H13+H32 -> 0 | I11: =+I13+I32 -> 0
F12: այդ թվում
F13: ՀՀ կառավարություն | G13: =+G14 -> -48300 | H13: =+H14 -> -193200 | I13: =+I14 -> -338100
A14: 11 | F14: ՀԻՄՆԱԿԱՆ ԲԱԺԻՆՆԵՐԻՆ ՉԴԱՍՎՈՂ ՊԱՀՈՒՍՏԱՅԻՆ ՖՈՆԴԵՐ | G14: =+G16 -> -48300 | H14: =+H16 -> -193200 | I14: =+I16 -> -338100
F15: այդ թվում`
B16: 01 | F16: ՀՀ կառավարության և համայնքների պահուստային ֆոնդ | G16: =+G18 -> -48300 | H16: =+H18 -> -193200 | I16: =+I18 -> -338100
F17: այդ թվում`
C18: 01 | F18: ՀՀ կառավարության պահուստային ֆոնդ | G18: =+G20 -> -48300 | H18: =+H20 -> -193200 | I18: =+I20 -> -338100
F19: այդ թվում`
F20: ՀՀ կառավարություն | G20: =+G22 -> -48300 | H20: =+H22 -> -193200 | I20: =+I22 -> -338100
F21: այդ թվում`
D22: 1139 | E22: ՀՀ կառավարության պահուստային ֆոնդ | F22: ՀՀ կառավարության պահուստային ֆոնդ | G22: =+G24 -> -48300 | H22: =+H24 -> -193200 | I22: =+I24 -> -338100
F23: այդ թվում`
E24: 11001 | F24: ՀՀ կառավարության պահուստային ֆոնդ | G24: =+G26 -> -48300 | H24: =+H26 -> -193200 | I24: =+I26 -> -338100
F25: այդ թվում` ըստ կատարողների
F26: ՀՀ կառավարություն | G26: =+G28 -> -48300 | H26: =+H28 -> -193200 | I26: =+I28 -> -338100
F27: այդ թվում` բյուջետային ծախսերի տնտեսագիտական դասակարգման հոդվածներ
F28: ԸՆԴԱՄԵՆԸ ԾԱԽՍԵՐ | G28: =+G29 -> -48300 | H28: =+H29 -> -193200 | I28: =+I29 -> -338100
F29: ԸՆԹԱՑԻԿ ԾԱԽՍԵՐ | G29: =+G30 -> -48300 | H29: =+H30 -> -193200 | I29: =+I30 -> -338100
F30: ԱՅԼ ԾԱԽՍԵՐ | G30: =+G31 -> -48300 | H30: =+H31 -> -193200 | I30: =+I31 -> -338100
F31: Պահուստային միջոցներ | G31: ='Havelvats 1'!D27 -> -48300 | H31: ='Havelvats 1'!E27 -> -193200 | I31: ='Havelvats 1'!F27 -> -338100
F32: ՀՀ կրթության, գիտության, մշակույթի և սպորտի նախարարություն | G32: =+G33 -> 48300 | H32: =+H33 -> 193200 | I32: =+I33 -> 338100
A33: 08 | F33: ՀԱՆԳԻՍՏ, ՄՇԱԿՈՒՅԹ ԵՎ ԿՐՈՆ | G33: =+G35 -> 48300 | H33: =+H35 -> 193200 | I33: =+I35 -> 338100
F34: այդ թվում`
B35: 01 | F35: Հանգստի և սպորտի ծառայություններ | G35: =+G37 -> 48300 | H35: =+H37 -> 193200 | I35: =+I37 -> 338100
F36: այդ թվում`
C37: 01 | F37: Հանգստի և սպորտի ծառայություններ | G37: =+G39 -> 48300 | H37: =+H39 -> 193200 | I37: =+I39 -> 338100
F38: այդ թվում`
F39: ՀՀ կրթության, գիտության, մշակույթի և սպորտի նախարարություն | G39: =+G41 -> 48300 | H39: =+H41 -> 193200 | I39: =+I41 -> 338100
F40: այդ թվում`
D41: 1041 | E41: Մեծ նվաճումների սպորտ | G41: =+G43 -> 48300 | H41: =+H43 -> 193200 | I41: =+I43 -> 338100
E42: 12007 | F42: այդ թվում`
F43: Ամառային օլիմպիական խաղերին նախապատրաստվելու նպատակով ֆինանսական աջակցության տրամադրում | G43: =+G45 -> 48300 | H43: =+H45 -> 193200 | I43: =+I45 -> 338100
F44: այդ թվում` ըստ կատարողների
F45: ՀՀ կրթության, գիտության, մշակույթի և սպորտի նախարարություն | G45: =+G47 -> 48300 | H45: =+H47 -> 193200 | I45: =+I47 -> 338100
F46: այդ թվում՝ բյուջետային ծախսերի տնտեսագիտական դասակարգման հոդվածներ
F47: ԸՆԴԱՄԵՆԸ ԾԱԽՍԵՐ | G47: =+G49 -> 48300 | H47: =+H49 -> 193200 | I47: =+I49 -> 338100
F48: ԸՆԹԱՑԻԿ ԾԱԽՍԵՐ | G48: =G50 -> 48300 | H48: =H50 -> 193200 | I48: =I50 -> 338100
F49: ՍՈՑԻԱԼԱԿԱՆ ՆՊԱՍՏՆԵՐ ԵՎ ԿԵՆՍԱԹՈՇԱԿՆԵՐ | G49: =+G50 -> 48300 | H49: =+H50 -> 193200 | I49: =+I50 -> 338100
F50: Սոցիալական օգնության դրամական արտահայտությամբ նպաստներ (բյուջեից) | G50: =+G51 -> 48300 | H50: =+H51 -> 193200 | I50: =+I51 -> 338100
F51: - Կրթական, մշակութային և սպորտային նպաստներ բյուջեից | G51: ='Havelvats 2 '!G32 -> 48300 | H51: ='Havelvats 2 '!H32 -> 193200 | I51: ='Havelvats 2 '!I32 -> 338100
