Workbook
Name AgencyCode: #REF!
Name AgencyCode: #REF!
Name AgencyName: #REF!
Name AgencyName: #REF!
Name åû: #REF!
Name davit: #REF!
Name Functional1: #REF!
Name Functional1: #REF!
Name ggg: #REF!
Name mas: #REF!
Name mass: #REF!
Name PANature: #REF!
Name PANature: #REF!
Name PAType: #REF!
Name PAType: #REF!
Name Performance2: #REF!
Name Performance2: #REF!
Name PerformanceType: #REF!
Name PerformanceType: #REF!
Name x: #REF!
Name Հավելված: #REF!
Name Մաս: #REF!
Name շախմատիստ: #REF!

Sheet Հ1
F1: Հավելված N1
F2: ՀՀ կառավարության 2022 թվականի
F3: ______________ ի ___Ն որոշման
A5: «ՀԱՅԱUՏԱՆԻ ՀԱՆՐԱՊԵՏՈՒԹՅԱՆ 2022 ԹՎԱԿԱՆԻ ՊԵՏԱԿԱՆ ԲՅՈՒՋԵԻ ՄԱUԻՆ» ՀԱՅԱUՏԱՆԻ ՀԱՆՐԱՊԵՏՈՒԹՅԱՆ OՐԵՆՔԻ N 1 ՀԱՎԵԼՎԱԾԻ N 2 ԱՂՅՈՒՍԱԿՈՒՄ ԿԱՏԱՐՎՈՂ ՎԵՐԱԲԱՇԽՈՒՄԸ ԵՎ ՀԱՅԱՍՏԱՆԻ ՀԱՆՐԱՊԵՏՈՒԹՅԱՆ ԿԱՌԱՎԱՐՈՒԹՅԱՆ 2021 ԹՎԱԿԱՆԻ ԴԵԿՏԵՄԲԵՐԻ 23-Ի N 2121-Ն ՈՐՈՇՄԱՆ N 5 ՀԱՎԵԼՎԱԾԻ N 1 ԱՂՅՈՒՍԱԿՈՒՄ ԿԱՏԱՐՎՈՂ ՓՈՓՈԽՈՒԹՅՈՒՆՆԵՐԸ ԵՎ ԼՐԱՑՈՒՄՆԵՐԸ
F7: հազ. դրամ
A8: Ծրագրային դասիչը | C8: Բյուջետային հատկացումների գլխավոր կարգադրիչների, ծրագրերի և միջոցառումների անվանումները | D8: Ցուցանիշների փոփոխությունը (ավելացումները նշված են դրական նշանով, իսկ նվազեցումները` փակագծերում)
A9: Ծրագիր | B9: Միջոցառում | D9: Առաջին կիսամյակ | E9: Ինն ամիս | F9: Տարի
A10: 1192 | C10: ԸՆԴԱՄԵՆԸ | D10: =+D12 -> 0 | E10: =+E12 -> 0 | F10: =+F12 -> 0
C11: այդ թվում
B12: ՀՀ տարածքային կառավարման և ենթակառուցվածքների նախարարություն | D12: =+D14+D26 -> 0 | E12: =+D12 -> 0 | F12: =+E12 -> 0
A13: 1070 | C13: Ծրագրի անվանումը`
C14: Աջակցություն փախստականների ինտեգրմանը | D14: =D20 -> -38511.5 | E14: =E20 -> -38511.5 | F14: =F20 -> -38511.5
C15: Ծրագրի նպատակը`
C16: Փախստականների ինտեգրում հասարակություն
C17: Վերջնական արդյունքի նկարագրությունը`
C18: Փախստականներին մատուցվող ծառայությունների ընդգրկման և ծառայությունների շրջանակի ընդլայնում
B19: 12003 | C19: Միջոցառման անվանումը`
C20: 1988-1992 թվականներին Ադրբեջանից բռնագաղթված և Հայաստանի Հանրապետությունում ապաստանած փախստական ընտանիքների բնակարանային ապահովում | D20: -38511.5 | E20: =+D20 -> -38511.5 | F20: =+E20 -> -38511.5
C21: Միջոցառման նկարագրությունը`
C22: 1988-1992 թվականներին Ադրբեջանից բռնագաղթված և Հայաստանի Հանրապետությունում ապաստանած բնակության վայր չունեցող փախստական ընտանիքներին բնակարանային ապահովման աջակցություն
C23: Միջոցառման տեսակը
C24: Տրանսֆերտների տրամադրում
A25: 1212 | C25: Ծրագրի անվանումը`
C26: Տարածքային զարգացում | D26: =D33 -> 38511.5 | E26: =E33 -> 38511.5 | F26: =F33 -> 38511.5
C27: Ծրագրի նպատակը`
C28: Տարածքային համաչափ զարգացման խթանում
C29: Վերջնական արդյունքի նկարագրությունը`
C30: ՀՀ համայնքների կառավարման արդյունավետության բարձրացում և տնտեսական գործունեության խթանում
C31: Ծրագրի միջոցառումներ
B32: 12025 | C32: Միջոցառման անվանումը`
C33: Մարզերում առաջնահերթ լուծում պահանջող հիմնախնդիրների լուծում | D33: 38511.5 | E33: =+D33 -> 38511.5 | F33: =+E33 -> 38511.5
C34: Միջոցառման նկարագրությունը`
C35: Մարզերում առաջնահերթ լուծում պահանջող ծրագրերի իրականացում, որի արդյունքում լուծում կտրվի բնակչության եւ համայնքների սոցիալական նշանակություն ունեցող հիմնախնդիրներին:
C36: Միջոցառման տեսակը`
C37: Տրանսֆերտների տրամադրում

Sheet Հ2
I1: Հավելված N2
I2: ՀՀ կառավարության 2022 թվականի
I3: ______________ ի ___Ն որոշման
A5: ՀԱՅԱՍՏԱՆԻ ՀԱՆՐԱՊԵՏՈՒԹՅԱՆ ԿԱՌԱՎԱՐՈՒԹՅԱՆ 2021 ԹՎԱԿԱՆԻ ԴԵԿՏԵՄԲԵՐԻ 23-Ի N 2121-Ն ՈՐՈՇՄԱՆ N 3 ԵՎ N 4 ՀԱՎԵԼՎԱԾՆԵՐՈՒՄ ԿԱՏԱՐՎՈՂ ՓՈՓՈԽՈՒԹՅՈՒՆՆԵՐԸ ԵՎ ԼՐԱՑՈՒՄՆԵՐԸ
I7: հազ. դրամ
A8: Գործառական դասիչը | D8: Ծրագրային դասիչը | F8: Բյուջետային ծախսերի գործառական դասակարգման բաժինների, խմբերի և դասերի, բյուջետային հատկացումների գլխավոր կարգադրիչների, ծրագրերի, միջոցառումների և միջոցառումները կատարող պետական մարմինների անվանումները | G8: Ցուցանիշների փոփոխությունը (ավելացումները նշված են դրական նշանով, իսկ նվազեցումները` փակագծերում)
A9: Բաժին | B9: Խումբ | C9: Դաս | D9: Ծրագիր | E9: Միջոցառում | G9: Առաջին կիսամյակ | H9: Ինն ամիս | I9: Տարի
F10: ԸՆԴԱՄԵՆԸ | G10: =+G12 -> 0 | H10: =+H12 -> 0 | I10: =+I12 -> 0
F11: այդ թվում
F12: ՀՀ տարածքային կառավարման և ենթակառուցվածքների նախարարություն | G12: =+G30+G13 -> 0 | H12: =+H30+H13 -> 0 | I12: =+I30+I13 -> 0
A13: 10 | F13: ՍՈՑԻԱԼԱԿԱՆ ՊԱՇՏՊԱՆՈՒԹՅՈՒՆ | G13: =+G15 -> -38511.5 | H13: =+H15 -> -38511.5 | I13: =+I15 -> -38511.5
F14: այդ թվում`
B15: 06 | F15: Բնակարանային ապահովում | G15: =G17 -> -38511.5 | H15: =+G15 -> -38511.5 | I15: =+H15 -> -38511.5
F16: այդ թվում`
C17: 01 | F17: Բնակարանային ապահովում | G17: =G19 -> -38511.5 | H17: =+G17 -> -38511.5 | I17: =+H17 -> -38511.5
F18: այդ թվում`
D19: 1070 | F19: Աջակցություն փախստականների ինտեգրմանը | G19: =G21 -> -38511.5 | H19: =+G19 -> -38511.5 | I19: =+H19 -> -38511.5
F20: այդ թվում`
E21: 12003 | F21: 1988-1992 թվականներին Ադրբեջանից բռնագաղթված և Հայաստանի Հանրապետությունում ապաստանած փախստական ընտանիքների բնակարանային ապահովում | G21: =G23 -> -38511.5 | H21: =+G21 -> -38511.5 | I21: =+H21 -> -38511.5
F22: այդ թվում` ըստ կատարողների
F23: ՀՀ տարածքային կառավարման և ենթակառուցվածքների նախարարության միգրացիոն ծառայություն | G23: =G25 -> -38511.5 | H23: =+G23 -> -38511.5 | I23: =+H23 -> -38511.5
F24: այդ թվում` բյուջետային ծախսերի տնտեսագիտական դասակարգման հոդվածներ
F25: ԸՆԴԱՄԵՆԸ ԾԱԽՍԵՐ | G25: =G26 -> -38511.5 | H25: =+H23 -> -38511.5 | I25: =+I23 -> -38511.5
F26: ԸՆԹԱՑԻԿ ԾԱԽՍԵՐ | G26: =G27 -> -38511.5 | H26: =+H25 -> -38511.5 | I26: =+H26 -> -38511.5
F27: ԴՐԱՄԱՇՆՈՐՀՆԵՐ | G27: =G28 -> -38511.5 | H27: =+H26 -> -38511.5 | I27: =+H27 -> -38511.5
F28: Կապիտալ դրամաշնորհներ պետական հատվածի այլ մակարդակներին | G28: =G29 -> -38511.5 | H28: =+H27 -> -38511.5 | I28: =+H28 -> -38511.5
F29: - Այլ կապիտալ դրամաշնորհներ | G29: =Հ1!D20 -> -38511.5 | H29: =Հ1!E20 -> -38511.5 | I29: =Հ1!F20 -> -38511.5
A30: 01 | F30: ԸՆԴՀԱՆՈՒՐ ԲՆՈՒՅԹԻ ՀԱՆՐԱՅԻՆ ԾԱՌԱՅՈՒԹՅՈՒՆՆԵՐ | G30: =G32 -> 38511.5 | H30: =H32 -> 38511.5 | I30: =I32 -> 38511.5
F31: այդ թվում`
B32: 08 | F32: Կառավարության տարբեր մակարդակների միջև իրականացվող ընդհանուր բնույթի տրանսֆերտներ | G32: =G34 -> 38511.5 | H32: =H34 -> 38511.5 | I32: =I34 -> 38511.5
F33: այդ թվում`
C34: 01 | F34: Կառավարության տարբեր մակարդակների միջև իրականացվող ընդհանուր բնույթի տրանսֆերտներ | G34: =G36 -> 38511.5 | H34: =H36 -> 38511.5 | I34: =I36 -> 38511.5
F35: այդ թվում`
F36: ՀՀ տարածքային կառավարման և ենթակառուցվածքների նախարարություն | G36: =G38 -> 38511.5 | H36: =H38 -> 38511.5 | I36: =I38 -> 38511.5
F37: այդ թվում`
D38: =Հ1!A25 -> 1212 | E38: =Հ1!C26 -> Տարածքային զարգացում | G38: =G40 -> 38511.5 | H38: =H40 -> 38511.5 | I38: =I40 -> 38511.5
E39: =Հ1!B32 -> 12025 | F39: այդ թվում`
F40: =Հ1!C33 -> Մարզերում առաջնահերթ լուծում պահանջող հիմնախնդիրների լուծում | G40: =G42 -> 38511.5 | H40: =H42 -> 38511.5 | I40: =I42 -> 38511.5
F41: այդ թվում` ըստ կատարողների
F42: Գեղարքունիքի մարզպետարան | G42: =G44 -> 38511.5 | H42: =H44 -> 38511.5 | I42: =I44 -> 38511.5
F43: այդ թվում`բյուջետային ծախսերի տնտեսագիտական դասակարգման հոդվածներ
F44: ԸՆԴԱՄԵՆԸ ԾԱԽՍԵՐ | G44: =G45 -> 38511.5 | H44: =H45 -> 38511.5 | I44: =I45 -> 38511.5
F45: ԸՆԹԱՑԻԿ ԾԱԽՍԵՐ | G45: =G46 -> 38511.5 | H45: =H46 -> 38511.5 | I45: =I46 -> 38511.5
F46: ԴՐԱՄԱՇՆՈՐՀՆԵՐ | G46: =G47 -> 38511.5 | H46: =H47 -> 38511.5 | I46: =I47 -> 38511.5
F47: ԿԱՊԻՏԱԼԴՐԱՄԱՇՆՈՐՀՆԵՐ ՊԵՏԱԿԱՆ ՀԱՏՎԱԾԻ ԱՅԼ ՄԱԿԱՐԴԱԿՆԵՐԻՆ | G47: =G48 -> 38511.5 | H47: =H48 -> 38511.5 | I47: =I48 -> 38511.5
F48: Կապիտալ դրամաշնորհներ պետական և համայնքային ոչ առևտրային կազմակերպություններին | G48: =Հ1!D33 -> 38511.5 | H48: =Հ1!E33 -> 38511.5 | I48: =Հ1!F33 -> 38511.5

Sheet Հ3
H1: ՀԱՎԵԼՎԱԾ N 3
H2: ՀՀ կառավարության 2022 թվականի
H3: ______________ ի ___Ն որոշման
A5: ՀԱՅԱՍՏԱՆԻ ՀԱՆՐԱՊԵՏՈՒԹՅԱՆ ԿԱՌԱՎԱՐՈՒԹՅԱՆ 2021 ԹՎԱԿԱՆԻ ԴԵԿՏԵՄԲԵՐԻ 23-Ի N 2121-Ն ՈՐՈՇՄԱՆ N 5 ՀԱՎԵԼՎԱԾԻ N 7 ԱՂՅՈՒՍԱԿՈՒՄ ԿԱՏԱՐՎՈՂ ԼՐԱՑՈՒՄՆԵՐԸ
H7: հազար դրամներով
B8: Ծրագրային դասիչ | D8: Բյուջետային հատկացումների գլխավոր կարգադրիչների, ծրագրերի, միջոցառումների, ծախսային ուղղությունների անվանումները | G8: Միջոցառումները կատարող պետական մարմինների և դրամաշնորհ ստացող տնտեսվարող սուբյեկտների անվանումները | H8: Տարի
B9: Ծրագիր | C9: Միջոցառում
B10: 1 | C10: 2 | D10: 3 | G10: 4 | H10: 5
B11: ԸՆԴԱՄԵՆԸ | H11: =H12+H36+H596+H609+H613+H629+H708+H728+H744+H752+H777+H829+H833+H837 -> 38511.5
B12: ՀՀ տարածքային կառավարման և ենթակառուցվածքների նախարարություն | H12: =H13+H16+H21+H30+H33 -> 38511.5
B13: =Հ2!D38 -> 1212 | C13: Տարածքային զարգացում | H13: =+H14 -> 38511.5
C14: =Հ2!E39 -> 12025 | D14: =+'[1]Հավելված 1'!D34 -> Մարզերում առաջնահերթ լուծում պահանջող հիմնախնդիրների լուծում | G14: =Հ2!F42 -> Գեղարքունիքի մարզպետարան | H14: =H15 -> 38511.5
G15: «Ծակքարի միջնակարգ դպրոց» ՊՈԱԿ | H15: =Հ2!G48 -> 38511.5

Sheet Հ4
F1: Հավելված N 4
F2: ՀՀ կառավարության 2022 թվականի
F3: ------------ N ---------- որոշման
B6: ՀԱՅԱՍՏԱՆԻ ՀԱՆՐԱՊԵՏՈՒԹՅԱՆ ԿԱՌԱՎԱՐՈՒԹՅԱՆ 2021 ԹՎԱԿԱՆԻ ԴԵԿՏԵՄԲԵՐԻ 23-Ի N 2121-Ն ՈՐՈՇՄԱՆ N 9 ՀԱՎԵԼՎԱԾԻ N 9.7 ԱՂՅՈՒՍԱԿՈՒՄ ԿԱՏԱՐՎՈՂ ՓՈՓՈԽՈՒԹՅՈՒՆՆԵՐԸ ԵՎ ԼՐԱՑՈՒՄՆԵՐԸ
E8: Աղյուսակ 9.7
B9: ՀՀ տարածքային կառավարման և ենթակառուցվածքների նախարարություն
B10: ՄԱՍ 2. ՊԵՏԱԿԱՆ ՄԱՐՄՆԻ ԳԾՈՎ ԱՐԴՅՈՒՆՔԱՅԻՆ (ԿԱՏԱՐՈՂԱԿԱՆ) ՑՈՒՑԱՆԻՇՆԵՐԸ
B12: Ծրագրի դասիչը | C12: Ծրագրի անվանումը
B13: 1070 | C13: Աջակցություն փախստականների ինտեգրմանը
B15: Ծրագրի միջոցառումները
B17: Ծրագրի դասիչը` | C17: =Հ1!A13 -> 1070 | D17: Ցուցանիշների փոփոխությունը (նվազեցումները նշված են փակագծերով)
B18: Միջոցառման դասիչը` | C18: =Հ1!B19 -> 12003 | D18: Առաջին կիսամյակ | E18: Ինն ամիս | F18: Տարի
B19: Միջոցառման անվանումը` | C19: =Հ1!C20 -> 1988-1992 թվականներին Ադրբեջանից բռնագաղթված և Հայաստանի Հանրապետությունում ապաստանած փախստական ընտանիքների բնակարանային ապահովում
B20: Նկարագրությունը` | C20: =Հ1!C22 -> 1988-1992 թվականներին Ադրբեջանից բռնագաղթված և Հայաստանի Հանրապետությունում ապաստանած բնակության վայր չունեցող փախստական ընտանիքներին բնակարանային ապահովման աջակցություն
B21: Միջոցառման տեսակը` | C21: Տրանսֆերտների տրամադրում
B22: Շահառուների ընտրության չափանիշներ | C22: Ադրբեջանից բռնագաղթված, Հայաստանի Հանրապետությունում քաղաքացիություն ստացած բնակության վայր չունեցող ընտանիքներ
B23: Արդյունքի չափորոշիչներ
B24: Միջոցառման վրա կատարվող ծախսը (հազար դրամ) | D24: =Հ1!D20 -> -38511.5 | E24: =+D24 -> -38511.5 | F24: =+E24 -> -38511.5
B27: Ծրագրի դասիչը | C27: Ծրագրի անվանումը
B28: 1212 | C28: Տարածքային զարգացում
B29: Ծրագրի դասիչը` | C29: =[2]Հ1!A13 -> 1212 | D29: Ցուցանիշների փոփոխությունը (ավելացումները նշված են դրական նշանով)
B30: Միջոցառման դասիչը` | C30: =[2]Հ1!B20 -> 12025 | D30: Առաջին կիսամյակ | E30: Ինն ամիս | F30: Տարի
B31: Միջոցառման անվանումը` | C31: =+[2]Հ1!C21 -> Մարզերում առաջնահերթ լուծում պահանջող հիմնախնդիրների լուծում
B32: Նկարագրությունը` | C32: =+[2]Հ1!C23 -> Մարզերում առաջնահերթ լուծում պահանջող ծրագրերի իրականացում, որի արդյունքում լուծում կտրվի բնակչության եւ համայնքների սոցիալական նշանակություն ունեցող հիմնախնդիրներին:
B33: Միջոցառման տեսակը` | C33: Տրանսֆերտների տրամադրում
B34: Արդյունքի չափորոշիչներ
B35: Համայնքների թիվ,հատ | D35: 1 | E35: 1 | F35: 1
B36: Դպրոցների թիվը, հատ | D36: 1 | E36: 1 | F36: 1
B37: Միջոցառման վրա կատարվող ծախսը (հազար դրամ) | D37: =Հ1!D33 -> 38511.5 | E37: =Հ1!E33 -> 38511.5 | F37: =Հ1!F33 -> 38511.5

Sheet Հ5
F1: Հավելված N 5
F2: ՀՀ կառավարության 2022 թվականի
F3: ______________ ի ___Ն որոշման
B6: ՀԱՅԱՍՏԱՆԻ ՀԱՆՐԱՊԵՏՈՒԹՅԱՆ ԿԱՌԱՎԱՐՈՒԹՅԱՆ 2021 ԹՎԱԿԱՆԻ ԴԵԿՏԵՄԲԵՐԻ 23-Ի N 2121-Ն ՈՐՈՇՄԱՆ N 9.1 ՀԱՎԵԼՎԱԾԻ N 9.1.35 ԵՎ 9.1.52 ԱՂՅՈՒՍԱԿՆԵՐՈՒՄ ԿԱՏԱՐՎՈՂ ՓՈՓՈԽՈՒԹՅՈՒՆՆԵՐԸ ԵՎ ԼՐԱՑՈՒՄՆԵՐԸ
E8: Աղյուսակ 9.1.35
B9: ՀՀ տարածքային կառավարման և ենթակառուցվածքների նախարարության միգրացիոն ծառայություն
B10: ՄԱՍ 1. ՊԵՏԱԿԱՆ ՄԱՐՄՆԻ ԳԾՈՎ ԱՐԴՅՈՒՆՔԱՅԻՆ (ԿԱՏԱՐՈՂԱԿԱՆ) ՑՈՒՑԱՆԻՇՆԵՐԸ
B12: Ծրագրի դասիչը | C12: Ծրագրի անվանումը
B13: =+Հ4!B13 -> 1070 | C13: =+Հ4!C13 -> Աջակցություն փախստականների ինտեգրմանը
B15: Ծրագրի միջոցառումները
B16: Ծրագրի դասիչը` | C16: =+Հ4!C17 -> 1070 | D16: =+Հ4!D17 -> Ցուցանիշների փոփոխությունը (նվազեցումները նշված են փակագծերով)
B17: Միջոցառման դասիչը` | C17: =+Հ4!C18 -> 12003 | D17: Առաջին կիսամյակ | E17: Ինն ամիս | F17: Տարի
B18: =+'[3]5'!B20 -> Միջոցառման անվանումը` | C18: =+Հ4!C19 -> 1988-1992 թվականներին Ադրբեջանից բռնագաղթված և Հայաստանի Հանրապետությունում ապաստանած փախստական ընտանիքների բնակարանային ապահովում
B19: =+'[3]5'!B21 -> Նկարագրությունը` | C19: =+Հ4!C20 -> 1988-1992 թվականներին Ադրբեջանից բռնագաղթված և Հայաստանի Հանրապետությունում ապաստանած բնակության վայր չունեցող փախստական ընտանիքներին բնակարանային ապահովման աջակցություն
B20: =+'[3]5'!B22 -> Միջոցառման տեսակը` | C20: =+Հ4!C21 -> Տրանսֆերտների տրամադրում
B21: Շահառուների ընտրության չափանիշներ | C21: =+Հ4!C22 -> Ադրբեջանից բռնագաղթված, Հայաստանի Հանրապետությունում քաղաքացիություն ստացած բնակության վայր չունեցող ընտանիքներ
B22: Արդյունքի չափորոշիչներ
B23: Միջոցառման վրա կատարվող ծախսը (հազար դրամ) | D23: =+Հ4!D24 -> -38511.5 | E23: =+D23 -> -38511.5 | F23: =+E23 -> -38511.5
E25: Աղյուսակ 9.1.52
B26: ՀՀ Գեղարքունիքի մարպետարան
B27: ՄԱՍ 1. ՊԵՏԱԿԱՆ ՄԱՐՄՆԻ ԳԾՈՎ ԱՐԴՅՈՒՆՔԱՅԻՆ (ԿԱՏԱՐՈՂԱԿԱՆ) ՑՈՒՑԱՆԻՇՆԵՐԸ
B29: Ծրագրի դասիչը | C29: Ծրագրի անվանումը
B30: =Հ1!A25 -> 1212 | C30: =Հ1!C26 -> Տարածքային զարգացում
B32: Ծրագրի միջոցառումները
B33: Ծրագրի դասիչը` | C33: =Հ1!A25 -> 1212 | D33: Ցուցանիշների փոփոխությունը (ավելացումները նշված են դրական նշանով)
B34: Միջոցառման դասիչը` | C34: =Հ1!B32 -> 12025 | D34: Առաջին կիսամյակ | E34: Ինն ամիս | F34: Տարի
B35: Միջոցառման անվանումը` | C35: =+'[3]5'!C33 -> Մարզերում առաջնահերթ լուծում պահանջող հիմնախնդիրների լուծում
B36: Նկարագրությունը` | C36: =+'[3]5'!C34 -> Մարզերում առաջնահերթ լուծում պահանջող ծրագրերի իրականացում, որի արդյունքում լուծում կտրվի բնակչության և համայնքների սոցիալական նշանակություն ունեցող հիմնախնդիրներին
B37: Միջոցառման տեսակը` | C37: =+'[3]5'!C35 -> Տրանսֆերտների տրամադրում
B38: Արդյունքի չափորոշիչներ
B39: =+Հ4!B35 -> Համայնքների թիվ,հատ | D39: =+Հ4!D35 -> 1 | E39: =+Հ4!E35 -> 1 | F39: =+Հ4!F35 -> 1
B40: =Հ4!B36 -> Դպրոցների թիվը, հատ | D40: =Հ4!D36 -> 1 | E40: =Հ4!E36 -> 1 | F40: =Հ4!F36 -> 1
B41: Միջոցառման վրա կատարվող ծախսը (հազար դրամ) | D41: =+Հ4!D37 -> 38511.5 | E41: =+D41 -> 38511.5 | F41: =+E41 -> 38511.5
