Workbook

Sheet 1
C1: Հավելված № 1
C2: ՀՀ կառավարության 2022թվականի ----------
C3: № ---------- որոշման
B8: «ՀԱՅԱՍՏԱՆԻ ՀԱՆՐԱՊԵՏՈՒԹՅԱՆ 2022 ԹՎԱԿԱՆԻ ՊԵՏԱԿԱՆ ԲՅՈՒՋԵԻ ՄԱՍԻՆ» ՀԱՅԱՍՏԱՆԻ ՀԱՆՐԱՊԵՏՈՒԹՅԱՆ ՕՐԵՆՔԻ 2-ՐԴ ՀՈԴՎԱԾԻ ԱՂՅՈՒՍԱԿՈՒՄ ԿԱՏԱՐՎՈՂ ՓՈՓՈԽՈՒԹՅՈՒՆՆԵՐԸ
C9: (հազ. դրամ)
C10: Ցուցանիշների փոփոխություն (գումարների ավելացումը նշված է դրական նշանով)
B11: 1. Եկամուտների գծով | C11: 0
B12: 2. Ծախսերի գծով | C12: ='6'!H10 -> 317301.8
B13: 3. Դեֆիցիտը (պակասուրդը) | C13: =C12-C11 -> 317301.8

Sheet 2
D1: Հավելված № 2
D2: ՀՀ կառավարության 2022 թվականի ----------
D3: № ---------- որոշման
B5: «ՀԱՅԱՍՏԱՆԻ ՀԱՆՐԱՊԵՏՈՒԹՅԱՆ 2022 ԹՎԱԿԱՆԻ ՊԵՏԱԿԱՆ ԲՅՈՒՋԵԻ ՄԱՍԻՆ» ՀԱՅԱՍՏԱՆԻ ՀԱՆՐԱՊԵՏՈՒԹՅԱՆ ՕՐԵՆՔԻ 3-ՐԴ ՀՈԴՎԱԾԻ ԱՂՅՈՒՍԱԿՈՒՄ, N 3 ՀԱՎԵԼՎԱԾԻ N 1 ԱՂՅՈՒՍԱԿՈՒՄ ԵՎ ՀԱՅԱՍՏԱՆԻ ՀԱՆՐԱՊԵՏՈՒԹՅԱՆ ԿԱՌԱՎԱՐՈՒԹՅԱՆ 2021 ԹՎԱԿԱՆԻ ԴԵԿՏԵՄԲԵՐԻ 23-Ի N 2121-Ն ՈՐՈՇՄԱՆ N 1 ՀԱՎԵԼՎԱԾԻ N 1 ԱՂՅՈՒՍԱԿՈՒՄ ԿԱՏԱՐՎՈՂ ՓՈՓՈԽՈՒԹՅՈՒՆՆԵՐԸ
D6: (հազ. դրամ)
B7: Պետական բյուջեի դեֆիցիտի(պակասուրդի) ֆինանսավորման աղբյուրներն ու դրանց տարրերի անվանումները | C7: Ցուցանիշների փոփոխությունը
C8: (գումարների ավելացումը նշված է դրական նշանով)
C9: ինն ամիս | D9: տարի
B11: ԸՆԴԱՄԵՆԸ | C11: =C13 -> 317301.8 | D11: =D13 -> 317301.8
B12: այդ թվում`
B13: Ա.Ներքին աղբյուրներ-ընդամենը | C13: =C15 -> 317301.8 | D13: =D15 -> 317301.8
B14: այդ թվում`
B15: 2. Ֆինանսական զուտ ակտիվներ | C15: =C17 -> 317301.8 | D15: =D17 -> 317301.8
B16: այդ թվում`
B17: 2.6 Այլ | C17: =C18 -> 317301.8 | D17: =D18 -> 317301.8
B18: կայունացման դեպոզիտային հաշվից օգտագործում | C18: ='6'!G10 -> 317301.8 | D18: ='6'!H10 -> 317301.8

Sheet 3
C1: Հավելված № 3
C2: ՀՀ կառավարության 2022թվականի ----------
C3: № ---------- որոշման
A5: «ՀԱՅԱՍՏԱՆԻ ՀԱՆՐԱՊԵՏՈՒԹՅԱՆ 2022 ԹՎԱԿԱՆԻ ՊԵՏԱԿԱՆ ԲՅՈՒՋԵԻ ՄԱՍԻՆ» ՀԱՅԱՍՏԱՆԻ ՀԱՆՐԱՊԵՏՈՒԹՅԱՆ ՕՐԵՆՔԻ N 1 ՀԱՎԵԼՎԱԾԻ N 1 ԱՂՅՈՒՍԱԿՈՒՄ ԿԱՏԱՐՎՈՂ ՓՈՓՈԽՈՒԹՅՈՒՆՆԵՐԸ
C6: (հազ. դրամ)
A7: Ծրագրային դասիչը | B7: Ծրագրի անվանումը | C7: Ցուցանիշների փոփոխությունը (ավելացումները նշված են դրական նշանով)
C8: տարի
A9: Ընդամենը | C9: =SUM(C10:C11) -> 317301.8
A10: 1080 | B10: Դատական իշխանության գործունեության ապահովում և իրականացում | C10: ='6'!H20 -> 160036.5
A11: 1228 | B11: Հակակոռուպցիոն քաղաքականության մշակում,ծրագրերի համակարգում և մոնիտորինգի իրականացում | C11: ='6'!H33 -> 157265.3

Sheet 4
H1: Հավելված № 4
H2: ՀՀ կառավարության 2022 թվականի ----------
H3: № ---------- որոշման
A6: ՀԱՅԱՍՏԱՆԻ ՀԱՆՐԱՊԵՏՈՒԹՅԱՆ 2022 ԹՎԱԿԱՆԻ ՊԵՏԱԿԱՆ ԲՅՈՒՋԵԻ ՄԱՍԻՆ ՕՐԵՆՔԻ N 1 ՀԱՎԵԼՎԱԾԻ N 3 ԱՂՅՈՒՍԱԿՈՒՄ ԿԱՏԱՐՎՈՂ ՓՈՓՈԽՈՒԹՅՈՒՆՆԵՐԸ
G7: (հազ. դրամ)
A8: Շրագրային դասիչը | C8: Բյուջետային գլխավոր կարգադրիչների, ծրագրերի և միջոցառումների և ուղղությունների անվանումները | D8: Ընդամենը | E8: Ցուցանիշների փոփոխությունը (ավելացումները նշված են դրական նշանով)
E9: այդ թվում
A10: Ծրագիր | B10: Միջոցառում | E10: Կառուցման աշխատանքներ | F10: Վերակառուցման, վերանորոգման և վերականգնման աշխատանքներ | G10: Նախագծահե- տազոտական, գեոդեզիա- քարտեզագրա- կան աշխա- տանքներ | H10: Ոչ ֆինանսական այլ ակտիվների ձեռքբերում
C11: Ընդամենը | D11: =D13 -> 157265.3 | E11: =E13 -> 0 | F11: =F13 -> 157265.3 | G11: =G13 -> 0 | H11: =H13 -> 0
C12: այդ թվում`
C13: ՀՀ արդարադատության նախարարություն | D13: =D15 -> 157265.3 | E13: =E15 -> 0 | F13: =F15 -> 157265.3 | G13: =G15 -> 0 | H13: =H15 -> 0
C14: այդ թվում՝
A15: 1228 | B15: 31002 | C15: Հակակոռուպցիոն դատարանի շենքային պայմանների ապահովում | D15: =E15+F15+G15+H15 -> 157265.3 | F15: ='6'!H35 -> 157265.3

Sheet 5
E2: Հավելված N 5
E3: ՀՀ կառավարության 2022 թվականի
E4: ___________ ___-ի N _______ որոշման
A5: «ՀԱՅԱՍՏԱՆԻ ՀԱՆՐԱՊԵՏՈՒԹՅԱՆ 2022 ԹՎԱԿԱՆԻ ՊԵՏԱԿԱՆ ԲՅՈՒՋԵԻ ՄԱՍԻՆ» ՀՀ ՕՐԵՆՔԻ N 1 ՀԱՎԵԼՎԱԾԻ N 2 ԱՂՅՈՒՍԱԿՈՒՄ ԵՎ ՀԱՅԱՍՏԱՆԻ ՀԱՆՐԱՊԵՏՈՒԹՅԱՆ ԿԱՌԱՎԱՐՈՒԹՅԱՆ 2021 ԹՎԱԿԱՆԻ ԴԵԿՏԵՄԲԵՐԻ 23-Ի N 2121-Ն ՈՐՈՇՄԱՆ N 5 ՀԱՎԵԼՎԱԾԻ N 1 ԱՂՅՈՒՍԱԿՈՒՄ ԿԱՏԱՐՎՈՂ ՓՈՓՈԽՈՒԹՅՈՒՆՆԵՐԸ
D7: (հազ. դրամ)
A8: Ծրագրային դասիչը | C8: Բյուջետային հատկացումների գլխավոր կարգադրիչների, ծրագրերի և միջոցառումների անվանումները | D8: Ցուցանիշների փոփոխությունը (ավելացումները նշված են դրական նշանով)
A9: Ծրագիր | B9: Միջոցառում | D9: Ինն ամիս | E9: Տարի
B10: ԸՆԴԱՄԵՆԸ | D10: =D11+D25 -> 317301.8 | E10: =E11+E25 -> 317301.8
C11: Բարձրագույն դատական խորհուրդ | D11: =D12 -> 160036.5 | E11: =E12 -> 160036.5
A12: 1080 | C12: Ծրագրի անվանումը` | D12: =+D19 -> 160036.5 | E12: =+E19 -> 160036.5
C13: Դատական իշխանության գործունեության ապահովում և իրականացում
C14: Ծրագրի նպատակը`
C15: Դատական իշխանության անկախության երաշխավորում, բնականոն գործունեության և դատական պաշտպանության իրավունքի ապահովում
C16: Վերջնական արդյունքի նկարագրությունը`
C17: Դատական իշխանության գուծունեության և դատական պաշտպանության իրավունքի ապահովման արդյունավետության բարձրացում
C18: Ծրագրի միջոցառումներ
B19: 11001 | C19: Միջոցառման անվանումը` | D19: ='6'!G22 -> 160036.5 | E19: ='6'!H22 -> 160036.5
C20: Բարձրագույն դատական խորհրդի բնականոն գործունեության ապահովում և Բարձրագույն դատական խորհրդի կողմից դատական իշխանության անկախության երաշխավորմանն ուղղված միջոցառումների իրականացում
C21: Միջոցառման նկարագրությունը`
C22: Դատական գործերի բաշխման համակարգի արդիականացում, դատարանների բնականոն գործունեության համար նյութատեխնիկական պայմաններով ապահովում, Դատական դեպարտամենտին որակյալ կադրերով ապահովում, ճշգրիտ դատական վիճակագրության վարում և այլն
C23: Միջոցառման տեսակը
C24: Ծառայությունների մատուցում
C25: ՀՀ արդարադատության նախարարություն | D25: =D26 -> 157265.3 | E25: =E26 -> 157265.3
A26: 1228 | C26: Ծրագրի անվանումը` | D26: =+D33 -> 157265.3 | E26: =+E33 -> 157265.3
C27: Հակակոռուպցիոն քաղաքականության մշակում,ծրագրերի համակարգում և մոնիտորինգի իրականացում
C28: Ծրագրի նպատակը`
C29: Հակակոռուպցիոն ինստիտուցիոնալ համակարգի վերափոխում և զարգացում` նաև ոլորտային կոռուպցիոն ռիսկերի վերհանման ու նվազեցման և էլեկտրոնային ժողովրդավարության գործիքների ներդրման միջոցով
C30: Վերջնական արդյունքի նկարագրությունը`
C31: Կոռուպցիայի նվազեցում, հակակոռուպցիոն արդյունավետ ինստիտուցիոնալ համակարգի առկայություն
C32: Ծրագրի միջոցառումներ
B33: 31002 | C33: Միջոցառման անվանումը` | D33: ='6'!G33 -> 157265.3 | E33: ='6'!H33 -> 157265.3
C34: Հակակոռուպցիոն դատարանի շենքային պայմանների ապահովում
C35: Միջոցառման նկարագրությունը`
C36: Հակակոռուպցիոն դատարանի կարիքները սպասարկող նոր շենքի կառուցում
C37: Միջոցառման տեսակը
C38: Պետական մարմինների կողմից օգտագործվող ոչ ֆինանսական ակտիվների հետ գործառնություններ

Sheet 6
H1: Հավելված N6
H2: ՀՀ կառավարության 2022թվականի
H3: ___________ ___-ի N _______ որոշման
A6: ՀԱՅԱՍՏԱՆԻ ՀԱՆՐԱՊԵՏՈՒԹՅԱՆ ԿԱՌԱՎԱՐՈՒԹՅԱՆ 2021 ԹՎԱԿԱՆԻ ԴԵԿՏԵՄԲԵՐԻ 23-Ի N 2121-Ն ՈՐՈՇՄԱՆ N 3 և N 4 ՀԱՎԵԼՎԱԾՆԵՐՈՒՄ ԿԱՏԱՐՎՈՂ ՓՈՓՈԽՈՒԹՅՈՒՆՆԵՐԸ
G7: (հազ. դրամ)
A8: Գործառական դասիչը | D8: Ծրագրային դասիչը | F8: Բյուջետային ծախսերի գործառական դասակարգման բաժինների, խմբերի և դասերի, բյուջետային ծրագրերի, միջոցառումների բյուջետային հատկացումնեյի գլխավոր կարկադրիչների անվանումները | G8: Ցուցանիշների փոփոխությունը (ավելացումները նշված են դրական նշանով)
A9: Բաժին | B9: Խումբ | C9: Դաս | D9: Ծրագիր | E9: Միջոցառում | G9: ինն ամիս | H9: Տարի
F10: ԸՆԴԱՄԵՆԸ | G10: =+G12 -> 317301.8 | H10: =+H12 -> 317301.8
F11: այդ թվում`
A12: 03 | F12: ՀԱՍԱՐԱԿԱԿԱՆ ԿԱՐԳ, ԱՆՎՏԱՆԳՈՒԹՅՈՒՆ ԵՎ ԴԱՏԱԿԱՆ ԳՈՐԾՈՒՆԵՈՒԹՅՈՒՆ | G12: =G14 -> 317301.8 | H12: =H14 -> 317301.8
F13: այդ թվում`
B14: 03 | F14: Դատական գործունեություն և իրավական պաշտպանություն | G14: =+G16 -> 317301.8 | H14: =+H16 -> 317301.8
F15: այդ թվում`
C16: 01 | F16: Դատարաններ | G16: =G18++G31 -> 317301.8 | H16: =H18++H31 -> 317301.8
F17: այդ թվում`
F18: Բարձրագույն դատական խորհուրդ | G18: =G20 -> 160036.5 | H18: =H20 -> 160036.5
F19: այդ թվում`
D20: 1080 | F20: Դատական իշխանության գործունեության ապահովում և իրականացում | G20: =G22 -> 160036.5 | H20: =H22 -> 160036.5
F21: այդ թվում`
E22: 11001 | F22: Բարձրագույն դատական խորհրդի բնականոն գործունեության ապահովում և Բարձրագույն դատական խորհրդի կողմից դատական իշխանության անկախության երաշխավորմանն ուղղված միջոցառումների իրականացում | G22: =G24 -> 160036.5 | H22: =H24 -> 160036.5
F23: այդ թվում` ըստ կատարողների
F24: ՀՀ դատական դեպարտամենտ | G24: =G26 -> 160036.5 | H24: =H26 -> 160036.5
F25: այդ թվում` բյուջետային ծախսերի տնտեսագիտական դասակարգման հոդվածներ
F26: ԸՆԴԱՄԵՆԸ ԾԱԽՍԵՐ | G26: =G27 -> 160036.5 | H26: =H27 -> 160036.5
F27: ԸՆԹԱՑԻԿ ԾԱԽՍԵՐ | G27: =G28 -> 160036.5 | H27: =H28 -> 160036.5
F28: ԾԱՌԱՅՈՒԹՅՈՒՆՆԵՐԻ ԵՎ ԱՊՐԱՆՔՆԵՐԻ ՁԵՌՔԲԵՐՈՒՄ | G28: =G29 -> 160036.5 | H28: =H29 -> 160036.5
F29: Ընթացիկ նորոգում և պահպանում (ծառայություններ և նյութեր) | G29: =G30 -> 160036.5 | H29: =H30 -> 160036.5
F30: - Շենքերի և կառույցների ընթացիկ նորոգում և պահպանում | G30: 160036.5 | H30: 160036.5
F31: ՀՀ արդարադատության նախարարություն | G31: =G33+G46 -> 157265.3 | H31: =H33+H46 -> 157265.3
F32: այդ թվում`
D33: 1228 | F33: Հակակոռուպցիոն քաղաքականության մշակում,ծրագրերի համակարգում և մոնիտորինգի իրականացում | G33: =G35 -> 157265.3 | H33: =H35 -> 157265.3
F34: այդ թվում`
E35: 31002 | F35: Հակակոռուպցիոն դատարանի շենքային պայմանների ապահովում | G35: =G37 -> 157265.3 | H35: =H37 -> 157265.3
F36: այդ թվում` ըստ կատարողների
F37: ՀՀ դատական դեպարտամենտ | G37: =G39 -> 157265.3 | H37: =H39 -> 157265.3
F38: այդ թվում` բյուջետային ծախսերի տնտեսագիտական դասակարգման հոդվածներ
F39: ԸՆԴԱՄԵՆԸ ԾԱԽՍԵՐ | G39: =G40 -> 157265.3 | H39: =H40 -> 157265.3
F40: ՈՉ ՖԻՆԱՆՍԱԿԱՆ ԱԿՏԻՎՆԵՐԻ ԳԾՈՎ ԾԱԽՍԵՐ | G40: =G41 -> 157265.3 | H40: =H41 -> 157265.3
F41: ՀԻՄՆԱԿԱՆ ՄԻՋՈՑՆԵՐ | G41: =G42 -> 157265.3 | H41: =H42 -> 157265.3
F42: ՇԵՆՔԵՐ և ՇԻՆՈՒԹՅՈՒՆՆԵՐ | G42: =G43 -> 157265.3 | H42: =H43 -> 157265.3
...

Sheet 7
E1: Հավելված 7
C2: ՀՀ կառավարության 2022 թվականի
C3: ______________ ի ___Ն որոշման
A5: ՀԱՅԱՍՏԱՆԻ ՀԱՆՐԱՊԵՏՈՒԹՅԱՆ ԿԱՌԱՎԱՐՈՒԹՅԱՆ 2021 ԹՎԱԿԱՆԻ ԴԵԿՏԵՄԲԵՐԻ 23-Ի ԹԻՎ 2121-Ն ՈՐՈՇՄԱՆ N5 ՀԱՎԵԼՎԱԾԻ N2 ԱՂՅՈՒՍԱԿՈՒՄ ԿԱՏԱՐՎՈՂ ԼՐԱՑՈՒՄՆԵՐԸ
D7: (հազ. դրամ)
A8: Ծրագրային դասիչ | C8: Բյուջետային գլխավոր կարգադրիչների, ծրագրերի, միջոցառումների, միջոցառումները կատարող պետական մարմինների և ուղղությունների անվանումները | D8: Ցուցանիշների փոփոխությունը (ավելացումները նշված են դրական նշանով)
A9: Ծրագիր | B9: Միջոցառում | D9: Ինն ամիս | E9: Տարի
C10: ԸՆԴԱՄԵՆԸ | D10: =D11 -> 157265.3 | E10: =E11 -> 157265.3
C11: ՀՀ ԱՐԴԱՐԱԴԱՏՈՒԹՅԱՆ ՆԱԽԱՐԱՐՈՒԹՅՈՒՆ | D11: =D13 -> 157265.3 | E11: =E13 -> 157265.3
C12: այդ թվում`
A13: 1228 | B13: 31002 | C13: Հակակոռուպցիոն դատարանի շենքային պայմանների ապահովում | D13: =D15 -> 157265.3 | E13: =E15 -> 157265.3
C14: այդ թվում` ըստ կատարողների
C15: ՀՀ դատական դեպարտամենտ | D15: ='6'!G33 -> 157265.3 | E15: 157265.3
C16: այդ թվում` ըստ ուղղությունների
C17: Երևան քաղաքի Թբիլիսյան խճուղի 3/9 ի հասցեում տեղակայված վարչական շենքի կապիտալ վերանորոգում | D17: ='6'!G35 -> 157265.3 | E17: 157265.3

Sheet 8
D1: Հավելված N8
D2: ՀՀ կառավարության 2022թվականի
D3: ___________ ___-ի N _______ որոշման
A8: ՀԱՅԱՍՏԱՆԻ ՀԱՆՐԱՊԵՏՈՒԹՅԱՆ ԿԱՌԱՎԱՐՈՒԹՅԱՆ 2021 ԹՎԱԿԱՆԻ ԴԵԿՏԵՄԲԵՐԻ 23-Ի ԹԻՎ 2121-Ն ՈՐՈՇՄԱՆ N 9 ՀԱՎԵԼՎԱԾԻ 9.5 և 9․9 ԱՂՅՈՒՍԱԿՆԵՐՈՒՄ ԿԱՏԱՐՎՈՂ ՓՈՓՈԽՈՒԹՅՈՒՆՆԵՐԸ
A10: Բարձրագույն դատական խորհուրդ
A12: ՄԱՍ 2. ՊԵՏԱԿԱՆ ՄԱՐՄՆԻ ԳԾՈՎ ԱՐԴՅՈՒՆՔԱՅԻՆ (ԿԱՏԱՐՈՂԱԿԱՆ) ՑՈՒՑԱՆԻՇՆԵՐԸ
A15: Ծրագրի դասիչը | B15: Ծրագրի անվանումը
A16: 1080 | B16: Դատական իշխանության գործունեության ապահովում և իրականացում
A18: Ծրագրի միջոցառումները
A19: Ծրագրի դասիչը` | B19: 1080 | C19: Ցուցանիշների փոփոխությունը (ավելացումները նշված են դրական նշանով)
A20: Միջոցառման դասիչը` | B20: 11001 | C20: Ինն ամիս | D20: Տարի
A21: Միջոցառման անվանումը` | B21: Բարձրագույն դատական խորհրդի բնականոն գործունեության ապահովում և Բարձրագույն դատական խորհրդի կողմից դատական իշխանության անկախության երաշխավորմանն ուղղված միջոցառումների իրականացում
A22: Նկարագրությունը` | B22: Դատական գործերի բաշխման համակարգի արդիականացում, դատարանների բնականոն գործունեության համար նյութատեխնիկական պայմաններով ապահովում, Դատական դեպարտամենտին որակյալ կադրերով ապահովում, ճշգրիտ դատական վիճակագրության վարում և այլն
A23: Միջոցառման տեսակը` | B23: Ծառայությունների մատուցում
A24: Միջոցառումն իրականացնողի անվանումը | B24: Դատական դեպարտամենտ
A25: Արդյունքի չափորոշիչներ
A26: Միջոցառման վրա կատարվող ծախսը (հազար դրամ) | C26: ='6'!G22 -> 160036.5 | D26: ='6'!H22 -> 160036.5
A31: ՀՀ արդարադատության նախարարություն
A33: ՄԱՍ 2. ՊԵՏԱԿԱՆ ՄԱՐՄՆԻ ԳԾՈՎ ԱՐԴՅՈՒՆՔԱՅԻՆ (ԿԱՏԱՐՈՂԱԿԱՆ) ՑՈՒՑԱՆԻՇՆԵՐԸ
A36: Ծրագրի դասիչը | B36: Ծրագրի անվանումը
A37: 1228 | B37: Հակակոռուպցիոն քաղաքականության մշակում,ծրագրերի համակարգում և մոնիտրինգի իրականացում
A40: Ծրագրի դասիչը` | B40: 1228 | C40: Ցուցանիշների փոփոխությունը (ավելացումները նշված են դրական նշանով)
A41: Միջոցառման դասիչը` | B41: 31002 | C41: Ինն ամիս | D41: Տարի
A42: Միջոցառման անվանումը` | B42: Հակակոռուպցիոն դատարանի շենքային պայմանների ապահովում
A43: Նկարագրությունը` | B43: Հակակոռուպցիոն դատարանի կարիքները սպասարկող նոր շենքի կառուցում
A44: Միջոցառման տեսակը` | B44: Պետական մարմինների կողմից օգտագործվող ոչ ֆինանսական ակտիվների հետ գործառնություններ
A45: Ակտիվն օգտագործող կազմակերպության(ների) անվանում(ներ)ը | B45: Հակակոռուպցիոն դատարան
A46: Արդյունքի չափորոշիչներ
A47: Երևան քաղաքի Թբիլիսյան խճուղի 3/9 ի հասցեում տեղակայված շենքի կապիտալ վերանորոգում | D47: 1
A48: Կապիտալ վերանորոգման աշխատանքների ավարտվածության աստիճանը, տոկոս | D48: 100
A49: Միջոցառման վրա կատարվող ծախսը (հազար դրամ) | C49: ='6'!G33 -> 157265.3 | D49: ='6'!H33 -> 157265.3

Sheet 9
D1: Հավելված N 9
D2: ՀՀ կառավարության 2022թվականի
D3: ___________ ___-ի N _______ որոշման
A6: ՀԱՅԱՍՏԱՆԻ ՀԱՆՐԱՊԵՏՈՒԹՅԱՆ ԿԱՌԱՎԱՐՈՒԹՅԱՆ 2021 ԹՎԱԿԱՆԻ ԴԵԿՏԵՄԲԵՐԻ 23-Ի ԹԻՎ 2121-Ն ՈՐՈՇՄԱՆ N 9.1 ՀԱՎԵԼՎԱԾԻ 9.1.5 և 9.1.10 ԱՂՅՈՒՍԱԿՆԵՐՈՒՄ ԿԱՏԱՐՎՈՂ ՓՈՓՈԽՈՒԹՅՈՒՆՆԵՐԸ ԵՎ ԼՐԱՑՈՒՄՆԵՐԸ
A8: ՀՀ դատական դեպարտամենտ
A10: ՄԱՍ 1. ՊԵՏԱԿԱՆ ՄԱՐՄՆԻ ԳԾՈՎ ԱՐԴՅՈՒՆՔԱՅԻՆ (ԿԱՏԱՐՈՂԱԿԱՆ) ՑՈՒՑԱՆԻՇՆԵՐԸ
A13: Ծրագրի դասիչը | B13: Ծրագրի անվանումը
A14: 1080 | B14: Դատական իշխանության գործունեության ապահովում և իրականացում
A16: Ծրագրի միջոցառումները
A17: Ծրագրի դասիչը` | B17: 1080 | C17: Ցուցանիշների փոփոխությունը (ավելացումները նշված են դրական նշանով)
A18: Միջոցառման դասիչը` | B18: 11019 | C18: Ինն ամիս | D18: Տարի
A19: Միջոցառման անվանումը` | B19: Բարձրագույն դատական խորհրդի բնականոն գործունեության ապահովում և Բարձրագույն դատական խորհրդի կողմից դատական իշխանության անկախության երաշխավորմանն ուղղված միջոցառումների իրականացում
A20: Նկարագրությունը` | B20: Դատական գործերի բաշխման համակարգի արդիականացում, դատարանների բնականոն գործունեության համար նյութատեխնիկական պայմաններով ապահովում, Դատական դեպարտամենտին որակյալ կադրերով ապահովում, ճշգրիտ դատական վիճակագրության վարում և այլն
A21: Միջոցառման տեսակը` | B21: Ծառայությունների մատուցում
A22: Միջոցառումն իրականացնողի անվանումը | B22: Դատական դեպարտամենտ
A23: Արդյունքի չափորոշիչներ
A24: Միջոցառման վրա կատարվող ծախսը (հազար դրամ) | C24: ='6'!G22 -> 160036.5 | D24: ='6'!H22 -> 160036.5
A28: Ծրագրի դասիչը | B28: Ծրագրի անվանումը
A29: 1228 | B29: Հակակոռուպցիոն քաղաքականության մշակում,ծրագրերի համակարգում և մոնիտրինգի իրականացում
A32: Ծրագրի դասիչը` | B32: 1228 | C32: Ցուցանիշների փոփոխությունը (ավելացումները նշված են դրական նշանով)
A33: Միջոցառման դասիչը` | B33: 31002 | C33: Ինն ամիս | D33: Տարի
A34: Միջոցառման անվանումը` | B34: Հակակոռուպցիոն դատարանի շենքային պայմանների ապահովում
A35: Նկարագրությունը` | B35: Հակակոռուպցիոն դատարանի կարիքները սպասարկող նոր շենքի կառուցում
A36: Միջոցառման տեսակը` | B36: Պետական մարմինների կողմից օգտագործվող ոչ ֆինանսական ակտիվների հետ գործառնություններ
A37: Ակտիվն օգտագործող կազմակերպության(ների) անվանում(ներ)ը | B37: Հակակոռուպցիոն դատարան
A38: Արդյունքի չափորոշիչներ
A39: Երևան քաղաքի Թբիլիսյան խճուղի 3/9 ի հասցեում տեղակայված վարչական շենքի կապիտալ վերանորոգում | D39: 1
A40: Կապիտալ վերանորոգման աշխատանքների ավարտվածության աստիճանը, տոկոս | D40: 100
A41: Միջոցառման վրա կատարվող ծախսը (հազար դրամ) | C41: ='6'!G35 -> 157265.3 | D41: ='6'!H35 -> 157265.3

Sheet 10
E1: Հավելված N 10
E2: ՀՀ կառավարության 2022 թվականի
E3: ———————— N -Ն որոշման
A5: ՀԱՅԱՍՏԱՆԻ ՀԱՆՐԱՊԵՏՈՒԹՅԱՆ ԿԱՌԱՎԱՐՈՒԹՅԱՆ 2021 ԹՎԱԿԱՆԻ ԴԵԿՏԵՄԲԵՐԻ 23-Ի N 2121-Ն ՈՐՈՇՄԱՆ N 10 ՀԱՎԵԼՎԱԾԻ ՑՈՒՑԱՆԻՇՆԵՐՈՒՄ ԿԱՏԱՐՎՈՂ ՓՈՓՈԽՈՒԹՅՈՒՆՆԵՐԸ ԵՎ ԼՐԱՑՈՒՄՆԵՐԸ
A7: Կոդը | B7: Անվանումը | C7: Գնման ձևը | D7: Չափի միավորը | E7: միավորի գինը | F7: Ցուցանիշների փոփոխությունը (ավելացումները նշված են դրական նշանով)
F8: քանակը | G8: գումարը (հազար դրամով)
A9: 1 | B9: 2 | C9: 3 | D9: 4 | E9: 5 | F9: 6 | G9: 7
A10: ՀՀ դատական դեպարտամենտ | G10: =G11 -> 317301.77
A11: Բաժին N 03 Խումբ N 03 Դաս N 01 Դատարաններ | G11: =G12+G17 -> 317301.77
A12: 1080 | B12: 11001 | C12: Բարձրագույն դատական խորհրդի բնականոն գործունեության ապահովում և Բարձրագույն դատական խորհրդի կողմից դատական իշխանության անկախության երաշխավորմանն ուղղված միջոցառումների իրականացում | G12: =G13 -> 160036.47
B13: ՄԱՍ II. ԱՇԽԱՏԱՆՔՆԵՐ | G13: =SUM(G14:G16) -> 160036.47
A14: 45461100-6 | B14: Շենքերի, շինությունների ընթացիկ նորոգման աշխատանքներ | C14: ՀՄԱ | D14: դրամ | E14: 30283224 | F14: 1 | G14: =E14*F14/1000 -> 30283.224
A15: 45461100-7 | B15: Շենքերի, շինությունների ընթացիկ նորոգման աշխատանքներ | C15: ՀՄԱ | D15: դրամ | E15: 47857200 | F15: 1 | G15: =E15*F15/1000 -> 47857.2
A16: 45461100-8 | B16: Շենքերի, շինությունների ընթացիկ նորոգման աշխատանքներ | C16: ՀՄԱ | D16: դրամ | E16: 81896050 | F16: 1 | G16: =E16*F16/1000 -> 81896.05
A17: 1228 | B17: 31002 | C17: Հակակոռուպցիոն քաղաքականության մշակում,ծրագրերի համակարգում և մոնիտորինգի իրականացում | G17: =G18 -> 157265.3
B18: ՄԱՍ II. ԱՇԽԱՏԱՆՔՆԵՐ | G18: =SUM(G19:G23) -> 157265.3
A19: 71351540 | B19: տեխնիկական հսկողության ծառայություններ | C19: ՀՄԱ | D19: դրամ | E19: 2174800 | F19: 1 | G19: =E19*F19/1000 -> 2174.8
A20: 98111140 | B20: հեղինակային հսկողության ծառայություններ | C20: ՀՄԱ | D20: դրամ | E20: 869900 | F20: 1 | G20: =E20*F20/1000 -> 869.9
A21: 45611300 | B21: այլ շենքերի, շինությունների հիմնանորոգում | C21: ՀՄԱ | D21: դրամ | E21: 154220600 | F21: 1 | G21: =E21*F21/1000 -> 154220.6
