Workbook

Sheet Հավելված 1
F1: Հավելված 1
F2: ՀՀ կառավարության 2022 թվականի
F3: ___________ ___-ի N _______ -Ն որոշման
A4: «ՀԱՅԱՍՏԱՆԻ ՀԱՆՐԱՊԵՏՈՒԹՅԱՆ 2022 ԹՎԱԿԱՆԻ ՊԵՏԱԿԱՆ ԲՅՈՒՋԵԻ ՄԱՍԻՆ» ՀԱՅԱՍՏԱՆԻ ՀԱՆՐԱՊԵՏՈՒԹՅԱՆ ՕՐԵՆՔԻ N 1 ՀԱՎԵԼՎԱԾԻ N 2 ԱՂՅՈՒՍԱԿՈՒՄ ԿԱՏԱՐՎՈՂ ՎԵՐԱԲԱՇԽՈՒՄԸ ԵՎ ՀԱՅԱՍՏԱՆԻ ՀԱՆՐԱՊԵՏՈՒԹՅԱՆ ԿԱՌԱՎԱՐՈՒԹՅԱՆ 2021 ԹՎԱԿԱՆԻ ԴԵԿՏԵՄԲԵՐԻ 23-Ի N 2121-Ն ՈՐՈՇՄԱՆ N 5 ՀԱՎԵԼՎԱԾԻ N 1 ԱՂՅՈՒՍԱԿՈՒՄ ԿԱՏԱՐՎՈՂ ՓՈՓՈԽՈՒԹՅՈՒՆՆԵՐԸ
F5: հազար դրամներով
A6: Ծրագրային դասիչը | C6: Բյուջետային գլխավոր կարգադրիչների, ծրագրերի և միջոցառումների անվանումները | D6: Ցուցանիշների փոփոխությունը (ավելացումները նշված են դրական նշանով, իսկ նվազեցումները փակագծերում)
A7: Ծրագիր | B7: Միջոցա ռում | D7: Առաջին կիսամյակ | E7: Ինն ամիս | F7: Տարի
A8: 1 | B8: 2 | C8: 3
C9: ԸՆԴԱՄԵՆԸ | D9: =D10+D24 -> 0 | E9: =E10+E24 -> 0 | F9: =F10+F24 -> 0
C10: ՀՀ ազգային անվտանգության ծառայություն | D10: =+D11 -> 1000000 | E10: =+E11 -> 2963145 | F10: =+F11 -> 2963145
A11: 1138 | C11: Ծրագրի անվանումը` | D11: 1000000 | E11: =F11 -> 2963145 | F11: 2963145
C12: Ազգային անվտանգություն
C13: Ծրագրի նպատակը`
C14: Ներքին և արտաքին սպառնալիքներից անձի՝ հասարակության ու պետության անվտանգության ապահովում
C15: Վերջնական արդյունքի նկարագրությունը`
C16: Այլ պետությունների կողմից հետախուզական գործունեության կասեցում՝պետական սահմանի անձեռնամխելիության ապահովում՝ կոռուպցիոն ռիսկերի շեշտակի նվազեցում
A17: Ծրագրի միջոցառումներ | C17: Ծրագրի միջոցառումներ
B18: 11004 | C18: Միջոցառման անվանումը` | D18: =D11 -> 1000000 | E18: =E11 -> 2963145 | F18: =F11 -> 2963145
C19: Պաշտպանության բնագավառի այլ ծախսեր
C20: Միջոցառման նկարագրությունը`
C21: Պաշտպանության բնագավառի այլ ծախսեր
C22: Միջոցառման տեսակը
C23: Ծառայությունների մատուցում
C24: ՀՀ կառավարություն | D24: =D25 -> -1000000 | E24: =E25 -> -2963145 | F24: =F25 -> -2963145
A25: 1139 | C25: Ծրագրի անվանումը` | D25: =D32 -> -1000000 | E25: =E32 -> -2963145 | F25: =F32 -> -2963145
C26: ՀՀ կառավարության պահուստային ֆոնդ
C27: Ծրագրի նպատակը`
C28: Պետական բյուջեում չկանխատեսված, ինչպես նաեւ բյուջետային երաշխիքների ապահովման ծախսերի ֆինանսավորման ապահովում_x000D_
C29: Վերջնական արդյունքի նկարագրությունը`
C30: Պահուստային ֆոնդի կառավարման արդյունավետության և թափանցիկության ապահովում
C31: Ծրագրի միջոցառումներ
B32: 11001 | C32: Միջոցառման անվանումը` | D32: =-D18 -> -1000000 | E32: =-E18 -> -2963145 | F32: =-F18 -> -2963145
C33: ՀՀ կառավարության պահուստային ֆոնդ
C34: Միջոցառման նկարագրությունը`
C35: ՀՀ պետական բյուջեում նախատեսված ելքերի լրացուցիչ ֆինանսավորման՝ պետական բյուջեում չկանխատեսված ելքերի՝ ինչպես նաև բյուջետային երաշխիքների ապահովման ելքերի ֆինանսավորման ապահովում
C36: Միջոցառման տեսակը
C37: Ծառայությունների մատուցում

Sheet Հավելված 2
I1: Հավելված 2
H2: ՀՀ կառավարության 2022 թվականի
H3: ___________ ___-ի N _______ -Ն որոշման
A5: ՀԱՅԱՍՏԱՆԻ ՀԱՆՐԱՊԵՏՈՒԹՅԱՆ ԿԱՌԱՎԱՐՈՒԹՅԱՆ 2021 ԹՎԱԿԱՆԻ ԴԵԿՏԵՄԲԵՐԻ 23-Ի N 2121-Ն ՈՐՈՇՄԱՆ N 3 ԵՎ N 4 ՀԱՎԵԼՎԱԾՆԵՐՈՒՄ ԿԱՏԱՐՎՈՂ ՓՈՓՈԽՈՒԹՅՈՒՆՆԵՐԸ
H7: հազար դրամներով
A8: Գործառական դասիչը | D8: Ծրագրային դասիչը | F8: Բյուջետային հատկացումների գլխավոր կարգադրիչների, ծրագրերի, միջոցառումների և միջոցառումները կատարող պետական մարմինների անվանումները | G8: Ցուցանիշների փոփոխությունը (ավելացումները նշված են դրական նշանով, իսկ նվազեցումները՝ փակագծերում)
A9: Բաժին | B9: Խումբ | C9: Դաս | D9: Ծրագիր | E9: Միջոց առում | G9: Առաջին կիսամյակ | H9: Ինն ամիս | I9: Տարի
A10: 1 | B10: 2 | C10: 3 | D10: 4 | E10: 5 | F10: 6
F11: ԸՆԴԱՄԵՆԸ ԾԱԽՍԵՐ | G11: =+G13+G31 -> 0 | H11: =+H13+H31 -> 0 | I11: =+I13+I31 -> 0
F12: այդ թվում`
A13: 03 | F13: ՀԱՍԱՐԱԿԱԿԱՆ ԿԱՐԳ, ԱՆՎՏԱՆԳՈՒԹՅՈՒՆ ԵՎ ԴԱՏԱԿԱՆ ԳՈՐԾՈՒՆԵՈՒԹՅՈՒՆ | G13: =+G15 -> 1000000 | H13: =+H15 -> 2963145 | I13: =+I15 -> 2963145
F14: այդ թվում`
B15: 01 | F15: Հասարակական կարգ և անվտանգություն | G15: =+G17 -> 1000000 | H15: =+H17 -> 2963145 | I15: =+I17 -> 2963145
F16: այդ թվում`
C17: 02 | F17: Ազգային անվտանգություն | G17: =+G19 -> 1000000 | H17: =+H19 -> 2963145 | I17: =+I19 -> 2963145
F18: այդ թվում`
D19: 1138 | F19: Ազգային անվտանգություն | G19: =G21 -> 1000000 | H19: =H21 -> 2963145 | I19: =I21 -> 2963145
F20: այդ թվում`
F21: ՀՀ ազգային անվտանգության ծառայություն | G21: =G22 -> 1000000 | H21: =H22 -> 2963145 | I21: =I22 -> 2963145
E22: 11004 | F22: Պաշտպանության բնագավառի այլ ծախսեր | G22: =G24 -> 1000000 | H22: =H24 -> 2963145 | I22: =I24 -> 2963145
F23: այդ թվում` ըստ կատարողների
F24: ՀՀ ազգային անվտանգության ծառայություն | G24: =G26 -> 1000000 | H24: =H26 -> 2963145 | I24: =I26 -> 2963145
F25: այդ թվում` բյուջետային ծախսերի տնտեսագիտական դասակարգման հոդվածներ
F26: ԸՆԴԱՄԵՆԸ ԾԱԽՍԵՐ | G26: =G27 -> 1000000 | H26: =H27 -> 2963145 | I26: =I27 -> 2963145
F27: ԸՆԹԱՑԻԿ ԾԱԽՍԵՐ | G27: =G28 -> 1000000 | H27: =H28 -> 2963145 | I27: =I28 -> 2963145
F28: ԴՐԱՄԱՇՆՈՐՀՆԵՐ | G28: =G29 -> 1000000 | H28: =H29 -> 2963145 | I28: =I29 -> 2963145
F29: Ընթացիկ դրամաշնորհներ պետական հատվածի այլ մակարդակներին | G29: =G30 -> 1000000 | H29: =H30 -> 2963145 | I29: =I30 -> 2963145
F30: - Այլ ընթացիկ դրամաշնորհներ | G30: ='Հավելված 1'!D18 -> 1000000 | H30: ='Հավելված 1'!E18 -> 2963145 | I30: ='Հավելված 1'!F18 -> 2963145
A31: 11 | F31: ՀԻՄՆԱԿԱՆ ԲԱԺԻՆՆԵՐԻՆ ՉԴԱՍՎՈՂ ՊԱՀՈՒՍՏԱՅԻՆ ՖՈՆԴԵՐ | G31: =G39 -> -1000000 | H31: =+H33 -> -2963145 | I31: =+I33 -> -2963145
F32: այդ թվում`
B33: 01 | F33: ՀՀ կառավարության և համայնքների պահուստային ֆոնդ | G33: =G39 -> -1000000 | H33: =+H35 -> -2963145 | I33: =+I35 -> -2963145
F34: այդ թվում`
C35: 01 | F35: ՀՀ կառավարության պահուստային ֆոնդ | G35: =G39 -> -1000000 | H35: =+H37 -> -2963145 | I35: =+I37 -> -2963145
F36: այդ թվում`
D37: 1139 | F37: ՀՀ կառավարության պահուստային ֆոնդ | G37: =G35 -> -1000000 | H37: =H39 -> -2963145 | I37: =I39 -> -2963145
F38: այդ թվում`
F39: ՀՀ կառավարություն | G39: =+G40 -> -1000000 | H39: =+H40 -> -2963145 | I39: =+I40 -> -2963145
E40: 11001 | F40: ՀՀ կառավարության պահուստային ֆոնդ | G40: =+G42 -> -1000000 | H40: =+H42 -> -2963145 | I40: =+I42 -> -2963145
F41: այդ թվում` ըստ կատարողների
F42: ՀՀ կառավարություն | G42: =+G44 -> -1000000 | H42: =+H44 -> -2963145 | I42: =+I44 -> -2963145
...

Sheet Հավելված 3
E1: Հավելված 3
C2: ՀՀ կառավարության 2022 թվականի
C3: ___________ ___-ի N _______ -Ն որոշման
A5: ՀԱՅԱՍՏԱՆԻ ՀԱՆՐԱՊԵՏՈՒԹՅԱՆ ԿԱՌԱՎԱՐՈՒԹՅԱՆ 2021 ԹՎԱԿԱՆԻ ԴԵԿՏԵՄԲԵՐԻ 23-Ի N 2121-Ն ՈՐՈՇՄԱՆ N 9 ՀԱՎԵԼՎԱԾԻ N9.26 ԵՎ N9.47 ԱՂՅՈՒՍԱԿՆԵՐՈՒՄ ԿԱՏԱՐՎՈՂ ՓՈՓՈԽՈՒԹՅՈՒՆՆԵՐԸ
A7: ՀՀ ազգային անվտանգության ծառայություն
A8: ՄԱՍ 2. ՊԵՏԱԿԱՆ ՄԱՐՄՆԻ ԳԾՈՎ ԱՐԴՅՈՒՆՔԱՅԻՆ (ԿԱՏԱՐՈՂԱԿԱՆ) ՑՈՒՑԱՆԻՇՆԵՐԸ
A10: Ծրագրի դասիչը | B10: Ծրագրի անվանումը
A11: 1138 | B11: Ազգային անվտանգություն
A13: Ծրագրի միջոցառումները
A14: Ծրագրի դասիչը` | B14: 1138 | C14: Ցուցանիշների փոփոխությունը (ավելացումները նշված են դրական նշանով, իսկ նվազեցումները փակագծերում)
A15: Միջոցառման դասիչը` | B15: 11004 | C15: Առաջին կիսամյակ | D15: Ինն ամիս | E15: Տարի
A16: Միջոցառման անվանումը` | B16: Պաշտպանության բնագավառի այլ ծախսեր
A17: Նկարագրությունը` | B17: Պաշտպանության բնագավառի այլ ծախսեր
A18: Միջոցառման տեսակը` | B18: Ծառայությունների մատուցում
A19: Միջոցառումն իրականացնողի անվանումը | B19: ՀՀ ազգային անվտանգության ծառայություն
A20: Արդյունքի չափորոշիչներ
A21: Միջոցառման վրա կատարվող ծախսը (հազար դրամ) | C21: ='Հավելված 1'!D18 -> 1000000 | D21: ='Հավելված 1'!E18 -> 2963145 | E21: ='Հավելված 1'!F18 -> 2963145
A24: ՀՀ Կառավարություն
A25: ՄԱՍ 2. ՊԵՏԱԿԱՆ ՄԱՐՄՆԻ ԳԾՈՎ ԱՐԴՅՈՒՆՔԱՅԻՆ (ԿԱՏԱՐՈՂԱԿԱՆ) ՑՈՒՑԱՆԻՇՆԵՐԸ
A27: Ծրագրի դասիչը | B27: Ծրագրի անվանումը
A28: 1139 | B28: ՀՀ կառավարության պահուստային ֆոնդ
A30: Ծրագրի միջոցառումները
A31: Ծրագրի դասիչը` | B31: 1139 | C31: Ցուցանիշների փոփոխությունը (ավելացումները նշված են դրական նշանով, իսկ նվազեցումները փակագծերում)
A32: Միջոցառման դասիչը` | B32: 11001 | C32: Առաջին կիսամյակ | D32: Ինն ամիս | E32: Տարի
A33: Միջոցառման անվանումը` | B33: ՀՀ կառավարության պահուստային ֆոնդ
A34: Նկարագրությունը` | B34: ՀՀ պետական բյուջեում նախատեսված ելքերի լրացուցիչ ֆինանսավորման, պետական բյուջեում չկանխատեսված ելքերի, ինչպես նաև բյուջետային երաշխիքների ապահովման ելքերի ֆինանսավորման ապահովում
A35: Միջոցառման տեսակը` | B35: Ծառայությունների մատուցում
A36: Միջոցառումն իրականացնողի անվանումը | B36: ՀՀ կառավարություն
A37: Արդյունքի չափորոշիչներ
A38: Միջոցառման վրա կատարվող ծախսը (հազար դրամ) | C38: ='Հավելված 1'!D32 -> -1000000 | D38: ='Հավելված 1'!E32 -> -2963145 | E38: ='Հավելված 1'!F32 -> -2963145

Sheet Հավելված 4
E1: Հավելված 4
C2: ՀՀ կառավարության 2022 թվականի
C3: ___________ ___-ի N _______ -Ն որոշման
A5: ՀԱՅԱՍՏԱՆԻ ՀԱՆՐԱՊԵՏՈՒԹՅԱՆ ԿԱՌԱՎԱՐՈՒԹՅԱՆ 2021 ԹՎԱԿԱՆԻ ԴԵԿՏԵՄԲԵՐԻ 23-Ի N 2121-Ն ՈՐՈՇՄԱՆ N 9.1 ՀԱՎԵԼՎԱԾԻ N9.1.32 ԵՎ N 9.1.59 ԱՂՅՈՒՍԱԿՆԵՐՈՒՄ ԿԱՏԱՐՎՈՂ ՓՈՓՈԽՈՒԹՅՈՒՆՆԵՐԸ
A7: ՀՀ ազգային անվտանգության ծառայություն
A8: ՄԱՍ 1. ՊԵՏԱԿԱՆ ՄԱՐՄՆԻ ԳԾՈՎ ԱՐԴՅՈՒՆՔԱՅԻՆ (ԿԱՏԱՐՈՂԱԿԱՆ) ՑՈՒՑԱՆԻՇՆԵՐԸ
A10: Ծրագրի դասիչը | B10: Ծրագրի անվանումը
A11: 1138 | B11: Ազգային անվտանգություն
A13: Ծրագրի միջոցառումները
A14: Ծրագրի դասիչը` | B14: 1138 | C14: Ցուցանիշների փոփոխությունը (ավելացումները նշված են դրական նշանով, իսկ նվազեցումները փակագծերում)
A15: Միջոցառման դասիչը` | B15: 11004 | C15: Առաջին կիսամյակ | D15: Ինն ամիս | E15: Տարի
A16: Միջոցառման անվանումը` | B16: Պաշտպանության բնագավառի այլ ծախսեր
A17: Նկարագրությունը` | B17: Պաշտպանության բնագավառի այլ ծախսեր
A18: Միջոցառման տեսակը` | B18: Ծառայությունների մատուցում
A19: Միջոցառումն իրականացնողի անվանումը | B19: ՀՀ ազգային անվտանգության ծառայություն
A20: Արդյունքի չափորոշիչներ
A21: Միջոցառման վրա կատարվող ծախսը (հազար դրամ) | C21: ='Հավելված 1'!D18 -> 1000000 | D21: ='Հավելված 1'!E18 -> 2963145 | E21: ='Հավելված 1'!F18 -> 2963145
A23: ՀՀ Կառավարություն
A24: ՄԱՍ 1. ՊԵՏԱԿԱՆ ՄԱՐՄՆԻ ԳԾՈՎ ԱՐԴՅՈՒՆՔԱՅԻՆ (ԿԱՏԱՐՈՂԱԿԱՆ) ՑՈՒՑԱՆԻՇՆԵՐԸ
A26: Ծրագրի դասիչը | B26: Ծրագրի անվանումը
A27: 1139 | B27: ՀՀ կառավարության պահուստային ֆոնդ
A29: Ծրագրի միջոցառումները
A30: Ծրագրի դասիչը` | B30: 1139 | C30: Ցուցանիշների փոփոխությունը (ավելացումները նշված են դրական նշանով, իսկ նվազեցումները փակագծերում)
A31: Միջոցառման դասիչը` | B31: 11001 | C31: Առաջին կիսամյակ | D31: Ինն ամիս | E31: Տարի
A32: Միջոցառման անվանումը` | B32: ՀՀ կառավարության պահուստային ֆոնդ
A33: Նկարագրությունը` | B33: ՀՀ պետական բյուջեում նախատեսված ելքերի լրացուցիչ ֆինանսավորման, պետական բյուջեում չկանխատեսված ելքերի, ինչպես նաև բյուջետային երաշխիքների ապահովման ելքերի ֆինանսավորման ապահովում
A34: Միջոցառման տեսակը` | B34: Ծառայությունների մատուցում
A35: Միջոցառումն իրականացնողի անվանումը | B35: ՀՀ կառավարություն
A36: Արդյունքի չափորոշիչներ
A37: Միջոցառման վրա կատարվող ծախսը (հազար դրամ) | C37: ='Հավելված 3'!C38 -> -1000000 | D37: ='Հավելված 3'!D38 -> -2963145 | E37: ='Հավելված 3'!E38 -> -2963145
