Workbook
Name _GoBack: '6'!#REF!
Name _tab10: #REF!
Name _tab10: #REF!
Name _tab10: #REF!
Name _tab11: #REF!
Name _tab11: #REF!
Name _tab11: #REF!
Name _tab12: #REF!
Name _tab12: #REF!
Name _tab12: #REF!
Name _tab13: #REF!
Name _tab13: #REF!
Name _tab13: #REF!
Name _tab14: #REF!
Name _tab14: #REF!
Name _tab14: #REF!
Name _tab15: #REF!
Name _tab15: #REF!
Name _tab15: #REF!
Name _tab16: #REF!
Name _tab16: #REF!
Name _tab16: #REF!
Name _tab17: #REF!
Name _tab17: #REF!
Name _tab17: #REF!
Name _tab18: #REF!
Name _tab18: #REF!
Name _tab18: #REF!
Name _tab19: #REF!
Name _tab19: #REF!
Name _tab19: #REF!
Name _tab20: #REF!
Name _tab20: #REF!
Name _tab20: #REF!
Name _tab21: #REF!
Name _tab21: #REF!
Name _tab21: #REF!
Name _tab22: #REF!
Name _tab22: #REF!
Name _tab22: #REF!
Name _tab23: #REF!
Name _tab23: #REF!
Name _tab23: #REF!
Name _tab24: #REF!
Name _tab24: #REF!
Name _tab24: #REF!
Name _tab5: #REF!
Name _tab5: #REF!
Name _tab5: #REF!
Name _tab6: #REF!
Name _tab6: #REF!
Name _tab6: #REF!
Name _tab7: #REF!
Name _tab7: #REF!
Name _tab7: #REF!
Name _tab8: #REF!
Name _tab8: #REF!
Name _tab8: #REF!
Name _tab9: #REF!
Name _tab9: #REF!

Sheet 1
B1: Հավելված № 1
B2: ՀՀ կառավարության 2022 թվականի
B3: N որոշման
A5: «ՀԱՅԱՍՏԱՆԻ ՀԱՆՐԱՊԵՏՈՒԹՅԱՆ 2022 ԹՎԱԿԱՆԻ ՊԵՏԱԿԱՆ ԲՅՈՒՋԵԻ ՄԱՍԻՆ» ՀՀ ՕՐԵՆՔԻ 2-ՐԴ ՀՈԴՎԱԾԻ ԱՂՅՈՒՍԱԿԻ ՑՈՒՑԱՆԻՇՆԵՐՈՒՄ ԿԱՏԱՐՎՈՂ ՓՈՓՈԽՈՒԹՅՈՒՆՆԵՐԸ
B7: (հազար դրամ)
B8: Ցուցանիշների փոփոխությունը (ավելացումները նշված են դրական նշանով)
A9: Եկամուտների գծով | B9: =+'7'!F13 -> 348552.37
A10: Ծախսերի գծով | B10: 348552.4
A11: Դեֆիցիտը (պակասուրդը) | B11: =B10-B9 -> 0.03

Sheet 2
D1: Հավելված № 2
A2: ՀՀ կառավարության 2022 թվականի
A3: N որոշման
A5: «ՀԱՅԱՍՏԱՆԻ ՀԱՆՐԱՊԵՏՈՒԹՅԱՆ 2022 ԹՎԱԿԱՆԻ ՊԵՏԱԿԱՆ ԲՅՈՒՋԵԻ ՄԱՍԻՆ» ՀՀ ՕՐԵՆՔԻ 6-ՐԴ ՀՈԴՎԱԾԻ ԵՎ ՀՀ ԿԱՌԱՎԱՐՈՒԹՅԱՆ 2021 ԹՎԱԿԱՆԻ ԴԵԿՏԵՄԲԵՐԻ 23-Ի N 2121-Ն ՈՐՈՇՄԱՆ N 2 ՀԱՎԵԼՎԱԾԻ ԱՂՅՈՒՍԱԿՆԵՐԻ ՑՈՒՑԱՆԻՇՆԵՐՈՒՄ ԿԱՏԱՐՎՈՂ ՓՈՓՈԽՈՒԹՅՈՒՆՆԵՐԸ
C7: (հազար դրամ)
A8: Եկամտատեսակ | B8: Ցուցանիշների փոփոխությունը (ավելացումները նշված են դրական նշանով)
A10: ՊԵՏԱԿԱՆ ԲՅՈՒՋԵԻ ԵԿԱՄՈՒՏՆԵՐ | B10: Առաջին կիսամյակ | C10: 9 ամիս | D10: Տարի
A11: Ընդամենը | B11: =B13 -> 348552.37 | C11: =C13 -> 348552.37 | D11: =D13 -> 348552.37
A12: այդ թվում
A13: Այլ եկամուտներ | B13: =82873.7+71843.7+142209.6+51625.37 -> 348552.37 | C13: =82873.7+71843.7+142209.6+51625.37 -> 348552.37 | D13: =82873.7+71843.7+142209.6+51625.37 -> 348552.37

Sheet 3
G2: Հավելված № 3
D3: ՀՀ կառավարության 2022 թվականի
G4: № ------------ -Ն որոշման
B5: ՀԱՅԱՍՏԱՆԻ ՀԱՆՐԱՊԵՏՈՒԹՅԱՆ 2022 ԹՎԱԿԱՆԻ ՊԵՏԱԿԱՆ ԲՅՈՒՋԵԻ ՄԱՍԻՆ» ՀԱՅԱՍՏԱՆԻ ՀԱՆՐԱՊԵՏՈՒԹՅԱՆ ՕՐԵՆՔԻ N 1 ՀԱՎԵԼՎԱԾԻ N 2 ԱՂՅՈՒՍԱԿՈՒՄ ԿԱՏԱՐՎՈՂ ՎԵՐԱԲԱՇԽՈՒՄԸ ԵՎ ՀԱՅԱՍՏԱՆԻ ՀԱՆՐԱՊԵՏՈՒԹՅԱՆ ԿԱՌԱՎԱՐՈՒԹՅԱՆ 2021 ԹՎԱԿԱՆԻ ԴԵԿՏԵՄԲԵՐԻ 23-Ի № 2121-Ն ՈՐՈՇՄԱՆ № 5 ՀԱՎԵԼՎԱԾԻ № 1 ԱՂՅՈՒՍԱԿՈՒՄ ԿԱՏԱՐՎՈՂ ՓՈՓՈԽՈՒԹՅՈՒՆՆԵՐԸ ԵՎ ԼՐԱՑՈՒՄԸ
B6: Ծրագրային դասիչը | D6: Բյուջետային հատկացումների գլխավոր կարգադրիչների, ծրագրերի և միջոցառումների անվանումները | E6: Ցուցանիշների փոփոխությունները (ավելացումները նշված են դրական նշանով, իսկ նվազեցումները` փակագծերում)
B7: Ծրագիր | C7: Միջոցառում | E7: Առաջին կիսամյակ | F7: Ինը ամիս | G7: Տարի
D8: ԸՆԴԱՄԵՆԸ | E8: =+E9+E23 -> 348552.4 | F8: =+F9+F23 -> 348552.4 | G8: =+G9+G23 -> 348552.4
D9: Հայաստանի Հանրապետության քաղաքաշինության կոմիտե | E9: =E11 -> 348552.4 | F9: =F11 -> 348552.4 | G9: =G11 -> 395706.8
B10: 1103 | D10: Ծրագրի անվանումը`
D11: Քաղաքաշինության և ճարտարապետության բնագավառում պետական քաղաքականության իրականացում և կանոնակարգում | E11: =E18 -> 348552.4 | F11: =F18 -> 348552.4 | G11: =G18 -> 395706.8
D12: Ծրագրի նպատակը`
D13: Քաղաքաշինության և ճարտարապետության բնագավառում պետական քաղաքականության մշակմանն աջակցություն և իրականացման ապահովում
D14: Վերջնական արդյունքի նկարագրությունը`
D15: Քաղաքաշինության գործունեության կանոնակարգում, քաղաքաշինական տեղեկատվական համակարգի ձևավորում և քաղաքաշինության բնագավառում պետական ծրագրերի իրականացման ապահովում
B16: Ծրագրի միջոցառումներ
C17: 21001 | D17: Միջոցառման անվանումը
D18: Քաղաքաշինության բնագավառում պետական ծրագրերի իրականացման ապահովում | E18: 348552.4 | F18: 348552.4 | G18: =+'5'!I20 -> 395706.8
D19: Միջոցառման նկարագրությունը
D20: Նախագծանախահաշվային փաստաթղթերի, ինչպես նաև հիմնանորոգման, վերակառուցման, կառուցման աշխատանքների ձեռքբերում
D21: Միջոցառման տեսակը
D22: Հանրության կողմից անմիջականորեն օգտագործվող ակտիվների հետ կապված միջոցառումներ
D23: ՀՀ կառավարություն | E23: =E25 -> 0 | F23: =F25 -> 0 | G23: =G25 -> -47154.4
B24: 1139 | D24: Ծրագրի անվանումը
D25: ՀՀ կառավարության պահուստային ֆոնդ | E25: =+E32 -> 0 | F25: =+F32 -> 0 | G25: =+G32 -> -47154.4
D26: Ծրագրի նպատակը
D27: Պետական բյուջեում չկանխատեսված, ինչպես նաեւ բյուջետային երաշխիքների ապահովման ծախսերի ֆինանսավորման ապահովում
D28: Վերջնական արդյունքի նկարագրությունը
D29: Պահուստային ֆոնդի կառավարման արդյունավետության և թափանցիկության ապահովում
B30: Ծրագրի միջոցառումներ
C31: 11001 | D31: Միջոցառման անվանումը
D32: ՀՀ կառավարության պահուստային ֆոնդ | E32: =+'5'!G46 -> 0 | F32: =+'5'!H46 -> 0 | G32: =+'5'!I46 -> -47154.4
D33: Միջոցառման նկարագրությունը
D34: ՀՀ պետական բյուջեում նախատեսված ելքերի լրացուցիչ ֆինանսավորման, պետական բյուջեում չկանխատեսված ելքերի, ինչպես նաև բյուջետային երաշխիքների ապահովման ելքերի ֆինանսավորման ապահովում
D35: Միջոցառման տեսակը
D36: Ծառայությունների մատուցում

Sheet 4
D1: Հավելված № 4
C2: ՀՀ կառավարության 2022 թվականի
A4: ՀԱՅԱՍՏԱՆԻ ՀԱՆՐԱՊԵՏՈՒԹՅԱՆ ԿԱՌԱՎԱՐՈՒԹՅԱՆ 2021 ԹՎԱԿԱՆԻ ԴԵԿՏԵՄԲԵՐԻ 21-Ի № 2121-Ն ՈՐՈՇՄԱՆ N 5 ՀԱՎԵԼՎԱԾԻ N 2 ԱՂՅՈՒՍԱԿՈՒՄ ԿԱՏԱՐՎՈՂ ԼՐԱՑՈՒՄՆԵՐԸ
F5: (հազ. դրամ)
A7: Ծրագրային դասիչը | C7: Բյուջետային գլխավոր կարգադրիչների, ծրագրերի, միջոցառումների, միջոցառումները կատարող պետական մարմինների և ուղղությունների անվանումները | D7: Ցուցանիշների փոփոխությունը (ավելացումները նշված են դրական նշանով)
A9: ծրագիրը | B9: միջոցառումը | D9: առաջին կիսամյակ | E9: ինն ամիս | F9: տարի
C10: ԸՆԴԱՄԵՆԸ | D10: =+D12 -> 348552.4 | E10: =+E12 -> 348552.4 | F10: =+F12 -> 395706.8
C11: այդ թվում`
A12: 1103 | B12: 21001 | C12: Քաղաքաշինության բնագավառում պետական ծրագրերի իրականացման ապահովում | D12: =+D14 -> 348552.4 | E12: =+E14 -> 348552.4 | F12: =+F14 -> 395706.8
C13: այդ թվում` ըստ կատարողների
C14: ՀՀ քաղաքաշինության կոմիտե | D14: =SUM(D16:D16) -> 348552.4 | E14: =SUM(E16:E16) -> 348552.4 | F14: =SUM(F16:F16) -> 395706.8
C15: այդ թվում` ըստ ուղղությունների
C16: Հայաստանի Հանրապետության Սյունիքի մարզի սահմանամերձ Գորիս համայնքի Շուռնուխ բնակավայրում բնակելի թաղամասի կառուցում | D16: =+'5'!G20 -> 348552.4 | E16: =+'5'!H20 -> 348552.4 | F16: =+'5'!I20 -> 395706.8

Sheet 5
G1: Հավելված № 5
F2: ՀՀ կառավարության 2022 թվականի
A5: ՀԱՅԱՍՏԱՆԻ ՀԱՆՐԱՊԵՏՈՒԹՅԱՆ ԿԱՌԱՎԱՐՈՒԹՅԱՆ 2021 ԹՎԱԿԱՆԻ ԴԵԿՏԵՄԲԵՐԻ 21-Ի № 2121-Ն ՈՐՈՇՄԱՆ NN 3 և 4 ՀԱՎԵԼՎԱԾՆԵՐՈՒՄ ԿԱՏԱՐՎՈՂ ՓՈՓՈԽՈՒԹՅՈՒՆՆԵՐԸ ԵՎ ԼՐԱՑՈՒՄՆԵՐԸ
A7: Գործառական դասիչը | D7: Ծրագրային դասիչը | F7: Բյուջետային հատկացումների գլխավոր կարգադրիչների, ծրագրերի, միջոցառումների և միջոցառումները կատարող պետական մարմինների անվանումները | G7: Ցուցանիշների փոփոխությունները (ավելացումները նշված են դրական նշանով, իսկ նվազեցումները` փակագծերում)
A8: բաժին | B8: խումբ | C8: դաս | D8: Ծրագիր | E8: Միջոցառում | G8: Առաջին կիսամյակ | H8: Ինը ամիս | I8: Տարի
A9: ԸՆԴԱՄԵՆԸ | G9: =+G10+G29 -> 348552.4 | H9: =+H10+H29 -> 348552.4 | I9: =+I10+I29 -> 348552.4
A10: 06 | F10: ԲՆԱԿԱՐԱՆԱՅԻՆ ՇԻՆԱՐԱՐՈՒԹՅՈՒՆ ԵՎ ԿՈՄՈՒՆԱԼ ԾԱՌԱՅՈՒԹՅՈՒՆՆԵՐ | G10: =G12 -> 348552.4 | H10: =H12 -> 348552.4 | I10: =I12 -> 395706.8
F11: այդ թվում՝
B12: 01 | F12: Բնակարանային շինարարություն | G12: =G14 -> 348552.4 | H12: =H14 -> 348552.4 | I12: =I14 -> 395706.8
F13: այդ թվում՝
C14: 01 | F14: Բնակարանային շինարարություն | G14: =G18 -> 348552.4 | H14: =H18 -> 348552.4 | I14: =I18 -> 395706.8
F15: այդ թվում՝
F16: ՀՀ քաղաքաշինության կոմիտե | G16: =G18 -> 348552.4 | H16: =H18 -> 348552.4 | I16: =I18 -> 395706.8
F17: այդ թվում՝
D18: 1103 | F18: Քաղաքաշինության և ճարտարապետության բնագավառում պետական քաղաքականության իրականացում և կանոնակարգում | G18: =G20 -> 348552.4 | H18: =H20 -> 348552.4 | I18: =I20 -> 395706.8
F19: այդ թվում`
E20: 21001 | F20: Քաղաքաշինության բնագավառում պետական ծրագրերի իրականացման ապահովում | G20: =G22 -> 348552.4 | H20: =H22 -> 348552.4 | I20: =I22 -> 395706.8
F21: այդ թվում ըստ կատարողների
F22: Հայաստանի Հանրապետության քաղաքաշինության կոմիտե | G22: =G24 -> 348552.4 | H22: =H24 -> 348552.4 | I22: =I24 -> 395706.8
F23: այդ թվում` բյուջետային ծախսերի տնտեսագիտական դասակարգման հոդվածներ
F24: ԸՆԴԱՄԵՆԸ ԾԱԽՍԵՐ | G24: =+G25 -> 348552.4 | H24: =+H25 -> 348552.4 | I24: =+I25 -> 395706.8
F25: ՈՉ ՖԻՆԱՆՍԱԿԱՆ ԱԿՏԻՎՆԵՐԻ ԳԾՈՎ ԾԱԽՍԵՐ | G25: =+G26 -> 348552.4 | H25: =+H26 -> 348552.4 | I25: =+I26 -> 395706.8
F26: ՀԻՄՆԱԿԱՆ ՄԻՋՈՑՆԵՐ | G26: =+G27 -> 348552.4 | H26: =+H27 -> 348552.4 | I26: =+I27 -> 395706.8
F27: ՇԵՆՔԵՐ ԵՎ ՇԻՆՈՒԹՅՈՒՆՆԵՐ | G27: =+G28 -> 348552.4 | H27: =+H28 -> 348552.4 | I27: =+I28 -> 395706.8
F28: - Շենքերի և շինությունների շինարարություն | G28: 348552.4 | H28: 348552.4 | I28: 395706.8
A29: 11 | F29: ՀԻՄՆԱԿԱՆ ԲԱԺԻՆՆԵՐԻՆ ՉԴԱՍՎՈՂ ՊԱՀՈՒՍՏԱՅԻՆ ՖՈՆԴԵՐ | G29: =G31 -> 0 | H29: =H31 -> 0 | I29: =I31 -> -47154.4
F30: այդ թվում՝
B31: 01 | F31: ՀՀ կառավարության և համայնքների պահուստային ֆոնդ | G31: =G33 -> 0 | H31: =H33 -> 0 | I31: =I33 -> -47154.4
F32: այդ թվում՝
C33: 01 | F33: ՀՀ կառավարության պահուստային ֆոնդ | G33: =G37 -> 0 | H33: =H37 -> 0 | I33: =I37 -> -47154.4
F34: այդ թվում՝
F35: ՀՀ կառավարություն | G35: =G37 -> 0 | H35: =H37 -> 0 | I35: =I37 -> -47154.4
F36: այդ թվում՝
D37: 1139 | F37: ՀՀ կառավարության պահուստային ֆոնդ | G37: =+G39 -> 0 | H37: =+H39 -> 0 | I37: =+I39 -> -47154.4
F38: այդ թվում`
E39: 11001 | F39: ՀՀ կառավարության պահուստային ֆոնդ | G39: =G41 -> 0 | H39: =H41 -> 0 | I39: =I41 -> -47154.4
F40: այդ թվում ըստ կատարողների
F41: ՀՀ կառավարություն | G41: =G43 -> 0 | H41: =H43 -> 0 | I41: =I43 -> -47154.4
F42: այդ թվում` բյուջետային ծախսերի տնտեսագիտական դասակարգման հոդվածներ
F43: ԸՆԴԱՄԵՆԸ ԾԱԽՍԵՐ | G43: =G45 -> 0 | H43: =H45 -> 0 | I43: =I45 -> -47154.4
...

Sheet 6
F1: Հավելված № 6
D2: ՀՀ կառավարության 2022 թվականի
E3: № ------------ -Ն որոշման
A5: «ՀԱՅԱՍՏԱՆԻ ՀԱՆՐԱՊԵՏՈՒԹՅԱՆ 2022 ԹՎԱԿԱՆԻ ՊԵՏԱԿԱՆ ԲՅՈՒՋԵԻ ՄԱՍԻՆ» ՀԱՅԱՍՏԱՆԻ ՀԱՆՐԱՊԵՏՈՒԹՅԱՆ ՕՐԵՆՔԻ ՀԱՎԵԼՎԱԾ 1-Ի N 3 ԱՂՅՈՒՍԱԿՈՒՄ ԿԱՏԱՐՎՈՂ ԼՐԱՑՈՒՄՆԵՐԸ
H6: (հազ. դրամ)
A7: Ծրագրային դասիչը | C7: Բյուջետային գլխավոր կարգադրիչների, ծրագրերի, միջոցառումների, միջոցառումները կատարող պետական մարմինների և ուղղությունների անվանումները | D7: Ընդամենը | E7: Կառուցման աշխատանքներ | F7: Վերակառուցմա,Վերակառուցմա, վերանորոգման և վերականգնման աշխատանքներ | G7: Նախագծահետազոտական, գեոդեզիա-քարտեզագրական աշխատանքներ | H7: Ոչ ֆինանսական այլ ակտիվերի ձեռքբերում
A8: ծրագիրը | B8: միջոցառումը | C8: ԸՆԴԱՄԵՆԸ | D8: =+E8+F8+G8+H8 -> 395706.8 | E8: =+E10 -> 395706.8 | F8: =+F10 -> 0 | G8: =+G10 -> 0 | H8: =+H10 -> 0
C9: այդ թվում`
C10: ՀՀ քաղաքաշինության կոմիտե | D10: =+E10+F10+G10+H10 -> 395706.8 | E10: =+E12 -> 395706.8 | F10: =+F12 -> 0 | G10: =+G12 -> 0 | H10: =+H12 -> 0
C11: այդ թվում`
A12: 1103 | B12: 21001 | C12: Քաղաքաշինության բնագավառում պետական ծրագրերի իրականացման ապահովում | D12: =+E12+F12+G12+H12 -> 395706.8 | E12: =SUM(E13:E13) -> 395706.8 | F12: =SUM(F13:F13) -> 0 | G12: =SUM(G13:G13) -> 0 | H12: =SUM(H13:H13) -> 0
C13: Հայաստանի Հանրապետության Սյունիքի մարզի սահմանամերձ Գորիս համայնքի Շուռնուխ բնակավայրում բնակելի թաղամասի կառուցում | D13: =+E13+F13+G13+H13 -> 395706.8 | E13: =+'5'!I28 -> 395706.8 | F13: 0 | H13: 0

Sheet 7
F1: Հավելված № 7
C2: ՀՀ կառավարության 2022 թվականի
F3: N որոշման
A7: ՀԱՅԱՍՏԱՆԻ ՀԱՆՐԱՊԵՏՈՒԹՅԱՆ ԿԱՌԱՎԱՐՈՒԹՅԱՆ 2021 ԹՎԱԿԱՆԻ ԴԵԿՏԵՄԲԵՐԻ 23-Ի N 2121-Ն ՈՐՈՇՄԱՆ
A8: N 6 ՀԱՎԵԼՎԱԾՈՒՄ ԿԱՏԱՐՎՈՂ ՓՈՓՈԽՈՒԹՅՈՒՆՆԵՐԸ
E10: (հազար դրամ)
A11: NN ը/կ | B11: Եկամտատեսակը | C11: Գանձման համար պատասխանատու պետական կառավարման մարմինը (մարմինները) | D11: Ցուցանիշների փոփոխությունը (ավելացումները նշված են դրական նշանով)
D12: Առաջին կիսամյակ | E12: Ինն ամիս | F12: Տարի
A13: Այլ եկամուտներ, ընդամենը | D13: =D15 -> 348552.37 | E13: =E15 -> 348552.37 | F13: =F15 -> 348552.37
B14: այդ թվում`
A15: 6 | B15: Օրենքով և այլ իրավական ակտերով սահմանված պետական բյուջե մուտքագրվող այլ եկամուտներ | D15: =D16 -> 348552.37 | E15: =E16 -> 348552.37 | F15: =F16 -> 348552.37
A16: 6.8 | B16: Նախորդ տարիների ՀՀ պետական բյուջեներից ծախսերի ֆինանսավորման նպատակով հատկացված գումարների (բացառությամբ փոխառու միջոցների) վերադարձից մուտքեր | C16: ՀՀ պետական կառավարման մարմիններ | D16: =+'2'!B13 -> 348552.37 | E16: =+'2'!C13 -> 348552.37 | F16: =+'2'!D13 -> 348552.37

Sheet 8
D1: Հավելված № 8
C2: ՀՀ կառավարության 2022 թվականի
D3: № ------------ -Ն որոշման
A4: ՀԱՅԱՍՏԱՆԻ ՀԱՆՐԱՊԵՏՈՒԹՅԱՆ ԿԱՌԱՎԱՐՈՒԹՅԱՆ 2021 ԹՎԱԿԱՆԻ ԴԵԿՏԵՄԲԵՐԻ 23-Ի N 2121-Ն ՈՐՈՇՄԱՆ N 9 ՀԱՎԵԼՎԱԾԻ 9.33 ԱՂՅՈՒՍԱԿՈՒՄ ԿԱՏԱՐՎՈՂ ԼՐԱՑՈՒՄԸ
A5: ՀՀ Քաղաքաշինության կոմիտե
A6: ՄԱՍ 2. ՊԵՏԱԿԱՆ ՄԱՐՄՆԻ ԳԾՈՎ ԱՐԴՅՈՒՆՔԱՅԻՆ (ԿԱՏԱՐՈՂԱԿԱՆ) ՑՈՒՑԱՆԻՇՆԵՐԸ
A7: Ծրագրի դասիչը | B7: Ծրագրի անվանումը
A8: 1103 | B8: Քաղաքաշինության և ճարտարապետության բնագավառում պետական քաղաքականության իրականացում և կանոնակարգում
A10: Ծրագրի միջոցառումները
A11: Ծրագրի դասիչը` | B11: 1103 | C11: Ցուցանիշների փոփոխությունը (ավելացումները նշված են դրական նշանով)
A12: Միջոցառման դասիչը` | B12: 21001 | C12: Առաջին կիսամյակ | D12: Ինն ամիս | E12: Տարի
A13: Միջոցառման անվանումը` | B13: Քաղաքաշինության բնագավառում պետական ծրագրերի իրականացման ապահովում
A14: Նկարագրությունը` | B14: Նախագծանախահաշվային փաստաթղթերի, ինչպես նաև հիմնանորոգման, վերակառուցման, կառուցման աշխատանքների ձեռքբերում
A15: Միջոցառման տեսակը` | B15: Հանրության կողմից անմիջականորեն օգտագործվող ակտիվների հետ կապված միջոցառումներ
A16: Միջոցառումն իրականացնողի անվանումը | B16: ՀՀ քաղաքաշինության կոմիտե
A17: Արդյունքի չափորոշիչներ
A18: Միջոցառման վրա կատարվող ծախսը (հազար դրամ) | C18: 348552.4 | D18: 348552.4 | E18: =+'5'!I20 -> 395706.8
A20: ՀԱՅԱՍՏԱՆԻ ՀԱՆՐԱՊԵՏՈՒԹՅԱՆ ԿԱՌԱՎԱՐՈՒԹՅԱՆ 2021 ԹՎԱԿԱՆԻ ԴԵԿՏԵՄԲԵՐԻ 23-Ի N 2121-Ն ՈՐՈՇՄԱՆ N 9 ՀԱՎԵԼՎԱԾԻ 9.47 ԱՂՅՈՒՍԱԿՈՒՄ ԿԱՏԱՐՎՈՂ ՓՈՓՈԽՈՒԹՅՈՒՆԸ
A22: ՀՀ Կառավարություն
A23: ՄԱՍ 2. ՊԵՏԱԿԱՆ ՄԱՐՄՆԻ ԳԾՈՎ ԱՐԴՅՈՒՆՔԱՅԻՆ (ԿԱՏԱՐՈՂԱԿԱՆ) ՑՈՒՑԱՆԻՇՆԵՐԸ
A24: Ծրագրի դասիչը | B24: Ծրագրի անվանումը
A25: 1139 | B25: ՀՀ կառավարության պահուստային ֆոնդ
A27: Ծրագրի միջոցառումները
A28: Ծրագրի դասիչը` | B28: 1139 | C28: Ցուցանիշների փոփոխությունը (նվազեցումը նշված է փակագծերում)
A29: Միջոցառման դասիչը` | B29: 11001 | C29: Առաջին կիսամյակ | D29: Ինը ամիս | E29: Տարի
A30: Միջոցառման անվանումը` | B30: ՀՀ կառավարության պահուստային ֆոնդ
A31: Նկարագրությունը` | B31: ՀՀ պետական բյուջեում նախատեսված ելքերի լրացուցիչ ֆինանսավորման, պետական բյուջեում չկանխատեսված ելքերի, ինչպես նաև բյուջետային երաշխիքների ապահովման ելքերի ֆինանսավորման ապահովում
A32: Միջոցառման տեսակը` | B32: Ծառայությունների մատուցում
A33: Արդյունքի չափորոշիչներ
A34: Միջոցառման վրա կատարվող ծախսը (հազար դրամ) | C34: =+'5'!G46 -> 0 | D34: =+'5'!H46 -> 0 | E34: =+'5'!I46 -> -47154.4

Sheet 9
C1: Հավելված № 9
B2: ՀՀ կառավարության 2022 թվականի
A6: ՀԱՅԱՍՏԱՆԻ ՀԱՆՐԱՊԵՏՈՒԹՅԱՆ ԿԱՌԱՎԱՐՈՒԹՅԱՆ 2021 ԹՎԱԿԱՆԻ ԴԵԿՏԵՄԲԵՐԻ 23-Ի N 2121-Ն ՈՐՈՇՄԱՆ N 9.1 ՀԱՎԵԼՎԱԾԻ 9.1.42 ԱՂՅՈՒՍԱԿՈՒՄ ԿԱՏԱՐՎՈՂ ԼՐԱՑՈՒՄԸ
A7: ՀՀ քաղաքաշինության կոմիտե
A8: ՄԱՍ 2. ՊԵՏԱԿԱՆ ՄԱՐՄՆԻ ԳԾՈՎ ԱՐԴՅՈՒՆՔԱՅԻՆ (ԿԱՏԱՐՈՂԱԿԱՆ) ՑՈՒՑԱՆԻՇՆԵՐԸ
A9: Ծրագրի դասիչը | B9: Ծրագրի անվանումը
A10: 1103 | B10: Քաղաքաշինության և ճարտարապետության բնագավառում պետական քաղաքականության իրականացում և կանոնակարգում
A12: Ծրագրի միջոցառումները
A14: Ծրագրի դասիչը` | B14: 1103 | C14: Ցուցանիշների փոփոխությունը (ավելացումները նշված են դրական նշանով)
A15: Միջոցառման դասիչը` | B15: 21001 | C15: Առաջին կիսամյակ | D15: Ինն ամիս | E15: Տարի
A16: Միջոցառման անվանումը` | B16: Քաղաքաշինության բնագավառում պետական ծրագրերի իրականացման ապահովում
A17: Նկարագրությունը` | B17: Նախագծանախահաշվային փաստաթղթերի, ինչպես նաև հիմնանորոգման, վերակառուցման, կառուցման աշխատանքների ձեռքբերում
A18: Միջոցառման տեսակը` | B18: Հանրության կողմից անմիջականորեն օգտագործվող ակտիվների հետ կապված միջոցառումներ
A19: Միջոցառումն իրականացնողի անվանումը | B19: ՀՀ քաղաքաշինության կոմիտե
A20: Արդյունքի չափորոշիչներ
A21: Միջոցառման վրա կատարվող ծախսը (հազար դրամ) | C21: 348552.4 | D21: 348552.4 | E21: =+'5'!I20 -> 395706.8
A27: ՀԱՅԱՍՏԱՆԻ ՀԱՆՐԱՊԵՏՈՒԹՅԱՆ ԿԱՌԱՎԱՐՈՒԹՅԱՆ 2021 ԹՎԱԿԱՆԻ ԴԵԿՏԵՄԲԵՐԻ 23-Ի N 2121-Ն ՈՐՈՇՄԱՆ N 9.1 ՀԱՎԵԼՎԱԾԻ 9.1.59 ԱՂՅՈՒՍԱԿՈՒՄ ԿԱՏԱՐՎՈՂ ՓՈՓՈԽՈՒԹՅՈՒՆԸ
A29: ՀՀ Կառավարություն
A30: ՄԱՍ 2. ՊԵՏԱԿԱՆ ՄԱՐՄՆԻ ԳԾՈՎ ԱՐԴՅՈՒՆՔԱՅԻՆ (ԿԱՏԱՐՈՂԱԿԱՆ) ՑՈՒՑԱՆԻՇՆԵՐԸ
A31: Ծրագրի դասիչը | B31: Ծրագրի անվանումը
A32: 1139 | B32: ՀՀ կառավարության պահուստային ֆոնդ
A34: Ծրագրի միջոցառումները
A35: Ծրագրի դասիչը` | B35: 1139 | C35: Ցուցանիշների փոփոխությունը (նվազեցումը նշված է փակագծերում)
A36: Միջոցառման դասիչը` | B36: 11001 | C36: Առաջին կիսամյակ | D36: Ինը ամիս | E36: Տարի
A37: Միջոցառման անվանումը` | B37: ՀՀ կառավարության պահուստային ֆոնդ
A38: Նկարագրությունը` | B38: ՀՀ պետական բյուջեում նախատեսված ելքերի լրացուցիչ ֆինանսավորման, պետական բյուջեում չկանխատեսված ելքերի, ինչպես նաև բյուջետային երաշխիքների ապահովման ելքերի ֆինանսավորման ապահովում
A39: Միջոցառման տեսակը` | B39: Ծառայությունների մատուցում
A40: Արդյունքի չափորոշիչներ
A41: Միջոցառման վրա կատարվող ծախսը (հազար դրամ) | C41: =+'5'!G46 -> 0 | D41: =+'5'!H46 -> 0 | E41: =+'5'!I46 -> -47154.4

Sheet 10
G1: Հավելված № 10
E2: ՀՀ կառավարության 2022 թվականի
F3: № ------------ -Ն որոշման
A6: ՀԱՅԱՍՏԱՆԻ ՀԱՆՐԱՊԵՏՈՒԹՅԱՆ ԿԱՌԱՎԱՐՈՒԹՅԱՆ 2021 ԹՎԱԿԱՆԻ ԴԵԿՏԵՄԲԵՐԻ 23-Ի № 2121-Ն ՈՐՈՇՄԱՆ N 10 ՀԱՎԵԼՎԱԾՈՒՄ ԿԱՏԱՐՎՈՂ ՓՈՓՈԽՈՒԹՅՈՒՆՆԵՐԸ ԵՎ ԼՐԱՑՈՒՄՆԵՐԸ
I7: (հազ. դրամ)
A8: կոդը | B8: անվանումը | E8: Գնման ձևը | F8: Չափի միավորը | G8: Միավորի գինը | H8: Ցուցանիշների փոփոխությունը (ավելացումները նշված են դրական նշանով)
H9: Քանակը | I9: Գումարը (հազար դրամով)
A10: 1 | B10: 2 | E10: 3 | F10: 4 | G10: 5 | H10: 6 | I10: 7
A11: ՀՀ Քաղաքաշինության կոմիտե
A12: Բաժին 06 | B12: Խումբ 01 | D12: Դաս 01 | F12: Բնակարանային շինարարություն | I12: =+I13 -> 395706.78
A13: 1103 21001 | B13: Քաղաքաշինության բնագավառում պետական ծրագրերի իրականացման ապահովում | I13: =+I14+I16 -> 395706.78
B14: ՄԱՍ II. ԱՇԽԱՏԱՆՔՆԵՐ | I14: =+I15 -> 387637.3
A15: 45221142-1 | B15: ընդհանուր շինարարական աշխատանքներ | E15: ՀՄԱ | F15: դրամ | G15: =+I15*1000 -> 387637300 | H15: 1 | I15: =-413169.8+406240.5+394566.6 -> 387637.3
B16: ՄԱՍ III. ԾԱՌԱՅՈՒԹՅՈՒՆՆԵՐ | I16: =+I17+I18 -> 8069.476
A17: 71351540-1 | B17: տեխնիկական հսկողության ծառայություններ | E17: ՀՄԱ | F17: դրամ | G17: =+I17*1000 -> 5722400 | H17: 1 | I17: =-5385.1+11107.5 -> 5722.4
A18: 98111140-1 | B18: հեղինակային հսկողության ծառայություններ | E18: ՄԱ | F18: դրամ | G18: =+I18*1000 -> 2347076 | H18: 1 | I18: =-2228.3+4575.376 -> 2347.076
