Workbook
Name AgencyCode: #REF!
Name AgencyCode: #REF!
Name AgencyCode: #REF!
Name AgencyName: #REF!
Name AgencyName: #REF!
Name AgencyName: #REF!
Name davit: #REF!
Name davit: #REF!
Name Functional1: #REF!
Name Functional1: #REF!
Name Functional1: #REF!
Name ggg: #REF!
Name ggg: #REF!
Name PANature: #REF!
Name PANature: #REF!
Name PANature: #REF!
Name PAType: #REF!
Name PAType: #REF!
Name PAType: #REF!
Name Performance2: #REF!
Name Performance2: #REF!
Name Performance2: #REF!
Name PerformanceType: #REF!
Name PerformanceType: #REF!
Name PerformanceType: #REF!
Name Հավելված: #REF!
Name Հավելված: #REF!
Name Մաս: #REF!
Name Մաս: #REF!
Name շախմատիստ: #REF!
Name շախմատիստ: #REF!

Sheet Havelvats 1
D1: Հավելված N 1
D2: ՀՀ կառավարության 2022 թվականի
D3: ______________ ի ___Ն որոշման
A5: «ՀԱՅԱUՏԱՆԻ ՀԱՆՐԱՊԵՏՈՒԹՅԱՆ 2022 ԹՎԱԿԱՆԻ ՊԵՏԱԿԱՆ ԲՅՈՒՋԵԻ ՄԱUԻՆ» ՀԱՅԱUՏԱՆԻ ՀԱՆՐԱՊԵՏՈՒԹՅԱՆ OՐԵՆՔԻ N 1 ՀԱՎԵԼՎԱԾԻ N 2 ԱՂՅՈՒՍԱԿՈՒՄ ԿԱՏԱՐՎՈՂ ՎԵՐԱԲԱՇԽՈՒՄԸ ԵՎ ՀԱՅԱՍՏԱՆԻ ՀԱՆՐԱՊԵՏՈՒԹՅԱՆ ԿԱՌԱՎԱՐՈՒԹՅԱՆ 2021 ԹՎԱԿԱՆԻ ԴԵԿՏԵՄԲԵՐԻ 23-Ի N 2121-Ն ՈՐՈՇՄԱՆ N 5 ՀԱՎԵԼՎԱԾԻ N 1 ԱՂՅՈՒՍԱԿՈՒՄ ԿԱՏԱՐՎՈՂ ՓՈՓՈԽՈՒԹՅՈՒՆՆԵՐԸ ԵՎ ԼՐԱՑՈՒՄՆԵՐԸ
E7: հազ. դրամներով
A8: Ծրագրային դասիչը | C8: Բյուջետային հատկացումների գլխավոր կարգադրիչների, ծրագրերի և միջոցառումների անվանումները | D8: Ցուցանիշների փոփոխությունը (ավելացումները նշված են դրական նշանով, իսկ նվազեցումները փակագծերում)
A9: Ծրագիր | B9: Միջոցառում | D9: Ինն ամիս | E9: Տարի
A10: 1192 | C10: ԸՆԴԱՄԵՆԸ | D10: =+D12 -> 0 | E10: =+E12 -> 0
C11: այդ թվում
C12: ՀՀ ԿՐԹՈՒԹՅԱՆ, ԳԻՏՈՒԹՅԱՆ, ՄՇԱԿՈՒՅԹԻ ԵՎ ՍՊՈՐՏԻ ՆԱԽԱՐԱՐՈՒԹՅՈՒՆ | D12: =+D14+D27 -> 0 | E12: =+E14+E27 -> 0
A13: 1075 | C13: Ծրագրի անվանումը`
C14: Մշակութային ժառանգության ծրագիր | D14: =+D21 -> 1593.7 | E14: =+E21 -> 0
C15: Ծրագրի նպատակը`
C16: Մշակութային ժառանգության պահպանում, օգտագործում, համալրում և հանրահռչակում
C17: Վերջնական արդյունքի նկարագրությունը`
C18: Մշակութային ժառանգության շարունակական պահպանում, մշակութային զբոսաշրջության զարգացում և խթանում
C19: Ծրագրի միջոցառումներ
B20: 21001 | C20: Միջոցառման անվանումը`
C21: Հուշարձանների ամրակայում, նորոգում և վերականգնում | D21: =+'Havelvats 2 '!G23 -> 1593.7 | E21: =+'Havelvats 2 '!H23 -> 0
C22: Միջոցառման նկարագրությունը`
C23: Հուշարձանների գիտանախագծային փաստաթղթերի կազմում, հրատապ ուսումնասիրում, վավերագրման և ուսումնասիրման աշխատանքներ, հետախուզում և հնագիտական պեղում, ամրակայում, նորոգում և վերականգնում
C24: Միջոցառման տեսակը
C25: Հանրության կողմից անմիջականորեն օգտագործվող ակտիվների հետ կապված միջոցառումներ
A26: 1146 | C26: Ծրագրի անվանումը`
C27: Հանրակրթության ծրագիր | D27: =+D34 -> -1593.7 | E27: =+E34 -> 0
C28: Ծրագրի նպատակը`
C29: Ապահովել անվճար և որակյալ հանրակրթություն
C30: Վերջնական արդյունքի նկարագրությունը`
C31: Մտավոր, հոգևոր, ֆիզիկական և սոցիալական ունակությունների համակողմանի ու ներդաշնակ զարգացմամբ, հայրենասիրության, պետականության և մարդասիրության ոգով դաստիրակված, պատշաճ վարքով և վարվելակերպով անձի ձևավորում
C32: Ծրագրի միջոցառումներ
B33: 11003 | C33: Միջոցառման անվանումը`
C34: Միջնակարգ ընդհանուր հանրակրթություն | D34: =+'Havelvats 2 '!G44 -> -1593.7 | E34: =+'Havelvats 2 '!H44 -> 0
C35: Միջոցառման նկարագրությունը`
C36: Պարտադիր կրթության երրորդ մակարդակում սովորողների ընդգրկվածության, գրագիտության և համակողմանի զարգացման բարձր մակարդակի ապահովում
C37: Միջոցառման տեսակը
C38: Ծառայությունների մատուցում

Sheet Havelvats 2 
F1: Հավելված N 2
F2: ՀՀ կառավարության 2022 թվականի
F3: ______________ ի ___Ն որոշման
A5: ՀԱՅԱՍՏԱՆԻ ՀԱՆՐԱՊԵՏՈՒԹՅԱՆ ԿԱՌԱՎԱՐՈՒԹՅԱՆ 2021 ԹՎԱԿԱՆԻ ԴԵԿՏԵՄԲԵՐԻ 23-Ի N2121-Ն ՈՐՈՇՄԱՆ N 3 ԵՎ N 4 ՀԱՎԵԼՎԱԾՆԵՐՈՒՄ ԿԱՏԱՐՎՈՂ ՓՈՓՈԽՈՒԹՅՈՒՆՆԵՐԸ ԵՎ ԼՐԱՑՈՒՄՆԵՐԸ
H7: հազ. դրամներով
A8: Գործառական դասիչը | D8: Ծրագրային դասիչը | F8: Բյուջետային հատկացումների գլխավոր կարգադրիչների, ծրագրերի, միջոցառումների և միջոցառումները կատարող պետական մարմինների անվանումները | G8: Ցուցանիշների փոփոխությունը (ավելացումները նշված են դրական նշանով, իսկ նվազեցումները փակագծերում)
A9: Բաժին | B9: Խումբ | C9: Դաս | D9: Ծրագիր | E9: Միջոցառում | G9: Ինն ամիս | H9: Տարի
F10: ԸՆԴԱՄԵՆԸ | G10: =+G12 -> 0 | H10: =+H12 -> 0
F11: այդ թվում
F12: ՀՀ ԿՐԹՈՒԹՅԱՆ, ԳԻՏՈՒԹՅԱՆ, ՄՇԱԿՈՒՅԹԻ ԵՎ ՍՊՈՐՏԻ ՆԱԽԱՐԱՐՈՒԹՅՈՒՆ | G12: =+G13+G34 -> 0 | H12: =+H13+H34 -> 0
A13: 08 | F13: ՀԱՆԳԻՍՏ, ՄՇԱԿՈՒՅԹ ԵՎ ԿՐՈՆ | G13: =+G15 -> 1593.7 | H13: =+H15 -> 0
F14: այդ թվում`
B15: 02 | F15: Մշակութային ծառայություններ | G15: =+G17 -> 1593.7 | H15: =+H17 -> 0
F16: այդ թվում`
C17: 07 | F17: Հուշարձանների և մշակութային արժեքների վերականգնում և պահպանում | G17: =+G19 -> 1593.7 | H17: =+H19 -> 0
F18: այդ թվում`
F19: ՀՀ կրթության, գիտության, մշակույթի և սպորտի նախարարություն | G19: =+G21 -> 1593.7 | H19: =+H21 -> 0
F20: այդ թվում`
D21: 1075 | E21: Մշակութային ժառանգության ծրագիր | G21: =+G23 -> 1593.7 | H21: =+H23 -> 0
F22: այդ թվում`
E23: 21001 | F23: Հուշարձանների ամրակայում, նորոգում և վերականգնում | G23: =+G25 -> 1593.7 | H23: =+H25 -> 0
F24: այդ թվում` ըստ կատարողների
F25: ՀՀ կրթության, գիտության, մշակույթի և սպորտի նախարարություն | G25: =+G27 -> 1593.7 | H25: =+H27 -> 0
F26: այդ թվում՝ բյուջետային ծախսերի տնտեսագիտական դասակարգման հոդվածներ
F27: ԸՆԴԱՄԵՆԸ ԾԱԽՍԵՐ | G27: =+G28 -> 1593.7 | H27: =+H28 -> 0
F28: ՈՉ ՖԻՆԱՆՍԱԿԱՆ ԱԿՏԻՎՆԵՐԻ ԳԾՈՎ ԾԱԽՍԵՐ | G28: =+G29 -> 1593.7 | H28: =+H29 -> 0
F29: ՀԻՄՆԱԿԱՆ ՄԻՋՈՑՆԵՐ | G29: =+G30+G32 -> 1593.7 | H29: =+H30+H32 -> 0
F30: ՇԵՆՔԵՐ ԵՎ ՇԻՆՈՒԹՅՈՒՆՆԵՐ | G30: =+G31 -> -5760.3 | H30: =+H31 -> -7999
F31: - Շենքերի և շինությունների կապիտալ վերանորոգում | G31: =+'Havelvats 4'!E18 -> -5760.3 | H31: =+'Havelvats 4'!F18 -> -7999
F32: ԱՅԼ ՀԻՄՆԱԿԱՆ ՄԻՋՈՑՆԵՐ | G32: =+G33 -> 7354 | H32: =+H33 -> 7999
F33: - Նախագծահետազոտական ծախսեր | G33: =+'Havelvats 4'!E26 -> 7354 | H33: =+'Havelvats 4'!F26 -> 7999
A34: 09 | F34: ԿՐԹՈՒԹՅՈՒՆ | G34: =+G36 -> -1593.7 | H34: =+H36 -> 0
F35: այդ թվում`
B36: 02 | F36: Միջնակարգ ընդհանուր կրթություն | G36: =+G38 -> -1593.7 | H36: =+H38 -> 0
F37: այդ թվում`
C38: 02 | F38: Միջնակարգ (լրիվ) ընդհանուր կրթություն | G38: =+G40 -> -1593.7 | H38: =+H40 -> 0
F39: այդ թվում`
F40: ՀՀ կրթության, գիտության, մշակույթի և սպորտի նախարարություն | G40: =+G42 -> -1593.7 | H40: =+H42 -> 0
F41: այդ թվում՝
D42: 1146 | E42: Հանրակրթության ծրագիր | G42: =+G44 -> -1593.7 | H42: =+H44 -> 0
...

Sheet Havelvats 3
F1: Հավելված N 3
F2: ՀՀ կառավարության 2022 թվականի
F3: ______________ ի ___Ն որոշման
A5: «ՀԱՅԱUՏԱՆԻ ՀԱՆՐԱՊԵՏՈՒԹՅԱՆ 2022 ԹՎԱԿԱՆԻ ՊԵՏԱԿԱՆ ԲՅՈՒՋԵԻ ՄԱUԻՆ» ՀԱՅԱUՏԱՆԻ ՀԱՆՐԱՊԵՏՈՒԹՅԱՆ OՐԵՆՔԻ N 1 ՀԱՎԵԼՎԱԾԻ N 3 ԱՂՅՈՒՍԱԿՈՒՄ ԿԱՏԱՐՎՈՂ ՓՈՓՈԽՈՒԹՅՈՒՆՆԵՐԸ ԵՎ ԼՐԱՑՈՒՄՆԵՐԸ
H8: հազ. դրամներով
A9: Ծրագրային դասիչ | C9: Բյուջետային գլխավոր կարգադրիչների, ծրագրերի, միջոցառումների և ուղղությունների անվանումները | D9: Ընդամենը, | E9: Ցուցանիշների փոփոխությունը (ավելացումները նշված են դրական նշանով, իսկ նվազեցումները փակագծերում)
A10: Ծրագիր | B10: Միջոցառում | E10: Կառուցման աշխատանքներ | F10: Վերակառուցման, վերանորոգման և վերականգնման աշխատանքներ | G10: Նախագծահե- տազոտական, գեոդեզիա- քարտեզագրա- կան աշխա- տանքներ | H10: Ոչ ֆինանսական այլ ակտիվների ձեռքբերում
C11: ԸՆԴԱՄԵՆԸ | D11: =SUM(E11:H11) -> 0 | E11: =+E13 -> 0 | F11: =+F13 -> -7999 | G11: =+G13 -> 7999 | H11: =+H13 -> 0
C12: այդ թվում՝
C13: ՀՀ ԿՐԹՈՒԹՅԱՆ, ԳԻՏՈՒԹՅԱՆ, ՄՇԱԿՈՒՅԹԻ ԵՎ ՍՊՈՐՏԻ ՆԱԽԱՐԱՐՈՒԹՅՈՒՆ | D13: =SUM(E13:H13) -> 0 | E13: =+E15 -> 0 | F13: =+F15 -> -7999 | G13: =+G15 -> 7999 | H13: =+H15 -> 0
C14: այդ թվում`
A15: 1075 | B15: 21001 | C15: Հուշարձանների ամրակայում, նորոգում և վերականգնում | D15: =+E15+F15+G15+H15 -> 0 | E15: =+E17+E25 -> 0 | F15: =+F17+F25 -> -7999 | G15: =+G17+G25 -> 7999 | H15: =+H17+H25 -> 0
C16: այդ թվում`
C17: 1. Վերականգնողական աշխատանքներ | D17: =SUM(E17:H17) -> -7999 | E17: =+E19+E22 -> 0 | F17: =+F19+F22 -> -7999 | G17: =+G19+G22 -> 0 | H17: =+H19+H22 -> 0
C18: որից`
C19: ՀՀ Լոռու մարզ | D19: =SUM(E19:H19) -> -6230.4 | E19: =+E20+E21 -> 0 | F19: =+F20+F21 -> -6230.4 | G19: =+G20+G21 -> 0 | H19: =+H20+H21 -> 0
C20: Ալավերդի համայնքի Սանահինի վանական համալիրի Սբ Ամենափրկիչ եկեղեցու տանիքների նորոգում | D20: =+E20+F20+G20+H20 -> -5691.3 | F20: =+'Havelvats 7'!I14+'Havelvats 7'!I20 -> -5691.3
C21: Քոբայրավանք համալիրի գլխավոր եկեղեցուն կից մատուռի ամրակայում և տանիքի նորոգում | D21: =+E21+F21+G21+H21 -> -539.1 | E21: 0 | F21: =+'Havelvats 7'!I16+'Havelvats 7'!I19 -> -539.1
C22: ՀՀ Տավուշի մարզ | D22: =SUM(E22:H22) -> -1768.6 | E22: =+E23+E24 -> 0 | F22: =+F23+F24 -> -1768.6 | G22: =+G23+G24 -> 0 | H22: =+H23+H24 -> 0
C23: Գոշ համայնքի Գոշավանքի գավթի տանիքածածկերի նորոգում | D23: =+E23+F23+G23+H23 -> -1606.9 | F23: =+'Havelvats 7'!I15+'Havelvats 7'!I22 -> -1606.9
C24: Դիլիջան համայնքի Հ.Շարամբեյանի անվան ժողովրդական արհեստների թանգարանի նորոգում, ամրակայում | D24: =+E24+F24+G24+H24 -> -161.7 | F24: =+'Havelvats 7'!I21 -> -161.7
C25: 2. Վավերագրման և ուսումնասիրման աշխատանքներ, (այդ թվում՝ հետախուզումև պեղում), գիտանախագծային փաստաթղթերի կազմում և փորձաքննում | D25: =SUM(E25:H25) -> 7999 | E25: =+E27+E29+E31+E34 -> 0 | F25: =+F27+F29+F31+F34 -> 0 | G25: =+G27+G29+G31+G34 -> 7999 | H25: =+H27+H29+H31+H34 -> 0
C26: որից`
C27: ՀՀ Արագաոտնի մարզ | D27: =SUM(E27:H27) -> -125 | E27: =+E28 -> 0 | F27: =+F28 -> 0 | G27: =+G28 -> -125 | H27: =+H28 -> 0
C28: Ագարակ համայնքի Ագարակ վաղ բրոնզե դարի կացարանների, միջնադարյան համալիրի և պարսպապատի ամրակայում | D28: =+E28+F28+G28+H28 -> -125 | G28: =+'Havelvats 7'!I25 -> -125
C29: ՀՀ Լոռու մարզ | D29: =SUM(E29:H29) -> -37 | E29: =+E30 -> 0 | F29: =+F30 -> 0 | G29: =+G30 -> -37 | H29: =+H30 -> 0
C30: Դսեղ համայնքի Բարձրաքաշի Սբ Գրիգոր վանական համալիրի կառույցների, նորոգում, ամրակայում, վերականգնում և տարածքի բարեկարգում | D30: =+E30+F30+G30+H30 -> -37 | G30: =+'Havelvats 7'!I24 -> -37
C31: ՀՀ Շիրակի մարզ | D31: =SUM(E31:H31) -> 8245 | E31: =+E32+E33 -> 0 | F31: =+F32+F33 -> 0 | G31: =+G32+G33 -> 8245 | H31: =+H32+H33 -> 0
C32: Երերույքի տաճարի և փոքր դամբարանի թաղերի ամրակայում, Անիպեմզայի մշակույթի տան վերականգնում և փոքրիկ թանգարանի ստեղծում | D32: =+E32+F32+G32+H32 -> -15 | G32: =+'Havelvats 7'!I27 -> -15
C33: Աշոցք տարածաշրջանի Կրասարի կամրջի վերականգնում | D33: =+E33+F33+G33+H33 -> 8260 | G33: =+'Havelvats 7'!I18+'Havelvats 7'!I23 -> 8260
C34: ՀՀ Վայոց Ձորի մարզ | D34: =SUM(E34:H34) -> -84 | E34: =+E35 -> 0 | F34: =+F35 -> 0 | G34: =+G35 -> -84 | H34: =+H35 -> 0
C35: Շատիվանքի վանական համալիրի ամրակայում, մասնակի վերականգնում և տարածքի բարեկարգում | D35: =+E35+F35+G35+H35 -> -84 | G35: =+'Havelvats 7'!I26 -> -84

Sheet Havelvats 4
D1: Հավելված N 4
D2: ՀՀ կառավարության 2022 թվականի
D3: ______________ ի ___Ն որոշման
B5: ՀԱՅԱՍՏԱՆԻ ՀԱՆՐԱՊԵՏՈՒԹՅԱՆ ԿԱՌԱՎԱՐՈՒԹՅԱՆ 2021 ԹՎԱԿԱՆԻ ԴԵԿՏԵՄԲԵՐԻ 23-Ի N 2121-Ն ՈՐՈՇՄԱՆ N 5 ՀԱՎԵԼՎԱԾԻ N 2 ԱՂՅՈՒՍԱԿՈՒՄ ԿԱՏԱՐՎՈՂ ՓՈՓՈԽՈՒԹՅՈՒՆՆԵՐԸ ԵՎ ԼՐԱՑՈՒՄՆԵՐԸ
F8: հազ. դրամներով
B9: Ծրագրային դասիչ | D9: Բյուջետային գլխավոր կարգադրիչների, ծրագրերի, միջոցառումների, միջոցառումները կատարող պետական մարմինների և ուղղությունների անվանումները | E9: Ցուցանիշների փոփոխությունը (ավելացումները նշված են դրական նշանով, իսկ նվազեցումները փակագծերում)
B10: Ծրագիր | C10: Միջոցառում | E10: Ինն ամիս | F10: Տարի
D12: ՀՀ ԿՐԹՈՒԹՅԱՆ, ԳԻՏՈՒԹՅԱՆ, ՄՇԱԿՈՒՅԹԻ ԵՎ ՍՊՈՐՏԻ ՆԱԽԱՐԱՐՈՒԹՅՈՒՆ | E12: =+E14 -> 1593.7 | F12: =+F14 -> 0
D13: այդ թվում՝
B14: 1075 | C14: 21001 | D14: Հուշարձանների ամրակայում, նորոգում և վերականգնում | E14: =+E16 -> 1593.7 | F14: =+F16 -> 0
D15: այդ թվում` ըստ կատարողների
D16: ՀՀ կրթության, գիտության, մշակույթի և սպորտի նախարարություն | E16: =+E18+E26 -> 1593.7 | F16: =+F18+F26 -> 0
D17: այդ թվում` ըստ ուղղությունների
D18: 1. Վերականգնողական աշխատանքներ | E18: =+E20+E23 -> -5760.3 | F18: =+F20+F23 -> -7999
D19: որից`
D20: ՀՀ Լոռու մարզ | E20: =+E21+E22 -> -4522.4 | F20: =+F21+F22 -> -6230.4
D21: Ալավերդի համայնքի Սանահինի վանական համալիրի Սբ Ամենափրկիչ եկեղեցու տանիքների նորոգում | E21: -3983.3 | F21: =+'Havelvats 3'!D20 -> -5691.3
D22: Քոբայրավանք համալիրի գլխավոր եկեղեցուն կից մատուռի ամրակայում և տանիքի նորոգում | E22: -539.1 | F22: =+'Havelvats 3'!D21 -> -539.1
D23: ՀՀ Տավուշի մարզ | E23: =+E24+E25 -> -1237.9 | F23: =+F24+F25 -> -1768.6
D24: Գոշ համայնքի Գոշավանքի գավթի տանիքածածկերի նորոգում | E24: -1124.8 | F24: =+'Havelvats 3'!D23 -> -1606.9
D25: Դիլիջան համայնքի Հ.Շարամբեյանի անվան ժողովրդական արհեստների թանգարանի նորոգում, ամրակայում | E25: -113.1 | F25: =+'Havelvats 3'!D24 -> -161.7
D26: 2. Վավերագրման և ուսումնասիրման աշխատանքներ, (այդ թվում՝ հետախուզումև պեղում), գիտանախագծային փաստաթղթերի կազմում և փորձաքննում | E26: =+E28+E30+E32+E35 -> 7354 | F26: =+F28+F30+F32+F35 -> 7999
D27: որից`
D28: ՀՀ Արագաոտնի մարզ | E28: =+E29 -> -125 | F28: =+F29 -> -125
D29: Ագարակ համայնքի Ագարակ վաղ բրոնզե դարի կացարանների, միջնադարյան համալիրի և պարսպապատի ամրակայում | E29: -125 | F29: =+'Havelvats 3'!D28 -> -125
D30: ՀՀ Լոռու մարզ | E30: =+E31 -> 0 | F30: =+F31 -> -37
D31: Դսեղ համայնքի Բարձրաքաշի Սբ Գրիգոր վանական համալիրի կառույցների, նորոգում, ամրակայում, վերականգնում և տարածքի բարեկարգում | E31: 0 | F31: =+'Havelvats 3'!D30 -> -37
D32: ՀՀ Շիրակի մարզ | E32: =+E33+E34 -> 7563 | F32: =+F33+F34 -> 8245
D33: Երերույքի տաճարի և փոքր դամբարանի թաղերի ամրակայում, Անիպեմզայի մշակույթի տան վերականգնում և փոքրիկ թանգարանի ստեղծում | E33: -15 | F33: =+'Havelvats 3'!D32 -> -15
D34: Աշոցք տարածաշրջանի Կրասարի կամրջի վերականգնում | E34: 7578 | F34: =+'Havelvats 3'!D33 -> 8260
D35: ՀՀ Վայոց Ձորի մարզ | E35: =+E36 -> -84 | F35: =+F36 -> -84
D36: Շատիվանքի վանական համալիրի ամրակայում, մասնակի վերականգնում և տարածքի բարեկարգում | E36: -84 | F36: =+'Havelvats 3'!D35 -> -84

Sheet Havelvats 5
C1: Հավելված N 5
C2: ՀՀ կառավարության 2022 թվականի
C3: ______________ ի ___Ն որոշման
B5: ՀԱՅԱՍՏԱՆԻ ՀԱՆՐԱՊԵՏՈՒԹՅԱՆ ԿԱՌԱՎԱՐՈՒԹՅԱՆ 2021 ԹՎԱԿԱՆԻ ԴԵԿՏԵՄԲԵՐԻ 23-Ի N 2121-Ն ՈՐՈՇՄԱՆ N 9 ՀԱՎԵԼՎԱԾԻ N 9.13 ԱՂՅՈՒՍԱԿՈՒՄ ԿԱՏԱՐՎՈՂ ՓՈՓՈԽՈՒԹՅՈՒՆՆԵՐԸ ԵՎ ԼՐԱՑՈՒՄՆԵՐԸ
A7: Աղյուսակ 9․13
C8: ՀՀ կրթության, գիտության, մշակույթի և սպորտի նախարարություն
B9: ՄԱՍ 2. ՊԵՏԱԿԱՆ ՄԱՐՄՆԻ ԳԾՈՎ ԱՐԴՅՈՒՆՔԱՅԻՆ (ԿԱՏԱՐՈՂԱԿԱՆ) ՑՈՒՑԱՆԻՇՆԵՐԸ
B12: Ծրագրի միջոցառումները
B13: Ծրագրի դասիչը՝ | C13: 1075 | D13: Ցուցանիշների փոփոխությունը (ավելացումները նշված են դրական նշանով)
B14: Միջոցառման դասիչը՝ | C14: 21001 | D14: Ինն ամիս | E14: Տարի
B15: Միջոցառման անվանումը՝ | C15: Հուշարձանների ամրակայում, նորոգում և վերականգնում
B16: Նկարագրությունը՝ | C16: Հուշարձանների գիտանախագծային փաստաթղթերի կազմում, հրատապ ուսումնասիրում, վավերագրման և ուսումնասիրման աշխատանքներ, հետախուզում և հնագիտական պեղում, ամրակայում, նորոգում և վերականգնում
B17: Միջոցառման տեսակը՝ | C17: Հանրության կողմից անմիջականորեն օգտագործվող ակտիվների հետ կապված միջոցառումներ
B18: Միջոցառումն իրականացնողի անվանումը | C18: Մասնագիտացված կազմակերպություն
B19: Արդյունքի չափորոշիչներ
B20: Հուշարձանների ուսումնասիրման (այդ թվում` հետախուզում և պեղում) և նախագծման, փորձաքննության աշխատանքներ, քանակ | D20: 1 | E20: 1
B21: Միջոցառման վրա կատարվող ծախսը (հազար դրամ) | D21: =+'Havelvats 1'!D21 -> 1593.7 | E21: 0
B23: Ծրագրի դասիչը | C23: Ծրագրի անվանումը
B24: 1146 | C24: Հանրակրթության ծրագիր
B26: Ծրագրի միջոցառումները
B27: Ծրագրի դասիչը` | C27: 1146 | D27: Ցուցանիշների փոփոխությունը (նվազեցումները նշված են փակագծերում)
B28: Միջոցառման դասիչը` | C28: 11003 | D28: Ինն ամիս | E28: Տարի
B29: Միջոցառման անվանումը` | C29: Միջնակարգ ընդհանուր հանրակրթություն
B30: Նկարագրությունը` | C30: Պարտադիր կրթության երրորդ մակարդակում սովորողների ընդգրկվածության, գրագիտության և համակողմանի զարգացման բարձր մակարդակի ապահովում
B31: Միջոցառման տեսակը` | C31: Ծառայությունների մատուցում
B32: Ծառայությունը մատուցող կազմակերպության(ների) անվանում(ներ)ը՛ | C32: ՀՀ կրթության, գիտության,մշակույթի և սպորտի նախարարության, ՀՀ մարզպետարանների, Երևանի քաղաքապետարանի ենթակայության ուսումնական հաստատություններ
B33: Արդյունքի չափորոշիչներ
B34: Միջոցառման վրա կատարվող ծախսը (հազար դրամ) | D34: =+'Havelvats 1'!D34 -> -1593.7 | E34: 0

Sheet Havelvats 6
C1: Հավելված N 6
C2: ՀՀ կառավարության 2022 թվականի
C3: ______________ ի ___Ն որոշման
B5: ՀԱՅԱՍՏԱՆԻ ՀԱՆՐԱՊԵՏՈՒԹՅԱՆ ԿԱՌԱՎԱՐՈՒԹՅԱՆ 2021 ԹՎԱԿԱՆԻ ԴԵԿՏԵՄԲԵՐԻ 23-Ի N 2121-Ն ՈՐՈՇՄԱՆ N 9.1 ՀԱՎԵԼՎԱԾԻ N 9.1.14 ԱՂՅՈՒՍԱԿՈՒՄ ԿԱՏԱՐՎՈՂ ՓՈՓՈԽՈՒԹՅՈՒՆՆԵՐԸ ԵՎ ԼՐԱՑՈՒՄՆԵՐԸ
A7: Աղյուսակ 9․1.14
C8: ՀՀ կրթության, գիտության, մշակույթի և սպորտի նախարարություն
B9: ՄԱՍ 1. ՊԵՏԱԿԱՆ ՄԱՐՄՆԻ ԳԾՈՎ ԱՐԴՅՈՒՆՔԱՅԻՆ (ԿԱՏԱՐՈՂԱԿԱՆ) ՑՈՒՑԱՆԻՇՆԵՐԸ
B12: Ծրագրի միջոցառումները
B13: Ծրագրի դասիչը՝ | C13: 1075 | D13: Ցուցանիշների փոփոխությունը (ավելացումները նշված են դրական նշանով)
B14: Միջոցառման դասիչը՝ | C14: 21001 | D14: Ինն ամիս | E14: Տարի
B15: Միջոցառման անվանումը՝ | C15: Հուշարձանների ամրակայում, նորոգում և վերականգնում
B16: Նկարագրությունը՝ | C16: Հուշարձանների գիտանախագծային փաստաթղթերի կազմում, հրատապ ուսումնասիրում, վավերագրման և ուսումնասիրման աշխատանքներ, հետախուզում և հնագիտական պեղում, ամրակայում, նորոգում և վերականգնում
B17: Միջոցառման տեսակը՝ | C17: Հանրության կողմից անմիջականորեն օգտագործվող ակտիվների հետ կապված միջոցառումներ
B18: Միջոցառումն իրականացնողի անվանումը | C18: Մասնագիտացված կազմակերպություն
B19: Արդյունքի չափորոշիչներ
B20: Հուշարձանների ուսումնասիրման (այդ թվում` հետախուզում և պեղում) և նախագծման, փորձաքննության աշխատանքներ, քանակ | D20: 1 | E20: 1
B21: Միջոցառման վրա կատարվող ծախսը (հազար դրամ) | D21: =+'Havelvats 2 '!G25 -> 1593.7 | E21: 0
B23: 1146 | C23: Հանրակրթության ծրագիր
B25: Ծրագրի միջոցառումները
B26: Ծրագրի դասիչը` | C26: 1146 | D26: Ցուցանիշների փոփոխությունը (նվազեցումները նշված են փակագծերում)
B27: Միջոցառման դասիչը` | C27: 11003 | D27: Ինն ամիս | E27: Տարի
B28: Միջոցառման անվանումը` | C28: Միջնակարգ ընդհանուր հանրակրթություն
B29: Նկարագրությունը` | C29: Պարտադիր կրթության երրորդ մակարդակում սովորողների ընդգրկվածության, գրագիտության և համակողմանի զարգացման բարձր մակարդակի ապահովում
B30: Միջոցառման տեսակը` | C30: Ծառայությունների մատուցում
B31: Ծառայությունը մատուցող կազմակերպության(ների) անվանում(ներ)ը՛ | C31: ՀՀ ԿԳՄՍՆ ենթակայության հանրակրթական ուսումնական հաստատություններ
B32: Արդյունքի չափորոշիչներ
B33: Միջոցառման վրա կատարվող ծախսը (հազար դրամ) | D33: =+'Havelvats 2 '!G46 -> -1593.7 | E33: 0

Sheet Havelvats 7
H1: Հավելված N 7
H2: ՀՀ կառավարության 2022 թվականի
H3: ______________ ի ___Ն որոշման
A5: ՀԱՅԱՍՏԱՆԻ ՀԱՆՐԱՊԵՏՈՒԹՅԱՆ ԿԱՌԱՎԱՐՈՒԹՅԱՆ 2021 ԹՎԱԿԱՆԻ ԴԵԿՏԵՄԲԵՐԻ 23-Ի N 2121-Ն ՈՐՈՇՄԱՆ N 10 ՀԱՎԵԼՎԱԾՈՒՄ ԿԱՏԱՐՎՈՂ ՓՈՓՈԽՈՒԹՅՈՒՆՆԵՐԸ ԵՎ ԼՐԱՑՈՒՄՆԵՐԸ
A7: Կոդը | B7: Անվանումը | E7: Գնման ձևը | F7: Չափման միավորը | G7: Միավորի գինը | H7: Ցուցանիշների փոփոխությունը (ավելացումները նշված են դրական նշանով, իսկ նվազեցումները փակագծերում)
H8: Քանակը | I8: Գումարը (հազար դրամ)
A9: 1 | B9: 2 | E9: 3 | F9: 4 | G9: 5 | H9: 6 | I9: 7
A10: ՀՀ կրթության, գիտության, մշակույթի և սպորտի նախարարություն | I10: =+I11 -> 0
A11: Բաժին N 08 | B11: Խումբ N 02 | C11: Դաս N 07 | D11: Հուշարձանների և մշակութային արժեքների վերականգնում և պահպանում | I11: =+I12 -> 0
A12: 1075-21001 | B12: Հուշարձանների ամրակայում, նորոգում և վերականգնում | I12: =+I13+I17 -> 0
B13: ՄԱՍ II. ԱՇԽԱՏԱՆՔՆԵՐ | I13: =SUM(I14:I16) -> -7479
A14: 45451600-4 | B14: վերականգնողական աշխատանքներ | E14: ԳՀ | F14: դրամ | G14: 5520800 | H14: -1 | I14: -5520.8
A15: 45451600-6 | B15: վերականգնողական աշխատանքներ | E15: ԳՀ | F15: դրամ | G15: 1524800 | H15: -1 | I15: -1524.8
A16: 45451600-7 | B16: վերականգնողական աշխատանքներ | E16: ԳՀ | F16: դրամ | I16: -433.4
B17: ՄԱՍ III. ԾԱՌԱՅՈՒԹՅՈՒՆՆԵՐ | I17: =SUM(I18:I27) -> 7479
A18: 71241200 | B18: նախագծերի պատրաստում, ծախսերի գնահատում | E18: ԳՀ | F18: դրամ | G18: 7578000 | H18: 1 | I18: 7578
A19: 71351540-5 | B19: տեխնիկական հսկողության ծառայություններ | E19: ԳՀ | F19: դրամ | G19: 105700 | H19: -1 | I19: -105.7
A20: 71351540-6 | B20: տեխնիկական հսկողության ծառայություններ | E20: ԳՀ | F20: դրամ | G20: 170500 | H20: -1 | I20: -170.5
A21: 71351540-7 | B21: տեխնիկական հսկողության ծառայություններ | E21: ԳՀ | F21: դրամ | G21: 161700 | H21: -1 | I21: -161.7
A22: 71351540-8 | B22: տեխնիկական հսկողության ծառայություններ | E22: ԳՀ | F22: դրամ | G22: 82100 | H22: -1 | I22: -82.1
A23: 50531140 | B23: փորձաքննության ծառայություններ | E23: ԳՀ | F23: դրամ | G23: 682020 | H23: 1 | I23: 682
A24: 50531140-1 | B24: փորձաքննության ծառայություններ | E24: ԳՀ | F24: դրամ | G24: 37000 | H24: -1 | I24: -37
A25: 50531140-2 | B25: փորձաքննության ծառայություններ | E25: ԳՀ | F25: դրամ | G25: 125000 | H25: -1 | I25: -125
A26: 50531140-3 | B26: փորձաքննության ծառայություններ | E26: ԳՀ | F26: դրամ | G26: 84000 | H26: -1 | I26: -84
A27: 50531140-4 | B27: փորձաքննության ծառայություններ | E27: ԳՀ | F27: դրամ | G27: 15000 | H27: -1 | I27: -15
