Workbook
Name AgencyCode: #REF!
Name AgencyCode: #REF!
Name AgencyCode: #REF!
Name AgencyName: #REF!
Name AgencyName: #REF!
Name AgencyName: #REF!
Name davit: #REF!
Name davit: #REF!
Name Functional1: #REF!
Name Functional1: #REF!
Name Functional1: #REF!
Name ggg: #REF!
Name ggg: #REF!
Name PANature: #REF!
Name PANature: #REF!
Name PANature: #REF!
Name PAType: #REF!
Name PAType: #REF!
Name PAType: #REF!
Name Performance2: #REF!
Name Performance2: #REF!
Name Performance2: #REF!
Name PerformanceType: #REF!
Name PerformanceType: #REF!
Name PerformanceType: #REF!
Name Հավելված: #REF!
Name Հավելված: #REF!
Name Մաս: #REF!
Name Մաս: #REF!
Name շախմատիստ: #REF!
Name շախմատիստ: #REF!

Sheet Havelvats 1
E1: Հավելված N 1
E2: ՀՀ կառավարության 2022 թվականի
E3: ______________ ի ___Ն որոշման
A5: «ՀԱՅԱUՏԱՆԻ ՀԱՆՐԱՊԵՏՈՒԹՅԱՆ 2022 ԹՎԱԿԱՆԻ ՊԵՏԱԿԱՆ ԲՅՈՒՋԵԻ ՄԱUԻՆ» ՀԱՅԱUՏԱՆԻ ՀԱՆՐԱՊԵՏՈՒԹՅԱՆ OՐԵՆՔԻ N 1 ՀԱՎԵԼՎԱԾԻ N 2 ԱՂՅՈՒՍԱԿՈՒՄ ԿԱՏԱՐՎՈՂ ՎԵՐԱԲԱՇԽՈՒՄԸ ԵՎ ՀԱՅԱՍՏԱՆԻ ՀԱՆՐԱՊԵՏՈՒԹՅԱՆ ԿԱՌԱՎԱՐՈՒԹՅԱՆ 2021 ԹՎԱԿԱՆԻ ԴԵԿՏԵՄԲԵՐԻ 23-Ի N 2121-Ն ՈՐՈՇՄԱՆ N 5 ՀԱՎԵԼՎԱԾԻ N 1 ԱՂՅՈՒՍԱԿՈՒՄ ԿԱՏԱՐՎՈՂ ՓՈՓՈԽՈՒԹՅՈՒՆՆԵՐԸ ԵՎ ԼՐԱՑՈՒՄՆԵՐԸ
F7: հազ. դրամներով
A8: Ծրագրային դասիչը | C8: Բյուջետային հատկացումների գլխավոր կարգադրիչների, ծրագրերի և միջոցառումների անվանումները | D8: Ցուցանիշների փոփոխությունը (ավելացումները նշված են դրական նշանով, իսկ նվազեցումները փակագծերում)
A9: Ծրագիր | B9: Միջոցառում | D9: Առաջին կիսամյակ | E9: Ինն ամիս | F9: Տարի
C10: ԸՆԴԱՄԵՆԸ | D10: =+D12 -> 0 | E10: =+E12 -> 0 | F10: =+F12 -> 0
C11: այդ թվում
C12: ՀՀ ԿՐԹՈՒԹՅԱՆ, ԳԻՏՈՒԹՅԱՆ, ՄՇԱԿՈՒՅԹԻ ԵՎ ՍՊՈՐՏԻ ՆԱԽԱՐԱՐՈՒԹՅՈՒՆ | D12: =+D14+D27+D40 -> 0 | E12: =+E14+E27+E40 -> 0 | F12: =+F14+F27+F40 -> 0
A13: 1075 | C13: Ծրագրի անվանումը`
C14: Մշակութային ժառանգության ծրագիր | D14: =+D21 -> 0 | E14: =+E21 -> 22059.8 | F14: =+F21 -> 44119.6
C15: Ծրագրի նպատակը`
C16: Մշակութային ժառանգության պահպանում, օգտագործում, համալրում և հանրահռչակում
C17: Վերջնական արդյունքի նկարագրությունը`
C18: Մշակութային ժառանգության շարունակական պահպանում, մշակութային զբոսաշրջության զարգացում և խթանում
C19: Ծրագրի միջոցառումներ
B20: 21001 | C20: Միջոցառման անվանումը`
C21: Հուշարձանների ամրակայում, նորոգում և վերականգնում | D21: =+'Havelvats 2 '!G38 -> 0 | E21: =+'Havelvats 2 '!H38 -> 22059.8 | F21: =+'Havelvats 2 '!I38 -> 44119.6
C22: Միջոցառման նկարագրությունը`
C23: Հուշարձանների գիտանախագծային փաստաթղթերի կազմում, հրատապ ուսումնասիրում, վավերագրման և ուսումնասիրման աշխատանքներ, հետախուզում և հնագիտական պեղում, ամրակայում, նորոգում և վերականգնում
C24: Միջոցառման տեսակը
C25: Հանրության կողմից անմիջականորեն օգտագործվող ակտիվների հետ կապված միջոցառումներ
A26: 1146 | C26: Ծրագրի անվանումը`
C27: Հանրակրթության ծրագիր | D27: =+D34 -> 0 | E27: =+E34 -> -35940.1 | F27: =+F34 -> -59110.3
C28: Ծրագրի նպատակը`
C29: Ապահովել անվճար և որակյալ հանրակրթություն
C30: Վերջնական արդյունքի նկարագրությունը`
C31: Մտավոր, հոգևոր, ֆիզիկական և սոցիալական ունակությունների համակողմանի ու ներդաշնակ զարգացմամբ, հայրենասիրության, պետականության և մարդասիրության ոգով դաստիրակված, պատշաճ վարքով և վարվելակերպով անձի ձևավորում
C32: Ծրագրի միջոցառումներ
B33: 11002 | C33: Միջոցառման անվանումը`
C34: Հիմնական ընդհանուր հանրակրթություն | D34: =+'Havelvats 2 '!G57 -> 0 | E34: =+'Havelvats 2 '!H57 -> -35940.1 | F34: =+'Havelvats 2 '!I57 -> -59110.3
C35: Միջոցառման նկարագրությունը`
C36: Պարտադիր կրթության երկրորդ մակարդակում սովորողների ընդգրկվածության, գրագիտության և համակողմանի զարգացման բարձր մակարդակի ապահովում
C37: Միջոցառման տեսակը
C38: Ծառայությունների մատուցում
A39: 1168 | C39: Ծրագրի անվանումը`
C40: Արվեստների ծրագիր | D40: =D47 -> 0 | E40: =E47 -> 13880.3 | F40: =F47 -> 14990.7
C41: Ծրագրի նպատակը`
C42: Նպաստել ազգային հենքի վրա ժամանակակից թատերարվեստի, երաժշտարվեստի, կերպարվեստի և պարարվեստի զարգացմանը և հանրահռչակմանը
...

Sheet Havelvats 2 
F1: Հավելված N 2
F2: ՀՀ կառավարության 2022 թվականի
F3: ______________ ի ___Ն որոշման
A5: ՀԱՅԱՍՏԱՆԻ ՀԱՆՐԱՊԵՏՈՒԹՅԱՆ ԿԱՌԱՎԱՐՈՒԹՅԱՆ 2021 ԹՎԱԿԱՆԻ ԴԵԿՏԵՄԲԵՐԻ 23-Ի N2121-Ն ՈՐՈՇՄԱՆ N 3 ԵՎ N 4 ՀԱՎԵԼՎԱԾՆԵՐՈՒՄ ԿԱՏԱՐՎՈՂ ՓՈՓՈԽՈՒԹՅՈՒՆՆԵՐԸ ԵՎ ԼՐԱՑՈՒՄՆԵՐԸ
I7: հազ. դրամներով
A8: Գործառական դասիչը | D8: Ծրագրային դասիչը | F8: Բյուջետային հատկացումների գլխավոր կարգադրիչների, ծրագրերի, միջոցառումների և միջոցառումները կատարող պետական մարմինների անվանումները | G8: Ցուցանիշների փոփոխությունը (ավելացումները նշված են դրական նշանով, իսկ նվազեցումները փակագծերում)
A9: Բաժին | B9: Խումբ | C9: Դաս | D9: Ծրագիր | E9: Միջոցառում | G9: Առաջին կիսամյակ | H9: Ինն ամիս | I9: Տարի
F10: ԸՆԴԱՄԵՆԸ | G10: =+G12 -> 0 | H10: =+H12 -> 0 | I10: =+I12 -> 0
F11: այդ թվում
F12: ՀՀ ԿՐԹՈՒԹՅԱՆ, ԳԻՏՈՒԹՅԱՆ, ՄՇԱԿՈՒՅԹԻ ԵՎ ՍՊՈՐՏԻ ՆԱԽԱՐԱՐՈՒԹՅՈՒՆ | G12: =+G13+G47 -> 0 | H12: =+H13+H47 -> 0 | I12: =+I13+I47 -> 0
A13: 08 | F13: ՀԱՆԳԻՍՏ, ՄՇԱԿՈՒՅԹ ԵՎ ԿՐՈՆ | G13: =+G15 -> 0 | H13: =+H15 -> 35940.1 | I13: =+I15 -> 59110.3
F14: այդ թվում`
B15: 02 | F15: Մշակութային ծառայություններ | G15: =+G17+G32 -> 0 | H15: =+H17+H32 -> 35940.1 | I15: =+I17+I32 -> 59110.3
F16: այդ թվում`
C17: 05 | F17: Արվեստ | G17: =+G19 -> 0 | H17: =+H19 -> 13880.3 | I17: =+I19 -> 14990.7
F18: այդ թվում`
F19: ՀՀ կրթության, գիտության, մշակույթի և սպորտի նախարարություն | G19: =+G21 -> 0 | H19: =+H21 -> 13880.3 | I19: =+I21 -> 14990.7
F20: այդ թվում`
D21: 1168 | E21: Արվեստների ծրագիր | G21: =+G23 -> 0 | H21: =+H23 -> 13880.3 | I21: =+I23 -> 14990.7
F22: այդ թվում`
E23: 32001 | F23: Ներդրումներ թատրոնների շենքերի կապիտալ վերանորոգման համար | G23: =+G25 -> 0 | H23: =+H25 -> 13880.3 | I23: =+I25 -> 14990.7
F24: այդ թվում` ըստ կատարողների
F25: ՀՀ կրթության, գիտության, մշակույթի և սպորտի նախարարություն | G25: =+G27 -> 0 | H25: =+H27 -> 13880.3 | I25: =+I27 -> 14990.7
F26: այդ թվում՝ բյուջետային ծախսերի տնտեսագիտական դասակարգման հոդվածներ
F27: ԸՆԴԱՄԵՆԸ ԾԱԽՍԵՐ | G27: =+G28 -> 0 | H27: =+H28 -> 13880.3 | I27: =+I28 -> 14990.7
F28: ՈՉ ՖԻՆԱՆՍԱԿԱՆ ԱԿՏԻՎՆԵՐԻ ԳԾՈՎ ԾԱԽՍԵՐ | G28: =+G29 -> 0 | H28: =+H29 -> 13880.3 | I28: =+I29 -> 14990.7
F29: ՀԻՄՆԱԿԱՆ ՄԻՋՈՑՆԵՐ | G29: =+G30 -> 0 | H29: =+H30 -> 13880.3 | I29: =+I30 -> 14990.7
F30: ԱՅԼ ՀԻՄՆԱԿԱՆ ՄԻՋՈՑՆԵՐ | G30: =+G31 -> 0 | H30: =+H31 -> 13880.3 | I30: =+I31 -> 14990.7
F31: - Նախագծահետազոտական ծախսեր | G31: 0 | H31: =+'Havelvats 4'!F24 -> 13880.3 | I31: =+'Havelvats 4'!G24 -> 14990.7
C32: 07 | F32: Հուշարձանների և մշակութային արժեքների վերականգնում և պահպանում | G32: =+G34 -> 0 | H32: =+H34 -> 22059.8 | I32: =+I34 -> 44119.6
F33: այդ թվում`
F34: ՀՀ կրթության, գիտության, մշակույթի և սպորտի նախարարություն | G34: =+G36 -> 0 | H34: =+H36 -> 22059.8 | I34: =+I36 -> 44119.6
F35: այդ թվում`
D36: 1075 | E36: Մշակութային ժառանգության ծրագիր | G36: =+G38 -> 0 | H36: =+H38 -> 22059.8 | I36: =+I38 -> 44119.6
F37: այդ թվում`
E38: 21001 | F38: Հուշարձանների ամրակայում, նորոգում և վերականգնում | G38: =+G40 -> 0 | H38: =+H40 -> 22059.8 | I38: =+I40 -> 44119.6
F39: այդ թվում` ըստ կատարողների
F40: ՀՀ կրթության, գիտության, մշակույթի և սպորտի նախարարություն | G40: =+G42 -> 0 | H40: =+H42 -> 22059.8 | I40: =+I42 -> 44119.6
F41: այդ թվում՝ բյուջետային ծախսերի տնտեսագիտական դասակարգման հոդվածներ
F42: ԸՆԴԱՄԵՆԸ ԾԱԽՍԵՐ | G42: =+G43 -> 0 | H42: =+H43 -> 22059.8 | I42: =+I43 -> 44119.6
...

Sheet Havelvats 3
F1: Հավելված N 3
F2: ՀՀ կառավարության 2022 թվականի
F3: ______________ ի ___Ն որոշման
A5: «ՀԱՅԱUՏԱՆԻ ՀԱՆՐԱՊԵՏՈՒԹՅԱՆ 2022 ԹՎԱԿԱՆԻ ՊԵՏԱԿԱՆ ԲՅՈՒՋԵԻ ՄԱUԻՆ» ՀԱՅԱUՏԱՆԻ ՀԱՆՐԱՊԵՏՈՒԹՅԱՆ OՐԵՆՔԻ N 1 ՀԱՎԵԼՎԱԾԻ N 3 ԱՂՅՈՒՍԱԿՈՒՄ ԿԱՏԱՐՎՈՂ ԼՐԱՑՈՒՄՆԵՐԸ
H8: հազ. դրամներով
A9: Ծրագրային դասիչ | C9: Բյուջետային գլխավոր կարգադրիչների, ծրագրերի, միջոցառումների և ուղղությունների անվանումները | D9: Ընդամենը, | E9: Ցուցանիշների փոփոխությունը (ավելացումները նշված են դրական նշանով)
A10: Ծրագիր | B10: Միջոցառում | E10: Կառուցման աշխատանքներ | F10: Վերակառուցման, վերանորոգման և վերականգնման աշխատանքներ | G10: Նախագծահե- տազոտական, գեոդեզիա- քարտեզագրա- կան աշխա- տանքներ | H10: Ոչ ֆինանսական այլ ակտիվների ձեռքբերում
C11: ԸՆԴԱՄԵՆԸ | D11: =SUM(E11:H11) -> 59110.3 | E11: =+E13 -> 0 | F11: =+F13 -> 44119.6 | G11: =+G13 -> 14990.7 | H11: =+H13 -> 0
C12: այդ թվում՝
C13: ՀՀ ԿՐԹՈՒԹՅԱՆ, ԳԻՏՈՒԹՅԱՆ, ՄՇԱԿՈՒՅԹԻ ԵՎ ՍՊՈՐՏԻ ՆԱԽԱՐԱՐՈՒԹՅՈՒՆ | D13: =SUM(E13:H13) -> 59110.3 | E13: =+E15+E21 -> 0 | F13: =+F15+F21 -> 44119.6 | G13: =+G15+G21 -> 14990.7 | H13: =+H15+H21 -> 0
C14: այդ թվում`
A15: 1075 | B15: 21001 | C15: Հուշարձանների ամրակայում, նորոգում և վերականգնում | D15: =+E15+F15+G15+H15 -> 44119.6 | E15: =+E17 -> 0 | F15: =+F17 -> 44119.6 | G15: =+G17 -> 0 | H15: =+H17 -> 0
C16: այդ թվում`
C17: 1. Վերականգնողական աշխատանքներ | D17: =SUM(E17:H17) -> 44119.6 | E17: =+E19 -> 0 | F17: =+F19 -> 44119.6 | G17: =+G19 -> 0 | H17: =+H19 -> 0
C18: որից`
C19: ՀՀ Լոռու մարզ | D19: =SUM(E19:H19) -> 44119.6 | E19: =+E20 -> 0 | F19: =+F20 -> 44119.6 | G19: =+G20 -> 0 | H19: =+H20 -> 0
C20: Լոռոի Բերդ ամրոցի պարսպի հյուսիս-արևելյան հատվածի ամրակայում և մասնակի վերականգնում | D20: =+E20+F20+G20+H20 -> 44119.6 | F20: =+'Havelvats 7'!I19+'Havelvats 7'!I21+'Havelvats 7'!I22 -> 44119.6 | G20: 0
A21: 1168 | B21: 32001 | C21: Ներդրումներ թատրոնների շենքերի կապիտալ վերանորոգման համար | D21: =+E21+F21+G21+H21 -> 14990.7 | E21: =+E23 -> 0 | F21: =+F23 -> 0 | G21: =+G23 -> 14990.7 | H21: =+H23 -> 0
C22: այդ թվում`
C23: Երևան քաղաք | D23: =SUM(E23:H23) -> 14990.7 | E23: =SUM(E24:E24) -> 0 | F23: =SUM(F24:F24) -> 0 | G23: =SUM(G24:G24) -> 14990.7 | H23: =SUM(H24:H24) -> 0
C24: «Հայաստանի պետական սիմֆոնիկ նվագախումբ» ՊՈԱԿ | D24: =+E24+F24+G24+H24 -> 14990.7 | G24: =+'Havelvats 7'!I14+'Havelvats 7'!I15 -> 14990.7

Sheet Havelvats 4
D1: Հավելված N 4
D2: ՀՀ կառավարության 2022 թվականի
D3: ______________ ի ___Ն որոշման
B5: ՀԱՅԱՍՏԱՆԻ ՀԱՆՐԱՊԵՏՈՒԹՅԱՆ ԿԱՌԱՎԱՐՈՒԹՅԱՆ 2021 ԹՎԱԿԱՆԻ ԴԵԿՏԵՄԲԵՐԻ 23-Ի N 2121-Ն ՈՐՈՇՄԱՆ N 5 ՀԱՎԵԼՎԱԾԻ N 2 ԱՂՅՈՒՍԱԿՈՒՄ ԿԱՏԱՐՎՈՂ ԼՐԱՑՈՒՄՆԵՐԸ
G8: հազ. դրամներով
B9: Ծրագրային դասիչ | D9: Բյուջետային գլխավոր կարգադրիչների, ծրագրերի, միջոցառումների, միջոցառումները կատարող պետական մարմինների և ուղղությունների անվանումները | E9: Ցուցանիշների փոփոխությունը (ավելացումները նշված են դրական նշանով)
B10: Ծրագիր | C10: Միջոցառում | E10: Առաջին կիսամյակ | F10: Ինն ամիս | G10: Տարի
D12: ՀՀ ԿՐԹՈՒԹՅԱՆ, ԳԻՏՈՒԹՅԱՆ, ՄՇԱԿՈՒՅԹԻ ԵՎ ՍՊՈՐՏԻ ՆԱԽԱՐԱՐՈՒԹՅՈՒՆ | E12: =+E14+E22 -> 0 | F12: =+F14+F22 -> 35940.1 | G12: =+G14+G22 -> 59110.3
D13: այդ թվում՝
B14: 1075 | C14: 21001 | D14: Հուշարձանների ամրակայում, նորոգում և վերականգնում | E14: =+E16 -> 0 | F14: =+F16 -> 22059.8 | G14: =+G16 -> 44119.6
D15: այդ թվում` ըստ կատարողների
D16: ՀՀ կրթության, գիտության, մշակույթի և սպորտի նախարարություն | E16: =+E18 -> 0 | F16: =+F18 -> 22059.8 | G16: =+G18 -> 44119.6
D17: այդ թվում` ըստ ուղղությունների
D18: 1. Վերականգնողական աշխատանքներ | E18: =+E20 -> 0 | F18: =+F20 -> 22059.8 | G18: =+G20 -> 44119.6
D19: որից`
D20: ՀՀ Լոռու մարզ | E20: =+E21 -> 0 | F20: =+F21 -> 22059.8 | G20: =+G21 -> 44119.6
D21: Լոռոի Բերդ ամրոցի պարսպի հյուսիս-արևելյան հատվածի ամրակայում և մասնակի վերականգնում | E21: 0 | F21: =+'Havelvats 3'!D20/2 -> 22059.8 | G21: =+'Havelvats 3'!D20 -> 44119.6
B22: 1168 | C22: 32001 | D22: Ներդրումներ թատրոնների շենքերի կապիտալ վերանորոգման համար | E22: =+E24 -> 0 | F22: =+F24 -> 13880.3 | G22: =+G24 -> 14990.7
D23: այդ թվում` ըստ կատարողների
D24: ՀՀ կրթության, գիտության, մշակույթի և սպորտի նախարարություն | E24: =+E26 -> 0 | F24: =+F26 -> 13880.3 | G24: =+G26 -> 14990.7
D25: այդ թվում` ըստ ուղղությունների
D26: Երևան քաղաք | E26: =SUM(E27:E27) -> 0 | F26: =SUM(F27:F27) -> 13880.3 | G26: =SUM(G27:G27) -> 14990.7
D27: «Հայաստանի պետական սիմֆոնիկ նվագախումբ» ՊՈԱԿ | E27: 0 | F27: =+'Havelvats 7'!I14 -> 13880.3 | G27: =+'Havelvats 3'!D24 -> 14990.7

Sheet Havelvats 5
C1: Հավելված N 5
C2: ՀՀ կառավարության 2022 թվականի
C3: ______________ ի ___Ն որոշման
B5: ՀԱՅԱՍՏԱՆԻ ՀԱՆՐԱՊԵՏՈՒԹՅԱՆ ԿԱՌԱՎԱՐՈՒԹՅԱՆ 2021 ԹՎԱԿԱՆԻ ԴԵԿՏԵՄԲԵՐԻ 23-Ի N 2121-Ն ՈՐՈՇՄԱՆ N 9 ՀԱՎԵԼՎԱԾԻ N 9.13 ԱՂՅՈՒՍԱԿՈՒՄ ԿԱՏԱՐՎՈՂ ՓՈՓՈԽՈՒԹՅՈՒՆՆԵՐԸ ԵՎ ԼՐԱՑՈՒՄՆԵՐԸ
A7: Աղյուսակ 9․13
C8: ՀՀ կրթության, գիտության, մշակույթի և սպորտի նախարարություն
B9: ՄԱՍ 2. ՊԵՏԱԿԱՆ ՄԱՐՄՆԻ ԳԾՈՎ ԱՐԴՅՈՒՆՔԱՅԻՆ (ԿԱՏԱՐՈՂԱԿԱՆ) ՑՈՒՑԱՆԻՇՆԵՐԸ
B12: Ծրագրի միջոցառումները
B13: Ծրագրի դասիչը՝ | C13: 1075 | D13: Ցուցանիշների փոփոխությունը (ավելացումները նշված են դրական նշանով)
B14: Միջոցառման դասիչը՝ | C14: 21001 | D14: Առաջին կիսամյակ | E14: Ինն ամիս | F14: Տարի
B15: Միջոցառման անվանումը՝ | C15: Հուշարձանների ամրակայում, նորոգում և վերականգնում
B16: Նկարագրությունը՝ | C16: Հուշարձանների գիտանախագծային փաստաթղթերի կազմում, հրատապ ուսումնասիրում, վավերագրման և ուսումնասիրման աշխատանքներ, հետախուզում և հնագիտական պեղում, ամրակայում, նորոգում և վերականգնում
B17: Միջոցառման տեսակը՝ | C17: Հանրության կողմից անմիջականորեն օգտագործվող ակտիվների հետ կապված միջոցառումներ
B18: Միջոցառումն իրականացնողի անվանումը | C18: Մասնագիտացված կազմակերպություն
B19: Արդյունքի չափորոշիչներ
B20: Հուշարձանների ամրակայման, նորոգման և վերականգնման աշխատանքներ, քանակ | D20: 0 | E20: 1 | F20: 1
B21: Միջոցառման վրա կատարվող ծախսը (հազար դրամ) | D21: =+'Havelvats 1'!D21 -> 0 | E21: =+'Havelvats 1'!E21 -> 22059.8 | F21: =+'Havelvats 1'!F21 -> 44119.6
B23: Ծրագրի դասիչը | C23: Ծրագրի անվանումը
B24: 1146 | C24: Հանրակրթության ծրագիր
B26: Ծրագրի միջոցառումները
B27: Ծրագրի դասիչը` | C27: 1146 | D27: Ցուցանիշների փոփոխությունը (նվազեցումները նշված են փակագծերում)
B28: Միջոցառման դասիչը` | C28: 11002 | D28: Առաջին կիսամյակ | E28: Ինն ամիս | F28: Տարի
B29: Միջոցառման անվանումը` | C29: Հիմնական ընդհանուր հանրակրթություն
B30: Նկարագրությունը` | C30: Պարտադիր կրթության երկրորդ մակարդակում սովորողների ընդգրկվածության, գրագիտության և համակողմանի զարգացման բարձր մակարդակի ապահովում
B31: Միջոցառման տեսակը` | C31: Ծառայությունների մատուցում
B32: Ծառայությունը մատուցող կազմակերպության(ների) անվանում(ներ)ը՛ | C32: ՀՀ կրթության, գիտության,մշակույթի և սպորտի նախարարության, ՀՀ մարզպետարանների, Երևանի քաղաքապետարանի ենթակայության ուսումնական հաստատություններ
B33: Արդյունքի չափորոշիչներ
B34: Միջոցառման վրա կատարվող ծախսը (հազար դրամ) | D34: =+'Havelvats 1'!D34 -> 0 | E34: =+'Havelvats 1'!E34 -> -35940.1 | F34: =+'Havelvats 1'!F34 -> -59110.3
B36: Ծրագրի դասիչը | C36: Ծրագրի անվանումը
B37: 1168 | C37: Արվեստների ծրագիր
B39: Ծրագրի միջոցառումները
B40: Ծրագրի դասիչը՝ | C40: 1168 | D40: Ցուցանիշների փոփոխությունը (ավելացումները նշված են դրական նշանով)
B41: Միջոցառման դասիչը՝ | C41: 32001 | D41: Առաջին կիսամյակ | E41: Ինն ամիս | F41: Տարի
B42: Միջոցառման անվանումը՝ | C42: Ներդրումներ թատրոնների շենքերի կապիտալ վերանորոգման համար
B43: Նկարագրությունը՝ | C43: Թատրոնների շենքերի մասնաշենքերի հիմնանորոգում, համաշինարարական աշխատանքներ, ջեռուցման համակարգի իրականացում, ներքին հարդարում, տարածքի բարեկարգում և նախագծում
B44: Միջոցառման տեսակը՝ | C44: Այլ պետական կազմակերպությունների կողմից օգտագործվող ոչ ֆինանսական ակտիվների հետ գործառնություններ
B45: Ակտիվն օգտագործող կազմակերպությունների անվանումները | C45: Թատրոններ
B46: Արդյունքի չափորոշիչներ
B47: Նախագծանախահաշվային փաստաթղթերի քանակ, հատ | D47: 0 | E47: 1 | F47: 1
B48: Միջոցառման վրա կատարվող ծախսը (հազար դրամ) | D48: =+'Havelvats 1'!D47 -> 0 | E48: =+'Havelvats 1'!E47 -> 13880.3 | F48: =+'Havelvats 1'!F47 -> 14990.7

Sheet Havelvats 6
C1: Հավելված N 6
C2: ՀՀ կառավարության 2022 թվականի
C3: ______________ ի ___Ն որոշման
B5: ՀԱՅԱՍՏԱՆԻ ՀԱՆՐԱՊԵՏՈՒԹՅԱՆ ԿԱՌԱՎԱՐՈՒԹՅԱՆ 2021 ԹՎԱԿԱՆԻ ԴԵԿՏԵՄԲԵՐԻ 23-Ի N 2121-Ն ՈՐՈՇՄԱՆ N 9.1 ՀԱՎԵԼՎԱԾԻ N 9.1.14 ԵՎ 9.1.49 ԱՂՅՈՒՍԱԿՆԵՐՈՒՄ ԿԱՏԱՐՎՈՂ ՓՈՓՈԽՈՒԹՅՈՒՆՆԵՐԸ ԵՎ ԼՐԱՑՈՒՄՆԵՐԸ
A7: Աղյուսակ 9․1.14
C8: ՀՀ կրթության, գիտության, մշակույթի և սպորտի նախարարություն
B9: ՄԱՍ 1. ՊԵՏԱԿԱՆ ՄԱՐՄՆԻ ԳԾՈՎ ԱՐԴՅՈՒՆՔԱՅԻՆ (ԿԱՏԱՐՈՂԱԿԱՆ) ՑՈՒՑԱՆԻՇՆԵՐԸ
B12: Ծրագրի միջոցառումները
B13: Ծրագրի դասիչը՝ | C13: 1075 | D13: Ցուցանիշների փոփոխությունը (ավելացումները նշված են դրական նշանով)
B14: Միջոցառման դասիչը՝ | C14: 21001 | D14: Առաջին կիսամյակ | E14: Ինն ամիս | F14: Տարի
B15: Միջոցառման անվանումը՝ | C15: Հուշարձանների ամրակայում, նորոգում և վերականգնում
B16: Նկարագրությունը՝ | C16: Հուշարձանների գիտանախագծային փաստաթղթերի կազմում, հրատապ ուսումնասիրում, վավերագրման և ուսումնասիրման աշխատանքներ, հետախուզում և հնագիտական պեղում, ամրակայում, նորոգում և վերականգնում
B17: Միջոցառման տեսակը՝ | C17: Հանրության կողմից անմիջականորեն օգտագործվող ակտիվների հետ կապված միջոցառումներ
B18: Միջոցառումն իրականացնողի անվանումը | C18: Մասնագիտացված կազմակերպություն
B19: Արդյունքի չափորոշիչներ
B20: Հուշարձանների ամրակայման, նորոգման և վերականգնման աշխատանքներ, քանակ | D20: 0 | E20: 1 | F20: 1
B21: Միջոցառման վրա կատարվող ծախսը (հազար դրամ) | D21: =+'Havelvats 2 '!G40 -> 0 | E21: =+'Havelvats 2 '!H40 -> 22059.8 | F21: =+'Havelvats 2 '!I40 -> 44119.6
B23: Ծրագրի դասիչը | C23: Ծրագրի անվանումը
B24: 1168 | C24: Արվեստների ծրագիր
B26: Ծրագրի միջոցառումները
B27: Ծրագրի դասիչը՝ | C27: 1168 | D27: Ցուցանիշների փոփոխությունը (ավելացումները նշված են դրական նշանով)
B28: Միջոցառման դասիչը՝ | C28: 32001 | D28: Առաջին կիսամյակ | E28: Ինն ամիս | F28: Տարի
B29: Միջոցառման անվանումը՝ | C29: Ներդրումներ թատրոնների շենքերի կապիտալ վերանորոգման համար
B30: Նկարագրությունը՝ | C30: Թատրոնների շենքերի մասնաշենքերի հիմնանորոգում, համաշինարարական աշխատանքներ, ջեռուցման համակարգի իրականացում, ներքին հարդարում, տարածքի բարեկարգում և նախագծում
B31: Միջոցառման տեսակը՝ | C31: Այլ պետական կազմակերպությունների կողմից օգտագործվող ոչ ֆինանսական ակտիվների հետ գործառնություններ
B32: Ակտիվն օգտագործող կազմակերպությունների անվանումները | C32: Թատրոններ
B33: Արդյունքի չափորոշիչներ
B34: Նախագծանախահաշվային փաստաթղթերի քանակ, հատ | D34: 0 | E34: 1 | F34: 1
B35: Միջոցառման վրա կատարվող ծախսը (հազար դրամ) | D35: =+'Havelvats 2 '!G25 -> 0 | E35: =+'Havelvats 2 '!H25 -> 13880.3 | F35: =+'Havelvats 2 '!I25 -> 14990.7
A39: Աղյուսակ 9․1.49
C40: ՀՀ Արագածոտնի մարզպետարան
B41: ՄԱՍ 1. ՊԵՏԱԿԱՆ ՄԱՐՄՆԻ ԳԾՈՎ ԱՐԴՅՈՒՆՔԱՅԻՆ (ԿԱՏԱՐՈՂԱԿԱՆ) ՑՈՒՑԱՆԻՇՆԵՐԸ
B44: 1146 | C44: Հանրակրթության ծրագիր
B46: Ծրագրի միջոցառումները
B47: Ծրագրի դասիչը` | C47: 1146 | D47: Ցուցանիշների փոփոխությունը (նվազեցումները նշված են փակագծերում)
B48: Միջոցառման դասիչը` | C48: 11002 | D48: Առաջին կիսամյակ | E48: Ինն ամիս | F48: Տարի
B49: Միջոցառման անվանումը` | C49: Հիմնական ընդհանուր հանրակրթություն
B50: Նկարագրությունը` | C50: Պարտադիր կրթության երկրորդ մակարդակում սովորողների ընդգրկվածության, գրագիտության և համակողմանի զարգացման բարձր մակարդակի ապահովում
B51: Միջոցառման տեսակը` | C51: Ծառայությունների մատուցում
B52: Ծառայությունը մատուցող կազմակերպության(ների) անվանում(ներ)ը՛ | C52: Մարզպետարանի ենթակայության հանրակրթական ուսումնական հաստատություններ
...

Sheet Havelvats 7
H1: Հավելված N 7
H2: ՀՀ կառավարության 2022 թվականի
H3: ______________ ի ___Ն որոշման
A5: ՀԱՅԱՍՏԱՆԻ ՀԱՆՐԱՊԵՏՈՒԹՅԱՆ ԿԱՌԱՎԱՐՈՒԹՅԱՆ 2021 ԹՎԱԿԱՆԻ ԴԵԿՏԵՄԲԵՐԻ 23-Ի N 2121-Ն ՈՐՈՇՄԱՆ N 10 ՀԱՎԵԼՎԱԾՈՒՄ ԿԱՏԱՐՎՈՂ ԼՐԱՑՈՒՄՆԵՐԸ
A7: Կոդը | B7: Անվանումը | E7: Գնման ձևը | F7: Չափման միավորը | G7: Միավորի գինը | H7: Ցուցանիշների փոփոխությունը (ավելացումները նշված են դրական նշանով)
H8: Քանակը | I8: Գումարը (հազար դրամ)
A9: 1 | B9: 2 | E9: 3 | F9: 4 | G9: 5 | H9: 6 | I9: 7
A10: ՀՀ կրթության, գիտության, մշակույթի և սպորտի նախարարություն | I10: =+I11+I16 -> 59110.3
A11: Բաժին N 08 | B11: Խումբ N 02 | C11: Դաս N 05 | D11: Արվեստ | I11: =+I12 -> 14990.7
A12: 1168-32001 | B12: Ներդրումներ թատրոնների շենքերի կապիտալ վերանորոգման համար | I12: =+I13 -> 14990.7
B13: ՄԱՍ III. ԾԱՌԱՅՈՒԹՅՈՒՆՆԵՐ | I13: =SUM(I14:I15) -> 14990.7
A14: 71241200 | B14: նախագծերի պատրաստում, ծախսերի գնահատում | E14: ԳՀ | F14: դրամ | G14: 13880300 | H14: 1 | I14: 13880.3
A15: 50531140 | B15: փորձաքննության ծառայություններ | E15: ԳՀ | F15: դրամ | G15: 1110400 | H15: 1 | I15: 1110.4
A16: Բաժին N 08 | B16: Խումբ N 02 | C16: Դաս N 07 | D16: Հուշարձանների և մշակութային արժեքների վերականգնում և պահպանում | I16: =+I17 -> 44119.6
A17: 1075-21001 | B17: Հուշարձանների ամրակայում, նորոգում և վերականգնում | I17: =+I18+I20 -> 44119.6
B18: ՄԱՍ II. ԱՇԽԱՏԱՆՔՆԵՐ | I18: =SUM(I19:I19) -> 43080
A19: 45451600-501 | B19: վերականգնողական աշխատանքներ | E19: ԳՀ | F19: դրամ | G19: 43080000 | H19: 1 | I19: 43080
B20: ՄԱՍ III. ԾԱՌԱՅՈՒԹՅՈՒՆՆԵՐ | I20: =SUM(I21:I22) -> 1039.6
A21: 71351540-501 | B21: տեխնիկական հսկողության ծառայություններ | E21: ԳՀ | F21: դրամ | G21: 400000 | H21: 1 | I21: 400
A22: 98111140 | B22: հեղինակային հսկողության ծառայություններ | E22: ՄԱ | F22: դրամ | G22: 639600 | H22: 1 | I22: 639.6

Sheet Havelvats 8
C1: Հավելված N 8
C2: ՀՀ կառավարության 2022 թվականի
C3: ______________ ի ___Ն որոշման
A6: «ՀԱՅԱUՏԱՆԻ ՀԱՆՐԱՊԵՏՈՒԹՅԱՆ 2022 ԹՎԱԿԱՆԻ ՊԵՏԱԿԱՆ ԲՅՈՒՋԵԻ ՄԱUԻՆ» ՀԱՅԱUՏԱՆԻ ՀԱՆՐԱՊԵՏՈՒԹՅԱՆ OՐԵՆՔԻ N 6 ՀԱՎԵԼՎԱԾՈՒՄ ԿԱՏԱՐՎՈՂ ՓՈՓՈԽՈՒԹՅՈՒՆՆԵՐԸ
B7: հազար դրամներով
B8: ԲԳԿ/Միջոցառում | C8: Ցուցանիշների փոփոխությունը (նվազեցումները նշված են փակագծերում)
C9: Ընդամենը
B10: ԸՆԴԱՄԵՆԸ | C10: =+C12 -> -59110.3
B11: այդ թվում՝
A12: 6 | B12: ՀՀ կրթության, գիտության, մշակույթի և սպորտի նախարարություն | C12: =+C14+C15 -> -59110.3
B13: այդ թվում`
A14: 6.1 | B14: Հուշարձանների ամրակայում, նորոգում և վերականգնում | C14: =-'Havelvats 3'!D15 -> -44119.6
A15: 6.7 | B15: Ներդրումներ թատրոնների շենքերի կապիտալ վերանորոգման համար | C15: =-'Havelvats 3'!D21 -> -14990.7
