Workbook
Name AgencyCode: #REF!
Name AgencyCode: #REF!
Name AgencyCode: #REF!
Name AgencyName: #REF!
Name AgencyName: #REF!
Name Functional1: #REF!
Name Functional1: #REF!
Name PANature: #REF!
Name PANature: #REF!
Name PAType: #REF!
Name PAType: #REF!
Name Performance2: #REF!
Name Performance2: #REF!
Name PerformanceType: #REF!
Name PerformanceType: #REF!

Sheet 1
H1: Հավելված N1
H2: ՀՀ կառավարության 2022 թվականի
H3: ______________ ի ___Ն որոշման
A4: «ՀԱՅԱՍՏԱՆԻ ՀԱՆՐԱՊԵՏՈՒԹՅԱՆ 2022 ԹՎԱԿԱՆԻ ՊԵՏԱԿԱՆ ԲՅՈՒՋԵԻ ՄԱՍԻՆ» ՀԱՅԱՍՏԱՆԻ ՀԱՆՐԱՊԵՏՈՒԹՅԱՆ ՕՐԵՆՔԻ N 1 ՀԱՎԵԼՎԱԾԻ N 3 ԱՂՅՈՒՍԱԿՈՒՄ ԿԱՏԱՐՎՈՂ ՓՈՓՈԽՈՒԹՅՈՒՆՆԵՐԸ ԵՎ ԼՐԱՑՈՒՄՆԵՐԸ
G5: հազ. դրամ
A6: Ծրագրային դասիչ | C6: Բյուջետային գլխավոր կարգադրիչների, ծրագրերի, միջոցառումների և ուղղությունների անվանումները | D6: Ցուցանիշների փոփոխությունը (ավելացումները նշված են դրական նշանով, իսկ նվազեցումները` փակագծերում)
D7: Ընդամենը, | E7: այդ թվում՝
A8: Ծրագիր | B8: Միջոցառում | E8: Կառուցման աշխատանքներ | F8: Վերակառուցման, վերանորոգման և վերականգնման աշխատանքներ | G8: Նախագծահե- տազոտական, գեոդեզիա- քարտեզագրա- կան աշխա- տանքներ | H8: Ոչ ֆինանսական այլ ակտիվների ձեռքբերում
C9: ԸՆԴԱՄԵՆԸ | D9: =+E9+F9+G9+H9 -> 1.891749e-10 | E9: =E11 -> 0 | F9: =F11 -> -90642.3 | G9: =G11 -> 90642.3 | H9: =H11 -> 0
C10: այդ թվում՝
C11: ՀՀ ՏԱՐԱԾՔԱՅԻՆ ԿԱՌԱՎԱՐՄԱՆ ԵՎ ԵՆԹԱԿԱՌՈՒՑՎԱԾՔՆԵՐԻ ՆԱԽԱՐԱՐՈՒԹՅՈՒՆ | D11: =+E11+F11+G11+H11 -> 1.891749e-10 | E11: =+E13+E73 -> 0 | F11: =+F13+F73 -> -90642.3 | G11: =+G13+G73 -> 90642.3 | H11: =+H13+H73 -> 0
C12: այդ թվում`
A13: 1049 | B13: 21001 | C13: Պետական նշանակության ավտոճանապարհների հիմնանորոգում | D13: =+E13+F13+G13+H13 -> 4748058.6 | E13: =+E15+E41+E50 -> 0 | F13: =+F15+F41+F50 -> 4657416.3 | G13: =+G15+G41+G50 -> 90642.3 | H13: =+H15+H41+H50 -> 0
C14: այդ թվում`
B15: 1 | C15: Միջպետական նշանակության ավտոճանապարհներ, այդ թվում | D15: =+E15+F15+G15+H15 -> 2524552.3 | E15: =SUM(E16:E40) -> 0 | F15: =SUM(F16:F40) -> 2439906.6 | G15: =SUM(G16:G40) -> 84645.7 | H15: =SUM(H16:H40) -> 0
C16: =+'3'!C19 -> Մ-1, Երևան-Գյումրի-Վրաստանի սահման միջպետական նշանակության ավտոճանապարհի կմ113+200-կմ 118+900 հատվածի հիմնանորոգում | D16: =+E16+F16+G16+H16 -> 539.8 | E16: 0 | F16: 0 | G16: =+'3'!F19 -> 539.8 | H16: 0
C17: =+'3'!C20 -> Մ-1, Երևան-Գյումրի-Վրաստանի սահման միջպետական նշանակության ավտոճանապարհի կմ 130+100-կմ134+500 հատվածի հիմնանորոգում | D17: =+E17+F17+G17+H17 -> 231.5 | E17: 0 | F17: 0 | G17: =+'3'!F20 -> 231.5 | H17: 0
C18: =+'3'!C21 -> Մ-1, Երևան-Գյումրի-Վրաստանի սահման միջպետական նշանակության ավտոճանապարհի կմ 141+500-կմ143+300 հատվածի հիմնանորոգում | D18: =+E18+F18+G18+H18 -> 223 | E18: 0 | F18: 0 | G18: =+'3'!F21 -> 223 | H18: 0
C19: =+'3'!C22 -> Մ-1, Երևան-Գյումրի-Վրաստանի սահման միջպետական նշանակության ավտոճանապարհի կմ160+200-կմ171+700 հատվածի հիմնանորոգում | D19: =+E19+F19+G19+H19 -> 854.9 | E19: 0 | F19: 0 | G19: =+'3'!F22 -> 854.9 | H19: 0
C20: =+'3'!C24 -> Մ-2, Երևան-Երասխ-Գորիս-Մեղրի-Իրանի սահման միջպետական նշանակության ավտոճանապարհի կմ77+350 - կմ82+000 հատվածի հիմնանորոգում | D20: =+E20+F20+G20+H20 -> 199.3 | E20: 0 | F20: 0 | G20: =+'3'!F24 -> 199.3 | H20: 0
C21: =+'3'!C25 -> Մ-2, Երևան-Երասխ-Գորիս-Մեղրի-Իրանի սահման միջպետական նշանակության ավտոճանապարհի կմ91+600 - կմ98+000 հատվածի հիմնանորոգում | D21: =+E21+F21+G21+H21 -> 274.3 | E21: 0 | F21: 0 | G21: =+'3'!F25 -> 274.3 | H21: 0
C22: =+'3'!C26 -> Մ-2, Երևան-Երասխ-Գորիս-Մեղրի-Իրանի սահման միջպետական նշանակության ավտոճանապարհի կմ108+400 - կմ126+100 հատվածի հիմնանորոգում | D22: =+E22+F22+G22+H22 -> 798647.4 | E22: 0 | F22: =+'3'!F26 -> 798647.4 | G22: 0 | H22: 0
C23: =+'3'!C27 -> Մ-2, Երևան-Երասխ-Գորիս-Մեղրի-Իրանի սահման միջպետական նշանակության ավտոճանապարհի կմ131+500 - կմ139+000 հատվածի հիմնանորոգում | D23: =+E23+F23+G23+H23 -> 100.6 | E23: 0 | F23: 0 | G23: =+'3'!F27 -> 100.6 | H23: 0
C24: =+'3'!C28 -> Մ-2, Երևան-Երասխ-Գորիս-Մեղրի-Իրանի սահման միջպետական նշանակության ավտոճանապարհի կմ142+000 - կմ150+700 հատվածի հիմնանորոգում | D24: =+E24+F24+G24+H24 -> 326.3 | E24: 0 | F24: 0 | G24: =+'3'!F28 -> 326.3 | H24: 0
C25: =+'3'!C29 -> Մ-2, Երևան-Երասխ-Գորիս-Մեղրի-Իրանի սահման միջպետական նշանակության ավտոճանապարհի կմ150+700 - կմ167+600 հատվածի հիմնանորոգում | D25: =+E25+F25+G25+H25 -> 1031883.2 | E25: 0 | F25: =+'3'!F29 -> 1031883.2 | G25: 0 | H25: 0
C26: =+'3'!C30 -> Մ-2, Երևան-Երասխ-Գորիս-Մեղրի-Իրանի սահման միջպետական նշանակության ավտոճանապարհի կմ182+532 - կմ190+000 հատվածի հիմնանորոգում | D26: =+E26+F26+G26+H26 -> 280.1 | E26: 0 | F26: 0 | G26: =+'3'!F30 -> 280.1 | H26: 0
C27: =+'3'!C31 -> Մ-2, Երևան-Երասխ-Գորիս-Մեղրի-Իրանի սահման միջպետական նշանակության ավտոճանապարհի կմ235+000 - կմ248+000 հատվածի հիմնանորոգում | D27: =+E27+F27+G27+H27 -> 149.5 | E27: 0 | F27: 0 | G27: =+'3'!F31 -> 149.5 | H27: 0
C28: =+'3'!C32 -> Մ-2, (Սյունիք) /Մ-2/ - Աղվանի- Տաթև - /Մ-2/ միջպետական նշանակության ավտոճանապարհի Վերին Խոտանանը շրջանցող ճանապարհահատվածի կառուցում | D28: =+E28+F28+G28+H28 -> 42550 | E28: 0 | F28: 0 | G28: =+'3'!F32 -> 42550 | H28: 0
C29: =+'3'!C33 -> Մ-2, Երևան – Երասխ – Գորիս – Մեղրի – Իրանի Իսլամական Հանրապետության սահման միջպետական նշանակության ավտոճանապարհի Որոտան - Բարձրավան Շուռնուխ հատվածը շրջանցող ճանապարհահատվածի վերակառուցում | D29: =+E29+F29+G29+H29 -> 35590 | E29: 0 | F29: 0 | G29: =+'3'!F33 -> 35590 | H29: 0
C30: =+'3'!C34 -> Մ-2, Երևան-Երասխ-Գորիս-Մեղրի-Իրանի սահման միջպետական նշանակության ավտոճանապարհի կմ297+800 - կմ311+250 հատվածի հիմնանորոգում | D30: =+E30+F30+G30+H30 -> 360.3 | E30: 0 | F30: 0 | G30: =+'3'!F34 -> 360.3 | H30: 0
C31: =+'3'!C35 -> Մ-2, Երևան-Երասխ-Գորիս-Մեղրի-Իրանի սահման միջպետական նշանակության ավտոճանապարհի կմ329+820 - կմ338+100 հատվածի հիմնանորոգում | D31: =+E31+F31+G31+H31 -> 110.5 | E31: 0 | F31: 0 | G31: =+'3'!F35 -> 110.5 | H31: 0
C32: =+'3'!C36 -> Մ-3, Թուրքիայի սահման-Մարգարա-Վանաձոր-Տաշիր-Վրաստանի սահման միջպետական նշանակության ավտոճանապարհի կմ39+500-կմ45+300 հատվածի հիմնանորոգում | D32: =+E32+F32+G32+H32 -> 224.5 | E32: 0 | F32: 0 | G32: =+'3'!F36 -> 224.5 | H32: 0
C33: =+'3'!C37 -> Մ4, Երևան - Սևան - Իջևան – Ադրբեջանի Հանրապետության սահման միջպետական նշանակության ավտոճանապարհի կմ144+240-կմ148+200 հատվածի հիմնանորոգում | D33: =+E33+F33+G33+H33 -> 237.4 | E33: 0 | F33: 0 | G33: =+'3'!F37 -> 237.4 | H33: 0
C34: =+'3'!C38 -> Մ-10, Սևան-Մարտունի-Գետափ միջպետական նշանակության ավտոճանապարհի կմ1+000-կմ17+000 հատվածի հիմնանորոգում (բացառությամբ կմ2+800-կմ5+300, կմ5+750-կմ5+886 և կմ6+850-կմ7+034 հատվածների) | D34: =+E34+F34+G34+H34 -> 510.5 | E34: 0 | F34: 0 | G34: =+'3'!F38 -> 510.5 | H34: 0
C35: =+'3'!C39 -> Մ-10, Սևան-Մարտունի-Գետափ միջպետական նշանակության ավտոճանապարհի կմ122+000 - կմ124+000 հատվածում հողային պաստառի փլուզված հատվածների, պաշտպանիչ հենապատերի և կառուցվածքների վերակագնում | D35: =+E35+F35+G35+H35 -> 60915.5 | E35: 0 | F35: =+'3'!F39 -> 60915.5 | G35: 0 | H35: 0
C36: =+'3'!C40 -> Մ-11, Մարտունի - Վարդենիս - ԼՂՀ սահման միջպետական նշանակության ավտոճանապարհի կմ0+000-կմ5+900 հատվածի հիմնանորոգում | D36: =+E36+F36+G36+H36 -> 548460.5 | E36: 0 | F36: =+'3'!F40 -> 548460.5 | G36: 0 | H36: 0
C37: =+'3'!C41 -> Մ-11, Մարտունի - Վարդենիս - ԼՂՀ սահման միջպետական նշանակության ավտոճանապարհի կմ10+800-կմ25+500 հատվածի հիմնանորոգում | D37: =+E37+F37+G37+H37 -> 870 | E37: 0 | F37: 0 | G37: =+'3'!F41 -> 870 | H37: 0
C38: =+'3'!C42 -> Մ-11, Մարտունի - Վարդենիս - ԼՂՀ սահման միջպետական նշանակության ավտոճանապարհի կմ25+500-կմ29+200 հատվածի հիմնանորոգում(գաբիոն) | D38: =+E38+F38+G38+H38 -> 351.4 | E38: 0 | F38: 0 | G38: =+'3'!F42 -> 351.4 | H38: 0
C39: =+'3'!C43 -> Մ-11, Մարտունի - Վարդենիս - ԼՂՀ սահման միջպետական նշանակության ավտոճանապարհի կմ29+200-կմ38+200 հատվածի հիմնանորոգում | D39: =+E39+F39+G39+H39 -> 348.6 | E39: 0 | F39: 0 | G39: =+'3'!F43 -> 348.6 | H39: 0
C40: =+'3'!C44 -> Մ-16, /Մ-4/ - Ոսկեպար - Նոյեմբերյան - /Մ-6/ միջպետական նշանակության ավտոճանապարհի կմ0+070-կմ7+000 հատվածի հիմնանորոգում | D40: =+E40+F40+G40+H40 -> 313.2 | E40: 0 | F40: 0 | G40: =+'3'!F44 -> 313.2 | H40: 0
B41: 2 | C41: Հանրապետական նշանակության ավտոճանապարհներ, այդ թվում | D41: =+E41+F41+G41+H41 -> 628151.5 | E41: =SUM(E42:E49) -> 0 | F41: =SUM(F42:F49) -> 625544.9 | G41: =SUM(G42:G49) -> 2606.6 | H41: =SUM(H42:H49) -> 0
C42: =+'3'!C46 -> Հ-22, /Մ-6/ - Դսեղ – /Հ-70/ հանրապետական նշանակության ավտոճանապարհի կմ 8+000-կմ 13+900 հատվածի հիմնանորոգում | D42: =+E42+F42+G42+H42 -> 484.2 | E42: 0 | F42: 0 | G42: =+'3'!F46 -> 484.2 | H42: 0
C43: =+'3'!C47 -> Հ-30, /Մ-4/ - Ճամբարակ - /Մ-14/ հանրապետական նշանակության ավտոճանապարհի կմ 32+000-կմ 35+000 հատվածի հիմնանորոգում | D43: =+E43+F43+G43+H43 -> 247 | E43: 0 | F43: 0 | G43: =+'3'!F47 -> 247 | H43: 0
C44: =+'3'!C48 -> Հ-30,Մոտեցում Արծվաշենին հանրապետական նշանակության ավտոճանապարհի կմ 0+000-կմ 5+000 հատվածի հիմնանորոգում | D44: =+E44+F44+G44+H44 -> 251.8 | E44: 0 | F44: 0 | G44: =+'3'!F48 -> 251.8 | H44: 0
C45: =+'3'!C49 -> Հ37,/Մ-4/ - Այգեհովիտ - Վազաշեն - Պառավաքար - Այգեպար հանրապետական նշանակության ավտոճանապարհի կմ 0+000-կմ 17+300 հատվածի հիմնանորոգում | D45: =+E45+F45+G45+H45 -> 499.2 | E45: 0 | F45: 0 | G45: =+'3'!F49 -> 499.2 | H45: 0
C46: =+'3'!C50 -> Հ38,/Հ-30/ (Թթուջուր) – /Հ-36/ (Նավուր) հանրապետական նշանակության ավտոճանապարհի կմ 0+000-կմ 15+100 հատվածի հիմնանորոգում | D46: =+E46+F46+G46+H46 -> 828.5 | E46: 0 | F46: 0 | G46: =+'3'!F50 -> 828.5 | H46: 0
C47: =+'3'!C51 -> Հ40,/Մ-2/ (Արենի) - Խաչիկ - Գնիշիկ - Եղեգնաձոր հանրապետական նշանակության ավտոճանապարհի կմ 58+000-կմ 70+000 հատվածի հիմնանորոգում | D47: =+E47+F47+G47+H47 -> 119.6 | E47: 0 | F47: 0 | G47: =+'3'!F51 -> 119.6 | H47: 0
C48: =+'3'!C52 -> Հ-41, /Մ-2/ - Նորավանքի պատմական հուշարձան հանրապետական նշանակության ավտոճանապարհի կմ0+000-կմ8+100 հատվածի հիմնանորոգում | D48: =+E48+F48+G48+H48 -> 625544.9 | E48: 0 | F48: =+'3'!F52 -> 625544.9 | G48: 0 | H48: 0
C49: =+'3'!C53 -> Հ-87, /Մ-16/ Մակարավանքի պատմական հուշարձան հանրապետական նշանակության ավտոճանապարհի կմ4+300-կմ7+800 հատվածի հիմնանորոգում | D49: =+E49+F49+G49+H49 -> 176.3 | E49: 0 | F49: 0 | G49: =+'3'!F53 -> 176.3 | H49: 0
B50: 3 | C50: Մարզային նշանակության ավտոճանապարհներ, այդ թվում | D50: =+E50+F50+G50+H50 -> 1595354.8 | E50: =SUM(E51:E72) -> 0 | F50: =SUM(F51:F72) -> 1591964.8 | G50: =SUM(G51:G72) -> 3390 | H50: =SUM(H51:H72) -> 0
C51: =+'3'!C55 -> Տ-1-15, /Հ-21/ - Ծաղկահովիտ ավտոճանապարհի կմ0+000 - կմ1+300 հատվածի հիմնանորոգում | D51: =+E51+F51+G51+H51 -> 107.4 | E51: 0 | F51: 0 | G51: =+'3'!F55 -> 107.4 | H51: 0
C52: =+'3'!C56 -> Տ-1-35, /Հ-81/ (Հացաշեն) - Սորիկ ավտոճանապարհի կմ0+000 - կմ5+100 հատվածի հիմնանորոգում | D52: =+E52+F52+G52+H52 -> 362.2 | E52: 0 | F52: 0 | G52: =+'3'!F56 -> 362.2 | H52: 0
C53: =+'3'!C57 -> Տ-1-52, /Հ-21/ - Գեղաձոր ավտոճանապարհի կմ0+000-կմ1+600 հատվածի հիմնանորոգում | D53: =+E53+F53+G53+H53 -> 126.3 | E53: 0 | F53: 0 | G53: =+'3'!F57 -> 126.3 | H53: 0
C54: =+'3'!C58 -> Տ-1-63,/Հ-81/ (Թաթուլ) – Կանաչ - Հակո ավտոճանապարհի կմ0+000 - կմ12+100 հատվածի հիմնանորոգում | D54: =+E54+F54+G54+H54 -> 471.5 | E54: 0 | F54: 0 | G54: =+'3'!F58 -> 471.5 | H54: 0
C55: =+'3'!C59 -> Տ-1-65, /Մ-1/ - Ներքին Բազմաբերդ (Տ-1-60) ավտոճանապարհի կմ1+300 – կմ1+400 հատվածի հիմնանորոգում | D55: =+E55+F55+G55+H55 -> 22.1 | E55: 0 | F55: 0 | G55: =+'3'!F59 -> 22.1 | H55: 0
C56: =+'3'!C60 -> Տ-1-68, Ներքին Բազմաբերդ (Տ-1-65) – Կաքավաձոր (Տ-1-60) ավտոճանապարհի կմ0+000 – կմ4+100 հատվածի հիմնանորոգում | D56: =+E56+F56+G56+H56 -> 304.8 | E56: 0 | F56: 0 | G56: =+'3'!F60 -> 304.8 | H56: 0
C57: =+'3'!C61 -> Տ-2-31, /Տ-2-30/ - Բերդիկ - /Հ-9/ (Այգեստան) ավտոճանապարհի կմ0+000-կմ2+100 հատվածի հիմնանորոգում | D57: =+E57+F57+G57+H57 -> 366097.8 | E57: 0 | F57: =+'3'!F61 -> 366097.8 | G57: 0 | H57: 0
C58: =+'3'!C62 -> Տ-2-62, /Հ-8/ (Այգավան) - /Հ-11/ (Եղեգնավան) ավտոճանապարհի կմ0+100 - կմ3+000 հատվածի հիմնանորոգում | D58: =+E58+F58+G58+H58 -> 261609.9 | E58: 0 | F58: =+'3'!F62 -> 261609.9 | G58: 0 | H58: 0
C59: =+'3'!C63 -> Տ-3-15, /Հ-15/ - Ալաշկերտ (Տ-3-14) ավտոճանապարհի կմ0+000-կմ1+000 հատվածի հիմնանորոգում | D59: =+E59+F59+G59+H59 -> 32948.7 | E59: 0 | F59: =+'3'!F63 -> 32948.7 | G59: 0 | H59: 0
C60: =+'3'!C64 -> Տ-4-13,/Հ-39/ (Գավառ) – Գանձակ – Սարուխան – Գեղարքունիք ավտոճանապարհի կմ0+000-կմ12+900 հատվածի հիմնանորոգում | D60: =+E60+F60+G60+H60 -> 635.2 | E60: 0 | F60: 0 | G60: =+'3'!F64 -> 635.2 | H60: 0
C61: =+'3'!C65 -> Տ-5-23, /Մ-3/ - Սարամեջ ավտոճանապարհի կմ0+000-կմ4+300 հատվածի հիմնանորոգում | D61: =+E61+F61+G61+H61 -> 319.7 | E61: 0 | F61: 0 | G61: =+'3'!F65 -> 319.7 | H61: 0
C62: =+'3'!C66 -> Տ-8-22, /Մ-2/ - Վարդավանք – Խդրանց - Ագարակ ավտոճանապարհի կմ0+000 - կմ13+100 հատվածի հիմնանորոգում | D62: =+E62+F62+G62+H62 -> 918484.7 | E62: 0 | F62: =+'3'!F66 -> 918484.7 | G62: 0 | H62: 0
C63: =+'3'!C68 -> Տ-10-16, /Հ-64/ - Քոլագիրի ճամբար ավտոճանապարհի կմ0+000 - կմ1+700 հատվածի հիմնանորոգում | D63: =+E63+F63+G63+H63 -> 140.5 | E63: 0 | F63: 0 | G63: =+'3'!F68 -> 140.5 | H63: 0
C64: =+'3'!C69 -> Տ-10-9, /Հ-36/ - Չինչին (Տ-10-38) ավտոճանապարհի կմ0+000 - կմ10+000 հատվածի հիմնանորոգում | D64: =+E64+F64+G64+H64 -> 272.8 | E64: 0 | F64: 0 | G64: =+'3'!F69 -> 272.8 | H64: 0
C65: =+'3'!C70 -> Տ-10-32, /Մ-4/ - Դիտավան ավտոճանապարհի կմ0+000 - կմ3+100 հատվածի հիմնանորոգում | D65: =+E65+F65+G65+H65 -> 218.1 | E65: 0 | F65: 0 | G65: =+'3'!F70 -> 218.1 | H65: 0
C66: =+'3'!C71 -> ՀՀ Լոռու մարզի, Ստեփանավան քաղաքի Սուրբ Վարդան փողոցի կմ 0+000-կմ 1+600(Հ-34-ի հետ հատման կետ) հատվածի հիմնանորոգում | D66: =+E66+F66+G66+H66 -> 12823.7 | E66: 0 | F66: =+'3'!F71 -> 12823.7 | G66: 0 | H66: 0
C67: =+'3'!C72 -> ՀՀ Լոռու մարզի Ստեփանավան քաղաքի Չարենցի փողոցի 1.725կմ հատվածի և Արևելյան փողոցի 0.120 կմ հատվածի հիմնանորոգում | D67: =+E67+F67+G67+H67 -> 145.6 | E67: 0 | F67: 0 | G67: =+'3'!F72 -> 145.6 | H67: 0
C68: =+'3'!C73 -> Վանաձոր քաղաքային համայնքի Կ. Դեմիրճյան փողոցի հիմնանորոգում | D68: =+E68+F68+G68+H68 -> 147.9 | E68: 0 | F68: 0 | G68: =+'3'!F73 -> 147.9 | H68: 0
C69: =+'3'!C74 -> Վանաձոր քաղաքային համայնքի Գրիգոր Լուսավորիչ փողոցի հիմնանորոգում | D69: =+E69+F69+G69+H69 -> 35.6 | E69: 0 | F69: 0 | G69: =+'3'!F74 -> 35.6 | H69: 0
C70: =+'3'!C75 -> Վանաձոր քաղաքային համայնքի Խորենացի փողոցի (երկու երթևեկելի գոիտիներ /0.4կմ+0.4կմ/) հիմնանորոգում | D70: =+E70+F70+G70+H70 -> 35.6 | E70: 0 | F70: 0 | G70: =+'3'!F75 -> 35.6 | H70: 0
C71: =+'3'!C76 -> Վանաձոր քաղաքային համայնքի Մոսկովյան փողոցի հիմնանորոգում | D71: =+E71+F71+G71+H71 -> 30.8 | E71: 0 | F71: 0 | G71: =+'3'!F76 -> 30.8 | H71: 0
C72: =+'3'!C77 -> Վանաձոր քաղաքային համայնքի Նարեկացի փողոց-Կոմիտաս վարդապետ Հրապարակ էստակադայի հիմնանորոգում | D72: =+E72+F72+G72+H72 -> 13.9 | E72: 0 | F72: 0 | G72: =+'3'!F77 -> 13.9 | H72: 0
A73: 1049 | B73: 21001 | C73: Պետական նշանակության ավտոճանապարհների հիմնանորոգում | D73: =+E73+F73+G73+H73 -> -4748058.6 | E73: =-E13 -> 0 | F73: =-F13-E13-G13-H13 -> -4748058.6 | G73: 0 | H73: =-H13 -> 0
A74: 1049 | B74: 21002 | C74: Տրանսպորտային օբյեկտների հիմնանորոգում | D74: =+E74+F74+G74+H74 -> -1980 | E74: =-E75 -> 0 | F74: =-G75-H75-F75-E75 -> -1980 | G74: 0 | H74: =-H75 -> 0
A75: 1049 | B75: 21002 | C75: Տրանսպորտային օբյեկտների հիմնանորոգում, այդ թվում | D75: =+E75+F75+G75+H75 -> 1980 | E75: =+E76 -> 0 | F75: =+F76 -> 0 | G75: =+G76 -> 1980 | H75: =+H76 -> 0
C76: =+'3'!C83 -> Մ-3, Թուրքիայի սահման-Մարգարա-Վանաձոր-Տաշիր-Վրաստանի սահման միջպետական նշանակության ավտոճանապարհի կմ11+400 հատվածում գտնվող կամրջի հիմնանորոգում | D76: =+E76+F76+G76+H76 -> 1980 | E76: 0 | F76: 0 | G76: =+'3'!F83 -> 1980 | H76: 0

Sheet 2
A1: Հավելված N2
A2: ՀՀ կառավարության 2022 թվականի
A3: ______________ ի ___Ն որոշման
A5: ՀԱՅԱՍՏԱՆԻ ՀԱՆՐԱՊԵՏՈՒԹՅԱՆ ԿԱՌԱՎԱՐՈՒԹՅԱՆ 2021 ԹՎԱԿԱՆԻ ԴԵԿՏԵՄԲԵՐԻ 23-Ի N 2121-Ն ՈՐՈՇՄԱՆ N 3 ԵՎ N 4 ՀԱՎԵԼՎԱԾՆԵՐՈՒՄ ԿԱՏԱՐՎՈՂ ՓՈՓՈԽՈՒԹՅՈՒՆՆԵՐԸ ԵՎ ԼՐԱՑՈՒՄՆԵՐԸ
H7: հազ. դրամ
A8: Գործառական դասիչը | D8: Ծրագրային դասիչը | F8: Բյուջետային ծախսերի գործառական դասակարգման բաժինների, խմբերի և դասերի, բյուջետային հատկացումների գլխավոր կարգադրիչների, ծրագրերի, միջոցառումների և միջոցառումները կատարող պետական մարմինների անվանումները | G8: Ցուցանիշների փոփոխությունը (ավելացումները նշված են դրական նշանով, իսկ նվազեցումները` փակագծերում)
A9: Բաժին | B9: Խումբ | C9: Դաս | D9: Ծրագիր | E9: Միջոցառում | G9: Առաջին կիսամյակ | H9: Ինն ամիս | I9: Տարի
F10: ԸՆԴԱՄԵՆԸ ԾԱԽՍԵՐ | G10: =G12 -> 0 | H10: =H12 -> 0 | I10: =I12 -> 0
F11: այդ թվում`
A12: 04 | F12: ՏՆՏԵՍԱԿԱՆ ՀԱՐԱԲԵՐՈՒԹՅՈՒՆՆԵՐ | G12: =G14 -> 0 | H12: =H14 -> 0 | I12: =I14 -> 0
F13: այդ թվում`
B14: 05 | F14: Տրանսպորտ | G14: =G16 -> 0 | H14: =H16 -> 0 | I14: =I16 -> 0
F15: այդ թվում`
C16: 01 | F16: Ճանապարհային տրանսպորտ | G16: =G18 -> 0 | H16: =H18 -> 0 | I16: =I18 -> 0
F17: այդ թվում`
F18: ՀՀ ՏԱՐԱԾՔԱՅԻՆ ԿԱՌԱՎԱՐՄԱՆ ԵՎ ԵՆԹԱԿԱՌՈՒՑՎԱԾՔՆԵՐԻ ՆԱԽԱՐԱՐՈՒԹՅՈՒՆ | G18: =+G20 -> 0 | H18: =+H20 -> 0 | I18: =+I20 -> 0
F19: այդ թվում`
D20: 1049 | F20: Ճանապարհային ցանցի բարելավում | G20: =+G22+G40 -> 0 | H20: =+H22+H40 -> 0 | I20: =+I22+I40 -> 0
F21: այդ թվում`
E22: 21001 | F22: Պետական նշանակության ավտոճանապարհների հիմնանորոգում | G22: =+G24+G31 -> 0 | H22: =+H24+H31 -> 0 | I22: =+I24+I31 -> 0
F23: այդ թվում` ըստ կատարողների
F24: ՀՀ կառավարություն | G24: =+G26 -> 229265.45 | H24: =+H26 -> -4322461 | I24: =+I26 -> -4748058.6
F25: այդ թվում` բյուջետային ծախսերի տնտեսագիտական դասակարգման հոդվածների
F26: ԸՆԴԱՄԵՆԸ ԾԱԽՍԵՐ | G26: =+G27 -> 229265.45 | H26: =+H27 -> -4322461 | I26: =+I27 -> -4748058.6
F27: ՈՉ ՖԻՆԱՆՍԱԿԱՆ ԱԿՏԻՎՆԵՐԻ ԳԾՈՎ ԾԱԽՍԵՐ | G27: =+G28 -> 229265.45 | H27: =+H28 -> -4322461 | I27: =+I28 -> -4748058.6
F28: ՀԻՄՆԱԿԱՆ ՄԻՋՈՑՆԵՐ | G28: =+G29 -> 229265.45 | H28: =+H29 -> -4322461 | I28: =+I29 -> -4748058.6
F29: ՇԵՆՔԵՐ ԵՎ ՇԻՆՈՒԹՅՈՒՆՆԵՐ | G29: =+G30 -> 229265.45 | H29: =+H30 -> -4322461 | I29: =+I30 -> -4748058.6
F30: - Շենքերի և շինությունների կապիտալ վերանորոգում | G30: =-G31 -> 229265.45 | H30: =-H31 -> -4322461 | I30: =-I31 -> -4748058.6
F31: ՀՀ տարածքային կառավարման և ենթակառուցվածքների նախարարություն | G31: =+G33 -> -229265.45 | H31: =+H33 -> 4322461 | I31: =+I33 -> 4748058.6
F32: այդ թվում` բյուջետային ծախսերի տնտեսագիտական դասակարգման հոդվածների
F33: ԸՆԴԱՄԵՆԸ ԾԱԽՍԵՐ | G33: =+G34 -> -229265.45 | H33: =+H34 -> 4322461 | I33: =+I34 -> 4748058.6
F34: ՈՉ ՖԻՆԱՆՍԱԿԱՆ ԱԿՏԻՎՆԵՐԻ ԳԾՈՎ ԾԱԽՍԵՐ | G34: =+G35 -> -229265.45 | H34: =+H35 -> 4322461 | I34: =+I35 -> 4748058.6
F35: ՀԻՄՆԱԿԱՆ ՄԻՋՈՑՆԵՐ | G35: =+G36+G38 -> -229265.45 | H35: =+H36+H38 -> 4322461 | I35: =+I36+I38 -> 4748058.6
F36: ՇԵՆՔԵՐ ԵՎ ՇԻՆՈՒԹՅՈՒՆՆԵՐ | G36: =+G37 -> -241767.75 | H36: =+H37 -> 4231818.7 | I36: =+I37 -> 4657416.3
F37: - Շենքերի և շինությունների կապիտալ վերանորոգում | G37: =+'3'!D23+'3'!D26+'3'!D29+'3'!D39+'3'!D40+'3'!D52+'3'!D61+'3'!D62+'3'!D63+'3'!D66+'3'!D67+'3'!D71 -> -241767.75 | H37: =+'3'!E23+'3'!E26+'3'!E29+'3'!E39+'3'!E40+'3'!E52+'3'!E61+'3'!E62+'3'!E63+'3'!E66+'3'!E67+'3'!E71 -> 4231818.7 | I37: =+'3'!F23+'3'!F26+'3'!F29+'3'!F39+'3'!F40+'3'!F52+'3'!F61+'3'!F62+'3'!F63+'3'!F66+'3'!F67+'3'!F71 -> 4657416.3
F38: ԱՅԼ ՀԻՄՆԱԿԱՆ ՄԻՋՈՑՆԵՐ | G38: =+G39 -> 12502.3 | H38: =+H39 -> 90642.3 | I38: =+I39 -> 90642.3
F39: - Նախագծահետազոտական ծախսեր | G39: =+'3'!D19+'3'!D20+'3'!D21+'3'!D22+'3'!D24+'3'!D25+'3'!D27+'3'!D28+'3'!D30+'3'!D31+'3'!D32+'3'!D33+'3'!D34+'3'!D35+'3'!D36+'3'!D37+'3'!D38+'3'!D41+'3'!D42+'3'!D43+'3'!D44+'3'!D46+'3'!D47+'3'!D48+'3'!D49+'3'!D50+'3'!D51+'3'!D53+'3'!D55+'3'!D56+'3'!D57+'3'!D58+'3'!D59+'3'!D60+'3'!D64+'3'!D65+'3'!D68+'3'!D69+'3'!D70+'3'!D72+'3'!D73+'3'!D74+'3'!D75+'3'!D76+'3'!D77 -> 12502.3 | H39: =+'3'!E19+'3'!E20+'3'!E21+'3'!E22+'3'!E24+'3'!E25+'3'!E27+'3'!E28+'3'!E30+'3'!E31+'3'!E32+'3'!E33+'3'!E34+'3'!E35+'3'!E36+'3'!E37+'3'!E38+'3'!E41+'3'!E42+'3'!E43+'3'!E44+'3'!E46+'3'!E47+'3'!E48+'3'!E49+'3'!E50+'3'!E51+'3'!E53+'3'!E55+'3'!E56+'3'!E57+'3'!E58+'3'!E59+'3'!E60+'3'!E64+'3'!E65+'3'!E68+'3'!E69+'3'!E70+'3'!E72+'3'!E73+'3'!E74+'3'!E75+'3'!E76+'3'!E77 -> 90642.3 | I39: =+'3'!F19+'3'!F20+'3'!F21+'3'!F22+'3'!F24+'3'!F25+'3'!F27+'3'!F28+'3'!F30+'3'!F31+'3'!F32+'3'!F33+'3'!F34+'3'!F35+'3'!F36+'3'!F37+'3'!F38+'3'!F41+'3'!F42+'3'!F43+'3'!F44+'3'!F46+'3'!F47+'3'!F48+'3'!F49+'3'!F50+'3'!F51+'3'!F53+'3'!F55+'3'!F56+'3'!F57+'3'!F58+'3'!F59+'3'!F60+'3'!F64+'3'!F65+'3'!F68+'3'!F69+'3'!F70+'3'!F72+'3'!F73+'3'!F74+'3'!F75+'3'!F76+'3'!F77 -> 90642.3
E40: 21002 | F40: Տրանսպորտային օբյեկտների հիմնանորոգում | G40: =+G42+G49 -> 0 | H40: =+H42+H49 -> 0 | I40: =+I42+I49 -> 0
F41: այդ թվում` ըստ կատարողների
F42: ՀՀ կառավարություն | G42: =+G44 -> -1980 | H42: =+H44 -> -1980 | I42: =+I44 -> -1980
F43: այդ թվում` բյուջետային ծախսերի տնտեսագիտական դասակարգման հոդվածներ
F44: ԸՆԴԱՄԵՆԸ ԾԱԽՍԵՐ | G44: =+G45 -> -1980 | H44: =+H45 -> -1980 | I44: =+I45 -> -1980
F45: ՈՉ ՖԻՆԱՆՍԱԿԱՆ ԱԿՏԻՎՆԵՐԻ ԳԾՈՎ ԾԱԽՍԵՐ | G45: =+G46 -> -1980 | H45: =+H46 -> -1980 | I45: =+I46 -> -1980
F46: ՀԻՄՆԱԿԱՆ ՄԻՋՈՑՆԵՐ | G46: =+G47 -> -1980 | H46: =+H47 -> -1980 | I46: =+I47 -> -1980
F47: ՇԵՆՔԵՐ ԵՎ ՇԻՆՈՒԹՅՈՒՆՆԵՐ | G47: =+G48 -> -1980 | H47: =+H48 -> -1980 | I47: =+I48 -> -1980
F48: - Շենքերի և շինությունների կապիտալ վերանորոգում | G48: =+'3'!D80 -> -1980 | H48: =+'3'!E80 -> -1980 | I48: =+'3'!F80 -> -1980
F49: ՀՀ տարածքային կառավարման և ենթակառուցվածքների նախարարություն | G49: =+G51 -> 1980 | H49: =+H51 -> 1980 | I49: =+I51 -> 1980
F50: այդ թվում` բյուջետային ծախսերի տնտեսագիտական դասակարգման հոդվածներ
F51: ԸՆԴԱՄԵՆԸ ԾԱԽՍԵՐ | G51: =+G52 -> 1980 | H51: =+H52 -> 1980 | I51: =+I52 -> 1980
F52: ՈՉ ՖԻՆԱՆՍԱԿԱՆ ԱԿՏԻՎՆԵՐԻ ԳԾՈՎ ԾԱԽՍԵՐ | G52: =+G53 -> 1980 | H52: =+H53 -> 1980 | I52: =+I53 -> 1980
F53: ՀԻՄՆԱԿԱՆ ՄԻՋՈՑՆԵՐ | G53: =+G54 -> 1980 | H53: =+H54 -> 1980 | I53: =+I54 -> 1980
F54: ԱՅԼ ՀԻՄՆԱԿԱՆ ՄԻՋՈՑՆԵՐ | G54: =+G55 -> 1980 | H54: =+H55 -> 1980 | I54: =+I55 -> 1980
F55: - Նախագծահետազոտական ծախսեր | G55: =-G48 -> 1980 | H55: =-H48 -> 1980 | I55: =-I48 -> 1980

Sheet 3
A1: Հավելված N3
A2: ՀՀ կառավարության 2022 թվականի
A3: ______________ ի ___Ն որոշման
A5: ՀԱՅԱՍՏԱՆԻ ՀԱՆՐԱՊԵՏՈՒԹՅԱՆ ԿԱՌԱՎԱՐՈՒԹՅԱՆ 2021 ԹՎԱԿԱՆԻ ԴԵԿՏԵՄԲԵՐԻ 23-Ի N 2121-Ն ՈՐՈՇՄԱՆ N 5 ՀԱՎԵԼՎԱԾԻ N 2 ԱՂՅՈՒՍԱԿՈՒՄ ԿԱՏԱՐՎՈՂ ՓՈՓՈԽՈՒԹՅՈՒՆՆԵՐԸ ԵՎ ԼՐԱՑՈՒՄՆԵՐԸ
E6: հազ. դրամ
A7: Ծրագրային դասիչ | C7: Բյուջետային գլխավոր կարգադրիչների, ծրագրերի, միջոցառումների և ուղղությունների անվանումները | D7: Ցուցանիշների փոփոխությունը (ավելացումները նշված են դրական նշանով, իսկ նվազեցումները` փակագծերում)
A8: Ծրագիր | B8: Միջոցառում | D8: Առաջին կիսամյակ | E8: Ինն ամիս | F8: Տարի
C9: ԸՆԴԱՄԵՆԸ | D9: =D11 -> 0 | E9: =E11 -> 0 | F9: =F11 -> 0
C10: այդ թվում՝
C11: ՀՀ ՏԱՐԱԾՔԱՅԻՆ ԿԱՌԱՎԱՐՄԱՆ ԵՎ ԵՆԹԱԿԱՌՈՒՑՎԱԾՔՆԵՐԻ ՆԱԽԱՐԱՐՈՒԹՅՈՒՆ | D11: =+D13 -> 0 | E11: =+E13 -> 0 | F11: =+F13 -> 0
C12: այդ թվում`
A13: 1049 | B13: 21001 | C13: Պետական նշանակության ավտոճանապարհների հիմնանորոգում | D13: =+D15+D16 -> 0 | E13: =+E15+E16 -> 0 | F13: =+F15+F16 -> 0
C14: այդ թվում` ըստ կատարողների
C15: ՀՀ կառավարություն | D15: =-D16 -> 229265.45 | E15: =-E16 -> -4322461 | F15: =-F16 -> -4748058.6
C16: ՀՀ տարածքային կառավարման և ենթակառուցվածքների նախարարություն | D16: =+D18+D45+D54 -> -229265.45 | E16: =+E18+E45+E54 -> 4322461 | F16: =+F18+F45+F54 -> 4748058.6
C17: այդ թվում՝ ըստ ուղղությունների
B18: 1 | C18: Միջպետական նշանակության ավտոճանապարհներ, այդ թվում | D18: =SUM(D19:D44) -> 856505.7 | E18: =SUM(E19:E44) -> 2253573.9 | F18: =SUM(F19:F44) -> 2524552.3
C19: Մ-1, Երևան-Գյումրի-Վրաստանի սահման միջպետական նշանակության ավտոճանապարհի կմ113+200-կմ 118+900 հատվածի հիմնանորոգում | D19: 539.8 | E19: 539.8 | F19: 539.8
C20: Մ-1, Երևան-Գյումրի-Վրաստանի սահման միջպետական նշանակության ավտոճանապարհի կմ 130+100-կմ134+500 հատվածի հիմնանորոգում | D20: 231.5 | E20: 231.5 | F20: 231.5
C21: Մ-1, Երևան-Գյումրի-Վրաստանի սահման միջպետական նշանակության ավտոճանապարհի կմ 141+500-կմ143+300 հատվածի հիմնանորոգում | D21: 223 | E21: 223 | F21: 223
C22: Մ-1, Երևան-Գյումրի-Վրաստանի սահման միջպետական նշանակության ավտոճանապարհի կմ160+200-կմ171+700 հատվածի հիմնանորոգում | D22: 854.9 | E22: 854.9 | F22: 854.9
C23: Մ-2, Երևան-Երասխ-Գորիս-Մեղրի-Իրանի սահման կմ53+150 - կմ65+350 հատվածի հիմնանորոգում | D23: -200000 | E23: 0 | F23: 0
C24: Մ-2, Երևան-Երասխ-Գորիս-Մեղրի-Իրանի սահման միջպետական նշանակության ավտոճանապարհի կմ77+350 - կմ82+000 հատվածի հիմնանորոգում | D24: 199.3 | E24: 199.3 | F24: 199.3
C25: Մ-2, Երևան-Երասխ-Գորիս-Մեղրի-Իրանի սահման միջպետական նշանակության ավտոճանապարհի կմ91+600 - կմ98+000 հատվածի հիմնանորոգում | D25: 274.3 | E25: 274.3 | F25: 274.3
C26: Մ-2, Երևան-Երասխ-Գորիս-Մեղրի-Իրանի սահման միջպետական նշանակության ավտոճանապարհի կմ108+400 - կմ126+100 հատվածի հիմնանորոգում | D26: 650000 | E26: 798647.4 | F26: 798647.4
C27: Մ-2, Երևան-Երասխ-Գորիս-Մեղրի-Իրանի սահման միջպետական նշանակության ավտոճանապարհի կմ131+500 - կմ139+000 հատվածի հիմնանորոգում | D27: 100.6 | E27: 100.6 | F27: 100.6
C28: Մ-2, Երևան-Երասխ-Գորիս-Մեղրի-Իրանի սահման միջպետական նշանակության ավտոճանապարհի կմ142+000 - կմ150+700 հատվածի հիմնանորոգում | D28: 326.3 | E28: 326.3 | F28: 326.3
C29: Մ-2, Երևան-Երասխ-Գորիս-Մեղրի-Իրանի սահման միջպետական նշանակության ավտոճանապարհի կմ150+700 - կմ167+600 հատվածի հիմնանորոգում | D29: 400000 | E29: 980289.04 | F29: 1031883.2
C30: Մ-2, Երևան-Երասխ-Գորիս-Մեղրի-Իրանի սահման միջպետական նշանակության ավտոճանապարհի կմ182+532 - կմ190+000 հատվածի հիմնանորոգում | D30: 280.1 | E30: 280.1 | F30: 280.1
... C44: Մ-16, /Մ-4/ - Ոսկեպար - Նոյեմբերյան - /Մ-6/ միջպետական նշանակության ավտոճանապարհի կմ0+070-կմ7+000 հատվածի հիմնանորոգում | D44: 313.2 | E44: 313.2 | F44: 313.2
B45: 2 | C45: Հանրապետական նշանակության ավտոճանապարհներ, այդ թվում | D45: =SUM(D46:D53) -> 190270.07 | E45: =SUM(E46:E53) -> 628151.5 | F45: =SUM(F46:F53) -> 628151.5
C46: Հ-22, /Մ-6/ - Դսեղ – /Հ-70/ հանրապետական նշանակության ավտոճանապարհի կմ 8+000-կմ 13+900 հատվածի հիմնանորոգում | D46: 484.2 | E46: 484.2 | F46: 484.2
C47: Հ-30, /Մ-4/ - Ճամբարակ - /Մ-14/ հանրապետական նշանակության ավտոճանապարհի կմ 32+000-կմ 35+000 հատվածի հիմնանորոգում | D47: 247 | E47: 247 | F47: 247
C48: Հ-30,Մոտեցում Արծվաշենին հանրապետական նշանակության ավտոճանապարհի կմ 0+000-կմ 5+000 հատվածի հիմնանորոգում | D48: 251.8 | E48: 251.8 | F48: 251.8
C49: Հ37,/Մ-4/ - Այգեհովիտ - Վազաշեն - Պառավաքար - Այգեպար հանրապետական նշանակության ավտոճանապարհի կմ 0+000-կմ 17+300 հատվածի հիմնանորոգում | D49: 499.2 | E49: 499.2 | F49: 499.2
C50: Հ38,/Հ-30/ (Թթուջուր) – /Հ-36/ (Նավուր) հանրապետական նշանակության ավտոճանապարհի կմ 0+000-կմ 15+100 հատվածի հիմնանորոգում | D50: 828.5 | E50: 828.5 | F50: 828.5
C51: Հ40,/Մ-2/ (Արենի) - Խաչիկ - Գնիշիկ - Եղեգնաձոր հանրապետական նշանակության ավտոճանապարհի կմ 58+000-կմ 70+000 հատվածի հիմնանորոգում | D51: 119.6 | E51: 119.6 | F51: 119.6
C52: Հ-41, /Մ-2/ - Նորավանքի պատմական հուշարձան հանրապետական նշանակության ավտոճանապարհի կմ0+000-կմ8+100 հատվածի հիմնանորոգում | D52: 187663.47 | E52: 625544.9 | F52: 625544.9
C53: Հ-87, /Մ-16/ Մակարավանքի պատմական հուշարձան հանրապետական նշանակության ավտոճանապարհի կմ4+300-կմ7+800 հատվածի հիմնանորոգում | D53: 176.3 | E53: 176.3 | F53: 176.3
B54: 3 | C54: Մարզային նշանակության ավտոճանապարհներ, այդ թվում | D54: =SUM(D55:D77) -> -1276041.2 | E54: =SUM(E55:E77) -> 1440735.5 | F54: =SUM(F55:F77) -> 1595354.8
C55: Տ-1-15, /Հ-21/ - Ծաղկահովիտ ավտոճանապարհի կմ0+000 - կմ1+300 հատվածի հիմնանորոգում | D55: 107.4 | E55: 107.4 | F55: 107.4
C56: Տ-1-35, /Հ-81/ (Հացաշեն) - Սորիկ ավտոճանապարհի կմ0+000 - կմ5+100 հատվածի հիմնանորոգում | D56: 362.2 | E56: 362.2 | F56: 362.2
C57: Տ-1-52, /Հ-21/ - Գեղաձոր ավտոճանապարհի կմ0+000-կմ1+600 հատվածի հիմնանորոգում | D57: 126.3 | E57: 126.3 | F57: 126.3
C58: Տ-1-63,/Հ-81/ (Թաթուլ) – Կանաչ - Հակո ավտոճանապարհի կմ0+000 - կմ12+100 հատվածի հիմնանորոգում | D58: 471.5 | E58: 471.5 | F58: 471.5
C59: Տ-1-65, /Մ-1/ - Ներքին Բազմաբերդ (Տ-1-60) ավտոճանապարհի կմ1+300 – կմ1+400 հատվածի հիմնանորոգում | D59: 22.1 | E59: 22.1 | F59: 22.1
C60: Տ-1-68, Ներքին Բազմաբերդ (Տ-1-65) – Կաքավաձոր (Տ-1-60) ավտոճանապարհի կմ0+000 – կմ4+100 հատվածի հիմնանորոգում | D60: 304.8 | E60: 304.8 | F60: 304.8
C61: Տ-2-31, /Տ-2-30/ - Բերդիկ - /Հ-9/ (Այգեստան) ավտոճանապարհի կմ0+000-կմ2+100 հատվածի հիմնանորոգում | D61: 109829.34 | E61: 329488.02 | F61: 366097.8
C62: Տ-2-62, /Հ-8/ (Այգավան) - /Հ-11/ (Եղեգնավան) ավտոճանապարհի կմ0+100 - կմ3+000 հատվածի հիմնանորոգում | D62: 156965.94 | E62: 235448.91 | F62: 261609.9
C63: Տ-3-15, /Հ-15/ - Ալաշկերտ (Տ-3-14) ավտոճանապարհի կմ0+000-կմ1+000 հատվածի հիմնանորոգում | D63: 11925 | E63: 32948.7 | F63: 32948.7
C64: Տ-4-13,/Հ-39/ (Գավառ) – Գանձակ – Սարուխան – Գեղարքունիք ավտոճանապարհի կմ0+000-կմ12+900 հատվածի հիմնանորոգում | D64: 635.2 | E64: 635.2 | F64: 635.2
C65: Տ-5-23, /Մ-3/ - Սարամեջ ավտոճանապարհի կմ0+000-կմ4+300 հատվածի հիմնանորոգում | D65: 319.7 | E65: 319.7 | F65: 319.7
C66: Տ-8-22, /Մ-2/ - Վարդավանք – Խդրանց - Ագարակ ավտոճանապարհի կմ0+000 - կմ13+100 հատվածի հիմնանորոգում | D66: 91848.5 | E66: 826636.2 | F66: 918484.7
... C77: Վանաձոր քաղաքային համայնքի Նարեկացի փողոց-Կոմիտաս վարդապետ Հրապարակ էստակադայի հիմնանորոգում | D77: 13.9 | E77: 13.9 | F77: 13.9
A78: 1049 | B78: 21002 | C78: Տրանսպորտային օբյեկտների հիմնանորոգում | D78: =+D80+D81 -> 0 | E78: =+E80+E81 -> 0 | F78: =+F80+F81 -> 0
C79: այդ թվում` ըստ կատարողների
C80: ՀՀ կառավարություն | D80: =-D81 -> -1980 | E80: =-E81 -> -1980 | F80: =-F81 -> -1980
C81: ՀՀ տարածքային կառավարման և ենթակառուցվածքների նախարարություն | D81: =+D83+D95+D101 -> 1980 | E81: =+E83+E95+E101 -> 1980 | F81: =+F83+F95+F101 -> 1980
C82: այդ թվում՝ ըստ ուղղությունների
C83: Մ-3, Թուրքիայի սահման-Մարգարա-Վանաձոր-Տաշիր-Վրաստանի սահման միջպետական նշանակության ավտոճանապարհի կմ11+400 հատվածում գտնվող կամրջի հիմնանորոգում | D83: 1980 | E83: 1980 | F83: 1980

Sheet 4
E1: Հավելված N4
A2: ՀՀ կառավարության 2022 թվականի
A3: ______________ ի ___Ն որոշման
A4: ՀԱՅԱՍՏԱՆԻ ՀԱՆՐԱՊԵՏՈՒԹՅԱՆ ԿԱՌԱՎԱՐՈՒԹՅԱՆ 2021 ԹՎԱԿԱՆԻ ԴԵԿՏԵՄԲԵՐԻ 23-Ի N 2121-Ն ՈՐՈՇՄԱՆ N 9.1 ՀԱՎԵԼՎԱԾԻ NN 9.1.8 և 9.1.59 ԱՂՅՈՒՍԱԿՆԵՐՈՒՄ ԿԱՏԱՐՎՈՂ ՓՈՓՈԽՈՒԹՅՈՒՆՆԵՐԸ ԵՎ ԼՐԱՑՈՒՄՆԵՐԸ
E5: Աղյուսակ 9.1.8
A6: ՀՀ ՏԱՐԱԾՔԱՅԻՆ ԿԱՌԱՎԱՐՄԱՆ ԵՎ ԵՆԹԱԿԱՌՈՒՑՎԱԾՔՆԵՐԻ ՆԱԽԱՐԱՐՈՒԹՅՈՒՆ
A7: ՄԱՍ 1. ՊԵՏԱԿԱՆ ՄԱՐՄՆԻ ԳԾՈՎ ԱՐԴՅՈՒՆՔԱՅԻՆ (ԿԱՏԱՐՈՂԱԿԱՆ) ՑՈՒՑԱՆԻՇՆԵՐԸ
A8: Ծրագրի դասիչը | B8: Ծրագրի անվանումը
A9: 1049 | B9: Ճանապարհային ցանցի բարելավում
A11: Ծրագրի միջոցառումները
A13: Ծրագրի դասիչը` | B13: 1049 | C13: Ցուցանիշների փոփոխությունը (ավելացումները նշված են դրական նշանով, իսկ նվազեցումները` փակագծերում)
A14: Միջոցառման դասիչը` | B14: 21001 | C14: Առաջին կիսամյակ | D14: Ինն ամիս | E14: Տարի
A15: Միջոցառման անվանումը` | B15: Պետական նշանակության ավտոճանապարհների հիմնանորոգում
A16: Նկարագրությունը` | B16: Միջպետական՝ հանրապետական և մարզային նշանակության ավտոճանապարհների քայքայված ծածկի վերանորոգում՝ մաշված ծածկի փոխարինում_x000D_
A17: Միջոցառման տեսակը` | B17: Հանրության կողմից անմիջականորեն օգտագործվող ակտիվների հետ կապված միջոցառումներ
A18: Միջոցառումն իրականացնողի անվանումը | B18: Մասնագիտացված միավոր
A19: Արդյունքի չափորոշիչներ
A20: Միջպետական նշանակության ավտոճանապարհներ | C20: =-C50 -> 0 | D20: =-D50 -> 0 | E20: =-E50 -> 4.9
A21: Հանրապետական նշանակության ավտոճանապարհներ | C21: 0 | D21: 8.1 | E21: =-E51 -> 8.1
A22: Մարզային նշանակության ավտոճանապարհներ | C22: 0 | D22: 0 | E22: =-E52 -> 15.6
A23: Միջոցառման վրա կատարվող ծախսը (հազար դրամ) | C23: =+'3'!D16 -> -229265.45 | D23: =+'3'!E16 -> 4322461 | E23: =+'3'!F16 -> 4748058.6
A25: Ծրագրի դասիչը` | B25: 1049 | C25: Ցուցանիշների փոփոխությունը (ավելացումները նշված են դրական նշանով)
A26: Միջոցառման դասիչը` | B26: 21002 | C26: Առաջին կիսամյակ | D26: Ինն ամիս | E26: Տարի
A27: Միջոցառման անվանումը` | B27: Տրանսպորտային օբյեկտների հիմնանորոգում
A28: Նկարագրությունը` | B28: Ավտոմոբիլային ճանապարհների վրա գտնվող կամուրջների հիմնանորոգում
A29: Միջոցառման տեսակը` | B29: Հանրության կողմից անմիջականորեն օգտագործվող ակտիվների հետ կապված միջոցառումներ
A30: Միջոցառումն իրականացնողի անվանումը | B30: Մասնագիտացված միավոր
A31: Արդյունքի չափորոշիչներ
A32: Միջոցառման վրա կատարվող ծախսը (հազար դրամ) | C32: =+'3'!D83 -> 1980 | D32: =+'3'!E83 -> 1980 | E32: =+'3'!F83 -> 1980
E36: Աղյուսակ 9.1.59
A37: ՀՀ ԿԱՌԱՎԱՐՈՒԹՅՈՒՆ
A38: ՄԱՍ 1. ՊԵՏԱԿԱՆ ՄԱՐՄՆԻ ԳԾՈՎ ԱՐԴՅՈՒՆՔԱՅԻՆ (ԿԱՏԱՐՈՂԱԿԱՆ) ՑՈՒՑԱՆԻՇՆԵՐԸ
A39: Ծրագրի դասիչը | B39: Ծրագրի անվանումը
A40: 1049 | B40: Ճանապարհային ցանցի բարելավում
A42: Ծրագրի միջոցառումները
A44: Ծրագրի դասիչը` | B44: 1049 | C44: Ցուցանիշների փոփոխությունը (ավելացումները նշված են դրական նշանով, իսկ նվազեցումները` փակագծերում)
A45: Միջոցառման դասիչը` | B45: 21001 | C45: Առաջին կիսամյակ | D45: Ինն ամիս | E45: Տարի
A46: Միջոցառման անվանումը` | B46: Պետական նշանակության ավտոճանապարհների հիմնանորոգում
A47: Նկարագրությունը` | B47: Միջպետական՝ հանրապետական և մարզային նշանակության ավտոճանապարհների քայքայված ծածկի վերանորոգում՝ մաշված ծածկի փոխարինում_x000D_
A48: Միջոցառման տեսակը` | B48: Հանրության կողմից անմիջականորեն օգտագործվող ակտիվների հետ կապված միջոցառումներ
A49: Արդյունքի չափորոշիչներ
A50: Միջպետական նշանակության ավտոճանապարհներ | C50: 0 | D50: 0 | E50: -4.9
A51: Հանրապետական նշանակության ավտոճանապարհներ | C51: 0 | D51: -8.1 | E51: -8.1
A52: Մարզային նշանակության ավտոճանապարհներ | C52: 0 | D52: 0 | E52: -15.6
A53: Միջոցառման վրա կատարվող ծախսը (հազար դրամ) | C53: =-C23 -> 229265.45 | D53: =-D23 -> -4322461 | E53: =-E23 -> -4748058.6
A55: Ծրագրի դասիչը` | B55: 1049 | C55: Ցուցանիշների փոփոխությունը (նվազեցումները նշված են փակագծերում)
A56: Միջոցառման դասիչը` | B56: 21002 | C56: Առաջին կիսամյակ | D56: Ինն ամիս | E56: Տարի
A57: Միջոցառման անվանումը` | B57: Տրանսպորտային օբյեկտների հիմնանորոգում
A58: Նկարագրությունը` | B58: Ավտոմոբիլային ճանապարհների վրա գտնվող կամուրջների հիմնանորոգում
A59: Միջոցառման տեսակը` | B59: Հանրության կողմից անմիջականորեն օգտագործվող ակտիվների հետ կապված միջոցառումներ
A60: Միջոցառումն իրականացնողի անվանումը | B60: Մասնագիտացված միավոր
A61: Արդյունքի չափորոշիչներ
A62: Միջոցառման վրա կատարվող ծախսը (հազար դրամ) | C62: =+'3'!D80 -> -1980 | D62: =+'3'!E80 -> -1980 | E62: =+'3'!F80 -> -1980

Sheet 5
A1: Հավելված N5
A2: ՀՀ կառավարության 2022 թվականի
A3: ______________ ի ___Ն որոշման
A5: ՀԱՅԱՍՏԱՆԻ ՀԱՆՐԱՊԵՏՈՒԹՅԱՆ ԿԱՌԱՎԱՐՈՒԹՅԱՆ 2021 ԹՎԱԿԱՆԻ ԴԵԿՏԵՄԲԵՐԻ 23-Ի N 2121-Ն ՈՐՈՇՄԱՆ N 10 ՀԱՎԵԼՎԱԾՈՒՄ ԿԱՏԱՐՎՈՂ ԼՐԱՑՈՒՄՆԵՐԸ
A6: Կոդը | B6: Անվանումը | C6: Գնման ձևը | D6: Չափման միավորը | E6: Միավորի գինը | F6: Ցուցանիշների փոփոխությունը (ավելացումները նշված են դրական նշանով)
F7: Քանակը | G7: Գումարը (հազար դրամով)
A8: ՀՀ տարածքային կառավարման և ենթակառուցվածքների նախարարություն | G8: =+G9 -> 4750037.3
A9: Բաժին N 04 | B9: Խումբ N 05 | C9: Դաս N 01 | D9: Ճանապարհային տրանսպորտ | G9: =+G10+G52 -> 4750037.3
A10: 1049 21001 | B10: Պետական նշանակության ավտոճանապարհների հիմնանորոգում | G10: =+G11+G22 -> 4748057.3
A11: ՄԱՍ II. ԱՇԽԱՏԱՆՔՆԵՐ | G11: =SUM(G12:G21) -> 4536710.6
A12: 45231177/540 | B12: ճանապարհների վերանորոգման աշխատանքներ | C12: ՀԲՄ | D12: դրամ | E12: 763466755 | F12: 1 | G12: =+F12*E12/1000 -> 763466.76
A13: 45231177/542 | B13: ճանապարհների վերանորոգման աշխատանքներ | C13: ՀԲՄ | D13: դրամ | E13: 991734919 | F13: 1 | G13: =+F13*E13/1000 -> 991734.92
A14: 45231177/541 | B14: ճանապարհների վերանորոգման աշխատանքներ | C14: ԳՀ | D14: դրամ | E14: 58800000 | F14: 1 | G14: =+F14*E14/1000 -> 58800
A15: 45231177/538 | B15: ճանապարհների վերանորոգման աշխատանքներ | C15: ՀԲՄ | D15: դրամ | E15: 536918504 | F15: 1 | G15: =+F15*E15/1000 -> 536918.5
A16: 45231177/505 | B16: ճանապարհների վերանորոգման աշխատանքներ | C16: ԲՄ | D16: դրամ | E16: 620000000 | F16: 1 | G16: =+F16*E16/1000 -> 620000
A17: 45231177/507 | B17: ճանապարհների վերանորոգման աշխատանքներ | C17: ԲՄ | D17: դրամ | E17: 359950000 | F17: 1 | G17: =+F17*E17/1000 -> 359950
A18: 45231177/508 | B18: ճանապարհների վերանորոգման աշխատանքներ | C18: ԲՄ | D18: դրամ | E18: 259000000 | F18: 1 | G18: =+F18*E18/1000 -> 259000
A19: 45231177/591 | B19: ճանապարհների վերանորոգման աշխատանքներ | C19: ՀԲՄ | D19: դրամ | E19: 30868481 | F19: 1 | G19: =+F19*E19/1000 -> 30868.481
A20: 45231177/61 | B20: ճանապարհների վերանորոգման աշխատանքներ | C20: ՀՄԱ | D20: դրամ | E20: 903392662 | F20: 1 | G20: =+F20*E20/1000 -> 903392.66
A21: 45231177/589 | B21: ճանապարհների վերանորոգման աշխատանքներ | C21: ՀԲՄ | D21: դրամ | E21: 12579292 | F21: 1 | G21: =+F21*E21/1000 -> 12579.292
A22: ՄԱՍ III. ԾԱՌԱՅՈՒԹՅՈՒՆՆԵՐ | G22: =SUM(G23:G51) -> 211346.66
A23: 98111140/24 | B23: հեղինակային հսկողության ծառայություններ | C23: ՄԱ | D23: դրամ | E23: 6128000 | F23: 1 | G23: =+F23*E23/1000 -> 6128
A24: 98111140/29 | B24: հեղինակային հսկողության ծառայություններ | C24: ՄԱ | D24: դրամ | E24: 6845981 | F24: 1 | G24: =+F24*E24/1000 -> 6845.981
A25: 98111140/31 | B25: հեղինակային հսկողության ծառայություններ | C25: ՄԱ | D25: դրամ | E25: 360720 | F25: 1 | G25: =+F25*E25/1000 -> 360.72
A26: 98111140/45 | B26: հեղինակային հսկողության ծառայություններ | C26: ՄԱ | D26: դրամ | E26: 3802739 | F26: 1 | G26: =+F26*E26/1000 -> 3802.739
A27: 98111140 | B27: հեղինակային հսկողության ծառայություններ | C27: ՄԱ | D27: դրամ | E27: 4691077 | F27: 1 | G27: =+F27*E27/1000 -> 4691.077
A28: 98111140 | B28: հեղինակային հսկողության ծառայություններ | C28: ՄԱ | D28: դրամ | E28: 2151757 | F28: 1 | G28: =+F28*E28/1000 -> 2151.757
A29: 98111140 | B29: հեղինակային հսկողության ծառայություններ | C29: ՄԱ | D29: դրամ | E29: 2180043 | F29: 1 | G29: =+F29*E29/1000 -> 2180.043
A30: 98111140 | B30: հեղինակային հսկողության ծառայություններ | C30: ՄԱ | D30: դրամ | E30: 1506200 | F30: 1 | G30: =+F30*E30/1000 -> 1506.2
A31: 98111140/19 | B31: հեղինակային հսկողության ծառայություններ | C31: ՄԱ | D31: դրամ | E31: 6571996 | F31: 1 | G31: =+F31*E31/1000 -> 6571.996
A32: 98111140/60 | B32: հեղինակային հսկողության ծառայություններ | C32: ՄԱ | D32: դրամ | E32: 93309 | F32: 1 | G32: =+F32*E32/1000 -> 93.309
A33: 71351540/509 | B33: տեխնիկական հսկողության ծառայություններ | C33: ՀԲՄ | D33: դրամ | E33: 64109574 | F33: 1 | G33: =+F33*E33/1000 -> 64109.574
A34: 71351540/528 | B34: տեխնիկական հսկողության ծառայություններ | C34: ՀԲՄ | D34: դրամ | E34: 7740752 | F34: 1 | G34: =+F34*E34/1000 -> 7740.752
A35: 71351540/537 | B35: տեխնիկական հսկողության ծառայություններ | C35: ՀԲՄ | D35: դրամ | E35: 574000 | F35: 1 | G35: =+F35*E35/1000 -> 574
A36: 71351540/13 | B36: տեխնիկական հսկողության ծառայություններ | C36: ՄԱ | D36: դրամ | E36: 8520000 | F36: 1 | G36: =+F36*E36/1000 -> 8520
A37: 71351540/542 | B37: տեխնիկական հսկողության ծառայություններ | C37: ՀԲՄ | D37: դրամ | E37: 151000 | F37: 1 | G37: =+F37*E37/1000 -> 151
A38: 71351540/504 | B38: տեխնիկական հսկողության ծառայություններ | C38: ՀԲՄ | D38: դրամ | E38: 1283507 | F38: 1 | G38: =+F38*E38/1000 -> 1283.507
A39: 71351540/509 | B39: տեխնիկական հսկողության ծառայություններ | C39: ԳՀ | D39: դրամ | E39: 3996000 | F39: 1 | G39: =+F39*E39/1000 -> 3996
A40: 71241200 | B40: Նախագծերի պատրաստում, ծախսերի գնահատում | C40: ՀՄԱ | D40: դրամ | E40: 40650000 | F40: 1 | G40: =+F40*E40/1000 -> 40650
A41: 71241200 | B41: Նախագծերի պատրաստում, ծախսերի գնահատում | C41: ՀՄԱ | D41: դրամ | E41: 33990000 | F41: 1 | G41: =+F41*E41/1000 -> 33990
A42: 50531140 | B42: Փորձաքննության ծառայություններ | C42: ՀՄԱ | D42: դրամ | E42: 1900000 | F42: 1 | G42: =+F42*E42/1000 -> 1900
A43: 50531140 | B43: Փորձաքննության ծառայություններ | C43: ՀՄԱ | D43: դրամ | E43: 1600000 | F43: 1 | G43: =+F43*E43/1000 -> 1600
A44: 50531140/501 | B44: Փորձաքննության ծառայություններ | C44: ԳՀ | D44: դրամ | E44: 2280000 | F44: 1 | G44: =+F44*E44/1000 -> 2280
A45: 50531140/502 | B45: Փորձաքննության ծառայություններ | C45: ԳՀ | D45: դրամ | E45: 2550000 | F45: 1 | G45: =+F45*E45/1000 -> 2550
A46: 50531140/503 | B46: Փորձաքննության ծառայություններ | C46: ԳՀ | D46: դրամ | E46: 1200000 | F46: 1 | G46: =+F46*E46/1000 -> 1200
A47: 50531140/504 | B47: Փորձաքննության ծառայություններ | C47: ԳՀ | D47: դրամ | E47: 1950000 | F47: 1 | G47: =+F47*E47/1000 -> 1950
A48: 50531140/505 | B48: Փորձաքննության ծառայություններ | C48: ԳՀ | D48: դրամ | E48: 1600000 | F48: 1 | G48: =+F48*E48/1000 -> 1600
A49: 50531140/506 | B49: Փորձաքննության ծառայություններ | C49: ԳՀ | D49: դրամ | E49: 1440000 | F49: 1 | G49: =+F49*E49/1000 -> 1440
A50: 50531140/507 | B50: Փորձաքննության ծառայություններ | C50: ԳՀ | D50: դրամ | E50: 480000 | F50: 1 | G50: =+F50*E50/1000 -> 480
A51: 50531140/508 | B51: Փորձաքննության ծառայություններ | C51: ԳՀ | D51: դրամ | E51: 1000000 | F51: 1 | G51: =+F51*E51/1000 -> 1000
A52: 1049 21002 | B52: Տրանսպորտային օբյեկտների հիմնանորոգում | G52: =+G53 -> 1980
A53: ՄԱՍ III. ԾԱՌԱՅՈՒԹՅՈՒՆՆԵՐ | G53: =SUM(G54:G54) -> 1980
A54: 71241200/501 | B54: Նախագծերի պատրաստում, ծախսերի գնահատում | C54: ԳՀ | D54: դրամ | E54: 1980000 | F54: 1 | G54: =+F54*E54/1000 -> 1980
