Workbook
Name AgencyCode: #REF!
Name AgencyCode: #REF!
Name AgencyCode: #REF!
Name AgencyName: #REF!
Name AgencyName: #REF!
Name Functional1: #REF!
Name Functional1: #REF!
Name PANature: #REF!
Name PANature: #REF!
Name PAType: #REF!
Name PAType: #REF!
Name Performance2: #REF!
Name Performance2: #REF!
Name PerformanceType: #REF!
Name PerformanceType: #REF!

Sheet 1
H1: Հավելված N1
H2: ՀՀ կառավարության 2022 թվականի
H3: ______________ ի ___Ն որոշման
A4: «ՀԱՅԱՍՏԱՆԻ ՀԱՆՐԱՊԵՏՈՒԹՅԱՆ 2022 ԹՎԱԿԱՆԻ ՊԵՏԱԿԱՆ ԲՅՈՒՋԵԻ ՄԱՍԻՆ» ՀԱՅԱՍՏԱՆԻ ՀԱՆՐԱՊԵՏՈՒԹՅԱՆ ՕՐԵՆՔԻ N 1 ՀԱՎԵԼՎԱԾԻ N 3 ԱՂՅՈՒՍԱԿՈՒՄ ԿԱՏԱՐՎՈՂ ՓՈՓՈԽՈՒԹՅՈՒՆՆԵՐԸ ԵՎ ԼՐԱՑՈՒՄՆԵՐԸ
G5: հազ. դրամ
A6: Ծրագրային դասիչ | C6: Բյուջետային գլխավոր կարգադրիչների, ծրագրերի, միջոցառումների և ուղղությունների անվանումները | D6: Ցուցանիշների փոփոխությունը (ավելացումները նշված են դրական նշանով, իսկ նվազեցումները` փակագծերում)
D7: Ընդամենը, | E7: այդ թվում՝
A8: Ծրագիր | B8: Միջոցառում | E8: Կառուցման աշխատանքներ | F8: Վերակառուցման, վերանորոգման և վերականգնման աշխատանքներ | G8: Նախագծահե- տազոտական, գեոդեզիա- քարտեզագրա- կան աշխա- տանքներ | H8: Ոչ ֆինանսական այլ ակտիվների ձեռքբերում
C9: ԸՆԴԱՄԵՆԸ | D9: =+E9+F9+G9+H9 -> 0 | E9: =E11 -> 0 | F9: =F11 -> -89734.5 | G9: =G11 -> 89734.5 | H9: =H11 -> 0
C10: այդ թվում՝
C11: ՀՀ ՏԱՐԱԾՔԱՅԻՆ ԿԱՌԱՎԱՐՄԱՆ ԵՎ ԵՆԹԱԿԱՌՈՒՑՎԱԾՔՆԵՐԻ ՆԱԽԱՐԱՐՈՒԹՅՈՒՆ | D11: =+E11+F11+G11+H11 -> 0 | E11: =+E13+E33 -> 0 | F11: =+F13+F33 -> -89734.5 | G11: =+G13+G33 -> 89734.5 | H11: =+H13+H33 -> 0
C12: այդ թվում`
A13: 1049 | B13: 21001 | C13: Պետական նշանակության ավտոճանապարհների հիմնանորոգում | D13: =+E13+F13+G13+H13 -> 89734.5 | E13: =+E15+E19+E25 -> 0 | F13: =+F15+F19+F25 -> 0 | G13: =+G15+G19+G25 -> 89734.5 | H13: =+H15+H19+H25 -> 0
C14: այդ թվում`
B15: 1 | C15: Միջպետական նշանակության ավտոճանապարհներ, այդ թվում | D15: =+E15+F15+G15+H15 -> 20116.7 | E15: =SUM(E16:E18) -> 0 | F15: =SUM(F16:F18) -> 0 | G15: =SUM(G16:G18) -> 20116.7 | H15: =SUM(H16:H18) -> 0
C16: Մ-5, Երևան - Արմավիր - Թուրքիայի սահման միջպետական նշանակության ավտոճանապարհի կմ58+400-կմ63+100 հատվածի հիմնանորոգում | D16: =+E16+F16+G16+H16 -> 10322.6 | E16: 0 | G16: 10322.6 | H16: 0
C17: Մ-15, /Մ-4/ (Վերին Պտղնի) - Մասիսի տրանսպորտային հանգույց (Երևանի շրջանց) միջպետական նշանակության ավտոճանապարհի կմ0+000-կմ8+200 հատվածի հիմնանորոգում | D17: =+E17+F17+G17+H17 -> 4537.4 | E17: 0 | G17: 4537.4 | H17: 0
C18: Մ-15, /Մ-4/ (Վերին Պտղնի) - Մասիսի տրանսպորտային հանգույց (Երևանի շրջանց) միջպետական նշանակության ավտոճանապարհի կմ19+900-կմ29+400 հատվածի հիմնանորոգում | D18: =+E18+F18+G18+H18 -> 5256.7 | E18: 0 | G18: 5256.7 | H18: 0
B19: 2 | C19: Հանրապետական նշանակության ավտոճանապարհներ, այդ թվում | D19: =+E19+F19+G19+H19 -> 19599.6 | E19: =SUM(E20:E24) -> 0 | F19: =SUM(F20:F24) -> 0 | G19: =SUM(G20:G24) -> 19599.6 | H19: =SUM(H20:H24) -> 0
C20: Հ-1, Վ. Պտղնու տրանսպորտային հանգույց - Ջրաբեր-Հրազդան -Հրազդանի քրեակատարողական հիմնարկ հանրապետական նշանակության ավտոճանապարհի կմ33+500 - կմ37+700 հատվածի հիմնանորոգում | D20: =+E20+F20+G20+H20 -> 3108.7 | E20: 0 | G20: 3108.7 | H20: 0
C21: Հ-3, Երևան (Ջրաշխարհ, Մ-4-ի հետ հատման տեղ)-Գառնի –Գեղարդի վանք հանրապետական նշանակության ավտոճանապարհի կմ33+500-կմ38+100 հատվածի հիմնանորոգում | D21: =+E21+F21+G21+H21 -> 2206 | E21: 0 | G21: 2206 | H21: 0
C22: Հ-4, Երևան - Եղվարդ - Արագյուղ - Հարթավան - /Մ-3/ հանրապետական նշանակության ավտոճանապարհի կմ0+000-կմ15+600 հատվածի հիմնանորոգում | D22: =+E22+F22+G22+H22 -> 11546.3 | E22: 0 | G22: 11546.3 | H22: 0
C23: Հ-28,/Հ-55/ - Ջրառատ – Մեղրաձոր - Հանքավան հանրապետական նշանակության ավտոճանապարհի կմ 17+000-կմ 19+000 հատվածի հիմնանորոգում | D23: =+E23+F23+G23+H23 -> 1480.3 | E23: 0 | G23: 1480.3 | H23: 0
C24: Հ85, /Հ-1/ - Հրազդան - /Հ-55/ հանրապետական նշանակության ավտոճանապարհի կմ1+600 - կմ3+300 հատվածների հիմնանորոգում | D24: =+E24+F24+G24+H24 -> 1258.3 | E24: 0 | G24: 1258.3 | H24: 0
B25: 3 | C25: Մարզային նշանակության ավտոճանապարհներ, այդ թվում | D25: =+E25+F25+G25+H25 -> 50018.2 | E25: =SUM(E26:E32) -> 0 | F25: =SUM(F26:F32) -> 0 | G25: =SUM(G26:G32) -> 50018.2 | H25: =SUM(H26:H32) -> 0
C26: Տ-3-11 /Հ-15/ (Արմավիր գ.) – Նալբանդյան – Գետաշեն – Նոր Կեսարիա – /Մ-5/ ավտոճանապարհի կմ6+000-կմ10+000 հատվածի հիմնանորոգում | D26: =+E26+F26+G26+H26 -> 5856.8 | E26: 0 | G26: 5856.8 | H26: 0
C27: Տ-3-16 Արևիկ (Տ-3-50) – /Հ-15/ (գ.Արմավիր) ավտոճանապարհի կմ0+000-կմ3+600 հատվածի հիմնանորոգում | D27: =+E27+F27+G27+H27 -> 5271.1 | E27: 0 | G27: 5271.1 | H27: 0
C28: Տ-3-52 /Մ-5/ – Ամասիա – Նալբանդյան (Տ-3-11) – Ջանֆիդա – Փշատավան – /Հ-15/ (Արգավանդ) ավտոճանապարհի կմ14+200-կմ18+400 հատվածի հիմնանորոգում | D28: =+E28+F28+G28+H28 -> 6149.7 | E28: 0 | G28: 6149.7 | H28: 0
C29: Տ-5-46, /Մ-6/(Ալավերդի) - Սանահին թաղամաս - Ակներ ավտոճանապարհի կմ0+000 - կմ9+300 և Տ-5-46-ից դեպի Սանահին վանական համալիր տանող հատվածների հիմնանորոգում | D29: =+E29+F29+G29+H29 -> 6600 | E29: 0 | G29: 6600 | H29: 0
C30: Գյումրի համայնքի օղակային փողոցի կմ0+000 - կմ2+500 (Մ-7-ի հետ հատման կետ) հատվածի հիմնանորոգում | D30: =+E30+F30+G30+H30 -> 5600 | E30: 0 | G30: 5600 | H30: 0
C31: Տ-6-3, /Հ-4/ (Արագյուղ) - /Հ-5/ ավտոճանապարհի 3.7 կմ երկարությամբ հատվածի հիմնանորոգում | D31: =+E31+F31+G31+H31 -> 2106.6 | E31: 0 | G31: 2106.6 | H31: 0
C32: Տ-7-53, Հ-21/ (Նոր Կյանք) – Փանիկ - Արևշատ - /Հ-21/ (Մեծ Մանթաշ) ավտոճանապարհի կմ0+000 - կմ12+800 հատվածի հիմնանորոգում | D32: =+E32+F32+G32+H32 -> 18434 | E32: 0 | G32: 18434 | H32: 0
A33: 1049 | B33: 21001 | C33: Պետական նշանակության ավտոճանապարհների հիմնանորոգում | D33: =+E33+F33+G33+H33 -> -89734.5 | E33: 0 | F33: =+'3'!E37 -> -89734.5 | G33: 0 | H33: 0

Sheet 2
A1: Հավելված N2
A2: ՀՀ կառավարության 2022 թվականի
A3: ______________ ի ___Ն որոշման
A5: ՀԱՅԱՍՏԱՆԻ ՀԱՆՐԱՊԵՏՈՒԹՅԱՆ ԿԱՌԱՎԱՐՈՒԹՅԱՆ 2021 ԹՎԱԿԱՆԻ ԴԵԿՏԵՄԲԵՐԻ 23-Ի N 2121-Ն ՈՐՈՇՄԱՆ N 3 ԵՎ N 4 ՀԱՎԵԼՎԱԾՆԵՐՈՒՄ ԿԱՏԱՐՎՈՂ ՓՈՓՈԽՈՒԹՅՈՒՆՆԵՐԸ ԵՎ ԼՐԱՑՈՒՄՆԵՐԸ
H7: հազ. դրամ
A8: Գործառական դասիչը | D8: Ծրագրային դասիչը | F8: Բյուջետային ծախսերի գործառական դասակարգման բաժինների, խմբերի և դասերի, բյուջետային հատկացումների գլխավոր կարգադրիչների, ծրագրերի, միջոցառումների և միջոցառումները կատարող պետական մարմինների անվանումները | G8: Ցուցանիշների փոփոխությունը (ավելացումները նշված են դրական նշանով, իսկ նվազեցումները` փակագծերում)
A9: Բաժին | B9: Խումբ | C9: Դաս | D9: Ծրագիր | E9: Միջոցա ռում | G9: Առաջին կիսամյակ | H9: Ինն ամիս | I9: Տարի
F10: ԸՆԴԱՄԵՆԸ ԾԱԽՍԵՐ | G10: =G12 -> 0 | H10: =H12 -> 0 | I10: =I12 -> 0
F11: այդ թվում`
A12: 04 | F12: ՏՆՏԵՍԱԿԱՆ ՀԱՐԱԲԵՐՈՒԹՅՈՒՆՆԵՐ | G12: =G14 -> 0 | H12: =H14 -> 0 | I12: =I14 -> 0
F13: այդ թվում`
B14: 05 | F14: Տրանսպորտ | G14: =G16 -> 0 | H14: =H16 -> 0 | I14: =I16 -> 0
F15: այդ թվում`
C16: 01 | F16: Ճանապարհային տրանսպորտ | G16: =G18 -> 0 | H16: =H18 -> 0 | I16: =I18 -> 0
F17: այդ թվում`
F18: ՀՀ ՏԱՐԱԾՔԱՅԻՆ ԿԱՌԱՎԱՐՄԱՆ ԵՎ ԵՆԹԱԿԱՌՈՒՑՎԱԾՔՆԵՐԻ ՆԱԽԱՐԱՐՈՒԹՅՈՒՆ | G18: =+G20 -> 0 | H18: =+H20 -> 0 | I18: =+I20 -> 0
F19: այդ թվում`
D20: 1049 | F20: Ճանապարհային ցանցի բարելավում | G20: =+G22 -> 0 | H20: =+H22 -> 0 | I20: =+I22 -> 0
F21: այդ թվում`
E22: 21001 | F22: Պետական նշանակության ավտոճանապարհների հիմնանորոգում | G22: =+G24+G31 -> 0 | H22: =+H24+H31 -> 0 | I22: =+I24+I31 -> 0
F23: այդ թվում` ըստ կատարողների
F24: ՀՀ կառավարություն | G24: =+G26 -> 0 | H24: =+H26 -> -89734.5 | I24: =+I26 -> -89734.5
F25: այդ թվում` բյուջետային ծախսերի տնտեսագիտական դասակարգման հոդվածների
F26: ԸՆԴԱՄԵՆԸ ԾԱԽՍԵՐ | G26: =+G27 -> 0 | H26: =+H27 -> -89734.5 | I26: =+I27 -> -89734.5
F27: ՈՉ ՖԻՆԱՆՍԱԿԱՆ ԱԿՏԻՎՆԵՐԻ ԳԾՈՎ ԾԱԽՍԵՐ | G27: =+G28 -> 0 | H27: =+H28 -> -89734.5 | I27: =+I28 -> -89734.5
F28: ՀԻՄՆԱԿԱՆ ՄԻՋՈՑՆԵՐ | G28: =+G29 -> 0 | H28: =+H29 -> -89734.5 | I28: =+I29 -> -89734.5
F29: ՇԵՆՔԵՐ ԵՎ ՇԻՆՈՒԹՅՈՒՆՆԵՐ | G29: =+G30 -> 0 | H29: =+H30 -> -89734.5 | I29: =+I30 -> -89734.5
F30: - Շենքերի և շինությունների կապիտալ վերանորոգում | G30: =-G31 -> 0 | H30: =-H31 -> -89734.5 | I30: =-I31 -> -89734.5
F31: ՀՀ տարածքային կառավարման և ենթակառուցվածքների նախարարություն | G31: =+G33 -> 0 | H31: =+H33 -> 89734.5 | I31: =+I33 -> 89734.5
F32: այդ թվում` բյուջետային ծախսերի տնտեսագիտական դասակարգման հոդվածների
F33: ԸՆԴԱՄԵՆԸ ԾԱԽՍԵՐ | G33: =+G34 -> 0 | H33: =+H34 -> 89734.5 | I33: =+I34 -> 89734.5
F34: ՈՉ ՖԻՆԱՆՍԱԿԱՆ ԱԿՏԻՎՆԵՐԻ ԳԾՈՎ ԾԱԽՍԵՐ | G34: =+G35 -> 0 | H34: =+H35 -> 89734.5 | I34: =+I35 -> 89734.5
F35: ՀԻՄՆԱԿԱՆ ՄԻՋՈՑՆԵՐ | G35: =+G36 -> 0 | H35: =+H36 -> 89734.5 | I35: =+I36 -> 89734.5
F36: ԱՅԼ ՀԻՄՆԱԿԱՆ ՄԻՋՈՑՆԵՐ | G36: =+G37 -> 0 | H36: =+H37 -> 89734.5 | I36: =+I37 -> 89734.5
F37: - Նախագծահետազոտական ծախսեր | G37: 0 | H37: 89734.5 | I37: 89734.5

Sheet 3
A1: Հավելված N3
A2: ՀՀ կառավարության 2022 թվականի
A3: ______________ ի ___Ն որոշման
A5: ՀԱՅԱՍՏԱՆԻ ՀԱՆՐԱՊԵՏՈՒԹՅԱՆ ԿԱՌԱՎԱՐՈՒԹՅԱՆ 2021 ԹՎԱԿԱՆԻ ԴԵԿՏԵՄԲԵՐԻ 23-Ի N 2121-Ն ՈՐՈՇՄԱՆ N 5 ՀԱՎԵԼՎԱԾԻ N 2 ԱՂՅՈՒՍԱԿՈՒՄ ԿԱՏԱՐՎՈՂ ՓՈՓՈԽՈՒԹՅՈՒՆՆԵՐԸ ԵՎ ԼՐԱՑՈՒՄՆԵՐԸ
E6: հազ. դրամ
A7: Ծրագրային դասիչ | C7: Բյուջետային գլխավոր կարգադրիչների, ծրագրերի, միջոցառումների և ուղղությունների անվանումները | D7: Ցուցանիշների փոփոխությունը (ավելացումները նշված են դրական նշանով, իսկ նվազեցումները` փակագծերում)
A8: Ծրագիր | B8: Միջոցառում | D8: Առաջին կիսամյակ | E8: Ինն ամիս | F8: Տարի
C9: ԸՆԴԱՄԵՆԸ | D9: =D11 -> 0 | E9: =E11 -> 0 | F9: =F11 -> 0
C10: այդ թվում՝
C11: ՀՀ ՏԱՐԱԾՔԱՅԻՆ ԿԱՌԱՎԱՐՄԱՆ ԵՎ ԵՆԹԱԿԱՌՈՒՑՎԱԾՔՆԵՐԻ ՆԱԽԱՐԱՐՈՒԹՅՈՒՆ | D11: =+D13 -> 0 | E11: =+E13 -> 0 | F11: =+F13 -> 0
C12: այդ թվում`
A13: 1049 | B13: 21001 | C13: Պետական նշանակության ավտոճանապարհների հիմնանորոգում | D13: =+D15+D35 -> 0 | E13: =+E15+E35 -> 0 | F13: =+F15+F35 -> 0
C14: այդ թվում` ըստ կատարողների
C15: ՀՀ տարածքային կառավարման և ենթակառուցվածքների նախարարություն | D15: =+D17+D21+D27 -> 0 | E15: =+E17+E21+E27 -> 89734.5 | F15: =+F17+F21+F27 -> 89734.5
C16: այդ թվում՝ ըստ ուղղությունների
B17: 1 | C17: Միջպետական նշանակության ավտոճանապարհներ, այդ թվում | D17: =SUM(D18:D20) -> 0 | E17: =SUM(E18:E20) -> 20116.7 | F17: =SUM(F18:F20) -> 20116.7
C18: Մ-5, Երևան - Արմավիր - Թուրքիայի սահման միջպետական նշանակության ավտոճանապարհի կմ58+400-կմ63+100 հատվածի հիմնանորոգում | D18: 0 | E18: 10322.6 | F18: 10322.6
C19: Մ-15, /Մ-4/ (Վերին Պտղնի) - Մասիսի տրանսպորտային հանգույց (Երևանի շրջանց) միջպետական նշանակության ավտոճանապարհի կմ0+000-կմ8+200 հատվածի հիմնանորոգում | D19: 0 | E19: 4537.4 | F19: 4537.4
C20: Մ-15, /Մ-4/ (Վերին Պտղնի) - Մասիսի տրանսպորտային հանգույց (Երևանի շրջանց) միջպետական նշանակության ավտոճանապարհի կմ19+900-կմ29+400 հատվածի հիմնանորոգում | D20: 0 | E20: 5256.7 | F20: 5256.7
B21: 2 | C21: Հանրապետական նշանակության ավտոճանապարհներ, այդ թվում | D21: =SUM(D22:D26) -> 0 | E21: =SUM(E22:E26) -> 19599.6 | F21: =SUM(F22:F26) -> 19599.6
C22: Հ-1, Վ. Պտղնու տրանսպորտային հանգույց - Ջրաբեր-Հրազդան -Հրազդանի քրեակատարողական հիմնարկ հանրապետական նշանակության ավտոճանապարհի կմ33+500 - կմ37+700 հատվածի հիմնանորոգում | D22: 0 | E22: 3108.7 | F22: 3108.7
C23: Հ-3, Երևան (Ջրաշխարհ, Մ-4-ի հետ հատման տեղ)-Գառնի –Գեղարդի վանք հանրապետական նշանակության ավտոճանապարհի կմ33+500-կմ38+100 հատվածի հիմնանորոգում | D23: 0 | E23: 2206 | F23: 2206
C24: Հ-4, Երևան - Եղվարդ - Արագյուղ - Հարթավան - /Մ-3/ հանրապետական նշանակության ավտոճանապարհի կմ0+000-կմ15+600 հատվածի հիմնանորոգում | D24: 0 | E24: 11546.3 | F24: 11546.3
C25: Հ-28,/Հ-55/ - Ջրառատ – Մեղրաձոր - Հանքավան հանրապետական նշանակության ավտոճանապարհի կմ 17+000-կմ 19+000 հատվածի հիմնանորոգում | D25: 0 | E25: 1480.3 | F25: 1480.3
C26: Հ85, /Հ-1/ - Հրազդան - /Հ-55/ հանրապետական նշանակության ավտոճանապարհի կմ1+600 - կմ3+300 հատվածների հիմնանորոգում | D26: 0 | E26: 1258.3 | F26: 1258.3
B27: 3 | C27: Մարզային նշանակության ավտոճանապարհներ, այդ թվում | D27: =SUM(D28:D34) -> 0 | E27: =SUM(E28:E34) -> 50018.2 | F27: =SUM(F28:F34) -> 50018.2
C28: Տ-3-11 /Հ-15/ (Արմավիր գ.) – Նալբանդյան – Գետաշեն – Նոր Կեսարիա – /Մ-5/ ավտոճանապարհի կմ6+000-կմ10+000 հատվածի հիմնանորոգում | D28: 0 | E28: 5856.8 | F28: 5856.8
C29: Տ-3-16 Արևիկ (Տ-3-50) – /Հ-15/ (գ.Արմավիր) ավտոճանապարհի կմ0+000-կմ3+600 հատվածի հիմնանորոգում | D29: 0 | E29: 5271.1 | F29: 5271.1
C30: Տ-3-52 /Մ-5/ – Ամասիա – Նալբանդյան (Տ-3-11) – Ջանֆիդա – Փշատավան – /Հ-15/ (Արգավանդ) ավտոճանապարհի կմ14+200-կմ18+400 հատվածի հիմնանորոգում | D30: 0 | E30: 6149.7 | F30: 6149.7
C31: Տ-5-46, /Մ-6/(Ալավերդի) - Սանահին թաղամաս - Ակներ ավտոճանապարհի կմ0+000 - կմ9+300 և Տ-5-46-ից դեպի Սանահին վանական համալիր տանող հատվածների հիմնանորոգում | D31: 0 | E31: 6600 | F31: 6600
C32: Գյումրի համայնքի օղակային փողոցի կմ0+000 - կմ2+500 (Մ-7-ի հետ հատման կետ) հատվածի հիմնանորոգում | D32: 0 | E32: 5600 | F32: 5600
C33: Տ-6-3, /Հ-4/ (Արագյուղ) - /Հ-5/ ավտոճանապարհի 3.7 կմ երկարությամբ հատվածի հիմնանորոգում | D33: 0 | E33: 2106.6 | F33: 2106.6
C34: Տ-7-53, Հ-21/ (Նոր Կյանք) – Փանիկ - Արևշատ - /Հ-21/ (Մեծ Մանթաշ) ավտոճանապարհի կմ0+000 - կմ12+800 հատվածի հիմնանորոգում | D34: 0 | E34: 18434 | F34: 18434
A35: 1049 | B35: 21001 | C35: Պետական նշանակության ավտոճանապարհների հիմնանորոգում | D35: =+D37 -> 0 | E35: =+E37 -> -89734.5 | F35: =+F37 -> -89734.5
C36: այդ թվում` ըստ կատարողների
C37: ՀՀ կառավարություն | D37: =-D15 -> 0 | E37: =-E15 -> -89734.5 | F37: =-F15 -> -89734.5

Sheet 4
E1: Հավելված N4
A2: ՀՀ կառավարության 2022 թվականի
A3: ______________ ի ___Ն որոշման
A4: ՀԱՅԱՍՏԱՆԻ ՀԱՆՐԱՊԵՏՈՒԹՅԱՆ ԿԱՌԱՎԱՐՈՒԹՅԱՆ 2021 ԹՎԱԿԱՆԻ ԴԵԿՏԵՄԲԵՐԻ 23-Ի N 2121-Ն ՈՐՈՇՄԱՆ N 9.1 ՀԱՎԵԼՎԱԾԻ NN 9.1.8 և 9.1.59 ԱՂՅՈՒՍԱԿՆԵՐՈՒՄ ԿԱՏԱՐՎՈՂ ՓՈՓՈԽՈՒԹՅՈՒՆՆԵՐԸ ԵՎ ԼՐԱՑՈՒՄՆԵՐԸ
E5: Աղյուսակ 9.1.8
A6: ՀՀ ՏԱՐԱԾՔԱՅԻՆ ԿԱՌԱՎԱՐՄԱՆ ԵՎ ԵՆԹԱԿԱՌՈՒՑՎԱԾՔՆԵՐԻ ՆԱԽԱՐԱՐՈՒԹՅՈՒՆ
A7: ՄԱՍ 1. ՊԵՏԱԿԱՆ ՄԱՐՄՆԻ ԳԾՈՎ ԱՐԴՅՈՒՆՔԱՅԻՆ (ԿԱՏԱՐՈՂԱԿԱՆ) ՑՈՒՑԱՆԻՇՆԵՐԸ
A8: Ծրագրի դասիչը | B8: Ծրագրի անվանումը
A9: 1049 | B9: Ճանապարհային ցանցի բարելավում
A11: Ծրագրի միջոցառումները
A13: Ծրագրի դասիչը` | B13: 1049 | C13: Ցուցանիշների փոփոխությունը (ավելացումները նշված են դրական նշանով)
A14: Միջոցառման դասիչը` | B14: 21001 | C14: Առաջին կիսամյակ | D14: Ինն ամիս | E14: Տարի
A15: Միջոցառման անվանումը` | B15: Պետական նշանակության ավտոճանապարհների հիմնանորոգում
A16: Նկարագրությունը` | B16: Միջպետական՝ հանրապետական և մարզային նշանակության ավտոճանապարհների քայքայված ծածկի վերանորոգում՝ մաշված ծածկի փոխարինում_x000D_
A17: Միջոցառման տեսակը` | B17: Հանրության կողմից անմիջականորեն օգտագործվող ակտիվների հետ կապված միջոցառումներ
A18: Արդյունքի չափորոշիչներ
A19: Միջոցառման վրա կատարվող ծախսը (հազար դրամ) | C19: =+'3'!D15 -> 0 | D19: =+'3'!E15 -> 89734.5 | E19: =+'3'!F15 -> 89734.5
E23: Աղյուսակ 9.1.59
A24: ՀՀ ԿԱՌԱՎԱՐՈՒԹՅՈՒՆ
A25: ՄԱՍ 1. ՊԵՏԱԿԱՆ ՄԱՐՄՆԻ ԳԾՈՎ ԱՐԴՅՈՒՆՔԱՅԻՆ (ԿԱՏԱՐՈՂԱԿԱՆ) ՑՈՒՑԱՆԻՇՆԵՐԸ
A26: Ծրագրի դասիչը | B26: Ծրագրի անվանումը
A27: 1049 | B27: Ճանապարհային ցանցի բարելավում
A29: Ծրագրի միջոցառումները
A31: Ծրագրի դասիչը` | B31: 1049 | C31: Ցուցանիշների փոփոխությունը (նվազեցումները նշված են փակագծերում)
A32: Միջոցառման դասիչը` | B32: 21001 | C32: Առաջին կիսամյակ | D32: Ինն ամիս | E32: Տարի
A33: Միջոցառման անվանումը` | B33: Պետական նշանակության ավտոճանապարհների հիմնանորոգում
A34: Նկարագրությունը` | B34: Միջպետական՝ հանրապետական և մարզային նշանակության ավտոճանապարհների քայքայված ծածկի վերանորոգում՝ մաշված ծածկի փոխարինում_x000D_
A35: Միջոցառման տեսակը` | B35: Հանրության կողմից անմիջականորեն օգտագործվող ակտիվների հետ կապված միջոցառումներ
A36: Արդյունքի չափորոշիչներ
A37: Միջոցառման վրա կատարվող ծախսը (հազար դրամ) | C37: =+'2'!G30 -> 0 | D37: =+'2'!H30 -> -89734.5 | E37: =+'2'!I30 -> -89734.5

Sheet 5
A1: Հավելված N5
A2: ՀՀ կառավարության 2021 թվականի
A3: ______________ ի ___Ն որոշման
A5: ՀԱՅԱՍՏԱՆԻ ՀԱՆՐԱՊԵՏՈՒԹՅԱՆ ԿԱՌԱՎԱՐՈՒԹՅԱՆ 2021 ԹՎԱԿԱՆԻ ԴԵԿՏԵՄԲԵՐԻ 23-Ի N 2121-Ն ՈՐՈՇՄԱՆ N 10 ՀԱՎԵԼՎԱԾՈՒՄ ԿԱՏԱՐՎՈՂ ԼՐԱՑՈՒՄՆԵՐԸ
A6: Կոդը | B6: Անվանումը | C6: Գնման ձևը | D6: Չափման միավորը | E6: Միավորի գինը | F6: Ցուցանիշների փոփոխությունը (ավելացումները նշված են դրական նշանով)
F7: Քանակը | G7: Գումարը (հազար դրամով)
A8: ՀՀ տարածքային կառավարման և ենթակառուցվածքների նախարարություն | G8: =+G9 -> 89733.946
A9: Բաժին N 04 | B9: Խումբ N 05 | C9: Դաս N 01 | D9: Ճանապարհային տրանսպորտ | G9: =+G10 -> 89733.946
A10: 1049 21001 | B10: Պետական նշանակության ավտոճանապարհների հիմնանորոգում | G10: =+G11 -> 89733.946
A11: ՄԱՍ III. ԾԱՌԱՅՈՒԹՅՈՒՆՆԵՐ | G11: =SUM(G12:G17) -> 89733.946
A12: 71241200/552 | B12: Նախագծերի պատրաստում, ծախսերի գնահատում | C12: ՀԲՄ | D12: դրամ | E12: 18433946 | F12: 1 | G12: =+F12*E12/1000 -> 18433.946
A13: 71241200/554 | B13: Նախագծերի պատրաստում, ծախսերի գնահատում | C13: ՀԲՄ | D13: դրամ | E13: 27600000 | F13: 1 | G13: =+F13*E13/1000 -> 27600
A14: 71241200/557 | B14: Նախագծերի պատրաստում, ծախսերի գնահատում | C14: ՀԲՄ | D14: դրամ | E14: 12000000 | F14: 1 | G14: =+F14*E14/1000 -> 12000
A15: 71241200/558 | B15: Նախագծերի պատրաստում, ծախսերի գնահատում | C15: ՀԲՄ | D15: դրամ | E15: 19500000 | F15: 1 | G15: =+F15*E15/1000 -> 19500
A16: 71241200/501 | B16: Նախագծերի պատրաստում, ծախսերի գնահատում | C16: ՀԲՄ | D16: դրամ | E16: 5600000 | F16: 1 | G16: =+F16*E16/1000 -> 5600
A17: 71241200/502 | B17: Նախագծերի պատրաստում, ծախսերի գնահատում | C17: ՀԲՄ | D17: դրամ | E17: 6600000 | F17: 1 | G17: =+F17*E17/1000 -> 6600
