Workbook

Sheet Հավելված 1
H1: Հավելված N 1
A2: «ՀԱՅԱՍՏԱՆԻ ՀԱՆՐԱՊԵՏՈՒԹՅԱՆ 2022 ԹՎԱԿԱՆԻ ՊԵՏԱԿԱՆ ԲՅՈՒՋԵԻ ՄԱՍԻՆ» ՀԱՅԱՍՏԱՆԻ ՀԱՆՐԱՊԵՏՈՒԹՅԱՆ ՕՐԵՆՔԻ N 1 ՀԱՎԵԼՎԱԾԻ N 3 ԱՂՅՈՒՍԱԿՈՒՄ ԿԱՏԱՐՎՈՂ ՓՈՓՈԽՈՒԹՅՈՒՆՆԵՐԸ ԵՎ ԼՐԱՑՈՒՄՆԵՐԸ
H3: հազ. դրամ
A4: Ծրագրային դասիչ | C4: Բյուջետային գլխավոր կարգադրիչների, ծրագրերի, միջոցառումների և ուղղությունների անվանումները | D4: Ցուցանիշների փոփոխությունը (ավելացումները նշված են դրական նշանով, իսկ նվազեցումները՝ փակագծերում)
D5: Ընդամենը | E5: այդ թվում՝
E6: Կառուցման աշխատանքներ | F6: Վերակառուցման, վերանորոգման և վերականգնման աշխատանքներ | G6: Նախագծահետազոտական, գեոդեզա-քարտեզագրական աշխատանքներ | H6: Ոչ ֆինանսական այլ ակտիվների ձեռքբերում
A7: Ծրագիր | B7: Միջոցառում
C8: ԸՆԴԱՄԵՆԸ | D8: =D10 -> 0 | E8: =E10 -> -159700 | F8: =F10 -> 0 | G8: =G10 -> 159700 | H8: =H10 -> 0
C9: այդ թվում՝
C10: ՀՀ ՊԵՏԱԿԱՆ ԵԿԱՄՈՒՏՆԵՐԻ ԿՈՄԻՏԵ | D10: =D12 -> 0 | E10: =E12 -> -159700 | F10: =F12 -> 0 | G10: =G12 -> 159700 | H10: =H12 -> 0
C11: այդ թվում`
A12: 1023 | B12: 31003 | C12: ՀՀ պետական եկամուտների կոմիտեի շենքային ապահովվածության բարելավում | D12: =SUM(D13:D15) -> 0 | E12: =SUM(E13:E15) -> -159700 | F12: =SUM(F13:F15) -> 0 | G12: =SUM(G13:G15) -> 159700 | H12: =SUM(H13:H15) -> 0
C13: ՀՀ պետական եկամուտների կոմիտեի Գյումրի քաղաքի Թբիլիսյան խճուղի թիվ 2/14 հասցեում գտնվող արտաքին տնտեսական գործունեության կենտրոնի կառուցման աշխատանքներ | D13: =E13+F13+G13+H13 -> -159700 | E13: ='Հավելված 3'!F14 -> -159700
C14: ՀՀ ՊԵԿ-ի Երևան քաղաքի արտաքին տնտեսական գործունեության կենտրոնի կառուցման աշխատանքների նախագծանախահաշվային փաստաթղթերի ձեռքբերում | D14: =E14+F14+G14+H14 -> 145000 | G14: ='Հավելված 3'!F15 -> 145000
C15: ՀՀ ՊԵԿ-ի Երևան քաղաքի արտաքին տնտեսական գործունեության կենտրոնի կառուցման համար հողատարածքի երկրաբանական հետազոտության ծառայություններ | D15: =E15+F15+G15+H15 -> 14700 | G15: ='Հավելված 3'!F16 -> 14700

Sheet Հավելված 2
I1: Հավելված N 2
A2: ՀԱՅԱՍՏԱՆԻ ՀԱՆՐԱՊԵՏՈՒԹՅԱՆ ԿԱՌԱՎԱՐՈՒԹՅԱՆ 2021 ԹՎԱԿԱՆԻ ԴԵԿՏԵՄԲԵՐԻ 23-Ի N 2121-Ն ՈՐՈՇՄԱՆ NN 3 ԵՎ 4 ՀԱՎԵԼՎԱԾՆԵՐԻ ԱՂՅՈՒՍԱԿՆԵՐՈՒՄ ԿԱՏԱՐՎՈՂ ՓՈՓՈԽՈՒԹՅՈՒՆՆԵՐԸ
I4: հազ.դրամ
A5: Գործառնական դասիչը | D5: Ծրագրային դասիչը | F5: Բյուջետային ծախսերի գործառնական դասակարգման բաժինների, խմբերի և դասերի, բյուջետային ծրագրերի միջոցառումների, բյուջետային հատկացումների գլխավոր կարգադրիչների անվանումները | G5: Ցուցանիշների փոփոխությունը (ավելացումները նշված են դրական նշանով, իսկ նվազեցումները՝ փակագծերում)
A6: բաժին | B6: խումբ | C6: դաս | D6: ծրագիր | E6: միջոցառում | G6: Առաջին կիսամյակ | H6: Ինն ամիս | I6: Տարի
F7: ԸՆԴԱՄԵՆԸ ԾԱԽՍԵՐ | G7: =G9 -> 0 | H7: =H9 -> 0 | I7: =I9 -> 0
F8: այդ թվում՝
A9: 01 | F9: ԸՆԴՀԱՆՈՒՐ ԲՆՈՒՅԹԻ ՀԱՆՐԱՅԻՆ ԾԱՌԱՅՈՒԹՅՈՒՆՆԵՐ | G9: =G11 -> 0 | H9: =H11 -> 0 | I9: =I11 -> 0
F10: այդ թվում՝
B11: 01 | F11: Օրենսդիր և գործադիր մարմիններ, պետական կառավարում, ֆինանսական և հարկաբյուջետային հարաբերություններ, արտաքին հարաբերություններ | G11: =G13 -> 0 | H11: =H13 -> 0 | I11: =I13 -> 0
F12: այդ թվում՝
C13: 02 | F13: Ֆինանսական և հարկաբյուջետային հարաբերություններ | G13: =G15 -> 0 | H13: =H15 -> 0 | I13: =I15 -> 0
F14: այդ թվում՝
F15: ՀՀ պետական եկամուտների կոմիտե | G15: =G16 -> 0 | H15: =H16 -> 0 | I15: =I16 -> 0
D16: 1023 | F16: Հարկային և մաքսային ծառայություններ | G16: =G18 -> 0 | H16: =H18 -> 0 | I16: =I18 -> 0
F17: այդ թվում՝
E18: 31003 | F18: ՀՀ պետական եկամուտների կոմիտեի շենքային ապահովվածության բարելավում | G18: =G20 -> 0 | H18: =H20 -> 0 | I18: =I20 -> 0
F19: այդ թվում` ըստ կատարողների
F20: ՀՀ պետական եկամուտների կոմիտե | G20: =G22 -> 0 | H20: =H22 -> 0 | I20: =I22 -> 0
F21: այդ թվում` բյուջետային ծախսերի տնտեսագիտական դասակարգման հոդվածներ
F22: ԸՆԴԱՄԵՆԸ ԾԱԽՍԵՐ | G22: =G23 -> 0 | H22: =H23 -> 0 | I22: =I23 -> 0
F23: ՈՉ ՖԻՆԱՆՍԱԿԱՆ ԱԿՏԻՎՆԵՐԻ ԳԾՈՎ ԾԱԽՍԵՐ | G23: =G24 -> 0 | H23: =H24 -> 0 | I23: =I24 -> 0
F24: ՀԻՄՆԱԿԱՆ ՄԻՋՈՑՆԵՐ | G24: =G25+G27 -> 0 | H24: =H25+H27 -> 0 | I24: =I25+I27 -> 0
F25: ՇԵՆՔԵՐ ԵՎ ՇԻՆՈՒԹՅՈՒՆՆԵՐ | G25: =G26 -> 0 | H25: =H26 -> -107477.2 | I25: =I26 -> -159700
F26: - Շենքերի և շինությունների շինարարություն | G26: ='Հավելված 3'!D14 -> 0 | H26: ='Հավելված 3'!E14 -> -107477.2 | I26: ='Հավելված 3'!F14 -> -159700
F27: ԱՅԼ ՀԻՄՆԱԿԱՆ ՄԻՋՈՑՆԵՐ | G27: =G28 -> 0 | H27: =H28 -> 107477.2 | I27: =I28 -> 159700
F28: - Նախագծահետազոտական ծախսեր | G28: ='Հավելված 3'!D15+'Հավելված 3'!D16 -> 0 | H28: ='Հավելված 3'!E15+'Հավելված 3'!E16 -> 107477.2 | I28: ='Հավելված 3'!F15+'Հավելված 3'!F16 -> 159700

Sheet Հավելված 3
F1: Հավելված N 3
A2: ՀԱՅԱՍՏԱՆԻ ՀԱՆՐԱՊԵՏՈՒԹՅԱՆ ԿԱՌԱՎԱՐՈՒԹՅԱՆ 2021 ԹՎԱԿԱՆԻ ԴԵԿՏԵՄԲԵՐԻ 23-Ի N 2121-Ն ՈՐՈՇՄԱՆ N 5 ՀԱՎԵԼՎԱԾԻ N 2 ԱՂՅՈՒՍԱԿՈՒՄ ԿԱՏԱՐՎՈՂ ՓՈՓՈԽՈՒԹՅՈՒՆՆԵՐԸ ԵՎ ԼՐԱՑՈՒՄՆԵՐԸ
F3: հազ. դրամ
A4: Ծրագրային դասիչը | C4: Բյուջետային գլխավոր կարգադրիչների, ծրագրերի, միջոցառումների, միջոցառումները կատարող պետական մարմինների և ուղղությունների անվանումները | D4: Ցուցանիշների փոփոխությունը (ավելացումները նշված են դրական նշանով, իսկ նվազեցումները՝ փակագծերում)
A5: Ծրագիրը | B5: Միջոցառումը | D5: Առաջին կիսամյակ | E5: Ինն ամիս | F5: Տարի
C6: ԸՆԴԱՄԵՆԸ | D6: =D8 -> 0 | E6: =E8 -> 0 | F6: =F8 -> 0
C7: այդ թվում՝
C8: ՀՀ ՊԵՏԱԿԱՆ ԵԿԱՄՈՒՏՆԵՐԻ ԿՈՄԻՏԵ | D8: =D10 -> 0 | E8: =E10 -> 0 | F8: =F10 -> 0
C9: այդ թվում`
A10: 1023 | B10: 31003 | C10: ՀՀ պետական եկամուտների կոմիտեի շենքային ապահովվածության բարելավում | D10: =D12 -> 0 | E10: =E12 -> 0 | F10: =F12 -> 0
C11: այդ թվում` ըստ կատարողների
C12: ՀՀ պետական եկամուտների կոմիտե | D12: =SUM(D14:D16) -> 0 | E12: =SUM(E14:E16) -> 0 | F12: =SUM(F14:F16) -> 0
C13: այդ թվում` ըստ ուղղությունների
C14: ՀՀ պետական եկամուտների կոմիտեի Գյումրի քաղաքի Թբիլիսյան խճուղի թիվ 2/14 հասցեում գտնվող արտաքին տնտեսական գործունեության կենտրոնի կառուցման աշխատանքներ | D14: =-(D15+D16) -> 0 | E14: =-(E15+E16) -> -107477.2 | F14: =-(F15+F16) -> -159700
C15: ՀՀ ՊԵԿ-ի Երևան քաղաքի արտաքին տնտեսական գործունեության կենտրոնի կառուցման աշխատանքների նախագծանախահաշվային փաստաթղթերի ձեռքբերում | D15: 0 | E15: 107477.2 | F15: 145000
C16: ՀՀ ՊԵԿ-ի Երևան քաղաքի արտաքին տնտեսական գործունեության կենտրոնի կառուցման համար հողատարածքի երկրաբանական հետազոտության ծառայություններ | D16: 0 | E16: 0 | F16: 14700

Sheet Հավելված 4 աղյուսակներ 1,2
E1: Հավելված N 4
E2: Աղյուսակ N 1
A3: ՀԱՅԱՍՏԱՆԻ ՀԱՆՐԱՊԵՏՈՒԹՅԱՆ ԿԱՌԱՎԱՐՈՒԹՅԱՆ 2021 ԹՎԱԿԱՆԻ ԴԵԿՏԵՄԲԵՐԻ 23-Ի N 2121-Ն ՈՐՈՇՄԱՆ N 9 ՀԱՎԵԼՎԱԾԻ N 9.25 ԱՂՅՈՒՍԱԿՈՒՄ ԿԱՏԱՐՎՈՂ ՓՈՓՈԽՈՒԹՅՈՒՆՆԵՐԸ ԵՎ ԼՐԱՑՈՒՄՆԵՐԸ
A5: ՀՀ պետական եկամուտների կոմիտե
A7: ՄԱՍ 2. ՊԵՏԱԿԱՆ ՄԱՐՄՆԻ ԳԾՈՎ ԱՐԴՅՈՒՆՔԱՅԻՆ (ԿԱՏԱՐՈՂԱԿԱՆ) ՑՈՒՑԱՆԻՇՆԵՐԸ
A9: Ծրագրի դասիչը | B9: Ծրագրի անվանումը
A10: 1023 | B10: Հարկային և մաքսային ծառայություններ
A12: Ծրագրի միջոցառումները
A14: Ծրագրի դասիչը` | B14: 1023 | C14: Ցուցանիշների փոփոխությունը (ավելացումները նշված են դրական նշանով)
A15: Միջոցառման դասիչը` | B15: 31003 | C15: Առաջին կիսամյակ | D15: Ինն ամիս | E15: Տարի
A16: Միջոցառման անվանումը` | B16: ՀՀ պետական եկամուտների կոմիտեի շենքային ապահովվածության բարելավում
A17: Նկարագրությունը` | B17: ՀՀ պետական եկամուտների կոմիտեի նոր շենքերի և շինությունների շինարարություն, նախագծային աշխատանքների ձեռքբերում
A18: Միջոցառման տեսակը` | B18: Պետական մարմինների կողմից օգտագործվող ոչ ֆինանսական ակտիվների հետ գործառնություններ
A19: Միջոցառումն իրականացնողի անվանումը | B19: ՀՀ պետական եկամուտների կոմիտե
A20: Արդյունքի չափորոշիչներ
A21: Նախագծվող մակերես, քմ | D21: 19000 | E21: 19000
A22: Նախագծահետազոտական փաստաթղթերի թիվ, հատ | D22: 1 | E22: 1
A23: Երկրաբանական հետազոտություն, հատ | E23: 1
A24: Երկրաբանական հետազոտության մակերես, քմ | E24: 19000
A25: Նախագծվող աշխատանքների ավարտվածության աստիճանը, տոկոս | D25: 80 | E25: 100
A26: Միջոցառման վրա կատարվող ծախսը (հազար դրամ) | C26: ='Հավելված 2'!G18 -> 0 | D26: ='Հավելված 2'!H18 -> 0 | E26: ='Հավելված 2'!I18 -> 0
E27: Աղյուսակ N 2
A28: ՀԱՅԱՍՏԱՆԻ ՀԱՆՐԱՊԵՏՈՒԹՅԱՆ ԿԱՌԱՎԱՐՈՒԹՅԱՆ 2021 ԹՎԱԿԱՆԻ ԴԵԿՏԵՄԲԵՐԻ 23-Ի N 2121-Ն ՈՐՈՇՄԱՆ N 9.1 ՀԱՎԵԼՎԱԾԻ N 9.1.28 ԱՂՅՈՒՍԱԿՈՒՄ ԿԱՏԱՐՎՈՂ ՓՈՓՈԽՈՒԹՅՈՒՆՆԵՐԸ ԵՎ ԼՐԱՑՈՒՄՆԵՐԸ
A30: ՀՀ պետական եկամուտների կոմիտե
A32: ՄԱՍ 1. ՊԵՏԱԿԱՆ ՄԱՐՄՆԻ ԳԾՈՎ ԱՐԴՅՈՒՆՔԱՅԻՆ (ԿԱՏԱՐՈՂԱԿԱՆ) ՑՈՒՑԱՆԻՇՆԵՐԸ
A34: Ծրագրի դասիչը | B34: Ծրագրի անվանումը
A35: 1023 | B35: Հարկային և մաքսային ծառայություններ
A37: Ծրագրի միջոցառումները
A39: Ծրագրի դասիչը` | B39: 1023 | C39: Ցուցանիշների փոփոխությունը (ավելացումները նշված են դրական նշանով)
A40: Միջոցառման դասիչը` | B40: 31003 | C40: Առաջին կիսամյակ | D40: Ինն ամիս | E40: Տարի
A41: Միջոցառման անվանումը` | B41: ՀՀ պետական եկամուտների կոմիտեի շենքային ապահովվածության բարելավում
A42: Նկարագրությունը` | B42: ՀՀ պետական եկամուտների կոմիտեի նոր շենքերի և շինությունների շինարարություն, նախագծային աշխատանքների ձեռքբերում
A43: Միջոցառման տեսակը` | B43: Պետական մարմինների կողմից օգտագործվող ոչ ֆինանսական ակտիվների հետ գործառնություններ
A44: Միջոցառումն իրականացնողի անվանումը | B44: ՀՀ պետական եկամուտների կոմիտե
A45: Արդյունքի չափորոշիչներ
A46: Նախագծվող մակերես, քմ | D46: 19000 | E46: 19000
A47: Նախագծահետազոտական փաստաթղթերի թիվ, հատ | D47: 1 | E47: 1
A48: Երկրաբանական հետազոտություն, հատ | E48: 1
A49: Երկրաբանական հետազոտության մակերես, քմ | E49: 19000
A50: Նախագծվող աշխատանքների ավարտվածության աստիճանը, տոկոս | D50: 80 | E50: 100
A51: Միջոցառման վրա կատարվող ծախսը (հազար դրամ) | C51: ='Հավելված 2'!G18 -> 0 | D51: ='Հավելված 2'!H18 -> 0 | E51: ='Հավելված 2'!I18 -> 0

Sheet Հավելված 5
G1: Հավելված N 5
A2: ՀԱՅԱՍՏԱՆԻ ՀԱՆՐԱՊԵՏՈՒԹՅԱՆ ԿԱՌԱՎԱՐՈՒԹՅԱՆ 2021 ԹՎԱԿԱՆԻ ԴԵԿՏԵՄԲԵՐԻ 23-Ի N 2121-Ն ՈՐՈՇՄԱՆ N 10 ՀԱՎԵԼՎԱԾՈՒՄ ԿԱՏԱՐՎՈՂ ՓՈՓՈԽՈՒԹՅՈՒՆՆԵՐՆ ՈՒ ԼՐԱՑՈՒՄՆԵՐԸ
A4: Գնման առարկայի | E4: Ցուցանիշների փոփոխությունը (ավելացումները նշված են դրական նշանով, իսկ նվազեցումները՝ փակագծերում)
A5: կոդը | B5: անվանումը | C5: գնման ձևը | D5: չափի միավորը | E5: միավորի գինը | F5: քանակը | G5: Գումարը (հազար դրամ)
A7: ՀՀ պետական եկամուտների կոմիտե | G7: =G8 -> 0
A8: Բաժին N 01 | B8: Խումբ N 01 | C8: Դաս N 02 | D8: Ֆինանսական և հարկաբյուջետային հարաբերություններ | G8: =G9 -> 0
A9: 1023 31003 | B9: ՀՀ պետական եկամուտների կոմիտեի շենքային ապահովվածության բարելավում | G9: =G10+G13 -> 0
B10: ՄԱՍ II. ԱՇԽԱՏԱՆՔՆԵՐ | G10: =G11+G12 -> -14700
A11: 45451700-1 | B11: վերակառուցման աշխատանքներ | C11: ԲՄ | D11: դրամ | G11: ='Հավելված 3'!F14 -> -159700
A12: 71241200 | B12: նախագծերի պատրաստում, ծախսերի գնահատում | C12: ԲՄ | D12: դրամ | E12: 145000000 | F12: 1 | G12: =E12*F12/1000 -> 145000
B13: ՄԱՍ III. ԾԱՌԱՅՈՒԹՅՈՒՆՆԵՐ | G13: =SUM(G14) -> 14700
A14: 71351230 | B14: երկրաբանական հետազոտական ծառայություններ | C14: ԳՀ | D14: դրամ | E14: 18000000 | F14: 1 | G14: 14700
