Workbook

Sheet Հավելված 1
B1: Հավելված N 1
A3: «ՀԱՅԱՍՏԱՆԻ ՀԱՆՐԱՊԵՏՈՒԹՅԱՆ 2022 ԹՎԱԿԱՆԻ ՊԵՏԱԿԱՆ ԲՅՈՒՋԵԻ ՄԱՍԻՆ» ՀԱՅԱՍՏԱՆԻ ՀԱՆՐԱՊԵՏՈՒԹՅԱՆ ՕՐԵՆՔԻ 2-ՐԴ ՀՈԴՎԱԾԻ ԱՂՅՈՒՍԱԿՈՒՄ ԿԱՏԱՐՎՈՂ ՓՈՓՈԽՈՒԹՅՈՒՆՆԵՐԸ
B4: հազ. դրամ
B5: Ցուցանիշների փոփոխությունը (ավելացումները նշված են դրական նշանով)
A6: Եկամուտների գծով | B6: ='Հավելված 2'!D6 -> 214956.2
A7: Ծախսերի գծով | B7: ='Հավելված 5'!I7 -> 214956.2
A8: Դեֆիցիտը (պակասուրդը) | B8: =+B7-B6 -> 0

Sheet Հավելված 2
D1: Հավելված N 2
A2: «ՀԱՅԱՍՏԱՆԻ ՀԱՆՐԱՊԵՏՈՒԹՅԱՆ 2022 ԹՎԱԿԱՆԻ ՊԵՏԱԿԱՆ ԲՅՈՒՋԵԻ ՄԱՍԻՆ» ՕՐԵՆՔԻ 6-ՐԴ ՀՈԴՎԱԾԻ ԱՂՅՈՒՍԱԿՈՒՄ ԵՎ ՀԱՅԱՍՏԱՆԻ ՀԱՆՐԱՊԵՏՈՒԹՅԱՆ ԿԱՌԱՎԱՐՈՒԹՅԱՆ 2021 ԹՎԱԿԱՆԻ ԴԵԿՏԵՄԲԵՐԻ 23-Ի N 2121-Ն ՈՐՈՇՄԱՆ N 2 ՀԱՎԵԼՎԱԾՈՒՄ ԿԱՏԱՐՎՈՂ ՓՈՓՈԽՈՒԹՅՈՒՆՆԵՐԸ
D3: հազ. դրամ
A4: Եկամտատեսակը | B4: Ցուցանիշների փոփոխությունը (գումարների ավելացումը նշված է դրական նշանով)
B5: առաջին կիսամյակ | C5: ինն ամիս | D5: տարի
A6: Ընդամենը | B6: =B8 -> 153100.5 | C6: =C8 -> 153497.9 | D6: =D8 -> 214956.2
A7: այդ թվում՝
A8: Հարկային եկամուտներ և պետական տուրքեր | B8: ='Հավելված 5'!G7 -> 153100.5 | C8: ='Հավելված 5'!H7 -> 153497.9 | D8: ='Հավելված 5'!I7 -> 214956.2

Sheet Հավելված 3
F1: Հավելված N 3
A2: «ՀԱՅԱՍՏԱՆԻ ՀԱՆՐԱՊԵՏՈՒԹՅԱՆ 2022 ԹՎԱԿԱՆԻ ՊԵՏԱԿԱՆ ԲՅՈՒՋԵԻ ՄԱՍԻՆ» ՀԱՅԱՍՏԱՆԻ ՀԱՆՐԱՊԵՏՈՒԹՅԱՆ ՕՐԵՆՔԻ N 1 ՀԱՎԵԼՎԱԾԻ N 2 ԱՂՅՈՒՍԱԿՈՒՄ ԿԱՏԱՐՎՈՂ ՎԵՐԱԲԱՇԽՈՒՄԸ ԵՎ ՀԱՅԱՍՏԱՆԻ ՀԱՆՐԱՊԵՏՈՒԹՅԱՆ ԿԱՌԱՎԱՐՈՒԹՅԱՆ 2021 ԹՎԱԿԱՆԻ ԴԵԿՏԵՄԲԵՐԻ 23-Ի N 2121-Ն ՈՐՈՇՄԱՆ N 5 ՀԱՎԵԼՎԱԾԻ N 1 ԱՂՅՈՒՍԱԿՈՒՄ ԿԱՏԱՐՎՈՂ ՓՈՓՈԽՈՒԹՅՈՒՆՆԵՐԸ
F3: հազ. դրամ
A4: Ծրագրային դասիչը | C4: Բյուջետային հատկացումների գլխավոր կարգադրիչների, ծրագրերի և միջոցառումների անվանումները | D4: Ցուցանիշների փոփոխությունը (ավելացումները նշված են դրական նշանով, իսկ նվազեցումները՝ փակագծերում)
A5: Ծրագիր | B5: Միջոցառում | D5: Առաջին կիսամյակ | E5: Ինն ամիս | F5: Տարի
C6: ԸՆԴԱՄԵՆԸ | D6: =D7 -> 153100.5 | E6: =E7 -> 153497.9 | F6: =F7 -> 214956.2
C7: ՀՀ պետական եկամուտների կոմիտե | D7: =D8 -> 153100.5 | E7: =E8 -> 153497.9 | F7: =F8 -> 214956.2
A8: 1023 | C8: Ծրագրի անվանումը՝ | D8: =D15+D21+D27+D33 -> 153100.5 | E8: =E15+E21+E27+E33 -> 153497.9 | F8: =F15+F21+F27+F33 -> 214956.2
C9: Հարկային և մաքսային ծառայություններ
C10: Ծրագրի նպատակը՝
C11: Հարկային և մաքսային միասնական պետական քաղաքականության իրականացում, հարկային և մաքսային օրենսդրության ամբողջական և համահավասար կիրառում
C12: Վերջնական արդյունքի նկարագրությունը՝
C13: Արդյունավետ հարկային և մաքսային հսկողության իրականացում, պետական բյուջեի եկամուտների ապահովում
A14: Ծրագրի միջոցառումներ
B15: 11001 | C15: Միջոցառման անվանումը` | D15: ='Հավելված 5'!G18 -> -36000 | E15: ='Հավելված 5'!H18 -> -69000 | F15: ='Հավելված 5'!I18 -> -100000
C16: Հարկային և մաքսային ծառայություններ
C17: Միջոցառման նկարագրությունը`
C18: Հարկային և մաքսային քաղաքականության մշակման, պլանավորման, մոնիտորինգի, ծրագրերի համակարգման, գանձման, վերահսկողության և աջակցության ծառայություններ
C19: Միջոցառման տեսակը
C20: Ծառայությունների մատուցում
B21: 31001 | C21: Միջոցառման անվանումը՝ | D21: ='Հավելված 5'!G27 -> 248000 | E21: ='Հավելված 5'!H27 -> 342000 | F21: ='Հավելված 5'!I27 -> 1065500
C22: ՀՀ պետական եկամուտների կոմիտեի տեխնիկական հագեցվածության բարելավում
C23: Միջոցառման նկարագրությունը`
C24: ՀՀ պետական եկամուտների կոմիտեի տեխնիկական հագեցվածության բարելավում
C25: Միջոցառման տեսակը
C26: Պետական մարմինների կողմից օգտագործվող ոչ ֆինանսական ակտիվների հետ գործառնություններ
B27: 31003 | C27: Միջոցառման անվանումը` | D27: ='Հավելված 5'!G38 -> 4388.1 | E27: ='Հավելված 5'!H38 -> 4388.1 | F27: ='Հավելված 5'!I38 -> -577393.5
C28: ՀՀ պետական եկամուտների կոմիտեի շենքային ապահովվածության բարելավում_x000D_
C29: Միջոցառման նկարագրությունը`
C30: ՀՀ պետական եկամուտների կոմիտեի նոր շենքերի և շինությունների շինարարություն, նախագծային աշխատանքների ձեռքբերում
C31: Միջոցառման տեսակը
C32: Պետական մարմինների կողմից օգտագործվող ոչ ֆինանսական ակտիվների հետ գործառնություններ
B33: 31004 | C33: Միջոցառման անվանումը` | D33: ='Հավելված 5'!G49 -> -63287.6 | E33: ='Հավելված 5'!H49 -> -123890.2 | F33: ='Հավելված 5'!I49 -> -173150.3
C34: ՀՀ պետական եկամուտների կոմիտեի շենքային պայմանների բարելավում
C35: Միջոցառման նկարագրությունը`
C36: ՀՀ պետական եկամուտների կոմիտեի շենքերի և շինությունների կապիտալ վերանորոգում, նախագծային աշխատանքների ձեռքբերում
C37: Միջոցառման տեսակը
C38: Պետական մարմինների կողմից օգտագործվող ոչ ֆինանսական ակտիվների հետ գործառնություններ

Sheet Հավելված 4
H1: Հավելված N 4
A2: «ՀԱՅԱՍՏԱՆԻ ՀԱՆՐԱՊԵՏՈՒԹՅԱՆ 2022 ԹՎԱԿԱՆԻ ՊԵՏԱԿԱՆ ԲՅՈՒՋԵԻ ՄԱՍԻՆ» ՀԱՅԱՍՏԱՆԻ ՀԱՆՐԱՊԵՏՈՒԹՅԱՆ ՕՐԵՆՔԻ N 1 ՀԱՎԵԼՎԱԾԻ N 3 ԱՂՅՈՒՍԱԿՈՒՄ ԿԱՏԱՐՎՈՂ ՓՈՓՈԽՈՒԹՅՈՒՆՆԵՐԸ ԵՎ ԼՐԱՑՈՒՄՆԵՐԸ
H3: հազ. դրամ
A4: Ծրագրային դասիչ | C4: Բյուջետային գլխավոր կարգադրիչների, ծրագրերի, միջոցառումների և ուղղությունների անվանումները | D4: Ցուցանիշների փոփոխությունը (ավելացումները նշված են դրական նշանով, իսկ նվազեցումները՝ փակագծերում)
D5: Ընդամենը | E5: այդ թվում՝
E6: Կառուցման աշխատանքներ | F6: Վերակառուցման, վերանորոգման և վերականգնման աշխատանքներ | G6: Նախագծահետազոտական, գեոդեզա-քարտեզագրական աշխատանքներ | H6: Ոչ ֆինանսական այլ ակտիվների ձեռքբերում
A7: Ծրագիր | B7: Միջոցառում
C8: ԸՆԴԱՄԵՆԸ | D8: =D10 -> 314956.2 | E8: =E10 -> -581781.6 | F8: =F10 -> -173150.3 | G8: =G10 -> 4388.1 | H8: =H10 -> 1065500
C9: այդ թվում՝
C10: ՀՀ ՊԵՏԱԿԱՆ ԵԿԱՄՈՒՏՆԵՐԻ ԿՈՄԻՏԵ | D10: =D12+D13+D16 -> 314956.2 | E10: =E12+E13+E16 -> -581781.6 | F10: =F12+F13+F16 -> -173150.3 | G10: =G12+G13+G16 -> 4388.1 | H10: =H12+H13+H16 -> 1065500
C11: այդ թվում`
A12: 1023 | B12: 31001 | C12: ՀՀ պետական եկամուտների կոմիտեի տեխնիկական հագեցվածության բարելավում | D12: =E12+F12+G12+H12 -> 1065500 | H12: ='Հավելված 6'!F10 -> 1065500
A13: 1023 | B13: 31003 | C13: ՀՀ պետական եկամուտների կոմիտեի շենքային ապահովվածության բարելավում | D13: =SUM(D14:D15) -> -577393.5 | E13: =SUM(E14:E15) -> -581781.6 | F13: =SUM(F14:F15) -> 0 | G13: =SUM(G14:G15) -> 4388.1 | H13: =SUM(H14:H15) -> 0
C14: ՀՀ պետական եկամուտների կոմիտեի Գյումրի քաղաքի Թբիլիսյան խճուղի թիվ 2/14 հասցեում գտնվող արտաքին տնտեսական գործունեության կենտրոնի կառուցման աշխատանքներ | D14: =E14+F14+G14+H14 -> -581781.6 | E14: ='Հավելված 6'!F17 -> -581781.6
C15: ՀՀ ՊԵԿ-ի Արևելյան մաքսատուն-վարչության Բագրատաշենի մաքսային կետ-բաժնի մաքսային հսկողության և ձևակերպումների, մաքսային հսկողության և սպասարկման բարելավման, տրանսպորտային միջոցների հոսքերի արդյունավետ կազմակերպման նպատակով վերակառուցման աշխատանքների նախագծանախահաշվային փաստաթղթերի ձեռքբերում | D15: =E15+F15+G15+H15 -> 4388.1 | G15: ='Հավելված 6'!F18 -> 4388.1
A16: 1023 | B16: 31004 | C16: ՀՀ պետական եկամուտների կոմիտեի շենքային պայմանների բարելավում | D16: =D17+D18 -> -173150.3 | E16: =E17+E18 -> 0 | F16: =F17+F18 -> -173150.3 | G16: =G17+G18 -> 0 | H16: =H17+H18 -> 0
C17: ՀՀ ՊԵԿ Գավառ քաղաքի Հերոս քաղաք Նովոռոսիյսկի թիվ 4 հասցեի վարչական շենքի վերանորոգման աշխատանքներ | D17: =E17+F17+G17+H17 -> -90348.5 | F17: ='Հավելված 6'!F23 -> -90348.5
C18: ՀՀ ՊԵԿ Արտաշատ քաղաքի Օգոստոսի 23 թիվ 83 հասցեի վարչական շենքի վերանորոգման աշխատանքներ | D18: =E18+F18+G18+H18 -> -82801.8 | F18: ='Հավելված 6'!F24 -> -82801.8

Sheet Հավելված 5
I1: Հավելված N 5
A2: ՀԱՅԱՍՏԱՆԻ ՀԱՆՐԱՊԵՏՈՒԹՅԱՆ ԿԱՌԱՎԱՐՈՒԹՅԱՆ 2021 ԹՎԱԿԱՆԻ ԴԵԿՏԵՄԲԵՐԻ 23-Ի N 2121-Ն ՈՐՈՇՄԱՆ NN 3 ԵՎ 4 ՀԱՎԵԼՎԱԾՆԵՐԻ ԱՂՅՈՒՍԱԿՆԵՐՈՒՄ ԿԱՏԱՐՎՈՂ ՓՈՓՈԽՈՒԹՅՈՒՆՆԵՐԸ
I4: հազ.դրամ
A5: Գործառնական դասիչը | D5: Ծրագրային դասիչը | F5: Բյուջետային ծախսերի գործառնական դասակարգման բաժինների, խմբերի և դասերի, բյուջետային ծրագրերի միջոցառումների, բյուջետային հատկացումների գլխավոր կարգադրիչների անվանումները | G5: Ցուցանիշների փոփոխությունը (ավելացումները նշված են դրական նշանով, իսկ նվազեցումները՝ փակագծերում)
A6: բաժին | B6: խումբ | C6: դաս | D6: ծրագիր | E6: միջոցառում | G6: Առաջին կիսամյակ | H6: Ինն ամիս | I6: Տարի
F7: ԸՆԴԱՄԵՆԸ ԾԱԽՍԵՐ | G7: =G9 -> 153100.5 | H7: =H9 -> 153497.9 | I7: =I9 -> 214956.2
F8: այդ թվում՝
A9: 01 | F9: ԸՆԴՀԱՆՈՒՐ ԲՆՈՒՅԹԻ ՀԱՆՐԱՅԻՆ ԾԱՌԱՅՈՒԹՅՈՒՆՆԵՐ | G9: =G11 -> 153100.5 | H9: =H11 -> 153497.9 | I9: =I11 -> 214956.2
F10: այդ թվում՝
B11: 01 | F11: Օրենսդիր և գործադիր մարմիններ, պետական կառավարում, ֆինանսական և հարկաբյուջետային հարաբերություններ, արտաքին հարաբերություններ | G11: =G13 -> 153100.5 | H11: =H13 -> 153497.9 | I11: =I13 -> 214956.2
F12: այդ թվում՝
C13: 02 | F13: Ֆինանսական և հարկաբյուջետային հարաբերություններ | G13: =G15 -> 153100.5 | H13: =H15 -> 153497.9 | I13: =I15 -> 214956.2
F14: այդ թվում՝
F15: ՀՀ պետական եկամուտների կոմիտե | G15: =G16 -> 153100.5 | H15: =H16 -> 153497.9 | I15: =I16 -> 214956.2
D16: 1023 | F16: Հարկային և մաքսային ծառայություններ | G16: =G18+G27+G38+G49 -> 153100.5 | H16: =H18+H27+H38+H49 -> 153497.9 | I16: =I18+I27+I38+I49 -> 214956.2
F17: այդ թվում՝
E18: 11001 | F18: Հարկային և մաքսային ծառայություններ | G18: =G20 -> -36000 | H18: =H20 -> -69000 | I18: =I20 -> -100000
F19: այդ թվում` ըստ կատարողների
F20: ՀՀ պետական եկամուտների կոմիտե | G20: =G22 -> -36000 | H20: =H22 -> -69000 | I20: =I22 -> -100000
F21: այդ թվում` բյուջետային ծախսերի տնտեսագիտական դասակարգման հոդվածներ
F22: ԸՆԴԱՄԵՆԸ ԾԱԽՍԵՐ | G22: =G23 -> -36000 | H22: =H23 -> -69000 | I22: =I23 -> -100000
F23: ԸՆԹԱՑԻԿ ԾԱԽՍԵՐ | G23: =G24 -> -36000 | H23: =H24 -> -69000 | I23: =I24 -> -100000
F24: ԾԱՌԱՅՈՒԹՅՈՒՆՆԵՐԻ ԵՎ ԱՊՐԱՆՔՆԵՐԻ ՁԵՌՔԲԵՐՈՒՄ | G24: =G25 -> -36000 | H24: =H25 -> -69000 | I24: =I25 -> -100000
F25: Պայմանագրային այլ ծառայությունների ձեռքբերում | G25: =G26 -> -36000 | H25: =H26 -> -69000 | I25: =I26 -> -100000
F26: - Ընդհանուր բնույթի այլ ծառայություններ | G26: =-36000 -> -36000 | H26: -69000 | I26: =-100000 -> -100000
E27: 31001 | F27: ՀՀ պետական եկամուտների կոմիտեի տեխնիկական հագեցվածության բարելավում | G27: =G29 -> 248000 | H27: =H29 -> 342000 | I27: =I29 -> 1065500
F28: այդ թվում` ըստ կատարողների
F29: ՀՀ պետական եկամուտների կոմիտե | G29: =G31 -> 248000 | H29: =H31 -> 342000 | I29: =I31 -> 1065500
F30: այդ թվում` բյուջետային ծախսերի տնտեսագիտական դասակարգման հոդվածներ
F31: ԸՆԴԱՄԵՆԸ ԾԱԽՍԵՐ | G31: =G32 -> 248000 | H31: =H32 -> 342000 | I31: =I32 -> 1065500
F32: ՈՉ ՖԻՆԱՆՍԱԿԱՆ ԱԿՏԻՎՆԵՐԻ ԳԾՈՎ ԾԱԽՍԵՐ | G32: =G33 -> 248000 | H32: =H33 -> 342000 | I32: =I33 -> 1065500
F33: ՀԻՄՆԱԿԱՆ ՄԻՋՈՑՆԵՐ | G33: =G34+G36 -> 248000 | H33: =H34+H36 -> 342000 | I33: =I34+I36 -> 1065500
F34: ՄԵՔԵՆԱՆԵՐ ԵՎ ՍԱՐՔԱՎՈՐՈՒՄՆԵՐ | G34: =G35 -> 0 | H34: =H35 -> 0 | I34: =I35 -> 349500
F35: - Վարչական սարքավորումներ | I35: 349500
F36: ԱՅԼ ՀԻՄՆԱԿԱՆ ՄԻՋՈՑՆԵՐ | G36: =G37 -> 248000 | H36: =H37 -> 342000 | I36: =I37 -> 716000
F37: - Ոչ նյութական հիմնական միջոցներ | G37: =160000+88000 -> 248000 | H37: =160000+88000+34200+39800+20000 -> 342000 | I37: =160000+88000+34200+70000+39800+174000+20000+130000 -> 716000
E38: 31003 | F38: ՀՀ պետական եկամուտների կոմիտեի շենքային ապահովվածության բարելավում | G38: =G40 -> 4388.1 | H38: =H40 -> 4388.1 | I38: =I40 -> -577393.5
F39: այդ թվում` ըստ կատարողների
F40: ՀՀ պետական եկամուտների կոմիտե | G40: =G42 -> 4388.1 | H40: =H42 -> 4388.1 | I40: =I42 -> -577393.5
F41: այդ թվում` բյուջետային ծախսերի տնտեսագիտական դասակարգման հոդվածներ
...

Sheet Հավելված 6
F1: Հավելված N 6
A2: ՀԱՅԱՍՏԱՆԻ ՀԱՆՐԱՊԵՏՈՒԹՅԱՆ ԿԱՌԱՎԱՐՈՒԹՅԱՆ 2021 ԹՎԱԿԱՆԻ ԴԵԿՏԵՄԲԵՐԻ 23-Ի N 2121-Ն ՈՐՈՇՄԱՆ N 5 ՀԱՎԵԼՎԱԾԻ N 2 ԱՂՅՈՒՍԱԿՈՒՄ ԿԱՏԱՐՎՈՂ ՓՈՓՈԽՈՒԹՅՈՒՆՆԵՐԸ ԵՎ ԼՐԱՑՈՒՄՆԵՐԸ
F3: հազ. դրամ
A4: Ծրագրային դասիչը | C4: Բյուջետային գլխավոր կարգադրիչների, ծրագրերի, միջոցառումների, միջոցառումները կատարող պետական մարմինների և ուղղությունների անվանումները | D4: Ցուցանիշների փոփոխությունը (ավելացումները նշված են դրական նշանով, իսկ նվազեցումները՝ փակագծերում)
A5: Ծրագիրը | B5: Միջոցառումը | D5: Առաջին կիսամյակ | E5: Ինն ամիս | F5: Տարի
C6: ԸՆԴԱՄԵՆԸ | D6: =D8 -> 189100.5 | E6: =E8 -> 222497.9 | F6: =F8 -> 314956.2
C7: այդ թվում՝
C8: ՀՀ ՊԵՏԱԿԱՆ ԵԿԱՄՈՒՏՆԵՐԻ ԿՈՄԻՏԵ | D8: =D10+D13+D19 -> 189100.5 | E8: =E10+E13+E19 -> 222497.9 | F8: =F10+F13+F19 -> 314956.2
C9: այդ թվում`
A10: 1023 | B10: 31001 | C10: ՀՀ պետական եկամուտների կոմիտեի տեխնիկական հագեցվածության բարելավում | D10: =D12 -> 248000 | E10: =E12 -> 342000 | F10: =F12 -> 1065500
C11: այդ թվում` ըստ կատարողների
C12: ՀՀ պետական եկամուտների կոմիտե | D12: ='Հավելված 5'!G27 -> 248000 | E12: ='Հավելված 5'!H27 -> 342000 | F12: ='Հավելված 5'!I27 -> 1065500
A13: 1023 | B13: 31003 | C13: ՀՀ պետական եկամուտների կոմիտեի շենքային ապահովվածության բարելավում | D13: =D15 -> 4388.1 | E13: =E15 -> 4388.1 | F13: =F15 -> -577393.5
C14: այդ թվում` ըստ կատարողների
C15: ՀՀ պետական եկամուտների կոմիտե | D15: =SUM(D17:D18) -> 4388.1 | E15: =SUM(E17:E18) -> 4388.1 | F15: =SUM(F17:F18) -> -577393.5
C16: այդ թվում` ըստ ուղղությունների
C17: ՀՀ պետական եկամուտների կոմիտեի Գյումրի քաղաքի Թբիլիսյան խճուղի թիվ 2/14 հասցեում գտնվող արտաքին տնտեսական գործունեության կենտրոնի կառուցման աշխատանքներ | F17: =-744781.6+145000+18000 -> -581781.6
C18: ՀՀ ՊԵԿ-ի Արևելյան մաքսատուն-վարչության Բագրատաշենի մաքսային կետ-բաժնի մաքսային հսկողության և ձևակերպումների, մաքսային հսկողության և սպասարկման բարելավման, տրանսպորտային միջոցների հոսքերի արդյունավետ կազմակերպման նպատակով վերակառուցման աշխատանքների նախագծանախահաշվային փաստաթղթերի ձեռքբերում | D18: 4388.1 | E18: 4388.1 | F18: 4388.1
A19: 1023 | B19: 31004 | C19: ՀՀ պետական եկամուտների կոմիտեի շենքային պայմանների բարելավում | D19: =D21 -> -63287.6 | E19: =E21 -> -123890.2 | F19: =F21 -> -173150.3
C20: այդ թվում` ըստ կատարողների
C21: ՀՀ պետական եկամուտների կոմիտե | D21: =D23+D24 -> -63287.6 | E21: =E23+E24 -> -123890.2 | F21: =F23+F24 -> -173150.3
C22: այդ թվում` ըստ ուղղությունների
C23: ՀՀ ՊԵԿ Գավառ քաղաքի Հերոս քաղաք Նովոռոսիյսկի թիվ 4 հասցեի վարչական շենքի վերանորոգման աշխատանքներ | D23: -33230.5 | E23: -68495.8 | F23: -90348.5
C24: ՀՀ ՊԵԿ Արտաշատ քաղաքի Օգոստոսի 23 թիվ 83 հասցեի վարչական շենքի վերանորոգման աշխատանքներ | D24: -30057.1 | E24: -55394.4 | F24: -82801.8

Sheet Հավելված 7 աղյուսակներ 1,2
E1: Հավելված N 7
E2: Աղյուսակ N 1
A3: ՀԱՅԱՍՏԱՆԻ ՀԱՆՐԱՊԵՏՈՒԹՅԱՆ ԿԱՌԱՎԱՐՈՒԹՅԱՆ 2021 ԹՎԱԿԱՆԻ ԴԵԿՏԵՄԲԵՐԻ 23-Ի N 2121-Ն ՈՐՈՇՄԱՆ N 9 ՀԱՎԵԼՎԱԾԻ N 9.25 ԱՂՅՈՒՍԱԿՈՒՄ ԿԱՏԱՐՎՈՂ ՓՈՓՈԽՈՒԹՅՈՒՆՆԵՐԸ ԵՎ ԼՐԱՑՈՒՄՆԵՐԸ
A5: ՀՀ պետական եկամուտների կոմիտե
A7: ՄԱՍ 2. ՊԵՏԱԿԱՆ ՄԱՐՄՆԻ ԳԾՈՎ ԱՐԴՅՈՒՆՔԱՅԻՆ (ԿԱՏԱՐՈՂԱԿԱՆ) ՑՈՒՑԱՆԻՇՆԵՐԸ
A9: Ծրագրի դասիչը | B9: Ծրագրի անվանումը
A10: 1023 | B10: Հարկային և մաքսային ծառայություններ
A12: Ծրագրի միջոցառումները
A14: Ծրագրի դասիչը՝ | B14: 1023 | C14: Ցուցանիշների փոփոխությունը (նվազեցումները նշված են փակագծերում)
A15: Միջոցառման դասիչը՝ | B15: 11001 | C15: Առաջին կիսամյակ | D15: Ինն ամիս | E15: Տարի
A16: Միջոցառման անվանումը՝ | B16: Հարկային և մաքսային ծառայություններ
A17: Նկարագրությունը՝ | B17: Հարկային և մաքսային քաղաքականության մշակման, պլանավորման, մոնիտորինգի, ծրագրերի համակարգման, գանձման, վերահսկողության և աջակցության ծառայություններ
A18: Միջոցառման տեսակը՝ | B18: Ծառայությունների մատուցում
A19: Ծառայությունը մատուցող կազմակերպության անվանումը | B19: ՀՀ պետական եկամուտների կոմիտե
A20: Արդյունքի չափորոշիչներ
A21: Միջոցառման վրա կատարվող ծախսը (հազար դրամ) | C21: ='Հավելված 5'!G18 -> -36000 | D21: ='Հավելված 5'!H18 -> -69000 | E21: ='Հավելված 5'!I18 -> -100000
A23: Ծրագրի դասիչը` | B23: 1023 | C23: Ցուցանիշների փոփոխությունը (ավելացումները նշված են դրական նշանով)
A24: Միջոցառման դասիչը` | B24: 31001 | C24: Առաջին կիսամյակ | D24: Ինն ամիս | E24: Տարի
A25: Միջոցառման անվանումը` | B25: ՀՀ պետական եկամուտների կոմիտեի տեխնիկական հագեցվածության բարելավում
A26: Նկարագրությունը` | B26: ՀՀ պետական եկամուտների կոմիտեի տեխնիկական հագեցվածության բարելավում_x000D_
A27: Միջոցառման տեսակը` | B27: Պետական մարմինների կողմից օգտագործվող ոչ ֆինանսական ակտիվների հետ գործառնություններ
A28: Ակտիվն օգտագործող կազմակերպության անվանումը | B28: ՀՀ պետական եկամուտների կոմիտե
A29: Արդյունքի չափորոշիչներ
A30: Այլ սարքավորումներ, հատ | E30: 1
A31: Էլեկտրոնային հաշվառման համակարգերի ներդրում, հատ | C31: 2 | D31: 5 | E31: 8
A32: Միջոցառման վրա կատարվող ծախսը (հազար դրամ) | C32: ='Հավելված 5'!G27 -> 248000 | D32: ='Հավելված 5'!H27 -> 342000 | E32: ='Հավելված 5'!I27 -> 1065500
A34: Ծրագրի դասիչը` | B34: 1023 | C34: Ցուցանիշների փոփոխությունը (ավելացումները նշված են դրական նշանով, իսկ նվազեցումները՝ փակագծերում)
A35: Միջոցառման դասիչը` | B35: 31003 | C35: Առաջին կիսամյակ | D35: Ինն ամիս | E35: Տարի
A36: Միջոցառման անվանումը` | B36: ՀՀ պետական եկամուտների կոմիտեի շենքային ապահովվածության բարելավում
A37: Նկարագրությունը` | B37: ՀՀ պետական եկամուտների կոմիտեի նոր շենքերի և շինությունների շինարարություն, նախագծային աշխատանքների ձեռքբերում
A38: Միջոցառման տեսակը` | B38: Պետական մարմինների կողմից օգտագործվող ոչ ֆինանսական ակտիվների հետ գործառնություններ
A39: Միջոցառումն իրականացնողի անվանումը | B39: ՀՀ պետական եկամուտների կոմիտե
A40: Արդյունքի չափորոշիչներ
A41: Բյուջետային տարում կառուցապատման մակերես, քմ | D41: -228.6 | E41: -228.6
A42: Նախագծվող մակերես, քմ | C42: 1500 | D42: =1500 -> 1500 | E42: =1500 -> 1500
A43: Նախագծահետազոտական փաստաթղթերի թիվ, հատ | C43: 1 | D43: 1 | E43: 1
A44: Նախագծվող աշխատանքների ավարտվածության աստիճանը, տոկոս | D44: 100 | E44: 100
A45: Միջոցառման վրա կատարվող ծախսը (հազար դրամ) | C45: ='Հավելված 5'!G38 -> 4388.1 | D45: ='Հավելված 5'!H38 -> 4388.1 | E45: ='Հավելված 5'!I38 -> -577393.5
A47: Ծրագրի դասիչը` | B47: 1023 | C47: Ցուցանիշների փոփոխությունը (նվազեցումները նշված են փակագծերում)
A48: Միջոցառման դասիչը` | B48: 31004 | C48: Առաջին կիսամյակ | D48: Ինն ամիս | E48: Տարի
...

Sheet Հավելված 8
G1: Հավելված N 8
A2: ՀԱՅԱՍՏԱՆԻ ՀԱՆՐԱՊԵՏՈՒԹՅԱՆ ԿԱՌԱՎԱՐՈՒԹՅԱՆ 2021 ԹՎԱԿԱՆԻ ԴԵԿՏԵՄԲԵՐԻ 23-Ի N 2121-Ն ՈՐՈՇՄԱՆ N 10 ՀԱՎԵԼՎԱԾՈՒՄ ԿԱՏԱՐՎՈՂ ՓՈՓՈԽՈՒԹՅՈՒՆՆԵՐՆ ՈՒ ԼՐԱՑՈՒՄՆԵՐԸ
A4: Գնման առարկայի | E4: Ցուցանիշների փոփոխությունը (ավելացումները նշված են դրական նշանով, իսկ նվազեցումները՝ փակագծերում)
A5: կոդը | B5: անվանումը | C5: գնման ձևը | D5: չափի միավորը | E5: միավորի գինը | F5: քանակը | G5: Գումարը (հազար դրամ)
A7: ՀՀ պետական եկամուտների կոմիտե | G7: =G8 -> 214956.2
A8: Բաժին N 01 | B8: Խումբ N 01 | C8: Դաս N 02 | D8: Ֆինանսական և հարկաբյուջետային հարաբերություններ | G8: =G9+G12+G24+G28 -> 214956.2
A9: 1023 11001 | B9: Հարկային և մաքսային ծառայություններ | G9: =G10 -> -100000
B10: ՄԱՍ III. ԾԱՌԱՅՈՒԹՅՈՒՆՆԵՐ | G10: =G11 -> -100000
A11: 51711100/1 | B11: հակահրդեհային սարքերի տեղադրման ծառայություններ | C11: ԲՄ | D11: դրամ | G11: -100000
A12: 1023 31001 | B12: ՀՀ պետական եկամուտների կոմիտեի տեխնիկական հագեցվածության բարելավում | G12: =G13+G15 -> 1065500
B13: ՄԱՍ I. Ապրանքներ | G13: =SUM(G14) -> 349500
A14: 48821100-502 | B14: ցանցային սերվերներ | C14: ԷԱՃ | D14: լրակազմ | E14: 349500000 | F14: 1 | G14: =E14*F14/1000 -> 349500
B15: ՄԱՍ III. ԾԱՌԱՅՈՒԹՅՈՒՆՆԵՐ | G15: =SUM(G16:G23) -> 716000
A16: 72261110-501 | B16: ծրագրային ապահովման մշակման ծառայություններ | C16: ՀԲՄ | D16: դրամ | E16: 174000000 | F16: 1 | G16: =E16*F16/1000 -> 174000
A17: 72261110-532 | B17: ծրագրային ապահովման մշակման ծառայություններ | C17: ԳՀ | D17: դրամ | E17: 34200000 | F17: 1 | G17: =E17*F17/1000 -> 34200
A18: 72261110-534 | B18: ծրագրային ապահովման մշակման ծառայություններ | C18: ԲՄ | D18: դրամ | E18: 88000000 | F18: 1 | G18: =E18*F18/1000 -> 88000
A19: 72261110-502 | B19: ծրագրային ապահովման մշակման ծառայություններ | C19: ԳՀ | D19: դրամ | E19: 39800000 | F19: 1 | G19: =E19*F19/1000 -> 39800
A20: 72261110-535 | B20: ծրագրային ապահովման մշակման ծառայություններ | C20: ԲՄ | D20: դրամ | E20: 130000000 | F20: 1 | G20: =E20*F20/1000 -> 130000
A21: 72261110/8 | B21: ծրագրային ապահովման մշակման ծառայություններ | C21: ԲՄ | D21: դրամ | E21: 160000000 | F21: 1 | G21: =E21*F21/1000 -> 160000
A22: 72261110 | B22: ծրագրային ապահովման մշակման ծառայություններ | C22: ԳՀ | D22: դրամ | E22: 20000000 | F22: 1 | G22: =E22*F22/1000 -> 20000
A23: 72261110 | B23: ծրագրային ապահովման մշակման ծառայություններ | C23: ԳՀ | D23: դրամ | E23: 70000000 | F23: 1 | G23: =E23*F23/1000 -> 70000
A24: 1023 31003 | B24: ՀՀ պետական եկամուտների կոմիտեի շենքային ապահովվածության բարելավում | G24: =G25 -> -577393.5
B25: ՄԱՍ II. ԱՇԽԱՏԱՆՔՆԵՐ | G25: =G26+G27 -> -577393.5
A26: 45451700-1 | B26: վերակառուցման աշխատանքներ | C26: ԲՄ | D26: դրամ | G26: =-744781.6+145000+18000 -> -581781.6
A27: 71241200/501 | B27: նախագծերի պատրաստում, ծախսերի գնահատում | C27: ԳՀ | D27: դրամ | E27: 4388100 | F27: 1 | G27: =E27*F27/1000 -> 4388.1
A28: 1023 31004 | B28: ՀՀ պետական եկամուտների կոմիտեի շենքային ապահովվածության բարելավում | G28: =G29+G32 -> -173150.3
B29: ՄԱՍ II. ԱՇԽԱՏԱՆՔՆԵՐ | G29: =SUM(G30:G31) -> -169032.6
A30: 45611300/1 | B30: այլ շենքերի, շինությունների հիմնանորոգում | C30: ԲՄ | D30: դրամ | E30: 80726300 | F30: -1 | G30: =E30*F30/1000 -> -80726.3
A31: 45611300/2 | B31: այլ շենքերի, շինությունների հիմնանորոգում | C31: ԲՄ | D31: դրամ | E31: 88306300 | F31: -1 | G31: =E31*F31/1000 -> -88306.3
B32: ՄԱՍ III. ԾԱՌԱՅՈՒԹՅՈՒՆՆԵՐ | G32: =SUM(G33:G36) -> -4117.7
A33: 71351540/1 | B33: տեխնիկական հսկողության ծառայություններ | C33: ԳՀ | D33: դրամ | E33: 1596500 | F33: -1 | G33: =E33*F33/1000 -> -1596.5
A34: 71351540/2 | B34: տեխնիկական հսկողության ծառայություններ | C34: ԳՀ | D34: դրամ | E34: 1531700 | F34: -1 | G34: =E34*F34/1000 -> -1531.7
A35: 98111140/1 | B35: հեղինակային հսկողության ծառայություններ | C35: ՄԱ | D35: դրամ | E35: 479000 | F35: -1 | G35: =E35*F35/1000 -> -479
A36: 98111140/2 | B36: հեղինակային հսկողության ծառայություններ | C36: ՄԱ | D36: դրամ | E36: 510500 | F36: -1 | G36: =E36*F36/1000 -> -510.5
