Workbook
Name AgencyCode: #REF!
Name AgencyCode: #REF!
Name AgencyCode: #REF!
Name AgencyName: #REF!
Name AgencyName: #REF!
Name AgencyName: #REF!
Name davit: #REF!
Name davit: #REF!
Name Functional1: #REF!
Name Functional1: #REF!
Name Functional1: #REF!
Name ggg: #REF!
Name ggg: #REF!
Name PANature: #REF!
Name PANature: #REF!
Name PANature: #REF!
Name PAType: #REF!
Name PAType: #REF!
Name PAType: #REF!
Name Performance2: #REF!
Name Performance2: #REF!
Name Performance2: #REF!
Name PerformanceType: #REF!
Name PerformanceType: #REF!
Name PerformanceType: #REF!
Name Հավելված: #REF!
Name Հավելված: #REF!
Name Մաս: #REF!
Name Մաս: #REF!
Name շախմատիստ: #REF!
Name շախմատիստ: #REF!

Sheet հավելված 1
C1: Հավելված 1
C2: ՀՀ կառավարության 2022 թվականի
C3: ______________ ի ___Ն որոշման
A6: «ՀԱՅԱUՏԱՆԻ ՀԱՆՐԱՊԵՏՈՒԹՅԱՆ 2022 ԹՎԱԿԱՆԻ ՊԵՏԱԿԱՆ ԲՅՈՒՋԵԻ ՄԱUԻՆ» OՐԵՆՔԻ N 1 ՀԱՎԵԼՎԱԾԻ N 2 ԱՂՅՈՒՍԱԿՈՒՄ ԿԱՏԱՐՎՈՂ ՎԵՐԱԲԱՇԽՈՒՄԸ ԵՎ ՀԱՅԱՍՏԱՆԻ ՀԱՆՐԱՊԵՏՈՒԹՅԱՆ ԿԱՌԱՎԱՐՈՒԹՅԱՆ 2021 ԹՎԱԿԱՆԻ ԴԵԿՏԵՄԲԵՐԻ 23-Ի N 2121-Ն ՈՐՈՇՄԱՆ N 5 ՀԱՎԵԼՎԱԾԻ N 1 ԱՂՅՈՒՍԱԿՈՒՄ ԿԱՏԱՐՎՈՂ ՓՈՓՈԽՈՒԹՅՈՒՆՆԵՐԸ ԵՎ ԼՐԱՑՈՒՄՆԵՐԸ
F8: հազ. դրամներով
A9: Ծրագրային դասիչը | C9: Բյուջետային հատկացումների գլխավոր կարգադրիչների, ծրագրերի և միջոցառումների անվանումները | D9: Ցուցանիշների փոփոխությունը (ավելացումները նշված են դրական նշանով, իսկ նվազեցումները` փակագծերում)
A10: Ծրագիր | B10: Միջոցառում | D10: Առաջին կիսամյակ | E10: Ինն ամիս | F10: Տարի
A11: 1192 | C11: ԸՆԴԱՄԵՆԸ | D11: =+D12 -> 0 | E11: =+E12 -> 0 | F11: =+F12 -> 0
B12: ՀՀ Կրթության, գիտության, մշակույթի և սպորտի նախարարություն | D12: =+D14 -> 0 | E12: =+E14 -> 0 | F12: =+F14 -> 0
A13: 1192 | C13: Ծրագրի անվանումը`
C14: Կրթության որակի ապահովում | D14: =D21+D33+D27 -> 0 | E14: =E21+E33+E27 -> 0 | F14: =F21+F33+F27 -> 0
C15: Ծրագրի նպատակը`
C16: Ընթացիկ աշխատանքների, բարեփոխումների և նոր նախաձեռնությունների միջոցով ֆորմալ և ոչ-ֆորմալ կրթության ոլորտում իրականացվող միջոցառումների, մատուցվող ծառայությունների բովանդակության և կազմակերպման որակի շարունակական բարելավում
C17: Վերջնական արդյունքի նկարագրությունը`
C18: Նախադպրոցականից մինչև հետբուհական կրթության որակի, այն է սովորողների, միջավայրի, ծրագրերի և ուսումնական նյութերի բովանդակության, գործընթացների, ինչպես նաև վերջնարդյունքների որակի բարելավում ըստ ներպետական և միջազգային ցուցիչների
C19: Ծրագրի միջոցառումներ
B20: 11006 | C20: Միջոցառման անվանումը`
C21: Կրթության բովանդակային և մեթոդական սպասարկում | D21: ='հավելված 2'!G58 -> 23863 | E21: ='հավելված 2'!H58 -> 71621.2 | F21: ='հավելված 2'!I58 -> 93675.6
C22: Միջոցառման նկարագրությունը`
C23: Հանրակրթության պետական կրթական չափորոշիչների մշակում, վերանայում
C24: Միջոցառման տեսակը
C25: Ծառայությունների մատուցում
B26: 11010 | C26: Միջոցառման անվանումը`
C27: Ատեստավորման նոր համակարգի ներդրում՛ ուղղված ուսուցիչների որակի բարձրացմանը | D27: ='հավելված 2'!G59 -> -23863 | E27: ='հավելված 2'!H59 -> -89279.2 | F27: ='հավելված 2'!I59 -> -128991.6
C28: Միջոցառման նկարագրությունը`
C29: Հանրակրթական դպրոցներում դասվանդող ուսուցիչների կամավոր ատեստավորման համակարգի մշակում և ներդրում
C30: Միջոցառման տեսակը
C31: Ծառայությունների մատուցում
B32: 11022 | C32: Միջոցառման անվանումը`
C33: Հանրակրթական հիմնական ծրագրեր իրականացնող ուսումնական հաստատությունների հերթական ատեստավորման ենթակա ուսուցիչների վերապատրաստում | D33: ='հավելված 2'!G75 -> 0 | E33: ='հավելված 2'!H75 -> 17658 | F33: ='հավելված 2'!I75 -> 35316
C34: Միջոցառման նկարագրությունը`
C35: Հանրակրթական հիմնական ծրագրեր իրականացնող ուսումնական հաստատությունների հերթական ատեստավորման ենթակա ուսուցիչների վերապատրաստման գործընթացի կազմակերպում և իրականացում
C36: Միջոցառման տեսակը
C37: Ծառայությունների մատուցում

Sheet հավելված 2
I1: Հավելված 2
F2: ՀՀ կառավարության 2022 թվականի
F3: ______________ ի ___Ն որոշման
A6: ՀԱՅԱՍՏԱՆԻ ՀԱՆՐԱՊԵՏՈՒԹՅԱՆ ԿԱՌԱՎԱՐՈՒԹՅԱՆ 2021 ԹՎԱԿԱՆԻ ԴԵԿՏԵՄԲԵՐԻ 23-Ի N 2121-Ն ՈՐՈՇՄԱՆ NN 3 ԵՎ 4 ՀԱՎԵԼՎԱԾՆԵՐՈՒՄ ԿԱՏԱՐՎՈՂ ՓՈՓՈԽՈՒԹՅՈՒՆՆԵՐԸ ԵՎ ԼՐԱՑՈՒՄՆԵՐԸ
I8: հազ. դրամներով
A9: Գործառական դասիչը | D9: Ծրագրային դասիչը | F9: Բյուջետային հատկացումների գլխավոր կարգադրիչների, ծրագրերի, միջոցառումների և միջոցառումները կատարող պետական մարմինների անվանումները | G9: Ցուցանիշների փոփոխությունը (ավելացումները նշված են դրական նշանով, իսկ նվազեցումները` փակագծերում)
A10: Բաժին | B10: Խումբ | C10: Դաս | D10: Ծրագիր | E10: Միջոցառում | G10: Առաջին կիսամյակ | H10: Ինն ամիս | I10: Տարի
F11: ԸՆԴԱՄԵՆԸ | G11: =+G13 -> 0 | H11: =+H13 -> 0 | I11: =+I13 -> 0
F12: այդ թվում`
F13: ՀՀ ԿՐԹՈՒԹՅԱՆ, ԳԻՏՈՒԹՅԱՆ, ՄՇԱԿՈՒՅԹԻ ԵՎ ՍՊՈՐՏԻ ՆԱԽԱՐԱՐՈՒԹՅՈՒՆ | G13: =+G14 -> 0 | H13: =+H14 -> 0 | I13: =+I14 -> 0
A14: 09 | E14: 11010 | F14: ԿՐԹՈՒԹՅՈՒՆ | G14: =G16+G30 -> 0 | H14: =H16+H30 -> 0 | I14: =I16+I30 -> 0
F15: այդ թվում`
B16: 02 | F16: Միջնակարգ ընդհանուր կրթություն | G16: =G18 -> 0 | H16: =H18 -> -2308.7 | I16: =I18 -> -4617.3
F17: այդ թվում`
C18: 02 | F18: Միջնակարգ (լրիվ) ընդհանուր կրթություն | G18: =+G20 -> 0 | H18: =+H20 -> -2308.7 | I18: =+I20 -> -4617.3
F19: այդ թվում`
D20: 1193 | F20: Համընդհանուր ներառական կրթության համակարգի ներդրում | G20: =G22 -> 0 | H20: =H22 -> -2308.7 | I20: =I22 -> -4617.3
F21: այդ թվում`
E22: 11004 | F22: "ԱՄՆ միջազգային զարգացման գործակալության աջակցությամբ իրականացվող «Ներառական կրթության համակարգի ներդրում» դրամաշնորհային ծրագրերի ձեռքբերում և մոնիթորինգ" | G22: =+G23 -> 0 | H22: =+H23 -> -2308.7 | I22: =+I23 -> -4617.3
F23: ՀՀ կրթության , գիտության, մշակույթի և սպորտի նախարարություն | G23: =G25 -> 0 | H23: =H25 -> -2308.7 | I23: =I25 -> -4617.3
F24: այդ թվում` բյուջետային ծախսերի տնտեսագիտական դասակարգման հոդվածներ
F25: ԸՆԴԱՄԵՆԸ ԾԱԽՍԵՐ | G25: =+G26 -> 0 | H25: =+H26 -> -2308.7 | I25: =+I26 -> -4617.3
F26: ԸՆԹԱՑԻԿ ԾԱԽՍԵՐ | G26: =+G27 -> 0 | H26: =+H27 -> -2308.7 | I26: =+I27 -> -4617.3
F27: ԾԱՌԱՅՈՒԹՅՈՒՆՆԵՐԻ ԵՎ ԱՊՐԱՆՔՆԵՐԻ ՁԵՌՔԲԵՐՈՒՄ | G27: =+G28 -> 0 | H27: =+H28 -> -2308.7 | I27: =+I28 -> -4617.3
F28: Նյութեր (Ապրանքներ) | G28: =G29 -> 0 | H28: =H29 -> -2308.7 | I28: =I29 -> -4617.3
F29: - Հատուկ նպատակային այլ նյութեր | G29: 0 | H29: -2308.7 | I29: -4617.3
B30: 06 | F30: Կրթությանը տրամադրվող օժանդակ ծառայություններ | G30: =+G32 -> 0 | H30: =+H32 -> 2308.7 | I30: =+I32 -> 4617.3
F31: այդ թվում`
C32: 01 | F32: Կրթությանը տրամադրվող օժանդակ ծառայություններ | G32: =+G34 -> 0 | H32: =+H34 -> 2308.7 | I32: =+I34 -> 4617.3
F33: այդ թվում`
F34: ՀՀ կրթության, գիտության, մշակույթի և սպորտի նախարարություն | G34: =G38+G50+G59+G75+G156 -> 0 | H34: =H38+H50+H59+H75+H156 -> 2308.7 | I34: =I38+I50+I59+I75+I156 -> 4617.3
F35: այդ թվում`
D36: 1146 | F36: Հանրակրթության ծրագիր | G36: =G38 -> 0 | H36: =H38 -> 0 | I36: =I38 -> 0
F37: այդ թվում`
E38: 11025 | F38: Գնահատման և թեստավորման ծառայություններ | G38: =+G40 -> 0 | H38: =+H40 -> 0 | I38: =+I40 -> 0
F39: այդ թվում` ըստ կատարողների
F40: ՀՀ կրթության , գիտության, մշակույթի և սպորտի նախարարություն | G40: =G42 -> 0 | H40: =H42 -> 0 | I40: =I42 -> 0
F41: այդ թվում` բյուջետային ծախսերի տնտեսագիտական դասակարգման հոդվածներ
F42: ԸՆԴԱՄԵՆԸ ԾԱԽՍԵՐ | G42: =+G43 -> 0 | H42: =+H43 -> 0 | I42: =+I43 -> 0
F43: ԸՆԹԱՑԻԿ ԾԱԽՍԵՐ | G43: =+G44 -> 0 | H43: =+H44 -> 0 | I43: =+I44 -> 0
...

Sheet հավելված 3
G1: Հավելված 3
F2: ՀՀ կառավարության 2022 թվականի
F3: _____________-ի ___-Ն որոշում
A6: ՀԱՅԱՍՏԱՆԻ ՀԱՆՐԱՊԵՏՈՒԹՅԱՆ ԿԱՌԱՎԱՐՈՒԹՅԱՆ 2021 ԹՎԱԿԱՆԻ ԴԵԿՏԵՄԲԵՐԻ 23-Ի N 2121-Ն ՈՐՈՇՄԱՆ N 5 ՀԱՎԵԼՎԱԾԻ N 7 ԱՂՅՈՒՍԱԿՈՒՄ ԿԱՏԱՐՎՈՂ ՓՈՓՈԽՈՒԹՅՈՒՆՆԵՐԸ ԵՎ ԼՐԱՑՈՒՄՆԵՐԸ
G7: հազար դրամներով
A8: Ծրագրային դասիչը | C8: Բյուջետային հատկացումների գլխավոր կարգադրիչների, ծրագրերի, միջոցառումների, ծախսային ուղղությունների անվանումները | F8: Միջոցառումները կատարող պետական մարմինների և դրամաշնորհ ստացող տնտեսվարող սուբյեկտների անվանումները | G8: Ցուցանիշների փոփոխությունը (նվազեցումները նշված են փակագծերում, ավելացումները նշված են դրական նշանով)
A9: Ծրագիր | B9: Միջոցառում | G9: Տարի
B10: ԸՆԴԱՄԵՆԸ | G10: =G11 -> 93675.6
A11: 1192 | B11: Կրթության որակի ապահովում | G11: =G12 -> 93675.6
B12: 11006 | C12: Կրթության բովանդակային և մեթոդական սպասարկում | F12: ՀՀ կրթության, գիտության, մշակույթի և սոպրտի նախարարություն | G12: =G13 -> 93675.6
F13: «Կրթության զարգացման նորարարական ազգային կենտրոն» հիմնադրամ | G13: ='հավելված 2'!I58 -> 93675.6

Sheet հավելված 4
C2: Հավելված 4
C3: ՀՀ կառավարության 2022 թվականի
C4: ______________ ի ___Ն որոշման
B7: ՀԱՅԱՍՏԱՆԻ ՀԱՆՐԱՊԵՏՈՒԹՅԱՆ ԿԱՌԱՎԱՐՈՒԹՅԱՆ 2020 ԹՎԱԿԱՆԻ ԴԵԿՏԵՄԲԵՐԻ 30-Ի N 2215-Ն ՈՐՈՇՄԱՆ N 9 ՀԱՎԵԼՎԱԾԻ N 9.13 ԱՂՅՈՒՍԱԿՈՒՄ ԿԱՏԱՐՎՈՂ ՓՈՓՈԽՈՒԹՅՈՒՆՆԵՐԸ ԵՎ ԼՐԱՑՈՒՄՆԵՐԸ
B9: ՀՀ կրթության, գիտության, մշակույթի և սպորտի նախարարություն
B11: ՄԱՍ 2. ՊԵՏԱԿԱՆ ՄԱՐՄՆԻ ԳԾՈՎ ԱՐԴՅՈՒՆՔԱՅԻՆ (ԿԱՏԱՐՈՂԱԿԱՆ) ՑՈՒՑԱՆԻՇՆԵՐԸ
B15: Ծրագրի դասիչը | C15: Ծրագրի անվանումը
B16: 1192 | C16: Կրթության որակի ապահովում
B18: Ծրագրի միջոցառումները
B19: Ծրագրի դասիչը՝ | C19: 1192 | D19: Ցուցանիշների փոփոխությունը (ավելացումները նշված են դրական նշանով)
B20: Միջոցառման դասիչը՝ | C20: 11006 | D20: Առաջին կիսամյակ | E20: Ինն ամիս | F20: Տարի
B21: Միջոցառման անվանումը՝ | C21: Կրթության բովանդակային և մեթոդական սպասարկում
B22: Նկարագրությունը՝ | C22: Հանրակրթության պետական կրթական չափորոշիչների մշակում, վերանայում
B23: Միջոցառման տեսակը՝ | C23: Ծառայությունների մատուցում
B24: Ծառայությունը մատուցող կազմակերպության(ների) անվանում(ներ)ը՛ | C24: Մասնագիտացված կազմակերպություն
B25: Արդյունքի չափորոշիչներ
B26: Նախադպրոցական ուսումնական հաստատությունների վերապատրաստված ուսուցիչների թիվ, մարդ | D26: 0 | E26: 180 | F26: 180
B27: Հանրակրթական ուսումնական հաստատությունների վերապատրաստված տնօրենների և տնօրենի տեղակալների թիվ, մարդ | D27: 1500 | E27: 3000 | F27: 3600
B28: Հանրակրթական ուսումնական հաստատությունների կոլեգիալ կառավարման մարմնի վերապատրաստված անդամների թիվ, մարդ | D28: 3600 | E28: 7200 | F28: 9000
B29: Տավուշի մարզի հանրակրթական դպրոցների 2,3,6,8 և 11-րդ դասարանների ՀՊՉ համապատասխան ուսումնական նյութերի մշակում և տպագրություն, անվանում | D29: 0 | E29: 39 | F29: 39
B30: Տավուշի մարզում 2, 6, 3 , 8 և 11-րդ դասարանների վերապատրաստված ուսուցիչների թիվ, մարդ | D30: 0 | E30: 170 | F30: 170
B31: Միջոցառման վրա կատարվող ծախսը (հազար դրամ) | D31: ='հավելված 2'!G57 -> 23863 | E31: ='հավելված 2'!H57 -> 71621.2 | F31: ='հավելված 2'!I57 -> 93675.6
B34: Ծրագրի միջոցառումները
B35: Ծրագրի դասիչը՝ | C35: 1192 | D35: Ցուցանիշների փոփոխությունը (նվազեցումները նշված են փակագծերում)
B36: Միջոցառման դասիչը՝ | C36: 11010 | D36: Առաջին կիսամյակ | E36: Ինն ամիս | F36: Տարի
B37: Միջոցառման անվանումը՝ | C37: Ատեստավորման նոր համակարգի ներդրում՛ ուղղված ուսուցիչների որակի բարձրացմանը
B38: Նկարագրությունը՝ | C38: Հանրակրթական դպրոցներում դասվանդող ուսուցիչների կամավոր ատեստավորման համակարգի մշակում և ներդրում
B39: Միջոցառման տեսակը՝ | C39: Ծառայությունների մատուցում
B40: Ծառայությունը մատուցող կազմակերպության(ների) անվանում(ներ)ը՛ | C40: Մասնագիտացված կազմակերպություն
B41: Արդյունքի չափորոշիչներ
B42: Միջոցառման վրա կատարվող ծախսը (հազար դրամ) | D42: ='հավելված 2'!G59 -> -23863 | E42: ='հավելված 2'!H59 -> -89279.2 | F42: ='հավելված 2'!I59 -> -128991.6
B45: Ծրագրի միջոցառումները
B46: Ծրագրի դասիչը՝ | C46: 1192 | D46: Ցուցանիշների փոփոխությունը (ավելացումները նշված են դրական նշանով)
B47: Միջոցառման դասիչը՝ | C47: 11022 | D47: Առաջին կիսամյակ | E47: Ինն ամիս | F47: Տարի
B48: Միջոցառման անվանումը՝ | C48: Հանրակրթական հիմնական ծրագրեր իրականացնող ուսումնական հաստատությունների հերթական ատեստավորման ենթակա ուսուցիչների վերապատրաստում
B49: Նկարագրությունը՝ | C49: Հանրակրթական հիմնական ծրագրեր իրականացնող ուսումնական հաստատությունների հերթական ատեստավորման ենթակա ուսուցիչների վերապատրաստման գործընթացի կազմակերպում և իրականացում
B50: Միջոցառման տեսակը՝ | C50: Ծառայությունների մատուցում
B51: Ծառայությունը մատուցող կազմակերպության(ների) անվանում(ներ)ը՛ | C51: Մասնագիտացված կազմակերպություն
B52: Արդյունքի չափորոշիչներ
B53: Վերապատրաստված մանկավարժական աշխատողների թիվը, մարդ | E53: ='հավելված 5'!E110+'հավելված 5'!E139+'հավելված 5'!E156+'հավելված 5'!E173+'հավելված 5'!E190+'հավելված 5'!E207+'հավելված 5'!E224+'հավելված 5'!E241+'հավելված 5'!E258+'հավելված 5'!E275+'հավելված 5'!E292 -> 900 | F53: ='հավելված 5'!F110+'հավելված 5'!F139+'հավելված 5'!F156+'հավելված 5'!F173+'հավելված 5'!F190+'հավելված 5'!F207+'հավելված 5'!F224+'հավելված 5'!F241+'հավելված 5'!F258+'հավելված 5'!F275+'հավելված 5'!F292 -> 1800
...

Sheet հավելված 5
C2: Հավելված 5
C3: ՀՀ կառավարության 2022 թվականի
C4: ______________ ի ___Ն որոշման
B7: ՀԱՅԱՍՏԱՆԻ ՀԱՆՐԱՊԵՏՈՒԹՅԱՆ ԿԱՌԱՎԱՐՈՒԹՅԱՆ 2020 ԹՎԱԿԱՆԻ ԴԵԿՏԵՄԲԵՐԻ 30-Ի N 2215-Ն ՈՐՈՇՄԱՆ N 9.1 ՀԱՎԵԼՎԱԾԻ NN 9.1.14, 9.1.8, 9.1.15, 9.1.29, 9.1.49, 9.1.50, 9.1.51, 9.1.52, 9.1.53, 9.1.54, 9.1.55, 9.1.56, 9.1.57 ԵՎ 9.1.58 ԱՂՅՈՒՍԱԿՈՒՄ ԿԱՏԱՐՎՈՂ ՓՈՓՈԽՈՒԹՅՈՒՆՆԵՐԸ ԵՎ ԼՐԱՑՈՒՄՆԵՐԸ
B9: ՀՀ կրթության, գիտության, մշակույթի և սպորտի նախարարություն
B11: ՄԱՍ 1. ՊԵՏԱԿԱՆ ՄԱՐՄՆԻ ԳԾՈՎ ԱՐԴՅՈՒՆՔԱՅԻՆ (ԿԱՏԱՐՈՂԱԿԱՆ) ՑՈՒՑԱՆԻՇՆԵՐԸ
B14: Ծրագրի դասիչը | C14: Ծրագրի անվանումը
B15: 1111 | C15: Բարձրագույն և հետբուհական մասնագիտական կրթության ծրագիր
B17: Ծրագրի միջոցառումները
B18: Ծրագրի դասիչը՝ | C18: 1111 | D18: Ցուցանիշների փոփոխությունը (ավելացումները նշված են դրական նշանով)
B19: Միջոցառման դասիչը՝ | C19: 12003 | D19: Առաջին եռամսյակ | E19: Առաջին կիսամյակ | F19: Ինն ամիս | G19: Տարի
B20: Միջոցառման անվանումը՝ | C20: Ասպիրանտական կրթաթոշակներ գիտական հաստատություններում սովորողներին
B21: Նկարագրությունը՝ | C21: Կրթաթոշակներ գիտական հաստատություններում ասպիրանտական կրթության մեջ գտնվող անձանց
B22: Միջոցառման տեսակը՝ | C22: Տրանսֆերտների տրամադրում
B23: Շահառուների ընտրության չափորոշիչները՝ | C23: ՀՀ կառավարության 29.11.2007թ. թիվ 1403-Ն որոշում
B24: Արդյունքի չափորոշիչներ
B25: Կրթաթոշակ ստացող ուսանողների թիվ, մարդ | D25: 148 | E25: 148 | F25: 148 | G25: 148
B26: Միջոցառման վրա կատարվող ծախսը (հազար դրամ) | D26: 14432 | E26: 32472 | F26: 50512 | G26: 72160
B28: Ծրագրի դասիչը՝ | C28: 1111 | D28: Ցուցանիշների փոփոխությունը (ավելացումները նշված են դրական նշանով)
B29: Միջոցառման դասիչը՝ | C29: 12006 | D29: Առաջին եռամսյակ | E29: Առաջին կիսամյակ | F29: Ինն ամիս | G29: Տարի
B30: Միջոցառման անվանումը՝ | C30: Հետբուհական մասնագիտական կրթության գծով նպաստների տրամադրում գիտակրթական հաստատություններում
B31: Նկարագրությունը՝ | C31: Գիտական կադրերի պատրաստման համար նպաստների տրամադրում
B32: Միջոցառման տեսակը՝ | C32: Տրանսֆերտների տրամադրում
B33: Շահառուների ընտրության չափորոշիչները՝ | C33: ՀՀ կառավարության 29.11.2007թ. թիվ 1403-Ն որոշում
B34: Արդյունքի չափորոշիչներ
B35: Ուսանողների միջին տարեկան թիվ, մարդ | D35: 212 | E35: 212 | F35: 212 | G35: 212
B36: Միջոցառման վրա կատարվող ծախսը (հազար դրամ) | D36: 7492.9 | E36: 16859.1 | F36: 26225.3 | G36: 37464.7
B40: Ծրագրի դասիչը | C40: Ծրագրի անվանումը
B41: 1192 | C41: Կրթության որակի ապահովում
B43: Ծրագրի միջոցառումները
B44: Ծրագրի դասիչը՝ | C44: 1192 | D44: Ցուցանիշների փոփոխությունը (ավելացումները նշված են դրական նշանով)
B45: Միջոցառման դասիչը՝ | C45: 11006 | D45: Առաջին կիսամյակ | E45: Ինն ամիս | F45: Տարի
B46: Միջոցառման անվանումը՝ | C46: Կրթության բովանդակային և մեթոդական սպասարկում
B47: Նկարագրությունը՝ | C47: Հանրակրթության պետական կրթական չափորոշիչների մշակում, վերանայում
B48: Միջոցառման տեսակը՝ | C48: Ծառայությունների մատուցում
B49: Ծառայությունը մատուցող կազմակերպության(ների) անվանում(ներ)ը՛ | C49: Մասնագիտացված կազմակերպություն
B50: Արդյունքի չափորոշիչներ
B51: ='հավելված 4'!B26:C26 -> Նախադպրոցական ուսումնական հաստատությունների վերապատրաստված ուսուցիչների թիվ, մարդ | D51: ='հավելված 4'!D26 -> 0 | E51: ='հավելված 4'!E26 -> 180 | F51: ='հավելված 4'!F26 -> 180
B52: ='հավելված 4'!B27:C27 -> Հանրակրթական ուսումնական հաստատությունների վերապատրաստված տնօրենների և տնօրենի տեղակալների թիվ, մարդ | D52: ='հավելված 4'!D27 -> 1500 | E52: ='հավելված 4'!E27 -> 3000 | F52: ='հավելված 4'!F27 -> 3600
B53: ='հավելված 4'!B28:C28 -> Հանրակրթական ուսումնական հաստատությունների կոլեգիալ կառավարման մարմնի վերապատրաստված անդամների թիվ, մարդ | D53: ='հավելված 4'!D28 -> 3600 | E53: ='հավելված 4'!E28 -> 7200 | F53: ='հավելված 4'!F28 -> 9000
...
